{"text_format":"1","workbook":"xlsx","n_sheets":7,"sheets":["Revision History","Cover","Control_Panel","Trust - Frontsheet","Validation","Index","Backsheet"],"not_rendered":{"charts":0,"images":2,"macros":1,"external_links":0,"defined_names":17,"comments":0,"pivot_tables":0},"unopened":[],"bounds":{"document_bytes":16777216,"sheet_cells":100000,"rows_first":2000,"rows_last":500,"rows_between":2000,"halvings":0,"cell_chars":16384,"cell_head_chars":4096},"cells_cut":0,"cells_raw":0,"read":"whole","date_system":"1900"}

{"sheet":"Revision History","index":0,"n_rows":29,"n_cols":8,"rows_kept":29,"cut":false,"hidden":true,"merged":[]}
[]
[null,"Revision History"]
[null,null,"NStf-Fil",{"$f":"Control_Panel!OrgCodeSelection","v":"RBL"}]
[null,"Version","Date","Change",null,null,null,"Notes"]
[null,0.1,"2017-08-30","Rebranding",null,null,null,"Finish question status sheet"]
[null,0.2,"2018-01-15","Updates after meeting with AW",null,null,null,"Insert appropriate email hyperlink into cover "]
[null,0.3,"2018-01-25","Created backsheet, works with automation tool ",null,null,null,"Row 12-41 in control panel contains validations specific to questions"]
[null,0.4,"2018-01-29","updated formulas in backsheet to accommodate for \"0\" defaults in site code",null,null,null,"Unsure if site summary needs to be visible to user or not i.e coloured blue or white"]
[null,4,"2018-01-31","final lockdown and version number updates"]
[null,5,null,"repaired broken image"]
[null,6,"2018-02-28","validation repairs"]
[null,7,"2018-03-28","made locked cells selectable for ease of use"]
[null,8,"2018-04-30","ref data and validation updates"]
[null,9,"2018-05-10","Fix backsheet issues with hyphens & mixed data type for wards",null,null,null,"To DO"]
[null,10,"2018-05-30","removed a validation at AW request"]
[null,11,"2018-06-26","added a validation at AW request",null,null,null,"get correct email address for Cover sheet"]
[null,12,"2018-07-25","AW Updates to ref data",null,null,null,"Check if Site summary is required - and if it need to be visible. - if so, is this better to be included in the frontsheet?"]
[null,13,"2018-09-26","Updated Site codes as per Change Request Form",null,null,null,"Move validations to column AA"]
[null,14,"2018-11-01","Added New Fields to collection",null,null,null,"set validations to appear in control panel"]
[null,15,"2018-11-23",null,null,null,null,"check ref data is up to date - Org code, site code, site speciality"]
[null,16,"2018-11-27","Added org identifier in cell D3 revision history tab contains a look up to the org code selected on the control panel.",null,null,null,"check with Alun as to which validations he requires."]
[null,17,"2018-11-28","Removed RR1 and Added new sites to RRK ",null,null,null,"New Backsheet"]
[null,18,"2018-12-21","Mo fixed dropdown in column G",null,null,null,"Remove redudant VBA"]
[null,19,"2019-01-31","Changed R1L - AHP from No to Yes"]
[null,20,"2019-02-28","Updated AX3 and used new password"]
[null,20.100000000000001,"2019-03-22","Protected workbook with same password as work sheets. ZSD"]
[null,20.2,"2019-04-30","Updated R0B"]
[null,21,"2019-05-31","Updated RX3 "]
[null,22,"2019-06-28","Updated RNU"]

{"sheet":"Cover","index":1,"n_rows":0,"n_cols":0,"rows_kept":0,"cut":false,"hidden":false,"merged":[]}

{"sheet":"Control_Panel","index":2,"n_rows":31,"n_cols":16,"rows_kept":31,"cut":false,"hidden":false,"merged":[[30,2,30,8],[20,2,20,8],[21,2,21,8],[23,2,23,8],[29,2,29,8],[24,2,24,8],[25,2,25,8],[1,2,2,8],[27,2,27,8],[28,2,28,8],[18,2,18,8],[26,2,26,8],[5,2,5,3],[3,2,3,8],[7,2,7,8],[8,2,10,8],[12,2,12,8],[13,2,13,8],[15,2,15,8],[22,2,22,8],[16,2,16,8],[17,2,17,8],[19,2,19,8]]}
[null,null,null,null,null,null,null,null,null,null,null,{"$f":"IF(C17=\"\",\"\",C17)","v":""},{"$f":"IF(C28=\"\",\"\",C28)","v":"One or more wards has less than 1448 actual hours (approx. 2 full time staff)"},null,null,"Backsheet Check"]
[null,null,"Safe Staffing (Rota Fill Rates and CHPPD) Collection",null,null,null,null,null,null,null,null,{"$f":"IF(C18=\"\",\"\",C18)","v":""},{"$f":"IF(C29=\"\",\"\",C29)","v":""},null,null,{"$f":"IF(SUM(IF(ISERROR(INDIRECT(\"Backsheet!\" &P3)),1,0))=0,0,1)","v":0}]
[null,null,null,null,null,null,null,null,null,null,null,"","",null,null,"A2:ZZ500"]
[null,null,"Please check that the data on this upload template is accurate before being submitted to SDCS.  You are reminded that these figures will be published, and it is the responsibility of your organisation that these submitted figures are accurate and in line with national guidance.  We will undertake basic validation checks on these figures post submission, and may come back to you with any queries we may have.",null,null,null,null,null,null,null,null,""]
[null,null,null,null,null,null,null,null,null,null,null,""]
[null,null,null,null,"RBL",{"$f":"VLOOKUP(OrgCodeSelection,Orgs,2,FALSE)","v":"Wirral University Teaching Hospital NHS Foundation Trust"},null,null,null,null,null,""]
[null,null,null,null,null,null,null,null,null,null,null,{"$f":"IF(C23=\"\",\"\",C23)","v":""}]
[null,null,"Validations",null,null,null,null,null,null,null,null,""]
[null,null,"Please correct all issues listed within the tables below. If the issues are not corrected then the pro forma will fail the validation stage in SDCS. ",null,null,null,null,null,null,null,null,""]
[null,null,null,null,null,null,null,null,null,null,null,""]
[null,null,null,null,null,null,null,null,null,null,null,""]
[null,null,null,null,null,null,null,null,null,null,null,{"$f":"IF(C31=\"\",\"\",C31)","v":""}]
[null,null,"Control Panel"]
[null,null,{"$f":"L14","v":""},null,null,null,null,null,null,null,null,{"$f":"IF(OrgCodeSelection=\"\",\"No 'Organisation Code' has been selected. Please choose an organisation\",\"\")","v":""}]
[]
[null,null,"Trust - Frontsheet"]
[null,null,{"$f":"IF('Trust - Frontsheet'!AJ2=\"\",\"\",'Trust - Frontsheet'!AJ2)","v":""}]
[null,null,{"$f":"IF('Trust - Frontsheet'!AJ3=\"\",\"\",'Trust - Frontsheet'!AJ3)","v":""}]
[null,null,{"$f":"IF('Trust - Frontsheet'!AJ4=\"\",\"\",'Trust - Frontsheet'!AJ4)","v":""}]
[null,null,{"$f":"IF('Trust - Frontsheet'!AJ5=\"\",\"\",'Trust - Frontsheet'!AJ5)","v":""}]
[null,null,{"$f":"IF('Trust - Frontsheet'!AJ6=\"\",\"\",'Trust - Frontsheet'!AJ6)","v":""}]
[null,null,{"$f":"IF('Trust - Frontsheet'!AJ7=\"\",\"\",'Trust - Frontsheet'!AJ7)","v":""}]
[null,null,{"$f":"IF('Trust - Frontsheet'!AJ8=\"\",\"\",'Trust - Frontsheet'!AJ8)","v":""}]
[null,null,{"$f":"IF('Trust - Frontsheet'!AJ9=\"\",\"\",'Trust - Frontsheet'!AJ9)","v":""}]
[null,null,{"$f":"IF('Trust - Frontsheet'!AJ13=\"\",\"\",'Trust - Frontsheet'!AJ13)","v":""}]
[null,null,{"$f":"IF('Trust - Frontsheet'!AJ14=\"\",\"\",'Trust - Frontsheet'!AJ14)","v":""}]
[null,null,{"$f":"IF(P2=1,\"This template is broken. Please download a new copy and start again\",\"\")","v":""}]
[null,null,{"$f":"IF('Trust - Frontsheet'!AL6=\"\",\"\",'Trust - Frontsheet'!AL6)","v":"One or more wards has less than 1448 actual hours (approx. 2 full time staff)"}]
[null,null,{"$f":"IF('Trust - Frontsheet'!AL7=\"\",\"\",'Trust - Frontsheet'!AL7)","v":""}]
[null,null,{"$f":"IF('Trust - Frontsheet'!AL8=\"\",\"\",'Trust - Frontsheet'!AL8)","v":""}]
[null,null,{"$f":"IF('Trust - Frontsheet'!AJ12=\"\",\"\",'Trust - Frontsheet'!AJ12)","v":""}]

{"sheet":"Trust - Frontsheet","index":3,"n_rows":5200,"n_cols":62,"rows_kept":1125,"cut":true,"hidden":false,"merged":[[11,43,11,51],[11,14,11,15],[10,26,10,27],[10,28,10,29],[11,27,12,27],[11,28,12,28],[11,29,12,29],[11,26,12,26],[11,30,12,30],[11,31,12,31],[11,16,11,17],[11,21,12,21],[11,22,12,22],[11,23,12,23],[11,24,12,24],[11,25,12,25],[12,0,12,1],[11,3,11,4],[11,5,12,5],[11,8,11,9],[11,12,11,13],[11,6,11,7],[11,10,11,11],[11,18,11,19],[1,3,2,31],[10,3,10,4],[9,3,9,4],[6,5,6,13],[10,8,10,11],[10,12,10,15],[8,5,8,13],[7,5,7,13],[4,5,4,9],[10,30,10,31],[10,16,10,19],[10,20,10,25],[11,20,12,20]],"bounds":{"rows_first":500,"rows_last":125,"rows_between":500,"halvings":2}}
[null,null,{"$f":"IF(E5=\"\",\"\",IF(VLOOKUP($E$5,Index!$N:$O,2,0)=\"Y\",\"Y\",\"N\"))","v":"N"},null,null,null,null,null,null,null,null,null,null,null,null,null,null,null,null,null,null,null,null,null,null,null,null,null,null,null,null,null," ",null,null,null,"ERRORS",null,"WARNINGS",null,null,null,null,null,null,null,null,null,null,null,null,null,null,null,null,{"$f":"CONCATENATE(LEFT(BE1, 3),BF1)","v":"AXGWILTSHIRE HEALTH & CARE (CHIPPENHAM COMMUNITY HOSPITAL)"},"AXG01","WILTSHIRE HEALTH & CARE (CHIPPENHAM COMMUNITY HOSPITAL)","AXG01","WILTSHIRE HEALTH & CARE (CHIPPENHAM COMMUNITY HOSPITAL)",{"$f":"LEFT(BG1,3)","v":"AXG"}]
[null,null,null,"Safe Staffing (Rota Fill Rates and CHPPD) Collection",null,null,null,null,null,null,null,null,null,null,null,null,null,null,null,null,null,null,null,null,null,null,null,null,null,null,null,null,null,null,null,{"$f":"IF(AS214=0,\"\",\"Select Site Name in Column E\")","v":""},"SELECT SITE CODE",null,null,null,null,null,null,null,null,null,null,null,null,null,null,null,null,null,null,{"$f":"CONCATENATE(LEFT(BE2, 3),BF2)","v":"AXGSAVERNAKE COMMUNITY HOSPITAL"},"AXG02","SAVERNAKE COMMUNITY HOSPITAL","AXG02","SAVERNAKE COMMUNITY HOSPITAL",{"$f":"LEFT(BG2,3)","v":"AXG"}]
[null,null,null,null,null,null,null,null,null,null,null,null,null,null,null,null,null,null,null,null,null,null,null,null,null,null,null,null,null,null,null,null,null,null,null,{"$f":"IF(AT214=0,\"\",\"Select Ward Name in Column F\")","v":""},"Select Ward Name",null,null,null,null,null,null,null,null,null,null,null,null,null,null,null,null,null,null,{"$f":"CONCATENATE(LEFT(BE3, 3),BF3)","v":"AXGWARMINSTER COMMUNITY HOSPITAL"},"AXG03","WARMINSTER COMMUNITY HOSPITAL","AXG03","WARMINSTER COMMUNITY HOSPITAL",{"$f":"LEFT(BG3,3)","v":"AXG"}]
[null,null,null,null,null,null,null,null,null,null,null,null,null,null,null,null,null,null,null,null,null,null,null,null,null,null,null,null,null,null,null,null,null,null,null,{"$f":"IF(E415=0,\"\",\"At least one specialty must be selected (Specialty 1) for each row\")","v":""},"Select speciality",null,null,null,null,null,null,null,null,null,null,null,null,null,null,null,null,null,null,{"$f":"CONCATENATE(LEFT(BE4, 3),BF4)","v":"NHMALDEBURGH COMMUNITY HOSPITAL"},"NHM02","ALDEBURGH COMMUNITY HOSPITAL","NHM02","ALDEBURGH COMMUNITY HOSPITAL",{"$f":"LEFT(BG4,3)","v":"NHM"}]
[null,null,null,"Organisation:",{"$f":"IF(ISBLANK(Control_Panel!OrgCodeSelection),\"\",Control_Panel!OrgCodeSelection)","v":"RBL"},{"$f":"IF(Control_Panel!OrgNameSelection=\"\",\"\",Control_Panel!OrgNameSelection)","v":"Wirral University Teaching Hospital NHS Foundation Trust"},null,null,null,null,null,null,null,null,null,null,null,null,null,null,null,null,null,null,null,null,null,null,null,null,null,null,null,null,null,{"$f":"IF(F415=0,\"\",\"Total number of planned hours must be greater than 0\")","v":""},"Total planned hours > 0",null,null,null,null,null,null,null,null,null,null,null,null,null,null,null,null,null,null,"NHMBLUEBIRD LODGE ","NHM03","BLUEBIRD LODGE ","NHM03","BLUEBIRD LODGE ","NHM"]
[null,null,null,null,null,null,null,null,null,null,null,null,null,null,null,null,null,null,null,null,null,null,null,null,null,null,null,null,null,null,null,null,null,null,null,{"$f":"IF(G415=0,\"\",\"Total number of actual hours must be greater than 0\")","v":""},"Total actual hours > 0",{"$f":"IF(H415>0,\"One or more wards has less than 1448 actual hours (approx. 2 full time staff)\",\"\")","v":"One or more wards has less than 1448 actual hours (approx. 2 full time staff)"},null,null,null,null,null,null,null,null,null,null,null,null,null,null,null,null,null,"NHMFELIXSTOWE COMMUNITY HOSPITAL","NHM05","FELIXSTOWE COMMUNITY HOSPITAL","NHM05","FELIXSTOWE COMMUNITY HOSPITAL","NHM"]
[null,null,null,null,null,"Please provide the URL to the page on your trust website where your staffing information is available",null,null,null,null,null,null,null,null,null,null,null,null,null,null,null,null,null,null,null,null,null,null,null,null,null,null,null,null,null,{"$f":"IF(E5=\"\",\"\",IF(AU416>0,\"Duplicate Ward entry within site\",\"\"))","v":""},"duplicate ward/hospital and spec codes",{"$f":"IF(I415>0,\"One or more wards has greater than 30000 actual hours (approx. 40 full time staff)\",\"\")","v":""},null,null,null,null,null,null,null,null,null,null,null,null,null,null,null,null,null,"NHMGLASTONBURY COURT","NHM26","GLASTONBURY COURT","NHM26","GLASTONBURY COURT","NHM"]
[null,null,null,null,null,"(Please can you ensure that the URL you attach to the spreadsheet is correct and links to the correct web page and include 'http://' in your URL)",null,null,null,null,null,null,null,null,null,null,null,null,null,null,null,null,null,null,null,null,null,null,null,null,null,null,null,null,null,{"$f":"IF(AW416>0,\"Please do not leave gaps between rows of data.\",\"\")","v":""},"Avoid gaps in between data rows",{"$f":"IF(U415>0,\"One or more wards has submitted actual hours but zero CHPPD patients.\",\"\")","v":""},null,null,null,null,null,null,null,null,null,null,null,null,null,null,null,null,null,"NHMNEWMARKET COMMUNITY HOSPITAL","NHM04","NEWMARKET COMMUNITY HOSPITAL","NHM04","NEWMARKET COMMUNITY HOSPITAL","NHM"]
[null,null,null,null,null,null,null,null,null,null,null,null,null,null,null,null,null,null,null,null,null,null,null,null,null,null,null,null,null,null,null,null,null,null,null,{"$f":"IF(AX416>0,\"Duplicate speciality codes entered\",\"\")","v":""},"duplicate speciality codes",null,null,null,null,null,null,null,null,null,null,null,null,null,null,null,null,null,null,"NLXCHIPPENHAM COMMUNITY HOSPITAL","NLX17","CHIPPENHAM COMMUNITY HOSPITAL","NLX17","CHIPPENHAM COMMUNITY HOSPITAL","NLX"]
[{"$f":"IF(E14=\"\",1,0)","v":0},null,null,null,null,null,null,null,null,null,null,null,null,null,null,null,null,null,null,null,null,null,null,null,null,null,null,null,null,null,null,null,null,null,null,{"$f":"Control_Panel!L14","v":""},null,null,null,null,null,null,null,null,null,null,null,null,null,null,null,null,null,null,null,"NLXCOSSHAM HOSPITAL","NLX23","COSSHAM HOSPITAL","NLX23","COSSHAM HOSPITAL","NLX"]
[null,null,null,null,null,"Only complete sites your organisation is accountable for ",null,null,"Day",null,null,null,"Night",null,null,null,"Allied Health Professionals",null,null,null,"Care Hours Per Patient Day (CHPPD)",null,null,null,null,null,"Day",null,"Night",null,"Allied Health Professionals",null,null,null,null,{"$f":"D626","v":""},"Site code issue",null,null,null,null,null,null,null,null,null,null,null,null,null,null,null,null,null,null,"NLXDEVIZES COMMUNITY HOSPITAL","NLX18","DEVIZES COMMUNITY HOSPITAL","NLX18","DEVIZES COMMUNITY HOSPITAL","NLX"]
[null,null,null,"Hospital Site Details",null,"Ward name","Main 2 Specialties on each ward",null,"Registered midwives/nurses",null,"Care Staff",null,"Registered midwives/nurses",null,"Care Staff",null,"Registered allied healtH professionals",null,"Non-registered allied health professionals",null,"Cumulative count over the month of patients at 23:59 each day","Registered midwives/ nurses","Care Staff","Registered allied health professionals","Non-registered allied health professionals","Overall","Average fill rate - registered nurses/ midwives  (%)","Average fill rate - care staff (%)","Average fill rate - registered nurses/ midwives  (%)","Average fill rate - care staff (%)","Average fill rate - registered allied health professionals (AHP)  (%)","Average fill rate - non-registered allied health professionals (AHP)  (%)",null,null,null,{"$f":"IF(J622>0, \"Please do not enter negative numbers\",\"\")","v":""},"Do not enter negative numbers",null,null,null,null,null,null,"VALIDATIONS",null,null,null,null,null,null,null,null,null,null,null,"NLXGREYSTONES","NLX12","GREYSTONES","NLX12","GREYSTONES","NLX"]
[null,null,null,"Site code *The Site code is automatically populated when a Site name is selected","Hospital Site name",null,"Specialty 1","Specialty 2","Total monthly planned staff hours","Total monthly actual staff hours","Total monthly planned staff hours","Total monthly actual staff hours","Total monthly planned staff hours","Total monthly actual staff hours","Total monthly planned staff hours","Total monthly actual staff hours","Total monthly planned staff hours","Total monthly actual staff hours","Total monthly planned staff hours","Total monthly actual staff hours",null,null,null,null,null,null,null,null,null,null,null,null,null,"Specialties",null,{"$f":"IF(SUM(D834:E834)>0,\"Please enter valid speciality codes\",\"\")","v":""},"speciality codes not in list",null,null,null,null,null,null,null,"SITE CODE","WARD NAME",null,null,null,null,null,null,null,null,null,"NLXHANHAM HEALTH","NLX27","HANHAM HEALTH","NLX27","HANHAM HEALTH","NLX"]
[{"$f":"IF(M215=1,\"No Site Selected\",IF(N215=1,\"No Ward Name\",\"\"))","v":""},{"$f":"IF(SUM(E215:G215,M215:N215)>0,1,IF(AG215>0,2,0))","v":2},null,{"$f":"IF(ISNA(VLOOKUP($E$5&E14,$BD:$BE,2,FALSE)),\"\",VLOOKUP($E$5&E14,$BD:$BE,2,FALSE))","v":"RBL14"},"ARROWE PARK HOSPITAL",10,"110 - TRAUMA & ORTHOPAEDICS",null,1335,1125.5,1365,1118.6500000000001,690,690,690,713,null,null,null,null,545,{"$f":"IF(ISERROR(IF($U14=\"\",\"\",SUM(J14,N14)/$U14)),\"-\",(IF($U14=\"\",\"\",SUM(J14,N14)/$U14)))","v":3.3311926605504589},{"$f":"IF(ISERROR(IF($U14=\"\",\"\",SUM(L14,P14)/$U14)),\"-\",(IF($U14=\"\",\"\",SUM(L14,P14)/$U14)))","v":3.3608256880733949},{"$f":"IF(ISERROR(IF($U14=\"\",\"\",R14/$U14)),\"-\",(IF($U14=\"\",\"\",R14/$U14)))","v":0},{"$f":"IF(ISERROR(IF($U14=\"\",\"\",T14/$U14)),\"-\",(IF($U14=\"\",\"\",T14/$U14)))","v":0},{"$f":"IF(ISERROR(IF($U14=\"\",\"\",SUM(J14,L14,N14,P14,R14,T14)/$U14)),\"-\",(IF($U14=\"\",\"\",SUM(J14,L14,N14,P14,R14,T14)/$U14)))","v":6.6920183486238534},{"$f":"IF(ISERROR(IF($I14=\"\",\"\",J14/I14)),\"-\",(IF($I14=\"\",\"\",J14/I14)))","v":0.84307116104868918},{"$f":"IF(ISERROR(IF(K14=\"\",\"\",L14/K14)),\"-\",(IF(K14=\"\",\"\",L14/K14)))","v":0.81952380952380954},{"$f":"IF(ISERROR(IF(M14=\"\",\"\",N14/M14)),\"-\",(IF(M14=\"\",\"\",N14/M14)))","v":1},{"$f":"IF(ISERROR(IF(O14=\"\",\"\",P14/O14)),\"-\",IF(O14=\"\",\"\",P14/O14))","v":1.0333333333333334},{"$f":"IF(ISERROR(IF(Q14=\"\",\"\",R14/Q14)),\"-\",IF(Q14=\"\",\"\",R14/Q14))","v":""},{"$f":"IF(ISERROR(IF(S14=\"\",\"\",T14/S14)),\"-\",IF(S14=\"\",\"\",T14/S14))","v":""},null,"100 - GENERAL SURGERY",0,{"$f":"IF(SUM(J625)>0,\"AHP Data entered but not required\",\"\")","v":""},"AHP Data entered but not required",null,null,null,null,null,null,null,{"$f":"IF(M215=1,\"No Site Selected\",\"\")","v":""},{"$f":"IF(N215=1,\"No Ward Name\",\"\")","v":""},null,null,null,null,null,null,null,null,null,"NLXHOMELINK & COMMUNITY OPTIONS","NLX14","HOMELINK & COMMUNITY OPTIONS","NLX14","HOMELINK & COMMUNITY OPTIONS","NLX"]
[{"$f":"IF(M216=1,\"No Site Selected\",IF(N216=1,\"No Ward Name\",\"\"))","v":""},2,null,"RBL14","ARROWE PARK HOSPITAL",11,"110 - TRAUMA & ORTHOPAEDICS",null,1717.5,1439.25,1567.5,1573.5,1035,920,1035,1299.5,null,null,null,null,657,{"$f":"IF(ISERROR(IF($U15=\"\",\"\",SUM(J15,N15)/$U15)),\"-\",(IF($U15=\"\",\"\",SUM(J15,N15)/$U15)))","v":3.5909436834094368},{"$f":"IF(ISERROR(IF($U15=\"\",\"\",SUM(L15,P15)/$U15)),\"-\",(IF($U15=\"\",\"\",SUM(L15,P15)/$U15)))","v":4.3729071537290718},{"$f":"IF(ISERROR(IF($U15=\"\",\"\",R15/$U15)),\"-\",(IF($U15=\"\",\"\",R15/$U15)))","v":0},{"$f":"IF(ISERROR(IF($U15=\"\",\"\",T15/$U15)),\"-\",(IF($U15=\"\",\"\",T15/$U15)))","v":0},{"$f":"IF(ISERROR(IF($U15=\"\",\"\",SUM(J15,L15,N15,P15,R15,T15)/$U15)),\"-\",(IF($U15=\"\",\"\",SUM(J15,L15,N15,P15,R15,T15)/$U15)))","v":7.9638508371385086},{"$f":"IF(ISERROR(IF($I15=\"\",\"\",J15/I15)),\"-\",(IF($I15=\"\",\"\",J15/I15)))","v":0.83799126637554588},{"$f":"IF(ISERROR(IF(K15=\"\",\"\",L15/K15)),\"-\",(IF(K15=\"\",\"\",L15/K15)))","v":1.0038277511961722},{"$f":"IF(ISERROR(IF(M15=\"\",\"\",N15/M15)),\"-\",(IF(M15=\"\",\"\",N15/M15)))","v":0.88888888888888884},{"$f":"IF(ISERROR(IF(O15=\"\",\"\",P15/O15)),\"-\",IF(O15=\"\",\"\",P15/O15))","v":1.2555555555555555},{"$f":"IF(ISERROR(IF(Q15=\"\",\"\",R15/Q15)),\"-\",IF(Q15=\"\",\"\",R15/Q15))","v":""},{"$f":"IF(ISERROR(IF(S15=\"\",\"\",T15/S15)),\"-\",IF(S15=\"\",\"\",T15/S15))","v":""},null,"101 - UROLOGY",0,null,null,null,null,null,null,null,null,null,{"$f":"IF(M216=1,\"No Site Selected\",\"\")","v":""},{"$f":"IF(N216=1,\"No Ward Name\",\"\")","v":""},null,null,null,null,null,null,null,null,null,"NLXMELKSHAM COMMUNITY HOSPITAL","NLX19","MELKSHAM COMMUNITY HOSPITAL","NLX19","MELKSHAM COMMUNITY HOSPITAL","NLX"]
[{"$f":"IF(M217=1,\"No Site Selected\",IF(N217=1,\"No Ward Name\",\"\"))","v":""},2,null,"RBL14","ARROWE PARK HOSPITAL",12,"110 - TRAUMA & ORTHOPAEDICS",null,1185,801.65,690,646.4,690,632.5,345,356.5,null,null,null,null,378,3.7940476190476193,2.6531746031746031,0,0,6.4472222222222229,0.67649789029535867,0.9368115942028985,0.91666666666666663,1.0333333333333334,"","",null,"103 - BREAST SURGERY",0,null,null,null,null,null,null,null,null,null,"","",null,null,null,null,null,null,null,null,null,"NLXPAULTON MEMORIAL HOSPITAL","NLX02","PAULTON MEMORIAL HOSPITAL","NLX02","PAULTON MEMORIAL HOSPITAL","NLX"]
[{"$f":"IF(M218=1,\"No Site Selected\",IF(N218=1,\"No Ward Name\",\"\"))","v":""},2,null,"RBL14","ARROWE PARK HOSPITAL","OPAU","430 - GERIATRIC MEDICINE",null,1660,1270.7,1380,1615,1035,701.5,1035,1219,null,null,null,null,690,2.8582608695652176,4.1072463768115943,{"$f":"IF(ISERROR(IF($U17=\"\",\"\",R17/$U17)),\"-\",(IF($U17=\"\",\"\",R17/$U17)))","v":0},{"$f":"IF(ISERROR(IF($U17=\"\",\"\",T17/$U17)),\"-\",(IF($U17=\"\",\"\",T17/$U17)))","v":0},{"$f":"IF(ISERROR(IF($U17=\"\",\"\",SUM(J17,L17,N17,P17,R17,T17)/$U17)),\"-\",(IF($U17=\"\",\"\",SUM(J17,L17,N17,P17,R17,T17)/$U17)))","v":6.9655072463768111},0.76548192771084345,1.1702898550724639,0.67777777777777781,1.1777777777777778,"","",null,"110 - TRAUMA & ORTHOPAEDICS",0,null,null,null,null,null,null,null,null,null,"","",null,null,null,null,null,null,null,null,null,"NLXST MARTINS HOSPITAL","NLX01","ST MARTINS HOSPITAL","NLX01","ST MARTINS HOSPITAL","NLX","Selected Org:"]
["",2,null,"RBL14","ARROWE PARK HOSPITAL",17,"100 - GENERAL SURGERY",null,1875,1756.5,1207.5,1202,1035,1092.5,1035,1000.5,null,null,null,null,872,3.2672018348623855,2.5258027522935782,0,0,5.7930045871559637,0.93679999999999997,0.99544513457556938,1.0555555555555556,0.96666666666666667,"","",null,"120 - ENT",0,null,null,null,null,null,null,null,null,null,"","",null,null,null,null,null,null,null,null,null,"NLXTHORNBURY HOSPITAL","NLX22","THORNBURY HOSPITAL","NLX22","THORNBURY HOSPITAL","NLX",{"$f":"$E$5","v":"RBL"}]
["",2,null,"RBL14","ARROWE PARK HOSPITAL",18,"100 - GENERAL SURGERY",null,1697,1327,1567.5,1494.5,1035,917.75,1035,1399.9,null,null,null,null,818,2.7441931540342299,3.5383863080684597,0,0,6.2825794621026887,0.78196817913965821,0.95342902711323763,0.88671497584541059,1.3525603864734301,"","",null,"130 - OPHTHALMOLOGY",0,null,null,null,null,null,null,null,null,null,"","",null,null,null,null,null,null,null,null,null,"NLXTROWBRIDGE COMMUNITY HOSPITAL","NLX20","TROWBRIDGE COMMUNITY HOSPITAL","NLX20","TROWBRIDGE COMMUNITY HOSPITAL","NLX"]
["",2,null,"RBL14","ARROWE PARK HOSPITAL",20,"101 - UROLOGY",null,1691.75,1368,1225.5,1309.25,1035,815.5,690,1011,null,null,null,null,823,2.6530984204131229,2.8192588092345079,0,0,5.4723572296476304,0.80863011674301755,1.0683394532843737,0.78792270531400965,1.4652173913043478,"","",null,"140 - ORAL SURGERY",0,null,null,null,null,null,null,null,null,null,"","",null,null,null,null,null,null,null,null,null,"NQ1ACE (THE CRESCENT, COLCHESTER)","NQ114","ACE (THE CRESCENT, COLCHESTER)","NQ114","ACE (THE CRESCENT, COLCHESTER)","NQ1","Match:"]
["",2,null,"RBL14","ARROWE PARK HOSPITAL",21,"430 - GERIATRIC MEDICINE",null,1655,1510,1530,1610.75,1035,855,1035,1253.5,null,null,null,null,885,2.6723163841807911,3.2364406779661019,0,0,5.9087570621468926,0.91238670694864044,1.0527777777777778,0.82608695652173914,1.211111111111111,"","",null,"141 - RESTORATIVE DENTISTRY",0,null,null,null,null,null,null,null,null,null,"","",null,null,null,null,null,null,null,null,null,"NQ1ACE CIC (CLACTON ON SEA)","NQ101","ACE CIC (CLACTON ON SEA)","NQ101","ACE CIC (CLACTON ON SEA)","NQ1",{"$f":"MATCH($BJ$18,$BI$1:$BI$5088,0)","v":512}]
["",2,null,"RBL14","ARROWE PARK HOSPITAL",22,"430 - GERIATRIC MEDICINE",null,1655,1379.75,1380,1292.5,1035,793.5,1035,1115.5,null,null,null,null,914,2.3777352297593,2.6345733041575494,0,0,5.0123085339168494,0.83368580060422959,0.93659420289855078,0.76666666666666672,1.0777777777777777,"","",null,"142 - PAEDIATRIC DENTISTRY",0,null,null,null,null,null,null,null,null,null,"","",null,null,null,null,null,null,null,null,null,"NQ1CLACTON HOSPITAL","NQ108","CLACTON HOSPITAL","NQ108","CLACTON HOSPITAL","NQ1","Countif:"]
["",2,null,"RBL14","ARROWE PARK HOSPITAL",23,"430 - GERIATRIC MEDICINE",null,1875,1541.55,1380,1436.65,1035,1000.5,1035,1092.5,null,null,null,null,690,3.6841304347826092,3.6654347826086959,0,0,7.3495652173913042,0.82216,1.0410507246376812,0.96666666666666667,1.0555555555555556,"","",null,"143 - ORTHODONTICS",0,null,null,null,null,null,null,null,null,null,"","",null,null,null,null,null,null,null,null,null,"NQ1COLCHESTER GENERAL HOSPITAL","NQ107","COLCHESTER GENERAL HOSPITAL","NQ107","COLCHESTER GENERAL HOSPITAL","NQ1",{"$f":"SUM(COUNTIF($BH$1:$BI$5088,$BJ$18)+$BJ$21-1)","v":516}]
["",2,null,"RBL14","ARROWE PARK HOSPITAL",27,"430 - GERIATRIC MEDICINE",null,1655,1165.9000000000001,1380,1457.6,1035,724.5,1035,1322.5,null,null,null,null,845,2.2371597633136098,3.2900591715976328,0,0,5.5272189349112422,0.70447129909365569,1.056231884057971,0.7,1.2777777777777777,"","",null,"145 - ORAL & MAXILLO FACIAL SURGERY",0,null,null,null,null,null,null,null,null,null,"","",null,null,null,null,null,null,null,null,null,"NQ1CONNAUGHT MEWS SUITES 6-10","NQ126","CONNAUGHT MEWS SUITES 6-10","NQ126","CONNAUGHT MEWS SUITES 6-10","NQ1","Concat Items:"]
["",2,null,"RBL14","ARROWE PARK HOSPITAL",26,"300 - GENERAL MEDICINE",null,1660,1504,1380,1532.5,1035,1000.5,1035,1161.5,null,null,null,null,827,3.0284159613059249,3.257557436517533,0,0,6.285973397823458,0.90602409638554215,1.1105072463768115,0.96666666666666667,1.1222222222222222,"","",null,"150 - NEUROSURGERY",0,null,null,null,null,null,null,null,null,null,"","",null,null,null,null,null,null,null,null,null,"NQ1CORNERSTONE","NQ123","CORNERSTONE","NQ123","CORNERSTONE","NQ1","$BH"]
["",0,null,"RBL14","ARROWE PARK HOSPITAL",30,"303 - CLINICAL HAEMATOLOGY",null,1530,1370,1035,966,1035,759,690,678.5,null,null,null,null,633,3.3633491311216428,2.5979462875197474,0,0,5.9612954186413898,0.89542483660130723,0.93333333333333335,0.73333333333333328,0.98333333333333328,"","",null,"160 - PLASTIC SURGERY",0,null,null,null,null,null,null,null,null,null,"","",null,null,null,null,null,null,null,null,null,"NQ1FRYATT HOSPITAL","NQ106","FRYATT HOSPITAL","NQ106","FRYATT HOSPITAL","NQ1",":$BH"]
["",0,null,"RBL14","ARROWE PARK HOSPITAL",32,"320 - CARDIOLOGY",null,1875,1543,1380,1324,1035,977.5,1380,1000.5,null,null,null,null,842,2.9934679334916865,2.7606888361045132,0,0,5.7541567695961993,0.82293333333333329,0.95942028985507244,0.94444444444444442,0.72499999999999998,"","",null,"170 - CARDIOTHORACIC SURGERY",0,null,null,null,null,null,null,null,null,null,"","",null,null,null,null,null,null,null,null,null,"NVCASHTEAD HOSPITAL","NVC01","ASHTEAD HOSPITAL","NVC01","ASHTEAD HOSPITAL","NVC"]
["",0,null,"RBL14","ARROWE PARK HOSPITAL",33,"300 - GENERAL MEDICINE",null,1185,1070.4000000000001,1380,1345.5,1035,898.1,1035,1001.5,null,null,null,null,759,2.5935441370223979,3.0922266139657446,0,0,5.6857707509881426,0.90329113924050641,0.97499999999999998,0.86772946859903388,0.96763285024154588,"","",null,"171 - PAEDIATRIC SURGERY",0,null,null,null,null,null,null,null,null,null,"","",null,null,null,null,null,null,null,null,null,"NVCBLAKELANDS HOSPITAL","NVC31","BLAKELANDS HOSPITAL","NVC31","BLAKELANDS HOSPITAL","NVC","Concat Final:"]
["",2,null,"RBL14","ARROWE PARK HOSPITAL",36,"301 - GASTROENTEROLOGY",null,2062.5,1898.75,1567.5,1512.75,1380,1143,1380,1582,null,null,null,null,1112,2.735386690647482,2.7830485611510793,0,0,5.5184352517985609,0.92060606060606065,0.96507177033492819,0.82826086956521738,1.1463768115942028,"","",null,"180 - ACCIDENT & EMERGENCY",0,null,null,null,null,null,null,null,null,null,"","",null,null,null,null,null,null,null,null,null,"NVCBODMIN NHS TREATMENT CENTRE","NVC24","BODMIN NHS TREATMENT CENTRE","NVC24","BODMIN NHS TREATMENT CENTRE","NVC",{"$f":"CONCATENATE($BJ$25,$BJ$21,$BJ$26,$BJ$23)","v":"$BH512:$BH516"}]
["",0,null,"RBL14","ARROWE PARK HOSPITAL",38,"340 - RESPIRATORY MEDICINE",null,2062.5,1712.25,1567.5,1518.5,1380,1207.5,1380,1380,null,null,null,null,773,3.7771668822768434,3.7496765847347997,0,0,7.5268434670116431,0.83018181818181813,0.96874003189792668,0.875,1,"","",null,"190 - ANAESTHETICS",0,null,null,null,null,null,null,null,null,null,"","",null,null,null,null,null,null,null,null,null,"NVCBOSTON WEST HOSPITAL","NVC27","BOSTON WEST HOSPITAL","NVC27","BOSTON WEST HOSPITAL","NVC"]
["",0,null,"RBL14","ARROWE PARK HOSPITAL",53,"501 - OBSTETRICS",null,1380,1293,1380,1257.5,1035,1018.5,1380,977.5,null,null,null,null,668,3.4603293413173652,3.3458083832335328,0,0,6.806137724550898,0.93695652173913047,0.91123188405797106,0.98405797101449277,0.70833333333333337,"","",null,"192 - CRITICAL CARE MEDICINE",0,null,null,null,null,null,null,null,null,null,"","",null,null,null,null,null,null,null,null,null,"NVCCLIFTON PARK HOSPITAL","NVC28","CLIFTON PARK HOSPITAL","NVC28","CLIFTON PARK HOSPITAL","NVC"]
["",2,null,"RBL14","ARROWE PARK HOSPITAL",54,"502 - GYNAECOLOGY",null,832.5,847.5,690,701.5,690,690,345,690,null,null,null,null,394,3.9022842639593907,3.531725888324873,0,0,7.4340101522842641,1.0180180180180181,1.0166666666666666,1,2,"","",null,"300 - GENERAL MEDICINE",0,null,null,null,null,null,null,null,null,null,"","",null,null,null,null,null,null,null,null,null,"NVCCOBALT HOSPITAL","NVC29","COBALT HOSPITAL","NVC29","COBALT HOSPITAL","NVC"]
["",2,null,"RBL14","ARROWE PARK HOSPITAL","AMU","300 - GENERAL MEDICINE",null,1834,1665.5,1380,1357,1380,1201,1380,1403,null,null,null,null,611,4.6914893617021276,4.5171849427168578,0,0,9.2086743044189845,0.9081243184296619,0.98333333333333328,0.87028985507246381,1.0166666666666666,"","",null,"301 - GASTROENTEROLOGY",0,null,null,null,null,null,null,null,null,null,"","",null,null,null,null,null,null,null,null,null,"NVCDUCHY HOSPITAL","NVC04","DUCHY HOSPITAL","NVC04","DUCHY HOSPITAL","NVC"]
["",0,null,"RBL14","ARROWE PARK HOSPITAL","MSSW","300 - GENERAL MEDICINE",null,1380,715,1035,772.5,690,690,1035,851,null,null,null,null,545,2.5779816513761467,2.9788990825688075,0,0,5.5568807339449542,0.51811594202898548,0.74637681159420288,1,0.82222222222222219,"","",null,"302 - ENDOCRINOLOGY",0,null,null,null,null,null,null,null,null,null,"","",null,null,null,null,null,null,null,null,null,"NVCEUXTON HALL HOSPITAL","NVC05","EUXTON HALL HOSPITAL","NVC05","EUXTON HALL HOSPITAL","NVC"]
["",0,null,"RBL14","ARROWE PARK HOSPITAL","EDRU","300 - GENERAL MEDICINE",null,766,690,345,345,532.5,532.5,345,345,null,null,null,null,228,5.3618421052631575,3.0263157894736841,0,0,8.3881578947368425,0.90078328981723232,1,1,1,"","",null,"303 - CLINICAL HAEMATOLOGY",0,null,null,null,null,null,null,null,null,null,"","",null,null,null,null,null,null,null,null,null,"NVCFITZWILLIAM HOSPITAL","NVC06","FITZWILLIAM HOSPITAL","NVC06","FITZWILLIAM HOSPITAL","NVC"]
["",0,null,"RBL14","ARROWE PARK HOSPITAL","ESAU","100 - GENERAL SURGERY",null,2070,1857.5,1380,1226.1500000000001,1725,1464.2,1380,1311,null,null,null,null,345,9.6281159420289857,7.3540579710144929,0,0,16.982173913043479,0.89734299516908211,0.88851449275362326,0.84881159420289853,0.95,"","",null,"304 - CLINICAL PHYSIOLOGY",0,null,null,null,null,null,null,null,null,null,"","",null,null,null,null,null,null,null,null,null,"NVCFULWOOD HALL HOSPITAL","NVC07","FULWOOD HALL HOSPITAL","NVC07","FULWOOD HALL HOSPITAL","NVC"]
["",0,null,"RBL14","ARROWE PARK HOSPITAL","ITU","192 - CRITICAL CARE MEDICINE",null,4025,3001.8,345,283.25,3795,2932.5,345,299,null,null,null,null,211,28.124644549763033,2.7594786729857819,0,0,30.884123222748816,0.74578881987577639,0.82101449275362315,0.77272727272727271,0.8666666666666667,"","",null,"305 - CLINICAL PHARMACOLOGY",0,null,null,null,null,null,null,null,null,null,"","",null,null,null,null,null,null,null,null,null,"NVCHORTON NHS TREATMENT CENTRE","NVC25","HORTON NHS TREATMENT CENTRE","NVC25","HORTON NHS TREATMENT CENTRE","NVC"]
["",0,null,"RBL14","ARROWE PARK HOSPITAL","HDU","192 - CRITICAL CARE MEDICINE",null,1380,1322.5,345,256,1380,1299.5,345,310.5,null,null,null,null,141,18.595744680851062,4.0177304964539005,0,0,22.613475177304963,0.95833333333333337,0.74202898550724639,0.94166666666666665,0.9,"","",null,"307 - DIABETIC MEDICINE",0,null,null,null,null,null,null,null,null,null,"","",null,null,null,null,null,null,null,null,null,"NVCMOUNT STUART HOSPITAL","NVC08","MOUNT STUART HOSPITAL","NVC08","MOUNT STUART HOSPITAL","NVC"]
["",0,null,"RBL14","ARROWE PARK HOSPITAL","Delivery suite","501 - OBSTETRICS",null,2415,2288.5,345,345,2415,2208,345,345,null,null,null,null,135,33.30740740740741,5.1111111111111107,0,0,38.418518518518518,0.94761904761904758,1,0.91428571428571426,1,"","",null,"310 - AUDIOLOGICAL MEDICINE",0,null,null,null,null,null,null,null,null,null,"","",null,null,null,null,null,null,null,null,null,"NVCNEW HALL HOSPITAL","NVC09","NEW HALL HOSPITAL","NVC09","NEW HALL HOSPITAL","NVC"]
["",0,null,"RBL14","ARROWE PARK HOSPITAL","Neonatal","420 - PAEDIATRICS",null,2760,2478.5,345,241.5,2760,2416,345,276,null,null,null,null,422,11.598341232227488,1.2263033175355451,0,0,12.824644549763033,0.89800724637681162,0.7,0.87536231884057969,0.8,"","",null,"313 - CLINICAL IMMUNOLOGY AND ALLERGY",0,null,null,null,null,null,null,null,null,null,"","",null,null,null,null,null,null,null,null,null,"NVCNORTH DOWNS HOSPITAL","NVC11","NORTH DOWNS HOSPITAL","NVC11","NORTH DOWNS HOSPITAL","NVC"]
["",2,null,"RBL14","ARROWE PARK HOSPITAL","Children's","420 - PAEDIATRICS",null,1610,1621.5,345,362,1380,1545.5,345,287.5,null,null,null,null,275,11.516363636363636,2.3618181818181818,0,0,13.878181818181819,1.0071428571428571,1.0492753623188407,1.1199275362318841,0.83333333333333337,"","",null,"314 - REHABILITATION",0,null,null,null,null,null,null,null,null,null,"","",null,null,null,null,null,null,null,null,null,"NVCNOTTINGHAM WOODTHORPE HOSPITAL","NVC40","NOTTINGHAM WOODTHORPE HOSPITAL","NVC40","NOTTINGHAM WOODTHORPE HOSPITAL","NVC"]
["",0,null,"RBL20","CLATTERBRIDGE HOSPITAL","M2 Ortho","430 - GERIATRIC MEDICINE",null,1372.5,914.25,877.5,869.4,690,632.5,345,241.5,null,null,null,null,194,7.9729381443298966,5.7262886597938145,0,0,13.699226804123711,0.66612021857923498,0.99076923076923074,0.91666666666666663,0.7,"","",null,"315 - PALLIATIVE MEDICINE",0,null,null,null,null,null,null,null,null,null,"","",null,null,null,null,null,null,null,null,null,"NVCOAKLANDS HOSPITAL","NVC12","OAKLANDS HOSPITAL","NVC12","OAKLANDS HOSPITAL","NVC"]
["",2,null,"RBL20","CLATTERBRIDGE HOSPITAL","M2 Surg","100 - GENERAL SURGERY",null,184,138,172.5,138,184,138,184,138,null,null,null,null,38,7.2631578947368425,7.2631578947368425,0,0,14.526315789473685,0.75,0.8,0.75,0.75,"","",null,"318 - INTERMEDIATE CARE",0,null,null,null,null,null,null,null,null,null,"","",null,null,null,null,null,null,null,null,null,"NVCOAKS HOSPITAL","NVC13","OAKS HOSPITAL","NVC13","OAKS HOSPITAL","NVC"]
["",0,null,"RBL20","CLATTERBRIDGE HOSPITAL","CRC","314 - REHABILITATION",null,1380,1206.8,1867.5,1807.6,690,690,1035,1035,null,null,null,null,827,2.2935912938331318,3.4372430471584039,0,0,5.7308343409915352,0.87449275362318835,0.96792503346720205,1,1,"","",null,"319 - RESPITE CARE",0,null,null,null,null,null,null,null,null,null,"","",null,null,null,null,null,null,null,null,null,"NVCPARK HILL HOSPITAL","NVC14","PARK HILL HOSPITAL","NVC14","PARK HILL HOSPITAL","NVC"]
["",2,null,"RBL20","CLATTERBRIDGE HOSPITAL","M1 rehab M1 MO","314 - REHABILITATION",null,1530,1295,1564.5,1789.75,1035,966,1035,1035,null,null,null,null,1101,2.0535876475930972,2.5656221616712078,0,0,4.619209809264305,0.84640522875816993,1.143975711089805,0.93333333333333335,1,"","",null,"320 - CARDIOLOGY",0,null,null,null,null,null,null,null,null,null,"","",null,null,null,null,null,null,null,null,null,"NVCPINEHILL HOSPITAL","NVC15","PINEHILL HOSPITAL","NVC15","PINEHILL HOSPITAL","NVC"]
["",{"$f":"IF(SUM(E247:G247,M247:N247)>0,1,IF(AG247>0,2,0))","v":0},null,{"$f":"IF(ISNA(VLOOKUP($E$5&E46,$BD:$BE,2,FALSE)),\"\",VLOOKUP($E$5&E46,$BD:$BE,2,FALSE))","v":"RBL20"},"CLATTERBRIDGE HOSPITAL","Dermataology","330 - DERMATOLOGY",null,460,460,460,460,230,230,230,230,null,null,null,null,122,5.6557377049180326,5.6557377049180326,0,0,11.311475409836065,1,1,1,1,"","",null,"321 - PAEDIATRIC CARDIOLOGY",0,null,null,null,null,null,null,null,null,null,"","",null,null,null,null,null,null,null,null,null,"NVCRENACRES HOSPITAL","NVC16","RENACRES HOSPITAL","NVC16","RENACRES HOSPITAL","NVC"]
["",0,null,"RBL14","ARROWE PARK HOSPITAL",25,"350 - INFECTIOUS DISEASES",null,1372.5,926.5,2070,1687.9,1035,701.5,1380,1184,null,null,null,null,627,2.5964912280701755,4.5803827751196176,0,0,7.1768740031897922,0.67504553734061934,0.81541062801932374,0.67777777777777781,0.85797101449275359,"","",null,"323 - SPINAL INJURIES",0,null,null,null,null,null,null,null,null,null,"","",null,null,null,null,null,null,null,null,null,"NVCRIVERS HOSPITAL","NVC19","RIVERS HOSPITAL","NVC19","RIVERS HOSPITAL","NVC"]
["",0,null,"RBL14","ARROWE PARK HOSPITAL","CCU","320 - CARDIOLOGY",null,690,690,345,333.5,690,690,345,333.5,null,null,null,null,168,8.2142857142857135,3.9702380952380953,0,0,12.18452380952381,1,0.96666666666666667,1,0.96666666666666667,"","",null,"325 - SPORTS AND EXERCISE MEDICINE",0,null,null,null,null,null,null,null,null,null,"","",null,null,null,null,null,null,null,null,null,"NVCROWLEY HALL HOSPITAL","NVC17","ROWLEY HALL HOSPITAL","NVC17","ROWLEY HALL HOSPITAL","NVC"]
["",0,null,"RBL14","ARROWE PARK HOSPITAL",37,"300 - GENERAL MEDICINE",null,345,345,345,345,345,345,345,345,null,null,null,null,256,2.6953125,2.6953125,0,0,5.390625,1,1,1,1,"","",null,"326 - ACUTE INTERNAL MEDICINE",0,null,null,null,null,null,null,null,null,null,"","",null,null,null,null,null,null,null,null,null,"NVCSPRINGFIELD HOSPITAL","NVC18","SPRINGFIELD HOSPITAL","NVC18","SPRINGFIELD HOSPITAL","NVC"]
["",2,null,"RBL14","ARROWE PARK HOSPITAL","24 IPC","350 - INFECTIOUS DISEASES",null,1372.5,1010.75,1380,1062.25,690,749.5,1035,1104,null,null,null,null,672,2.6194196428571428,3.2235863095238093,0,0,5.8430059523809526,0.73642987249544622,0.76974637681159419,1.086231884057971,1.0666666666666667,"","",null,"328 - STROKE MEDICINE",0,null,null,null,null,null,null,null,null,null,"","",null,null,null,null,null,null,null,null,null,"NVCTEES VALLEY TREATMENT CENTRE","NVC35","TEES VALLEY TREATMENT CENTRE","NVC35","TEES VALLEY TREATMENT CENTRE","NVC"]
["",2,null,"RBL14","ARROWE PARK HOSPITAL","WAFFU","110 - TRAUMA & ORTHOPAEDICS",null,690,560.4,690,777.45,690,345,345,724.5,null,null,null,null,194,4.6670103092783508,7.742010309278351,0,0,12.409020618556701,0.81217391304347819,1.1267391304347827,0.5,2.1,"","",null,"330 - DERMATOLOGY",0,null,null,null,null,null,null,null,null,null,"","",null,null,null,null,null,null,null,null,null,"NVCTHE BERKSHIRE INDEPENDENT HOSPITAL","NVC02","THE BERKSHIRE INDEPENDENT HOSPITAL","NVC02","THE BERKSHIRE INDEPENDENT HOSPITAL","NVC"]
["",0,null,"",null,null,null,null,null,null,null,null,null,null,null,null,null,null,null,null,null,"","","","","","","","","","","",null,"340 - RESPIRATORY MEDICINE",0,null,null,null,null,null,null,null,null,null,"","",null,null,null,null,null,null,null,null,null,"NVCTHE WESTBOURNE CENTRE","NVC44","THE WESTBOURNE CENTRE","NVC44","THE WESTBOURNE CENTRE","NVC"]
["",0,null,"",null,null,null,null,null,null,null,null,null,null,null,null,null,null,null,null,null,"","","","","","","","","","","",null,"350 - INFECTIOUS DISEASES",0,null,null,null,null,null,null,null,null,null,"","",null,null,null,null,null,null,null,null,null,"NVCTHE YORKSHIRE CLINIC","NVC20","THE YORKSHIRE CLINIC","NVC20","THE YORKSHIRE CLINIC","NVC"]
["",0,null,"",null,null,null,null,null,null,null,null,null,null,null,null,null,null,null,null,null,"","","","","","","","","","","",null,"352 - TROPICAL MEDICINE",0,null,null,null,null,null,null,null,null,null,"","",null,null,null,null,null,null,null,null,null,"NVCWEST MIDLANDS HOSPITAL","NVC21","WEST MIDLANDS HOSPITAL","NVC21","WEST MIDLANDS HOSPITAL","NVC"]
["",0,null,"",null,null,null,null,null,null,null,null,null,null,null,null,null,null,null,null,null,"","","","","","","","","","","",null,"360 - GENITOURINARY MEDICINE",0,null,null,null,null,null,null,null,null,null,"","",null,null,null,null,null,null,null,null,null,"NVCWINFIELD HOSPITAL","NVC22","WINFIELD HOSPITAL","NVC22","WINFIELD HOSPITAL","NVC"]
["",0,null,"",null,null,null,null,null,null,null,null,null,null,null,null,null,null,null,null,null,"","","","","","","","","","","",null,"361 - NEPHROLOGY",0,null,null,null,null,null,null,null,null,null,"","",null,null,null,null,null,null,null,null,null,"NVCWOODLAND HOSPITAL","NVC23","WOODLAND HOSPITAL","NVC23","WOODLAND HOSPITAL","NVC"]
["",0,null,"",null,null,null,null,null,null,null,null,null,null,null,null,null,null,null,null,null,"","","","","","","","","","","",null,"370 - MEDICAL ONCOLOGY",0,null,null,null,null,null,null,null,null,null,"","",null,null,null,null,null,null,null,null,null,"R0AMANCHESTER ROYAL EYE HOSPITAL","R0A04","MANCHESTER ROYAL EYE HOSPITAL","R0A04","MANCHESTER ROYAL EYE HOSPITAL","R0A"]
["",0,null,"",null,null,null,null,null,null,null,null,null,null,null,null,null,null,null,null,null,"","","","","","","","","","","",null,"399 - PSYCHIATRY SERVICES",0,null,null,null,null,null,null,null,null,null,"","",null,null,null,null,null,null,null,null,null,"R0AMANCHESTER ROYAL INFIRMARY","R0A02","MANCHESTER ROYAL INFIRMARY","R0A02","MANCHESTER ROYAL INFIRMARY","R0A"]
["",0,null,"",null,null,null,null,null,null,null,null,null,null,null,null,null,null,null,null,null,"","","","","","","","","","","",null,"400 - NEUROLOGY",0,null,null,null,null,null,null,null,null,null,"","",null,null,null,null,null,null,null,null,null,"R0AROYAL MANCHESTER CHILDREN'S HOSPITAL","R0A03","ROYAL MANCHESTER CHILDREN'S HOSPITAL","R0A03","ROYAL MANCHESTER CHILDREN'S HOSPITAL","R0A"]
["",0,null,"",null,null,null,null,null,null,null,null,null,null,null,null,null,null,null,null,null,"","","","","","","","","","","",null,"401 - CLINICAL NEURO-PHYSIOLOGY",0,null,null,null,null,null,null,null,null,null,"","",null,null,null,null,null,null,null,null,null,"R0AST MARY'S HOSPITAL","R0A05","ST MARY'S HOSPITAL","R0A05","ST MARY'S HOSPITAL","R0A"]
["",0,null,"",null,null,null,null,null,null,null,null,null,null,null,null,null,null,null,null,null,"","","","","","","","","","","",null,"410 - RHEUMATOLOGY",0,null,null,null,null,null,null,null,null,null,"","",null,null,null,null,null,null,null,null,null,"R0ATRAFFORD GENERAL HOSPITAL","R0A09","TRAFFORD GENERAL HOSPITAL","R0A09","TRAFFORD GENERAL HOSPITAL","R0A"]
["",0,null,"",null,null,null,null,null,null,null,null,null,null,null,null,null,null,null,null,null,"","","","","","","","","","","",null,"420 - PAEDIATRICS",0,null,null,null,null,null,null,null,null,null,"","",null,null,null,null,null,null,null,null,null,"R0AUNIVERSITY DENTAL HOSPITAL","R0A06","UNIVERSITY DENTAL HOSPITAL","R0A06","UNIVERSITY DENTAL HOSPITAL","R0A"]
["",0,null,"",null,null,null,null,null,null,null,null,null,null,null,null,null,null,null,null,null,"","","","","","","","","","","",null,"421 - PAEDIATRIC NEUROLOGY",0,null,null,null,null,null,null,null,null,null,"","",null,null,null,null,null,null,null,null,null,"R0AWYTHENSHAWE HOSPITAL","R0A07","WYTHENSHAWE HOSPITAL","R0A07","WYTHENSHAWE HOSPITAL","R0A"]
["",0,null,"",null,null,null,null,null,null,null,null,null,null,null,null,null,null,null,null,null,"","","","","","","","","","","",null,"422 - NEONATOLOGY",0,null,null,null,null,null,null,null,null,null,"","",null,null,null,null,null,null,null,null,null,"R1AACONBURY UNIT","R1ADY","ACONBURY UNIT","R1ADY","ACONBURY UNIT","R1A"]
["",0,null,"",null,null,null,null,null,null,null,null,null,null,null,null,null,null,null,null,null,"","","","","","","","","","","",null,"424 - WELL BABIES",0,null,null,null,null,null,null,null,null,null,"","",null,null,null,null,null,null,null,null,null,"R1AALEXANDRA HOSPITAL","R1AAL","ALEXANDRA HOSPITAL","R1AAL","ALEXANDRA HOSPITAL","R1A"]
["",0,null,"",null,null,null,null,null,null,null,null,null,null,null,null,null,null,null,null,null,"","","","","","","","","","","",null,"430 - GERIATRIC MEDICINE",0,null,null,null,null,null,null,null,null,null,"","",null,null,null,null,null,null,null,null,null,"R1AARROWSIDE UNIT (ALEXANDRA HOSPITAL)","R1A1X","ARROWSIDE UNIT (ALEXANDRA HOSPITAL)","R1A1X","ARROWSIDE UNIT (ALEXANDRA HOSPITAL)","R1A"]
["",0,null,"",null,null,null,null,null,null,null,null,null,null,null,null,null,null,null,null,null,"","","","","","","","","","","",null,"450 - DENTAL MEDICINE SPECIALTIES",0,null,null,null,null,null,null,null,null,null,"","",null,null,null,null,null,null,null,null,null,"R1ABATCHLEY FIRST NURSERY PLUS","R1AHC","BATCHLEY FIRST NURSERY PLUS","R1AHC","BATCHLEY FIRST NURSERY PLUS","R1A"]
["",0,null,"",null,null,null,null,null,null,null,null,null,null,null,null,null,null,null,null,null,"","","","","","","","","","","",null,"460 - MEDICAL OPHTHALMOLOGY",0,null,null,null,null,null,null,null,null,null,"","",null,null,null,null,null,null,null,null,null,"R1ABEACONSIDE AUTISM BASE","R1A05","BEACONSIDE AUTISM BASE","R1A05","BEACONSIDE AUTISM BASE","R1A"]
["",0,null,"",null,null,null,null,null,null,null,null,null,null,null,null,null,null,null,null,null,"","","","","","","","","","","",null,"501 - OBSTETRICS",0,null,null,null,null,null,null,null,null,null,"","",null,null,null,null,null,null,null,null,null,"R1ABIRMINGHAM CHILDREN'S HOSPITAL","R1A03","BIRMINGHAM CHILDREN'S HOSPITAL","R1A03","BIRMINGHAM CHILDREN'S HOSPITAL","R1A"]
["",0,null,"",null,null,null,null,null,null,null,null,null,null,null,null,null,null,null,null,null,"","","","","","","","","","","",null,"502 - GYNAECOLOGY",0,null,null,null,null,null,null,null,null,null,"","",null,null,null,null,null,null,null,null,null,"R1ACHURCHVIEW HOUSE","R1ACD","CHURCHVIEW HOUSE","R1ACD","CHURCHVIEW HOUSE","R1A"]
["",0,null,"",null,null,null,null,null,null,null,null,null,null,null,null,null,null,null,null,null,"","","","","","","","","","","",null,"560 - MIDWIFE LED CARE",0,null,null,null,null,null,null,null,null,null,"","",null,null,null,null,null,null,null,null,null,"R1ACOMM HOSP WARDS (EVESHAM)","R1ARE","COMM HOSP WARDS (EVESHAM)","R1ARE","COMM HOSP WARDS (EVESHAM)","R1A"]
["",0,null,"",null,null,null,null,null,null,null,null,null,null,null,null,null,null,null,null,null,"","","","","","","","","","","",null,"700 - LEARNING DISABILITY",0,null,null,null,null,null,null,null,null,null,"","",null,null,null,null,null,null,null,null,null,"R1ACOMM HOSP WARDS (MALVERN)","R1ARG","COMM HOSP WARDS (MALVERN)","R1ARG","COMM HOSP WARDS (MALVERN)","R1A"]
["",0,null,"",null,null,null,null,null,null,null,null,null,null,null,null,null,null,null,null,null,"","","","","","","","","","","",null,"710 - ADULT MENTAL ILLNESS",0,null,null,null,null,null,null,null,null,null,"","",null,null,null,null,null,null,null,null,null,"R1ACOMM HOSP WARDS (PERSHORE)","R1ARJ","COMM HOSP WARDS (PERSHORE)","R1ARJ","COMM HOSP WARDS (PERSHORE)","R1A"]
["",0,null,"",null,null,null,null,null,null,null,null,null,null,null,null,null,null,null,null,null,"","","","","","","","","","","",null,"711 - CHILD AND ADOLESCENT PSYCHIATRY",0,null,null,null,null,null,null,null,null,null,"","",null,null,null,null,null,null,null,null,null,"R1ACOMM HOSP WARDS (TENBURY)","R1ARL","COMM HOSP WARDS (TENBURY)","R1ARL","COMM HOSP WARDS (TENBURY)","R1A"]
["",0,null,"",null,null,null,null,null,null,null,null,null,null,null,null,null,null,null,null,null,"","","","","","","","","","","",null,"712 - FORENSIC PSYCHIATRY",0,null,null,null,null,null,null,null,null,null,"","",null,null,null,null,null,null,null,null,null,"R1ACOMM HOSP WARDS (WF GP UNIT)","R1ARN","COMM HOSP WARDS (WF GP UNIT)","R1ARN","COMM HOSP WARDS (WF GP UNIT)","R1A"]
["",0,null,"",null,null,null,null,null,null,null,null,null,null,null,null,null,null,null,null,null,"","","","","","","","","","","",null,"713 - PSYCHOTHERAPY",0,null,null,null,null,null,null,null,null,null,"","",null,null,null,null,null,null,null,null,null,{"$f":"CONCATENATE(LEFT(BE76, 3),BF76)","v":"R1ACOMMUNITY FIRST"},"R1A94","COMMUNITY FIRST","R1A94","COMMUNITY FIRST",{"$f":"LEFT(BG76,3)","v":"R1A"}]
["",0,null,"",null,null,null,null,null,null,null,null,null,null,null,null,null,null,null,null,null,"","","","","","","","","","","",null,"715 - OLD AGE PSYCHIATRY",0,null,null,null,null,null,null,null,null,null,"","",null,null,null,null,null,null,null,null,null,"R1ACOMMUNITY HOSP WARDS (POWCH)","R1ARK","COMMUNITY HOSP WARDS (POWCH)","R1ARK","COMMUNITY HOSP WARDS (POWCH)","R1A"]
["",{"$f":"IF(SUM(E279:G279,M279:N279)>0,1,IF(AG279>0,2,0))","v":0},null,{"$f":"IF(ISNA(VLOOKUP($E$5&E78,$BD:$BE,2,FALSE)),\"\",VLOOKUP($E$5&E78,$BD:$BE,2,FALSE))","v":""},null,null,null,null,null,null,null,null,null,null,null,null,null,null,null,null,null,"","","","","","","","","","","",null,"800 - CLINICAL ONCOLOGY",0,null,null,null,null,null,null,null,null,null,"","",null,null,null,null,null,null,null,null,null,"R1ACOMMUNITY INREACH EVESHAM","R1AJX","COMMUNITY INREACH EVESHAM","R1AJX","COMMUNITY INREACH EVESHAM","R1A"]
["",0,null,"",null,null,null,null,null,null,null,null,null,null,null,null,null,null,null,null,null,{"$f":"IF(ISERROR(IF($U79=\"\",\"\",SUM(J79,N79)/$U79)),\"-\",(IF($U79=\"\",\"\",SUM(J79,N79)/$U79)))","v":""},{"$f":"IF(ISERROR(IF($U79=\"\",\"\",SUM(L79,P79)/$U79)),\"-\",(IF($U79=\"\",\"\",SUM(L79,P79)/$U79)))","v":""},"","","",{"$f":"IF(ISERROR(IF($I79=\"\",\"\",J79/I79)),\"-\",(IF($I79=\"\",\"\",J79/I79)))","v":""},{"$f":"IF(ISERROR(IF(K79=\"\",\"\",L79/K79)),\"-\",(IF(K79=\"\",\"\",L79/K79)))","v":""},{"$f":"IF(ISERROR(IF(M79=\"\",\"\",N79/M79)),\"-\",(IF(M79=\"\",\"\",N79/M79)))","v":""},{"$f":"IF(ISERROR(IF(O79=\"\",\"\",P79/O79)),\"-\",IF(O79=\"\",\"\",P79/O79))","v":""},{"$f":"IF(ISERROR(IF(Q79=\"\",\"\",R79/Q79)),\"-\",IF(Q79=\"\",\"\",R79/Q79))","v":""},{"$f":"IF(ISERROR(IF(S79=\"\",\"\",T79/S79)),\"-\",IF(S79=\"\",\"\",T79/S79))","v":""},null,"810 - RADIOLOGY",0,null,null,null,null,null,null,null,null,null,{"$f":"IF(M280=1,\"No Site Selected\",\"\")","v":""},{"$f":"IF(N280=1,\"No Ward Name\",\"\")","v":""},null,null,null,null,null,null,null,null,null,"R1ACOMMUNITY INREACH REDDITCH 6","R1AJV","COMMUNITY INREACH REDDITCH 6","R1AJV","COMMUNITY INREACH REDDITCH 6","R1A"]
["",0,null,"",null,null,null,null,null,null,null,null,null,null,null,null,null,null,null,null,null,"","","","","","","","","","","",null,"822 - CHEMICAL PATHOLOGY",0,null,null,null,null,null,null,null,null,null,"","",null,null,null,null,null,null,null,null,null,"R1ACOMMUNITY INREACH REDDITCH 8","R1AJY","COMMUNITY INREACH REDDITCH 8","R1AJY","COMMUNITY INREACH REDDITCH 8","R1A"]
[{"$f":"IF(M282=1,\"No Site Selected\",IF(N282=1,\"No Ward Name\",\"\"))","v":""},0,null,"",null,null,null,null,null,null,null,null,null,null,null,null,null,null,null,null,null,"","",{"$f":"IF(ISERROR(IF($U81=\"\",\"\",R81/$U81)),\"-\",(IF($U81=\"\",\"\",R81/$U81)))","v":""},{"$f":"IF(ISERROR(IF($U81=\"\",\"\",T81/$U81)),\"-\",(IF($U81=\"\",\"\",T81/$U81)))","v":""},{"$f":"IF(ISERROR(IF($U81=\"\",\"\",SUM(J81,L81,N81,P81,R81,T81)/$U81)),\"-\",(IF($U81=\"\",\"\",SUM(J81,L81,N81,P81,R81,T81)/$U81)))","v":""},"","","","","","",null,"823 - HAEMATOLOGY",0,null,null,null,null,null,null,null,null,null,"","",null,null,null,null,null,null,null,null,null,"R1ACOMMUNITY PAEDESTRICIANS-1","R1AQQ","COMMUNITY PAEDESTRICIANS-1","R1AQQ","COMMUNITY PAEDESTRICIANS-1","R1A"]
["",0,null,"",null,null,null,null,null,null,null,null,null,null,null,null,null,null,null,null,null,"","","","","","","","","","","",null,"879 - COMMUNITY NURSING",0,null,null,null,null,null,null,null,null,null,"","",null,null,null,null,null,null,null,null,null,"R1ACOMMUNITY UNIT","R1ADV","COMMUNITY UNIT","R1ADV","COMMUNITY UNIT","R1A"]
["",0,null,"",null,null,null,null,null,null,null,null,null,null,null,null,null,null,null,null,null,"","","","","","","","","","","",null,"901 - OCCUPATIONAL MEDICINE",0,null,null,null,null,null,null,null,null,null,"","",null,null,null,null,null,null,null,null,null,"R1ACOMMUNITY VENUE","R1A76","COMMUNITY VENUE","R1A76","COMMUNITY VENUE","R1A"]
["",0,null,"",null,null,null,null,null,null,null,null,null,null,null,null,null,null,null,null,null,"","","","","","","","","","","",null,"903 - PUBLIC HEALTH MEDICINE",0,null,null,null,null,null,null,null,null,null,"","",null,null,null,null,null,null,null,null,null,"R1ACOVERCROFT","R1APF","COVERCROFT","R1APF","COVERCROFT","R1A"]
["",0,null,"",null,null,null,null,null,null,null,null,null,null,null,null,null,null,null,null,null,"","","","","","","","","","","",null,"920 - ORTHOTICS AND PROSTHETICS",0,null,null,null,null,null,null,null,null,null,"","",null,null,null,null,null,null,null,null,null,"R1ACROMWELL HOUSE","R1AAV","CROMWELL HOUSE","R1AAV","CROMWELL HOUSE","R1A"]
["",0,null,"",null,null,null,null,null,null,null,null,null,null,null,null,null,null,null,null,null,"","","","","","","","","","","",null,"921 - GENETICS",0,null,null,null,null,null,null,null,null,null,"","",null,null,null,null,null,null,null,null,null,"R1ACROWNGATE PHYSIOTHERAPY","R1A82","CROWNGATE PHYSIOTHERAPY","R1A82","CROWNGATE PHYSIOTHERAPY","R1A"]
["",0,null,"",null,null,null,null,null,null,null,null,null,null,null,null,null,null,null,null,null,"","","","","","","","","","","",null,"922 - SEXUAL HEALTH SERVICES",0,null,null,null,null,null,null,null,null,null,"","",null,null,null,null,null,null,null,null,null,"R1ADROITWICH SPA PRIVATE HOSPITAL","R1AFT","DROITWICH SPA PRIVATE HOSPITAL","R1AFT","DROITWICH SPA PRIVATE HOSPITAL","R1A"]
["",0,null,"",null,null,null,null,null,null,null,null,null,null,null,null,null,null,null,null,null,"","","","","","","","","","","",null,"923 - DIAGNOSTIC PATHOLOGY",0,null,null,null,null,null,null,null,null,null,"","",null,null,null,null,null,null,null,null,null,"R1AELGAR UNIT","R1ADW","ELGAR UNIT","R1ADW","ELGAR UNIT","R1A"]
["",0,null,"",null,null,null,null,null,null,null,null,null,null,null,null,null,null,null,null,null,"","","","","","","","","","","",null,"924 - BLOOD DONOR CENTRES",0,null,null,null,null,null,null,null,null,null,"","",null,null,null,null,null,null,null,null,null,"R1AESTATES BUILDING","R1ACE","ESTATES BUILDING","R1ACE","ESTATES BUILDING","R1A"]
["",0,null,"",null,null,null,null,null,null,null,null,null,null,null,null,null,null,null,null,null,"","","","","","","","","","","",null,"925 - COMMUNITY CARE SERVICES",0,null,null,null,null,null,null,null,null,null,"","",null,null,null,null,null,null,null,null,null,"R1AEVESHAM COMMUNITY HOSPITAL","R1A1P","EVESHAM COMMUNITY HOSPITAL","R1A1P","EVESHAM COMMUNITY HOSPITAL","R1A"]
["",0,null,"",null,null,null,null,null,null,null,null,null,null,null,null,null,null,null,null,null,"","","","","","","","","","","",null,"926 - THERAPY SERVICES",0,null,null,null,null,null,null,null,null,null,"","",null,null,null,null,null,null,null,null,null,"R1AGOLD HILL CARE HOME","R1AKK","GOLD HILL CARE HOME","R1AKK","GOLD HILL CARE HOME","R1A"]
["",0,null,"",null,null,null,null,null,null,null,null,null,null,null,null,null,null,null,null,null,"","","","","","","","","","","",null,"927 - PHYSICAL HEALTH REHABILITATION",0,null,null,null,null,null,null,null,null,null,"","",null,null,null,null,null,null,null,null,null,"R1AHASTINGS CARE HOME","R1AKG","HASTINGS CARE HOME","R1AKG","HASTINGS CARE HOME","R1A"]
["",0,null,"",null,null,null,null,null,null,null,null,null,null,null,null,null,null,null,null,null,"","","","","","","","","","","",null,"928 - MENTAL HEALTH REHABILITATION",0,null,null,null,null,null,null,null,null,null,"","",null,null,null,null,null,null,null,null,null,"R1AHILL CREST 1","R1APM","HILL CREST 1","R1APM","HILL CREST 1","R1A"]
["",0,null,"",null,null,null,null,null,null,null,null,null,null,null,null,null,null,null,null,null,"","","","","","","","","","","",null,"929 - NEURO-REHABILITATION",0,null,null,null,null,null,null,null,null,null,"","",null,null,null,null,null,null,null,null,null,"R1AHILL CREST 2","R1APQ","HILL CREST 2","R1APQ","HILL CREST 2","R1A"]
["",0,null,"",null,null,null,null,null,null,null,null,null,null,null,null,null,null,null,null,null,"","","","","","","","","","","",null,"996 - PSYCHIATRIC INTENSIVE CARE UNIT",0,null,null,null,null,null,null,null,null,null,"","",null,null,null,null,null,null,null,null,null,"R1AHILL CREST MENTAL HEALTH UNIT","R1A49","HILL CREST MENTAL HEALTH UNIT","R1A49","HILL CREST MENTAL HEALTH UNIT","R1A"]
["",0,null,"",null,null,null,null,null,null,null,null,null,null,null,null,null,null,null,null,null,"","","","","","","","","","","",null,null,null,null,null,null,null,null,null,null,null,null,"","",null,null,null,null,null,null,null,null,null,"R1AHOME FARM TRUST","R1A89","HOME FARM TRUST","R1A89","HOME FARM TRUST","R1A"]
["",0,null,"",null,null,null,null,null,null,null,null,null,null,null,null,null,null,null,null,null,"","","","","","","","","","","",null,null,null,null,null,null,null,null,null,null,null,null,"","",null,null,null,null,null,null,null,null,null,"R1AHOME TREATMENT 1","R1APL","HOME TREATMENT 1","R1APL","HOME TREATMENT 1","R1A"]
["",0,null,"",null,null,null,null,null,null,null,null,null,null,null,null,null,null,null,null,null,"","","","","","","","","","","",null,null,null,null,null,null,null,null,null,null,null,null,"","",null,null,null,null,null,null,null,null,null,"R1AHOME TREATMENT 2","R1APN","HOME TREATMENT 2","R1APN","HOME TREATMENT 2","R1A"]
["",0,null,"",null,null,null,null,null,null,null,null,null,null,null,null,null,null,null,null,null,"","","","","","","","","","","",null,null,null,null,null,null,null,null,null,null,null,null,"","",null,null,null,null,null,null,null,null,null,"R1AHOMEWARD BOUND UNIT","R1ADE","HOMEWARD BOUND UNIT","R1ADE","HOMEWARD BOUND UNIT","R1A"]
["",0,null,"",null,null,null,null,null,null,null,null,null,null,null,null,null,null,null,null,null,"","","","","","","","","","","",null,null,null,null,null,null,null,null,null,null,null,null,"","",null,null,null,null,null,null,null,null,null,"R1AKEITH WINTER CLOSE MENTAL HEALTH UNIT","R1A22","KEITH WINTER CLOSE MENTAL HEALTH UNIT","R1A22","KEITH WINTER CLOSE MENTAL HEALTH UNIT","R1A"]
["",0,null,"",null,null,null,null,null,null,null,null,null,null,null,null,null,null,null,null,null,"","","","","","","","","","","",null,null,null,null,null,null,null,null,null,null,null,null,"","",null,null,null,null,null,null,null,null,null,"R1AKEMPSEY PARISH HALL","R1AHL","KEMPSEY PARISH HALL","R1AHL","KEMPSEY PARISH HALL","R1A"]
["",0,null,"",null,null,null,null,null,null,null,null,null,null,null,null,null,null,null,null,null,"","","","","","","","","","","",null,null,null,null,null,null,null,null,null,null,null,null,"","",null,null,null,null,null,null,null,null,null,"R1ALICKEY LANGUAGE UNIT","R1AHV","LICKEY LANGUAGE UNIT","R1AHV","LICKEY LANGUAGE UNIT","R1A"]
["",0,null,"",null,null,null,null,null,null,null,null,null,null,null,null,null,null,null,null,null,"","","","","","","","","","","",null,null,null,null,null,null,null,null,null,null,null,null,"","",null,null,null,null,null,null,null,null,null,"R1ALINK HORTICULTURIAL NURSERIES - SHELTERED EMPLOYMENT","R1AAE","LINK HORTICULTURIAL NURSERIES - SHELTERED EMPLOYMENT","R1AAE","LINK HORTICULTURIAL NURSERIES - SHELTERED EMPLOYMENT","R1A"]
["",0,null,"",null,null,null,null,null,null,null,null,null,null,null,null,null,null,null,null,null,"","","","","","","","","","","",null,null,null,null,null,null,null,null,null,null,null,null,"","",null,null,null,null,null,null,null,null,null,"R1ALUDLOW ROAD","R1A58","LUDLOW ROAD","R1A58","LUDLOW ROAD","R1A"]
["",0,null,"",null,null,null,null,null,null,null,null,null,null,null,null,null,null,null,null,null,"","","","","","","","","","","",null,null,null,null,null,null,null,null,null,null,null,null,"","",null,null,null,null,null,null,null,null,null,"R1AMALVERN COMMUNITY HOSPITAL","R1ADC","MALVERN COMMUNITY HOSPITAL","R1ADC","MALVERN COMMUNITY HOSPITAL","R1A"]
["",0,null,"",null,null,null,null,null,null,null,null,null,null,null,null,null,null,null,null,null,"","","","","","","","","","","",null,null,null,null,null,null,null,null,null,null,null,null,"","",null,null,null,null,null,null,null,null,null,"R1AMATCHBOROUGH FIRST NURSERY PLUS","R1AHF","MATCHBOROUGH FIRST NURSERY PLUS","R1AHF","MATCHBOROUGH FIRST NURSERY PLUS","R1A"]
["",0,null,"",null,null,null,null,null,null,null,null,null,null,null,null,null,null,null,null,null,"","","","","","","","","","","",null,null,null,null,null,null,null,null,null,null,null,null,"","",null,null,null,null,null,null,null,null,null,"R1ANEW BROOK","R1ACF","NEW BROOK","R1ACF","NEW BROOK","R1A"]
["",0,null,"",null,null,null,null,null,null,null,null,null,null,null,null,null,null,null,null,null,"","","","","","","","","","","",null,null,null,null,null,null,null,null,null,null,null,null,"","",null,null,null,null,null,null,null,null,null,"R1ANEW BROOK UNIT 1","R1APK","NEW BROOK UNIT 1","R1APK","NEW BROOK UNIT 1","R1A"]
["",0,null,"",null,null,null,null,null,null,null,null,null,null,null,null,null,null,null,null,null,"","","","","","","","","","","",null,null,null,null,null,null,null,null,null,null,null,null,"","",null,null,null,null,null,null,null,null,null,"R1ANEW BROOK UNIT 2","R1APP","NEW BROOK UNIT 2","R1APP","NEW BROOK UNIT 2","R1A"]
["",{"$f":"IF(SUM(E311:G311,M311:N311)>0,1,IF(AG311>0,2,0))","v":0},null,{"$f":"IF(ISNA(VLOOKUP($E$5&E110,$BD:$BE,2,FALSE)),\"\",VLOOKUP($E$5&E110,$BD:$BE,2,FALSE))","v":""},null,null,null,null,null,null,null,null,null,null,null,null,null,null,null,null,null,"","","","","","","","","","","",null,null,null,null,null,null,null,null,null,null,null,null,"","",null,null,null,null,null,null,null,null,null,"R1ANEW CROSS HOSPITAL","R1A1N","NEW CROSS HOSPITAL","R1A1N","NEW CROSS HOSPITAL","R1A"]
["",0,null,"",null,null,null,null,null,null,null,null,null,null,null,null,null,null,null,null,null,"","","","","","","","","","","",null,null,null,null,null,null,null,null,null,null,null,null,"","",null,null,null,null,null,null,null,null,null,"R1ANEW HAVEN (MENTAL HEALTH UNIT)","R1ACC","NEW HAVEN (MENTAL HEALTH UNIT)","R1ACC","NEW HAVEN (MENTAL HEALTH UNIT)","R1A"]
["",0,null,"",null,null,null,null,null,null,null,null,null,null,null,null,null,null,null,null,null,"","","","","","","","","","","",null,null,null,null,null,null,null,null,null,null,null,null,"","",null,null,null,null,null,null,null,null,null,"R1ANEWTOWN HOSPITAL ","R1A07","NEWTOWN HOSPITAL ","R1A07","NEWTOWN HOSPITAL ","R1A"]
["",0,null,"",null,null,null,null,null,null,null,null,null,null,null,null,null,null,null,null,null,"","","","","","","","","","","",null,null,null,null,null,null,null,null,null,null,null,null,"","",null,null,null,null,null,null,null,null,null,"R1AORCHARD PLACE","R1A37","ORCHARD PLACE","R1A37","ORCHARD PLACE","R1A"]
["",0,null,"",null,null,null,null,null,null,null,null,null,null,null,null,null,null,null,null,null,"","","","","","","","","","","",null,null,null,null,null,null,null,null,null,null,null,null,"","",null,null,null,null,null,null,null,null,null,"R1AOSBORNE COURT","R1ACY","OSBORNE COURT","R1ACY","OSBORNE COURT","R1A"]
["",0,null,"",null,null,null,null,null,null,null,null,null,null,null,null,null,null,null,null,null,"","","","","","","","","","","",null,null,null,null,null,null,null,null,null,null,null,null,"","",null,null,null,null,null,null,null,null,null,"R1AOT STORES","R1AGK","OT STORES","R1AGK","OT STORES","R1A"]
["",0,null,"",null,null,null,null,null,null,null,null,null,null,null,null,null,null,null,null,null,"","","","","","","","","","","",null,null,null,null,null,null,null,null,null,null,null,null,"","",null,null,null,null,null,null,null,null,null,"R1APALLIATIVE CARE (R&B)","R1AQP","PALLIATIVE CARE (R&B)","R1AQP","PALLIATIVE CARE (R&B)","R1A"]
["",0,null,"",null,null,null,null,null,null,null,null,null,null,null,null,null,null,null,null,null,"","","","","","","","","","","",null,null,null,null,null,null,null,null,null,null,null,null,"","",null,null,null,null,null,null,null,null,null,"R1APALLIATIVE CARE (SW)","R1ART","PALLIATIVE CARE (SW)","R1ART","PALLIATIVE CARE (SW)","R1A"]
["",0,null,"",null,null,null,null,null,null,null,null,null,null,null,null,null,null,null,null,null,"","","","","","","","","","","",null,null,null,null,null,null,null,null,null,null,null,null,"","",null,null,null,null,null,null,null,null,null,"R1APALLIATIVE CARE (WF)","R1ARR","PALLIATIVE CARE (WF)","R1ARR","PALLIATIVE CARE (WF)","R1A"]
["",0,null,"",null,null,null,null,null,null,null,null,null,null,null,null,null,null,null,null,null,"","","","","","","","","","","",null,null,null,null,null,null,null,null,null,null,null,null,"","",null,null,null,null,null,null,null,null,null,"R1APARKSIDE MIDDLE AUTISM BASE","R1AEM","PARKSIDE MIDDLE AUTISM BASE","R1AEM","PARKSIDE MIDDLE AUTISM BASE","R1A"]
["",0,null,"",null,null,null,null,null,null,null,null,null,null,null,null,null,null,null,null,null,"","","","","","","","","","","",null,null,null,null,null,null,null,null,null,null,null,null,"","",null,null,null,null,null,null,null,null,null,"R1APERSHORE HOSPITAL","R1ACW","PERSHORE HOSPITAL","R1ACW","PERSHORE HOSPITAL","R1A"]
["",0,null,"",null,null,null,null,null,null,null,null,null,null,null,null,null,null,null,null,null,"","","","","","","","","","","",null,null,null,null,null,null,null,null,null,null,null,null,"","",null,null,null,null,null,null,null,null,null,"R1APHYSIO UNIT ROSEHILL","R1AA6","PHYSIO UNIT ROSEHILL","R1AA6","PHYSIO UNIT ROSEHILL","R1A"]
["",0,null,"",null,null,null,null,null,null,null,null,null,null,null,null,null,null,null,null,null,"","","","","","","","","","","",null,null,null,null,null,null,null,null,null,null,null,null,"","",null,null,null,null,null,null,null,null,null,"R1APHYSIO UNIT THORNTON","R1A1A","PHYSIO UNIT THORNTON","R1A1A","PHYSIO UNIT THORNTON","R1A"]
["",0,null,"",null,null,null,null,null,null,null,null,null,null,null,null,null,null,null,null,null,"","","","","","","","","","","",null,null,null,null,null,null,null,null,null,null,null,null,"","",null,null,null,null,null,null,null,null,null,"R1APOSTNATAL UNIT","R1ADM","POSTNATAL UNIT","R1ADM","POSTNATAL UNIT","R1A"]
["",0,null,"",null,null,null,null,null,null,null,null,null,null,null,null,null,null,null,null,null,"","","","","","","","","","","",null,null,null,null,null,null,null,null,null,null,null,null,"","",null,null,null,null,null,null,null,null,null,"R1APRINCESS OF WALES HOSPITAL","R1ACG","PRINCESS OF WALES HOSPITAL","R1ACG","PRINCESS OF WALES HOSPITAL","R1A"]
["",0,null,"",null,null,null,null,null,null,null,null,null,null,null,null,null,null,null,null,null,"","","","","","","","","","","",null,null,null,null,null,null,null,null,null,null,null,null,"","",null,null,null,null,null,null,null,null,null,"R1APUPIL REFERRAL UNIT","R1A60","PUPIL REFERRAL UNIT","R1A60","PUPIL REFERRAL UNIT","R1A"]
["",0,null,"",null,null,null,null,null,null,null,null,null,null,null,null,null,null,null,null,null,"","","","","","","","","","","",null,null,null,null,null,null,null,null,null,null,null,null,"","",null,null,null,null,null,null,null,null,null,"R1AQUEEN ELIZABETH HOSPITAL","R1A02","QUEEN ELIZABETH HOSPITAL","R1A02","QUEEN ELIZABETH HOSPITAL","R1A"]
["",0,null,"",null,null,null,null,null,null,null,null,null,null,null,null,null,null,null,null,null,"","","","","","","","","","","",null,null,null,null,null,null,null,null,null,null,null,null,"","",null,null,null,null,null,null,null,null,null,"R1ARIVENDELL","R1A14","RIVENDELL","R1A14","RIVENDELL","R1A"]
["",0,null,"",null,null,null,null,null,null,null,null,null,null,null,null,null,null,null,null,null,"","","","","","","","","","","",null,null,null,null,null,null,null,null,null,null,null,null,"","",null,null,null,null,null,null,null,null,null,"R1ARIVERBANK NEONATAL UNIT","R1ADN","RIVERBANK NEONATAL UNIT","R1ADN","RIVERBANK NEONATAL UNIT","R1A"]
["",0,null,"",null,null,null,null,null,null,null,null,null,null,null,null,null,null,null,null,null,"","","","","","","","","","","",null,null,null,null,null,null,null,null,null,null,null,null,"","",null,null,null,null,null,null,null,null,null,"R1ARUSSELLS HALL HOSPITAL","R1A56","RUSSELLS HALL HOSPITAL","R1A56","RUSSELLS HALL HOSPITAL","R1A"]
["",0,null,"",null,null,null,null,null,null,null,null,null,null,null,null,null,null,null,null,null,"","","","","","","","","","","",null,null,null,null,null,null,null,null,null,null,null,null,"","",null,null,null,null,null,null,null,null,null,"R1ASILVERBIRCH","R1ACH","SILVERBIRCH","R1ACH","SILVERBIRCH","R1A"]
["",0,null,"",null,null,null,null,null,null,null,null,null,null,null,null,null,null,null,null,null,"","","","","","","","","","","",null,null,null,null,null,null,null,null,null,null,null,null,"","",null,null,null,null,null,null,null,null,null,"R1ASTUDDERT KENNEDY OA","R1APG","STUDDERT KENNEDY OA","R1APG","STUDDERT KENNEDY OA","R1A"]
["",0,null,"",null,null,null,null,null,null,null,null,null,null,null,null,null,null,null,null,null,"","","","","","","","","","","",null,null,null,null,null,null,null,null,null,null,null,null,"","",null,null,null,null,null,null,null,null,null,"R1ATENBURY COMMUNITY HOSPITAL","R1AAN","TENBURY COMMUNITY HOSPITAL","R1AAN","TENBURY COMMUNITY HOSPITAL","R1A"]
["",0,null,"",null,null,null,null,null,null,null,null,null,null,null,null,null,null,null,null,null,"","","","","","","","","","","",null,null,null,null,null,null,null,null,null,null,null,null,"","",null,null,null,null,null,null,null,null,null,"R1ATESCO KIDDERMINSTER","R1A67","TESCO KIDDERMINSTER","R1A67","TESCO KIDDERMINSTER","R1A"]
["",0,null,"",null,null,null,null,null,null,null,null,null,null,null,null,null,null,null,null,null,"","","","","","","","","","","",null,null,null,null,null,null,null,null,null,null,null,null,"","",null,null,null,null,null,null,null,null,null,"R1ATESCO REDDITCH","R1A43","TESCO REDDITCH","R1A43","TESCO REDDITCH","R1A"]
["",0,null,"",null,null,null,null,null,null,null,null,null,null,null,null,null,null,null,null,null,"","","","","","","","","","","",null,null,null,null,null,null,null,null,null,null,null,null,"","",null,null,null,null,null,null,null,null,null,"R1ATESCO ST PETERS","R1A1G","TESCO ST PETERS","R1A1G","TESCO ST PETERS","R1A"]
["",0,null,"",null,null,null,null,null,null,null,null,null,null,null,null,null,null,null,null,null,"","","","","","","","","","","",null,null,null,null,null,null,null,null,null,null,null,null,"","",null,null,null,null,null,null,null,null,null,"R1ATESCO WARNDON","R1AA1","TESCO WARNDON","R1AA1","TESCO WARNDON","R1A"]
["",0,null,"",null,null,null,null,null,null,null,null,null,null,null,null,null,null,null,null,null,"","","","","","","","","","","",null,null,null,null,null,null,null,null,null,null,null,null,"","",null,null,null,null,null,null,null,null,null,"R1ATHE FIRS REST HOME","R1A1F","THE FIRS REST HOME","R1A1F","THE FIRS REST HOME","R1A"]
["",0,null,"",null,null,null,null,null,null,null,null,null,null,null,null,null,null,null,null,null,"","","","","","","","","","","",null,null,null,null,null,null,null,null,null,null,null,null,"","",null,null,null,null,null,null,null,null,null,"R1ATHE GRANGE","R1A66","THE GRANGE","R1A66","THE GRANGE","R1A"]
["",0,null,"",null,null,null,null,null,null,null,null,null,null,null,null,null,null,null,null,null,"","","","","","","","","","","",null,null,null,null,null,null,null,null,null,null,null,null,"","",null,null,null,null,null,null,null,null,null,"R1ATHE HIVE","R1AKX","THE HIVE","R1AKX","THE HIVE","R1A"]
["",0,null,"",null,null,null,null,null,null,null,null,null,null,null,null,null,null,null,null,null,"","","","","","","","","","","",null,null,null,null,null,null,null,null,null,null,null,null,"","",null,null,null,null,null,null,null,null,null,{"$f":"CONCATENATE(LEFT(BE140, 3),BF140)","v":"R1ATHE OLD VICARAGE"},"R1AKL","THE OLD VICARAGE","R1AKL","THE OLD VICARAGE",{"$f":"LEFT(BG140,3)","v":"R1A"}]
["",0,null,"",null,null,null,null,null,null,null,null,null,null,null,null,null,null,null,null,null,"","","","","","","","","","","",null,null,null,null,null,null,null,null,null,null,null,null,"","",null,null,null,null,null,null,null,null,null,"R1ATHE PINES","R1AHX","THE PINES","R1AHX","THE PINES","R1A"]
["",{"$f":"IF(SUM(E343:G343,M343:N343)>0,1,IF(AG343>0,2,0))","v":0},null,{"$f":"IF(ISNA(VLOOKUP($E$5&E142,$BD:$BE,2,FALSE)),\"\",VLOOKUP($E$5&E142,$BD:$BE,2,FALSE))","v":""},null,null,null,null,null,null,null,null,null,null,null,null,null,null,null,null,null,"","","","","","","","","","","",null,null,null,null,null,null,null,null,null,null,null,null,"","",null,null,null,null,null,null,null,null,null,"R1ATHE ROBERTSON CENTRE (D BLOCK)","R1ACN","THE ROBERTSON CENTRE (D BLOCK)","R1ACN","THE ROBERTSON CENTRE (D BLOCK)","R1A"]
["",0,null,"",null,null,null,null,null,null,null,null,null,null,null,null,null,null,null,null,null,{"$f":"IF(ISERROR(IF($U143=\"\",\"\",SUM(J143,N143)/$U143)),\"-\",(IF($U143=\"\",\"\",SUM(J143,N143)/$U143)))","v":""},{"$f":"IF(ISERROR(IF($U143=\"\",\"\",SUM(L143,P143)/$U143)),\"-\",(IF($U143=\"\",\"\",SUM(L143,P143)/$U143)))","v":""},"","","",{"$f":"IF(ISERROR(IF($I143=\"\",\"\",J143/I143)),\"-\",(IF($I143=\"\",\"\",J143/I143)))","v":""},{"$f":"IF(ISERROR(IF(K143=\"\",\"\",L143/K143)),\"-\",(IF(K143=\"\",\"\",L143/K143)))","v":""},{"$f":"IF(ISERROR(IF(M143=\"\",\"\",N143/M143)),\"-\",(IF(M143=\"\",\"\",N143/M143)))","v":""},{"$f":"IF(ISERROR(IF(O143=\"\",\"\",P143/O143)),\"-\",IF(O143=\"\",\"\",P143/O143))","v":""},{"$f":"IF(ISERROR(IF(Q143=\"\",\"\",R143/Q143)),\"-\",IF(Q143=\"\",\"\",R143/Q143))","v":""},{"$f":"IF(ISERROR(IF(S143=\"\",\"\",T143/S143)),\"-\",IF(S143=\"\",\"\",T143/S143))","v":""},null,null,null,null,null,null,null,null,null,null,null,null,{"$f":"IF(M344=1,\"No Site Selected\",\"\")","v":""},{"$f":"IF(N344=1,\"No Ward Name\",\"\")","v":""},null,null,null,null,null,null,null,null,null,"R1ATHE WOODLANDS","R1A44","THE WOODLANDS","R1A44","THE WOODLANDS","R1A"]
["",0,null,"",null,null,null,null,null,null,null,null,null,null,null,null,null,null,null,null,null,"","","","","","","","","","","",null,null,null,null,null,null,null,null,null,null,null,null,"","",null,null,null,null,null,null,null,null,null,"R1ATIMBERDINE HOME RESIDENTIAL CARE","R1AHM","TIMBERDINE HOME RESIDENTIAL CARE","R1AHM","TIMBERDINE HOME RESIDENTIAL CARE","R1A"]
[{"$f":"IF(M346=1,\"No Site Selected\",IF(N346=1,\"No Ward Name\",\"\"))","v":""},0,null,"",null,null,null,null,null,null,null,null,null,null,null,null,null,null,null,null,null,"","",{"$f":"IF(ISERROR(IF($U145=\"\",\"\",R145/$U145)),\"-\",(IF($U145=\"\",\"\",R145/$U145)))","v":""},{"$f":"IF(ISERROR(IF($U145=\"\",\"\",T145/$U145)),\"-\",(IF($U145=\"\",\"\",T145/$U145)))","v":""},{"$f":"IF(ISERROR(IF($U145=\"\",\"\",SUM(J145,L145,N145,P145,R145,T145)/$U145)),\"-\",(IF($U145=\"\",\"\",SUM(J145,L145,N145,P145,R145,T145)/$U145)))","v":""},"","","","","","",null,null,null,null,null,null,null,null,null,null,null,null,"","",null,null,null,null,null,null,null,null,null,"R1ATOUCHSTONE UNIT","R1AAD","TOUCHSTONE UNIT","R1AAD","TOUCHSTONE UNIT","R1A"]
["",0,null,"",null,null,null,null,null,null,null,null,null,null,null,null,null,null,null,null,null,"","","","","","","","","","","",null,null,null,null,null,null,null,null,null,null,null,null,"","",null,null,null,null,null,null,null,null,null,"R1AWALKWOOD MIDDLE AUTISM BASE","R1A31","WALKWOOD MIDDLE AUTISM BASE","R1A31","WALKWOOD MIDDLE AUTISM BASE","R1A"]
["",0,null,"",null,null,null,null,null,null,null,null,null,null,null,null,null,null,null,null,null,"","","","","","","","","","","",null,null,null,null,null,null,null,null,null,null,null,null,"","",null,null,null,null,null,null,null,null,null,"R1AWALSGRAVE HOSPITAL","R1A55","WALSGRAVE HOSPITAL","R1A55","WALSGRAVE HOSPITAL","R1A"]
["",0,null,"",null,null,null,null,null,null,null,null,null,null,null,null,null,null,null,null,null,"","","","","","","","","","","",null,null,null,null,null,null,null,null,null,null,null,null,"","",null,null,null,null,null,null,null,null,null,"R1AWASELY HIGH AUTISM BASE","R1A06","WASELY HIGH AUTISM BASE","R1A06","WASELY HIGH AUTISM BASE","R1A"]
["",0,null,"",null,null,null,null,null,null,null,null,null,null,null,null,null,null,null,null,null,"","","","","","","","","","","",null,null,null,null,null,null,null,null,null,null,null,null,"","",null,null,null,null,null,null,null,null,null,"R1AWATERSIDE","R1AQG","WATERSIDE","R1AQG","WATERSIDE","R1A"]
["",0,null,"",null,null,null,null,null,null,null,null,null,null,null,null,null,null,null,null,null,"","","","","","","","","","","",null,null,null,null,null,null,null,null,null,null,null,null,"","",null,null,null,null,null,null,null,null,null,"R1AWATERSIDE CARE HOME","R1AKR","WATERSIDE CARE HOME","R1AKR","WATERSIDE CARE HOME","R1A"]
["",0,null,"",null,null,null,null,null,null,null,null,null,null,null,null,null,null,null,null,null,"","","","","","","","","","","",null,null,null,null,null,null,null,null,null,null,null,null,"","",null,null,null,null,null,null,null,null,null,"R1AWATERSIDE MENTAL HEALTH DAY HOSPITAL","R1A1V","WATERSIDE MENTAL HEALTH DAY HOSPITAL","R1A1V","WATERSIDE MENTAL HEALTH DAY HOSPITAL","R1A"]
["",0,null,"",null,null,null,null,null,null,null,null,null,null,null,null,null,null,null,null,null,"","","","","","","","","","","",null,null,null,null,null,null,null,null,null,null,null,null,"","",null,null,null,null,null,null,null,null,null,"R1AWHCT HEALTHCARE FEATHERSTONE","R1AHY","WHCT HEALTHCARE FEATHERSTONE","R1AHY","WHCT HEALTHCARE FEATHERSTONE","R1A"]
["",0,null,"",null,null,null,null,null,null,null,null,null,null,null,null,null,null,null,null,null,"","","","","","","","","","","",null,null,null,null,null,null,null,null,null,null,null,null,"","",null,null,null,null,null,null,null,null,null,"R1AWILDMOOR MILL FARM","R1A21","WILDMOOR MILL FARM","R1A21","WILDMOOR MILL FARM","R1A"]
["",0,null,"",null,null,null,null,null,null,null,null,null,null,null,null,null,null,null,null,null,"","","","","","","","","","","",null,null,null,null,null,null,null,null,null,null,null,null,"","",null,null,null,null,null,null,null,null,null,"R1AWISHMOOR REST HOME","R1AKN","WISHMOOR REST HOME","R1AKN","WISHMOOR REST HOME","R1A"]
["",0,null,"",null,null,null,null,null,null,null,null,null,null,null,null,null,null,null,null,null,"","","","","","","","","","","",null,null,null,null,null,null,null,null,null,null,null,null,"","",null,null,null,null,null,null,null,null,null,"R1AWOODSIDE","R1A1C","WOODSIDE","R1A1C","WOODSIDE","R1A"]
["",0,null,"",null,null,null,null,null,null,null,null,null,null,null,null,null,null,null,null,null,"","","","","","","","","","","",null,null,null,null,null,null,null,null,null,null,null,null,"","",null,null,null,null,null,null,null,null,null,"R1AWORCESTER CITY MH 1","R1AQF","WORCESTER CITY MH 1","R1AQF","WORCESTER CITY MH 1","R1A"]
["",0,null,"",null,null,null,null,null,null,null,null,null,null,null,null,null,null,null,null,null,"","","","","","","","","","","",null,null,null,null,null,null,null,null,null,null,null,null,"","",null,null,null,null,null,null,null,null,null,"R1AWORCESTER CITY MH 2","R1AQH","WORCESTER CITY MH 2","R1AQH","WORCESTER CITY MH 2","R1A"]
["",0,null,"",null,null,null,null,null,null,null,null,null,null,null,null,null,null,null,null,null,"","","","","","","","","","","",null,null,null,null,null,null,null,null,null,null,null,null,"","",null,null,null,null,null,null,null,null,null,"R1AWORCESTER CITY MH 3","R1AQK","WORCESTER CITY MH 3","R1AQK","WORCESTER CITY MH 3","R1A"]
["",0,null,"",null,null,null,null,null,null,null,null,null,null,null,null,null,null,null,null,null,"","","","","","","","","","","",null,null,null,null,null,null,null,null,null,null,null,null,"","",null,null,null,null,null,null,null,null,null,"R1AWORCESTER INTERMEDIATE CARE UNIT (WICU)","R1A1Q","WORCESTER INTERMEDIATE CARE UNIT (WICU)","R1A1Q","WORCESTER INTERMEDIATE CARE UNIT (WICU)","R1A"]
["",0,null,"",null,null,null,null,null,null,null,null,null,null,null,null,null,null,null,null,null,"","","","","","","","","","","",null,null,null,null,null,null,null,null,null,null,null,null,"","",null,null,null,null,null,null,null,null,null,"R1AWORCESTERSHIRE ROYAL HOSPITAL","R1ADP","WORCESTERSHIRE ROYAL HOSPITAL","R1ADP","WORCESTERSHIRE ROYAL HOSPITAL","R1A"]
["",0,null,"",null,null,null,null,null,null,null,null,null,null,null,null,null,null,null,null,null,"","","","","","","","","","","",null,null,null,null,null,null,null,null,null,null,null,null,"","",null,null,null,null,null,null,null,null,null,"R1AWULSTAN UNIT","R1AEC","WULSTAN UNIT","R1AEC","WULSTAN UNIT","R1A"]
["",0,null,"",null,null,null,null,null,null,null,null,null,null,null,null,null,null,null,null,null,"","","","","","","","","","","",null,null,null,null,null,null,null,null,null,null,null,null,"","",null,null,null,null,null,null,null,null,null,"R1AWULSTAN UNIT REHABILITATION","R1AED","WULSTAN UNIT REHABILITATION","R1AED","WULSTAN UNIT REHABILITATION","R1A"]
["",0,null,"",null,null,null,null,null,null,null,null,null,null,null,null,null,null,null,null,null,"","","","","","","","","","","",null,null,null,null,null,null,null,null,null,null,null,null,"","",null,null,null,null,null,null,null,null,null,"R1AWYCHAVON OA","R1AQJ","WYCHAVON OA","R1AQJ","WYCHAVON OA","R1A"]
["",0,null,"",null,null,null,null,null,null,null,null,null,null,null,null,null,null,null,null,null,"","","","","","","","","","","",null,null,null,null,null,null,null,null,null,null,null,null,"","",null,null,null,null,null,null,null,null,null,"R1CADULT MENTAL HEALTH","R1C19","ADULT MENTAL HEALTH","R1C19","ADULT MENTAL HEALTH","R1C"]
["",0,null,"",null,null,null,null,null,null,null,null,null,null,null,null,null,null,null,null,null,"","","","","","","","","","","",null,null,null,null,null,null,null,null,null,null,null,null,"","",null,null,null,null,null,null,null,null,null,"R1CAMULREE DAY HOSPITAL","R1C14","AMULREE DAY HOSPITAL","R1C14","AMULREE DAY HOSPITAL","R1C"]
["",0,null,"",null,null,null,null,null,null,null,null,null,null,null,null,null,null,null,null,null,"","","","","","","","","","","",null,null,null,null,null,null,null,null,null,null,null,null,"","",null,null,null,null,null,null,null,null,null,"R1CASHURST HOSPITAL","R1C07","ASHURST HOSPITAL","R1C07","ASHURST HOSPITAL","R1C"]
["",0,null,"",null,null,null,null,null,null,null,null,null,null,null,null,null,null,null,null,null,"","","","","","","","","","","",null,null,null,null,null,null,null,null,null,null,null,null,"","",null,null,null,null,null,null,null,null,null,"R1CBEHAVIOUR RESOURCE (BRS)","R1C54","BEHAVIOUR RESOURCE (BRS)","R1C54","BEHAVIOUR RESOURCE (BRS)","R1C"]
["",0,null,"",null,null,null,null,null,null,null,null,null,null,null,null,null,null,null,null,null,"","","","","","","","","","","",null,null,null,null,null,null,null,null,null,null,null,null,"","",null,null,null,null,null,null,null,null,null,"R1CBRAMBLES WARD","R1C48","BRAMBLES WARD","R1C48","BRAMBLES WARD","R1C"]
["",0,null,"",null,null,null,null,null,null,null,null,null,null,null,null,null,null,null,null,null,"","","","","","","","","","","",null,null,null,null,null,null,null,null,null,null,null,null,"","",null,null,null,null,null,null,null,null,null,"R1CC&SH ANDOVER","R1C62","C&SH ANDOVER","R1C62","C&SH ANDOVER","R1C"]
["",0,null,"",null,null,null,null,null,null,null,null,null,null,null,null,null,null,null,null,null,"","","","","","","","","","","",null,null,null,null,null,null,null,null,null,null,null,null,"","",null,null,null,null,null,null,null,null,null,"R1CC&SH BASINGSTOKE","R1C45","C&SH BASINGSTOKE","R1C45","C&SH BASINGSTOKE","R1C"]
["",0,null,"",null,null,null,null,null,null,null,null,null,null,null,null,null,null,null,null,null,"","","","","","","","","","","",null,null,null,null,null,null,null,null,null,null,null,null,"","",null,null,null,null,null,null,null,null,null,"R1CC&SH PORTSMOUTH","R1C17","C&SH PORTSMOUTH","R1C17","C&SH PORTSMOUTH","R1C"]
["",0,null,"",null,null,null,null,null,null,null,null,null,null,null,null,null,null,null,null,null,"","","","","","","","","","","",null,null,null,null,null,null,null,null,null,null,null,null,"","",null,null,null,null,null,null,null,null,null,"R1CC&SH SOUTHAMPTON","R1C51","C&SH SOUTHAMPTON","R1C51","C&SH SOUTHAMPTON","R1C"]
["",0,null,"",null,null,null,null,null,null,null,null,null,null,null,null,null,null,null,null,null,"","","","","","","","","","","",null,null,null,null,null,null,null,null,null,null,null,null,"","",null,null,null,null,null,null,null,null,null,"R1CC&SH WINCHESTER","R1C58","C&SH WINCHESTER","R1C58","C&SH WINCHESTER","R1C"]
["",{"$f":"IF(SUM(E375:G375,M375:N375)>0,1,IF(AG375>0,2,0))","v":0},null,{"$f":"IF(ISNA(VLOOKUP($E$5&E174,$BD:$BE,2,FALSE)),\"\",VLOOKUP($E$5&E174,$BD:$BE,2,FALSE))","v":""},null,null,null,null,null,null,null,null,null,null,null,null,null,null,null,null,null,"","","","","","","","","","","",null,null,null,null,null,null,null,null,null,null,null,null,"","",null,null,null,null,null,null,null,null,null,"R1CCAMPION PLACE","R1C90","CAMPION PLACE","R1C90","CAMPION PLACE","R1C"]
["",0,null,"",null,null,null,null,null,null,null,null,null,null,null,null,null,null,null,null,null,"","","","","","","","","","","",null,null,null,null,null,null,null,null,null,null,null,null,"","",null,null,null,null,null,null,null,null,null,"R1CCHASE COMMUNITY HOSPITAL","R1CG1","CHASE COMMUNITY HOSPITAL","R1CG1","CHASE COMMUNITY HOSPITAL","R1C"]
["",0,null,"",null,null,null,null,null,null,null,null,null,null,null,null,null,null,null,null,null,"","","","","","","","","","","",null,null,null,null,null,null,null,null,null,null,null,null,"","",null,null,null,null,null,null,null,null,null,"R1CCOMMUNITY PAEDIATRICS - EAST","R1C22","COMMUNITY PAEDIATRICS - EAST","R1C22","COMMUNITY PAEDIATRICS - EAST","R1C"]
["",0,null,"",null,null,null,null,null,null,null,null,null,null,null,null,null,null,null,null,null,"","","","","","","","","","","",null,null,null,null,null,null,null,null,null,null,null,null,"","",null,null,null,null,null,null,null,null,null,"R1CCOMMUNITY PAEDIATRICS - WEST","R1C55","COMMUNITY PAEDIATRICS - WEST","R1C55","COMMUNITY PAEDIATRICS - WEST","R1C"]
["",0,null,"",null,null,null,null,null,null,null,null,null,null,null,null,null,null,null,null,null,"","","","","","","","","","","",null,null,null,null,null,null,null,null,null,null,null,null,"","",null,null,null,null,null,null,null,null,null,"R1CCOMMUNITY PAEDS N.FOREST","R1CA6","COMMUNITY PAEDS N.FOREST","R1CA6","COMMUNITY PAEDS N.FOREST","R1C"]
["",0,null,"",null,null,null,null,null,null,null,null,null,null,null,null,null,null,null,null,null,"","","","","","","","","","","",null,null,null,null,null,null,null,null,null,null,null,null,"","",null,null,null,null,null,null,null,null,null,"R1CCROWN HEIGHTS","R1CH3","CROWN HEIGHTS","R1CH3","CROWN HEIGHTS","R1C"]
["",0,null,"",null,null,null,null,null,null,null,null,null,null,null,null,null,null,null,null,null,"","","","","","","","","","","",null,null,null,null,null,null,null,null,null,null,null,null,"","",null,null,null,null,null,null,null,null,null,"R1CEASTLEIGH DAS","R1CR3","EASTLEIGH DAS","R1CR3","EASTLEIGH DAS","R1C"]
["",0,null,"",null,null,null,null,null,null,null,null,null,null,null,null,null,null,null,null,null,"","","","","","","","","","","",null,null,null,null,null,null,null,null,null,null,null,null,"","",null,null,null,null,null,null,null,null,null,"R1CELMLEIGH HOSPITAL","R1CM8","ELMLEIGH HOSPITAL","R1CM8","ELMLEIGH HOSPITAL","R1C"]
["",0,null,"",null,null,null,null,null,null,null,null,null,null,null,null,null,null,null,null,null,"","","","","","","","","","","",null,null,null,null,null,null,null,null,null,null,null,null,"","",null,null,null,null,null,null,null,null,null,"R1CFANSHAWE WARD","R1C49","FANSHAWE WARD","R1C49","FANSHAWE WARD","R1C"]
["",0,null,"",null,null,null,null,null,null,null,null,null,null,null,null,null,null,null,null,null,"","","","","","","","","","","",null,null,null,null,null,null,null,null,null,null,null,null,"","",null,null,null,null,null,null,null,null,null,"R1CFAREHAM COMMUNITY HOSPITAL","R1CF4","FAREHAM COMMUNITY HOSPITAL","R1CF4","FAREHAM COMMUNITY HOSPITAL","R1C"]
["",0,null,"",null,null,null,null,null,null,null,null,null,null,null,null,null,null,null,null,null,"","","","","","","","","","","",null,null,null,null,null,null,null,null,null,null,null,null,"","",null,null,null,null,null,null,null,null,null,"R1CFAREHAM REACH UNIT","R1C89","FAREHAM REACH UNIT","R1C89","FAREHAM REACH UNIT","R1C"]
["",0,null,"",null,null,null,null,null,null,null,null,null,null,null,null,null,null,null,null,null,"","","","","","","","","","","",null,null,null,null,null,null,null,null,null,null,null,null,"","",null,null,null,null,null,null,null,null,null,"R1CFENWICK HOSPITAL","R1CT7","FENWICK HOSPITAL","R1CT7","FENWICK HOSPITAL","R1C"]
["",0,null,"",null,null,null,null,null,null,null,null,null,null,null,null,null,null,null,null,null,"","","","","","","","","","","",null,null,null,null,null,null,null,null,null,null,null,null,"","",null,null,null,null,null,null,null,null,null,"R1CFLEET COMMUNITY HOSPITAL","R1CG3","FLEET COMMUNITY HOSPITAL","R1CG3","FLEET COMMUNITY HOSPITAL","R1C"]
["",0,null,"",null,null,null,null,null,null,null,null,null,null,null,null,null,null,null,null,null,"","","","","","","","","","","",null,null,null,null,null,null,null,null,null,null,null,null,"","",null,null,null,null,null,null,null,null,null,"R1CFRITH COTTAGE DAS","R1C09","FRITH COTTAGE DAS","R1C09","FRITH COTTAGE DAS","R1C"]
["",0,null,"",null,null,null,null,null,null,null,null,null,null,null,null,null,null,null,null,null,"","","","","","","","","","","",null,null,null,null,null,null,null,null,null,null,null,null,"","",null,null,null,null,null,null,null,null,null,"R1CGOSPORT WAR MEMORIAL HOSPITAL","R1C70","GOSPORT WAR MEMORIAL HOSPITAL","R1C70","GOSPORT WAR MEMORIAL HOSPITAL","R1C"]
["",0,null,"",null,null,null,null,null,null,null,null,null,null,null,null,null,null,null,null,null,"","","","","","","","","","","",null,null,null,null,null,null,null,null,null,null,null,null,"","",null,null,null,null,null,null,null,null,null,"R1CHAVANT WAR MEMORIAL HOSPITAL","R1CJ2","HAVANT WAR MEMORIAL HOSPITAL","R1CJ2","HAVANT WAR MEMORIAL HOSPITAL","R1C"]
["",0,null,"",null,null,null,null,null,null,null,null,null,null,null,null,null,null,null,null,null,"","","","","","","","","","","",null,null,null,null,null,null,null,null,null,null,null,null,"","",null,null,null,null,null,null,null,null,null,"R1CHOOK SHADIE AT THE BASE","R1CE8","HOOK SHADIE AT THE BASE","R1CE8","HOOK SHADIE AT THE BASE","R1C"]
["",0,null,"",null,null,null,null,null,null,null,null,null,null,null,null,null,null,null,null,null,"","","","","","","","","","","",null,null,null,null,null,null,null,null,null,null,null,null,"","",null,null,null,null,null,null,null,null,null,"R1CHUNTERCOMBE MANOR HOSPITAL","R1CA9","HUNTERCOMBE MANOR HOSPITAL","R1CA9","HUNTERCOMBE MANOR HOSPITAL","R1C"]
["",0,null,"",null,null,null,null,null,null,null,null,null,null,null,null,null,null,null,null,null,"","","","","","","","","","","",null,null,null,null,null,null,null,null,null,null,null,null,"","",null,null,null,null,null,null,null,null,null,"R1CHYTHE HOSPITAL","R1CG7","HYTHE HOSPITAL","R1CG7","HYTHE HOSPITAL","R1C"]
["",0,null,"",null,null,null,null,null,null,null,null,null,null,null,null,null,null,null,null,null,"","","","","","","","","","","",null,null,null,null,null,null,null,null,null,null,null,null,"","",null,null,null,null,null,null,null,null,null,"R1CINSCAPE","R1C95","INSCAPE","R1C95","INSCAPE","R1C"]
["",0,null,"",null,null,null,null,null,null,null,null,null,null,null,null,null,null,null,null,null,"","","","","","","","","","","",null,null,null,null,null,null,null,null,null,null,null,null,"","",null,null,null,null,null,null,null,null,null,"R1CINTEGRATED DRUG TREATMENT","R1C59","INTEGRATED DRUG TREATMENT","R1C59","INTEGRATED DRUG TREATMENT","R1C"]
["",0,null,"",null,null,null,null,null,null,null,null,null,null,null,null,null,null,null,null,null,"","","","","","","","","","","",null,null,null,null,null,null,null,null,null,null,null,null,"","",null,null,null,null,null,null,null,null,null,"R1CLOWER MOUNTBATTON GALLERY","R1C12","LOWER MOUNTBATTON GALLERY","R1C12","LOWER MOUNTBATTON GALLERY","R1C"]
["",0,null,"",null,null,null,null,null,null,null,null,null,null,null,null,null,null,null,null,null,"","","","","","","","","","","",null,null,null,null,null,null,null,null,null,null,null,null,"","",null,null,null,null,null,null,null,null,null,"R1CLYMINGTON NEW FOREST HOSPITAL","R1CG4","LYMINGTON NEW FOREST HOSPITAL","R1CG4","LYMINGTON NEW FOREST HOSPITAL","R1C"]
["",0,null,"",null,null,null,null,null,null,null,null,null,null,null,null,null,null,null,null,null,"","","","","","","","","","","",null,null,null,null,null,null,null,null,null,null,null,null,"","",null,null,null,null,null,null,null,null,null,"R1CMILFORD WAR MEMORIAL HOSPITAL","R1CG5","MILFORD WAR MEMORIAL HOSPITAL","R1CG5","MILFORD WAR MEMORIAL HOSPITAL","R1C"]
["",0,null,"",null,null,null,null,null,null,null,null,null,null,null,null,null,null,null,null,null,"","","","","","","","","","","",null,null,null,null,null,null,null,null,null,null,null,null,"","",null,null,null,null,null,null,null,null,null,"R1CMINOR INJURIES UNIT","R1CH0","MINOR INJURIES UNIT","R1CH0","MINOR INJURIES UNIT","R1C"]
["",0,null,"",null,null,null,null,null,null,null,null,null,null,null,null,null,null,null,null,null,"","","","","","","","","","","",null,null,null,null,null,null,null,null,null,null,null,null,"","",null,null,null,null,null,null,null,null,null,"R1CMOORGREEN HOSPITAL","R1C02","MOORGREEN HOSPITAL","R1C02","MOORGREEN HOSPITAL","R1C"]
["",0,null,"",null,null,null,null,null,null,null,null,null,null,null,null,null,null,null,null,null,"","","","","","","","","","","",null,null,null,null,null,null,null,null,null,null,null,null,"","",null,null,null,null,null,null,null,null,null,"R1CNEW FOREST DAS","R1C65","NEW FOREST DAS","R1C65","NEW FOREST DAS","R1C"]
["",0,null,"",null,null,null,null,null,null,null,null,null,null,null,null,null,null,null,null,null,"","","","","","","","","","","",null,null,null,null,null,null,null,null,null,null,null,null,"","",null,null,null,null,null,null,null,null,null,"R1CNO LIMITS","R1CG6","NO LIMITS","R1CG6","NO LIMITS","R1C"]
["",0,null,"",null,null,null,null,null,null,null,null,null,null,null,null,null,null,null,null,null,"","","","","","","","","","","",null,null,null,null,null,null,null,null,null,null,null,null,"","",null,null,null,null,null,null,null,null,null,"R1CNO LIMITS - SHIRLEY","R1CL2","NO LIMITS - SHIRLEY","R1CL2","NO LIMITS - SHIRLEY","R1C"]
["",0,null,"",null,null,null,null,null,null,null,null,null,null,null,null,null,null,null,null,null,"","","","","","","","","","","",null,null,null,null,null,null,null,null,null,null,null,null,"","",null,null,null,null,null,null,null,null,null,"R1CNO LIMITS - SHOLING","R1CL3","NO LIMITS - SHOLING","R1CL3","NO LIMITS - SHOLING","R1C"]
["",0,null,"",null,null,null,null,null,null,null,null,null,null,null,null,null,null,null,null,null,"","","","","","","","","","","",null,null,null,null,null,null,null,null,null,null,null,null,"","",null,null,null,null,null,null,null,null,null,{"$f":"CONCATENATE(LEFT(BE204, 3),BF204)","v":"R1COAKRIDGE HALL FOR ALL"},"R1CL5","OAKRIDGE HALL FOR ALL","R1CL5","OAKRIDGE HALL FOR ALL",{"$f":"LEFT(BG204,3)","v":"R1C"}]
["",0,null,"",null,null,null,null,null,null,null,null,null,null,null,null,null,null,null,null,null,"","","","","","","","","","","",null,null,null,null,null,null,null,null,null,null,null,null,"","",null,null,null,null,null,null,null,null,null,"R1COLDER PERS MENTAL HEALTH","R1C26","OLDER PERS MENTAL HEALTH","R1C26","OLDER PERS MENTAL HEALTH","R1C"]
["",{"$f":"IF(SUM(E407:G407,M407:N407)>0,1,IF(AG407>0,2,0))","v":0},null,{"$f":"IF(ISNA(VLOOKUP($E$5&E206,$BD:$BE,2,FALSE)),\"\",VLOOKUP($E$5&E206,$BD:$BE,2,FALSE))","v":""},null,null,null,null,null,null,null,null,null,null,null,null,null,null,null,null,null,"","","","","","","","","","","",null,null,null,null,null,null,null,null,null,null,null,null,"","",null,null,null,null,null,null,null,null,null,"R1CPETERSFIELD HOSPITAL","R1CD8","PETERSFIELD HOSPITAL","R1CD8","PETERSFIELD HOSPITAL","R1C"]
["",0,null,"",null,null,null,null,null,null,null,null,null,null,null,null,null,null,null,null,null,{"$f":"IF(ISERROR(IF($U207=\"\",\"\",SUM(J207,N207)/$U207)),\"-\",(IF($U207=\"\",\"\",SUM(J207,N207)/$U207)))","v":""},{"$f":"IF(ISERROR(IF($U207=\"\",\"\",SUM(L207,P207)/$U207)),\"-\",(IF($U207=\"\",\"\",SUM(L207,P207)/$U207)))","v":""},"","","",{"$f":"IF(ISERROR(IF($I207=\"\",\"\",J207/I207)),\"-\",(IF($I207=\"\",\"\",J207/I207)))","v":""},{"$f":"IF(ISERROR(IF(K207=\"\",\"\",L207/K207)),\"-\",(IF(K207=\"\",\"\",L207/K207)))","v":""},{"$f":"IF(ISERROR(IF(M207=\"\",\"\",N207/M207)),\"-\",(IF(M207=\"\",\"\",N207/M207)))","v":""},{"$f":"IF(ISERROR(IF(O207=\"\",\"\",P207/O207)),\"-\",IF(O207=\"\",\"\",P207/O207))","v":""},{"$f":"IF(ISERROR(IF(Q207=\"\",\"\",R207/Q207)),\"-\",IF(Q207=\"\",\"\",R207/Q207))","v":""},{"$f":"IF(ISERROR(IF(S207=\"\",\"\",T207/S207)),\"-\",IF(S207=\"\",\"\",T207/S207))","v":""},null,null,null,null,null,null,null,null,null,null,null,null,{"$f":"IF(M408=1,\"No Site Selected\",\"\")","v":""},{"$f":"IF(N408=1,\"No Ward Name\",\"\")","v":""},null,null,null,null,null,null,null,null,null,"R1CPICKLES COPPICE","R1C44","PICKLES COPPICE","R1C44","PICKLES COPPICE","R1C"]
["",0,null,"",null,null,null,null,null,null,null,null,null,null,null,null,null,null,null,null,null,"","","","","","","","","","","",null,null,null,null,null,null,null,null,null,null,null,null,"","",null,null,null,null,null,null,null,null,null,"R1CPRINCESS ANNE HOSPITAL","R1C36","PRINCESS ANNE HOSPITAL","R1C36","PRINCESS ANNE HOSPITAL","R1C"]
[{"$f":"IF(M410=1,\"No Site Selected\",IF(N410=1,\"No Ward Name\",\"\"))","v":""},0,null,"",null,null,null,null,null,null,null,null,null,null,null,null,null,null,null,null,null,"","",{"$f":"IF(ISERROR(IF($U209=\"\",\"\",R209/$U209)),\"-\",(IF($U209=\"\",\"\",R209/$U209)))","v":""},{"$f":"IF(ISERROR(IF($U209=\"\",\"\",T209/$U209)),\"-\",(IF($U209=\"\",\"\",T209/$U209)))","v":""},{"$f":"IF(ISERROR(IF($U209=\"\",\"\",SUM(J209,L209,N209,P209,R209,T209)/$U209)),\"-\",(IF($U209=\"\",\"\",SUM(J209,L209,N209,P209,R209,T209)/$U209)))","v":""},"","","","","","",null,null,null,null,null,null,null,null,null,null,null,null,"","",null,null,null,null,null,null,null,null,null,"R1CQUEEN ALEXANDRA HOSPITAL","R1CJ7","QUEEN ALEXANDRA HOSPITAL","R1CJ7","QUEEN ALEXANDRA HOSPITAL","R1C"]
[{"$f":"IF(M411=1,\"No Site Selected\",IF(N411=1,\"No Ward Name\",\"\"))","v":""},0,null,"",null,null,null,null,null,null,null,null,null,null,null,null,null,null,null,null,null,"","","","","","","","","","","",null,null,null,null,null,null,null,null,null,null,null,null,"","",null,null,null,null,null,null,null,null,null,"R1CROMSEY HOSPITAL","R1C46","ROMSEY HOSPITAL","R1C46","ROMSEY HOSPITAL","R1C"]
[{"$f":"IF(M412=1,\"No Site Selected\",IF(N412=1,\"No Ward Name\",\"\"))","v":""},0,null,"",null,null,null,null,null,null,null,null,null,null,null,null,null,null,null,null,null,"","","","","","","","","","","",null,null,null,null,null,null,null,null,null,null,null,null,"","",null,null,null,null,null,null,null,null,null,"R1CSAINSBURYS","R1CV7","SAINSBURYS","R1CV7","SAINSBURYS","R1C"]
[{"$f":"IF(M413=1,\"No Site Selected\",IF(N413=1,\"No Ward Name\",\"\"))","v":""},0,null,"",null,null,null,null,null,null,null,null,null,null,null,null,null,null,null,null,null,"","","","","","","","","","","",null,null,null,null,null,null,null,null,null,null,null,null,"","",null,null,null,null,null,null,null,null,null,"R1CSNOWDON NEURO REHAB UNIT","R1C52","SNOWDON NEURO REHAB UNIT","R1C52","SNOWDON NEURO REHAB UNIT","R1C"]
[{"$f":"IF(M414=1,\"No Site Selected\",IF(N414=1,\"No Ward Name\",\"\"))","v":""},0,null,"",null,null,null,null,null,null,null,null,null,null,null,null,null,null,null,null,null,"","","","","","","","","","","",null,null,null,null,null,null,null,null,null,null,null,null,"","",null,null,null,null,null,null,null,null,null,"R1CSOUTHAMPTON GENERAL HOSPITAL","R1C40","SOUTHAMPTON GENERAL HOSPITAL","R1C40","SOUTHAMPTON GENERAL HOSPITAL","R1C"]
[null,null,null,null,null,"Total",null,null,{"$f":"SUM(I14:I213)","v":58225.25},49112.200000000004,40690,39374.300000000003,41656.5,36614.050000000003,30774,{"$f":"SUM(P14:P213)","v":32053.4},{"$f":"SUM(Q14:Q213)","v":0},{"$f":"SUM(R14:R213)","v":0},0,0,{"$f":"SUM(U14:U213)","v":21237},null,null,0,0,7.4000070631445123,{"$f":"IF(ISERROR(IF($I214=\"\",\"\",J214/I214)),\"-\",(IF($I214=\"\",\"\",J214/I214)))","v":0.84348628816535787},{"$f":"IF(ISERROR(IF(K214=\"\",\"\",L214/K214)),\"-\",(IF(K214=\"\",\"\",L214/K214)))","v":0.96766527402310154},{"$f":"IF(ISERROR(IF(M214=\"\",\"\",N214/M214)),\"-\",(IF(M214=\"\",\"\",N214/M214)))","v":0.8789516642060663},{"$f":"IF(ISERROR(IF(O214=\"\",\"\",P214/O214)),\"-\",IF(O214=\"\",\"\",P214/O214))","v":1.0415740560213167},"-","-",null,null,null,null,null,null,null,null,null,null,null,null,{"$f":"COUNTIF(AS14:AS213,\"No Site Selected\")","v":0},{"$f":"COUNTIF(AT14:AT213,\"No Ward Name\")","v":0},null,null,null,null,null,null,null,null,null,"R1CSPINNAKER WARD","R1CC3","SPINNAKER WARD","R1CC3","SPINNAKER WARD","R1C"]
[{"$f":"VLOOKUP($D14,$BE:$BE,1,0)","v":"RBL14"},{"$f":"VLOOKUP($E14,$BF:$BF,1,0)","v":"ARROWE PARK HOSPITAL"},null,{"$f":"IF(D14=\"\",0,IF(ISERROR(VLOOKUP(D14,$BE$3:$BE$249,1,0)),0,IF(VLOOKUP(D14,$BE$3:$BI$249,5,0)=$B$8,0,1)))","v":0},{"$f":"IF(E14=\"\",0,IF(G14=\"\",1,0))","v":0},{"$f":"IF(E14=\"\",\"\",IF(SUM(I14,K14,M14,O14)=0,1,0))","v":0},{"$f":"IF(E14=\"\",\"\",IF(SUM(J14,L14,N14,P14)=0,1,0))","v":0},{"$f":"IF(E14=\"\",0,IF(SUM(I14:P14)<1448,1,0))","v":0},{"$f":"IF(E14=\"\",0,IF((J14+L14+N14+P14)>30000,1,0))","v":0},{"$f":"IF(G14=\"\",0,IF(ISERROR(VLOOKUP(G14,$AH$14:$AH$98,1,FALSE)),1,0))","v":0},{"$f":"IF(H14=\"\",0,IF(ISERROR(VLOOKUP(H14,$AH$14:$AH$98,1,FALSE)),1,0))","v":0},{"$f":"IF(E14=\"\",0,IF(D14=\"\",1,0))","v":0},{"$f":"IF(OR(I14<>\"\",K14<>\"\",J14<>\"\",L14<>\"\",M14<>\"\",N14<>\"\",O14<>\"\",P14<>\"\",F14<>\"\",G14<>\"\",H14<>\"\",Q14<>\"\",R14<>\"\",S14<>\"\",T14<>\"\",U14<>\"\"),IF(E14=\"\",1,0),0)","v":0},{"$f":"IF(E14=\"\",0,IF(F14=\"\",1,0))","v":0},null,null,null,null,null,null,{"$f":"IF(AND(SUM(J14,L14,N14,P14,R14,T14)>0,U14=0),1,0)","v":0},null,null,null,null,null,{"$f":"IF(AA14=\"\",0,IF(AA14>100%,1,0))","v":0},{"$f":"IF(AB14=\"\",0,IF(AB14>100%,1,0))","v":0},0,1,{"$f":"IF(AE14=\"\",0,IF(AE14>100%,1,0))","v":0},0,{"$f":"SUM(H215:AF215)","v":1},null,null,null,null,null,null,null,null,null,null,null,null,null,null,null,null,null,null,null,null,null,null,"R1CST JAMES' HOSPITAL","R1CF2","ST JAMES' HOSPITAL","R1CF2","ST JAMES' HOSPITAL","R1C"]
["RBL14","ARROWE PARK HOSPITAL",null,0,{"$f":"IF(E15=\"\",0,IF(G15=\"\",1,0))","v":0},{"$f":"IF(E15=\"\",\"\",IF(SUM(I15,K15,M15,O15)=0,1,0))","v":0},{"$f":"IF(E15=\"\",\"\",IF(SUM(J15,L15,N15,P15)=0,1,0))","v":0},{"$f":"IF(E15=\"\",0,IF(SUM(I15:P15)<1448,1,0))","v":0},{"$f":"IF(E15=\"\",0,IF((J15+L15+N15+P15)>30000,1,0))","v":0},0,0,{"$f":"IF(E15=\"\",0,IF(D15=\"\",1,0))","v":0},{"$f":"IF(OR(I15<>\"\",K15<>\"\",J15<>\"\",L15<>\"\",M15<>\"\",N15<>\"\",O15<>\"\",P15<>\"\",F15<>\"\",G15<>\"\",H15<>\"\",Q15<>\"\",R15<>\"\",S15<>\"\",T15<>\"\",U15<>\"\"),IF(E15=\"\",1,0),0)","v":0},{"$f":"IF(E15=\"\",0,IF(F15=\"\",1,0))","v":0},null,null,null,null,null,null,{"$f":"IF(AND(SUM(J15,L15,N15,P15,R15,T15)>0,U15=0),1,0)","v":0},null,null,null,null,null,0,1,0,1,{"$f":"IF(AE15=\"\",0,IF(AE15>100%,1,0))","v":0},0,{"$f":"SUM(H216:AF216)","v":2},null,null,null,{"$f":"IF(AA14=\"\",0, IF(AA14=\"-\",0,IF(AA14>100%,1,0)))","v":0},null,{"$f":"IF(AB14=\"\",0, IF(AB14=\"-\",0,IF(AB14>100%,1,0)))","v":0},{"$f":"IF(AC14=\"\",0, IF(AC14=\"-\",0,IF(AC14>100%,1,0)))","v":0},{"$f":"IF(AD14=\"\",0, IF(AD14=\"-\",0,IF(AD14>100%,1,0)))","v":1},null,null,null,{"$f":"CONCATENATE(D14,E14,F14)","v":"RBL14ARROWE PARK HOSPITAL10"},{"$f":"IF(AS216=\"\",\"\",(IF(COUNTIF($AS$216:$AS$414,AS216)>1,1,0))=1)","v":false},{"$f":"IF(AT216=TRUE,1,0)","v":0},{"$f":"IF(E14=\"\",(COUNTA(E15)=1),\"Complete\")","v":"Complete"},{"$f":"IF(AV216=\"Complete\",0, IF(AV216=TRUE, 1, IF(AV216=FALSE,0,0)))","v":0},{"$f":"IF(G14=\"\",0,IF(G14=H14,1,0))","v":0},null,null,null,null,null,"R1CST MARY'S HEALTH CAMPUS","R1CD4","ST MARY'S HEALTH CAMPUS","R1CD4","ST MARY'S HEALTH CAMPUS","R1C"]
["RBL14","ARROWE PARK HOSPITAL",null,0,0,0,0,0,0,0,0,{"$f":"IF(E16=\"\",0,IF(D16=\"\",1,0))","v":0},0,0,null,null,null,null,null,null,0,null,null,null,null,null,0,0,0,1,{"$f":"IF(AE16=\"\",0,IF(AE16>100%,1,0))","v":0},0,1,null,null,null,0,null,{"$f":"IF(AB15=\"\",0, IF(AB15=\"-\",0,IF(AB15>100%,1,0)))","v":1},{"$f":"IF(AC15=\"\",0, IF(AC15=\"-\",0,IF(AC15>100%,1,0)))","v":0},{"$f":"IF(AD15=\"\",0, IF(AD15=\"-\",0,IF(AD15>100%,1,0)))","v":1},null,null,null,{"$f":"CONCATENATE(D15,E15,F15)","v":"RBL14ARROWE PARK HOSPITAL11"},false,{"$f":"IF(AT217=TRUE,1,0)","v":0},"Complete",{"$f":"IF(AV217=\"Complete\",0, IF(AV217=TRUE, 1, IF(AV217=FALSE,0,0)))","v":0},{"$f":"IF(G15=\"\",0,IF(G15=H15,1,0))","v":0},null,null,null,null,null,"R1CSTONEHAM MUSCULOSKELETAL","R1C60","STONEHAM MUSCULOSKELETAL","R1C60","STONEHAM MUSCULOSKELETAL","R1C"]
["RBL14","ARROWE PARK HOSPITAL",null,0,{"$f":"IF(E17=\"\",0,IF(G17=\"\",1,0))","v":0},0,0,0,0,0,0,{"$f":"IF(E17=\"\",0,IF(D17=\"\",1,0))","v":0},0,0,null,null,null,null,null,null,0,null,null,null,null,null,0,1,0,1,{"$f":"IF(AE17=\"\",0,IF(AE17>100%,1,0))","v":0},0,2,null,null,null,0,null,0,0,1,null,null,null,{"$f":"CONCATENATE(D16,E16,F16)","v":"RBL14ARROWE PARK HOSPITAL12"},false,0,"Complete",0,0,null,null,null,null,null,"R1CTHE ORIGINAL PLACE","R1C79","THE ORIGINAL PLACE","R1C79","THE ORIGINAL PLACE","R1C"]
["RBL14","ARROWE PARK HOSPITAL",null,0,0,0,0,0,0,0,0,{"$f":"IF(E18=\"\",0,IF(D18=\"\",1,0))","v":0},0,0,null,null,null,null,null,null,0,null,null,null,null,null,0,0,1,0,{"$f":"IF(AE18=\"\",0,IF(AE18>100%,1,0))","v":0},0,1,null,null,null,0,null,1,0,1,null,null,null,{"$f":"CONCATENATE(D17,E17,F17)","v":"RBL14ARROWE PARK HOSPITALOPAU"},false,0,"Complete",0,{"$f":"IF(G17=\"\",0,IF(G17=H17,1,0))","v":0},null,null,null,null,null,"R1CTHE POTTERIES","R1CP5","THE POTTERIES","R1CP5","THE POTTERIES","R1C"]
["RBL14","ARROWE PARK HOSPITAL",null,0,0,0,0,0,0,0,0,0,0,0,null,null,null,null,null,null,0,null,null,null,null,null,0,0,0,1,{"$f":"IF(AE19=\"\",0,IF(AE19>100%,1,0))","v":0},0,1,null,null,null,0,null,0,1,0,null,null,null,{"$f":"CONCATENATE(D18,E18,F18)","v":"RBL14ARROWE PARK HOSPITAL17"},false,0,"Complete",0,0,null,null,null,null,null,"R1CTHE ROYAL SOUTH HANTS HOSPITAL","R1C34","THE ROYAL SOUTH HANTS HOSPITAL","R1C34","THE ROYAL SOUTH HANTS HOSPITAL","R1C"]
["RBL14","ARROWE PARK HOSPITAL",null,0,0,0,0,0,0,0,0,0,0,0,null,null,null,null,null,null,0,null,null,null,null,null,0,1,0,1,{"$f":"IF(AE20=\"\",0,IF(AE20>100%,1,0))","v":0},0,2,null,null,null,0,null,0,0,1,null,null,null,"RBL14ARROWE PARK HOSPITAL18",false,0,"Complete",0,0,null,null,null,null,null,"R1CVICTORY UNIT","R1CD3","VICTORY UNIT","R1CD3","VICTORY UNIT","R1C"]
["RBL14","ARROWE PARK HOSPITAL",null,0,0,0,0,0,0,0,0,0,0,0,null,null,null,null,null,null,0,null,null,null,null,null,0,1,0,1,{"$f":"IF(AE21=\"\",0,IF(AE21>100%,1,0))","v":0},0,2,null,null,null,0,null,1,0,1,null,null,null,"RBL14ARROWE PARK HOSPITAL20",false,0,"Complete",0,0,null,null,null,null,null,"R1CWESTERN COMMUNITY HOSPITAL","R1C03","WESTERN COMMUNITY HOSPITAL","R1C03","WESTERN COMMUNITY HOSPITAL","R1C"]
["RBL14","ARROWE PARK HOSPITAL",null,0,0,0,0,0,0,0,0,0,0,0,null,null,null,null,null,null,0,null,null,null,null,null,0,0,0,1,{"$f":"IF(AE22=\"\",0,IF(AE22>100%,1,0))","v":0},0,1,null,null,null,0,null,1,0,1,null,null,null,"RBL14ARROWE PARK HOSPITAL21",false,0,"Complete",0,0,null,null,null,null,null,"R1DAPCS SHREWSBURY","R1DD3","APCS SHREWSBURY","R1DD3","APCS SHREWSBURY","R1D"]
["RBL14","ARROWE PARK HOSPITAL",null,0,0,0,0,0,0,0,0,0,0,0,null,null,null,null,null,null,0,null,null,null,null,null,0,1,0,1,{"$f":"IF(AE23=\"\",0,IF(AE23>100%,1,0))","v":0},0,2,null,null,null,0,null,0,0,1,null,null,null,"RBL14ARROWE PARK HOSPITAL22",false,0,"Complete",0,0,null,null,null,null,null,"R1DBEECHES HOSPITAL","R1DAM","BEECHES HOSPITAL","R1DAM","BEECHES HOSPITAL","R1D"]
["RBL14","ARROWE PARK HOSPITAL",null,0,0,0,0,0,0,0,0,0,0,0,null,null,null,null,null,null,0,null,null,null,null,null,0,1,0,1,{"$f":"IF(AE24=\"\",0,IF(AE24>100%,1,0))","v":0},0,2,null,null,null,0,null,1,0,1,null,null,null,"RBL14ARROWE PARK HOSPITAL23",false,0,"Complete",0,0,null,null,null,null,null,"R1DBELLE VUE (GP)","R1D53","BELLE VUE (GP)","R1D53","BELLE VUE (GP)","R1D"]
["RBL14","ARROWE PARK HOSPITAL",null,0,0,0,0,0,0,0,0,0,0,0,null,null,null,null,null,null,0,null,null,null,null,null,0,1,0,1,{"$f":"IF(AE25=\"\",0,IF(AE25>100%,1,0))","v":0},0,2,null,null,null,0,null,1,0,1,null,null,null,"RBL14ARROWE PARK HOSPITAL27",false,0,"Complete",0,0,null,null,null,null,null,"R1DBISHOPS CASTLE COMMUNITY HOSPITAL","R1DG4","BISHOPS CASTLE COMMUNITY HOSPITAL","R1DG4","BISHOPS CASTLE COMMUNITY HOSPITAL","R1D"]
["RBL14","ARROWE PARK HOSPITAL",null,0,0,0,0,0,0,0,0,0,0,0,null,null,null,null,null,null,0,null,null,null,null,null,0,0,0,0,{"$f":"IF(AE26=\"\",0,IF(AE26>100%,1,0))","v":0},0,0,null,null,null,0,null,{"$f":"IF(AB25=\"\",0, IF(AB25=\"-\",0,IF(AB25>100%,1,0)))","v":1},{"$f":"IF(AC25=\"\",0, IF(AC25=\"-\",0,IF(AC25>100%,1,0)))","v":0},{"$f":"IF(AD25=\"\",0, IF(AD25=\"-\",0,IF(AD25>100%,1,0)))","v":1},null,null,null,"RBL14ARROWE PARK HOSPITAL26",false,0,"Complete",0,0,null,null,null,null,null,"R1DBISHOPS CASTLE HOSP OPD1","R1DJ3","BISHOPS CASTLE HOSP OPD1","R1DJ3","BISHOPS CASTLE HOSP OPD1","R1D"]
["RBL14","ARROWE PARK HOSPITAL",null,0,0,0,0,0,0,0,0,0,0,0,null,null,null,null,null,null,0,null,null,null,null,null,0,0,0,0,{"$f":"IF(AE27=\"\",0,IF(AE27>100%,1,0))","v":0},0,0,null,null,null,0,null,0,0,0,null,null,null,"RBL14ARROWE PARK HOSPITAL30",false,0,"Complete",0,0,null,null,null,null,null,"R1DBISHOPS CASTLE HOSPITAL","R1D25","BISHOPS CASTLE HOSPITAL","R1D25","BISHOPS CASTLE HOSPITAL","R1D"]
["RBL14","ARROWE PARK HOSPITAL",null,0,0,0,0,0,0,0,0,0,0,0,null,null,null,null,null,null,0,null,null,null,null,null,0,0,0,0,{"$f":"IF(AE28=\"\",0,IF(AE28>100%,1,0))","v":0},0,0,null,null,null,0,null,0,0,0,null,null,null,"RBL14ARROWE PARK HOSPITAL32",false,0,"Complete",0,0,null,null,null,null,null,"R1DBRIDGNORTH COMMUNITY HOSPITAL","R1DG2","BRIDGNORTH COMMUNITY HOSPITAL","R1DG2","BRIDGNORTH COMMUNITY HOSPITAL","R1D"]
["RBL14","ARROWE PARK HOSPITAL",null,0,0,0,0,0,0,0,0,0,0,0,null,null,null,null,null,null,0,null,null,null,null,null,0,0,0,1,{"$f":"IF(AE29=\"\",0,IF(AE29>100%,1,0))","v":0},0,1,null,null,null,0,null,0,0,0,null,null,null,"RBL14ARROWE PARK HOSPITAL33",false,0,"Complete",0,0,null,null,null,null,null,"R1DBRIDGNORTH HOSP OPD1","R1DJ1","BRIDGNORTH HOSP OPD1","R1DJ1","BRIDGNORTH HOSP OPD1","R1D"]
["RBL14","ARROWE PARK HOSPITAL",null,0,0,0,0,0,0,0,0,0,0,0,null,null,null,null,null,null,0,null,null,null,null,null,{"$f":"IF(AA30=\"\",0,IF(AA30>100%,1,0))","v":0},0,0,0,{"$f":"IF(AE30=\"\",0,IF(AE30>100%,1,0))","v":0},0,0,null,null,null,0,null,0,0,1,null,null,null,"RBL14ARROWE PARK HOSPITAL36",false,0,"Complete",0,0,null,null,null,null,null,"R1DBRIDGNORTH HOSPITAL","R1D22","BRIDGNORTH HOSPITAL","R1D22","BRIDGNORTH HOSPITAL","R1D"]
["RBL14","ARROWE PARK HOSPITAL",null,0,0,0,0,0,0,0,0,0,0,0,null,null,null,null,null,null,0,null,null,null,null,null,0,0,0,0,{"$f":"IF(AE31=\"\",0,IF(AE31>100%,1,0))","v":0},0,0,null,null,null,0,null,0,0,0,null,null,null,"RBL14ARROWE PARK HOSPITAL38",false,0,"Complete",0,0,null,null,null,null,null,"R1DBUTCHER ROW (GP)","R1D55","BUTCHER ROW (GP)","R1D55","BUTCHER ROW (GP)","R1D"]
["RBL14","ARROWE PARK HOSPITAL",null,0,0,0,0,0,0,0,0,0,0,0,null,null,null,null,null,null,0,null,null,null,null,null,1,1,0,1,{"$f":"IF(AE32=\"\",0,IF(AE32>100%,1,0))","v":0},0,3,null,null,null,0,null,0,0,0,null,null,null,"RBL14ARROWE PARK HOSPITAL53",false,0,"Complete",0,0,null,null,null,null,null,"R1DCASTLE CARE CASTLEHAVEN","R1D88","CASTLE CARE CASTLEHAVEN","R1D88","CASTLE CARE CASTLEHAVEN","R1D"]
["RBL14","ARROWE PARK HOSPITAL",null,0,0,0,0,0,0,0,0,0,0,0,null,null,null,null,null,null,0,null,null,null,null,null,0,0,0,1,{"$f":"IF(AE33=\"\",0,IF(AE33>100%,1,0))","v":0},0,1,null,null,null,1,null,1,0,1,null,null,null,"RBL14ARROWE PARK HOSPITAL54",false,0,"Complete",0,0,null,null,null,null,null,"R1DCLAREMONT BANK SITE (GP)","R1D56","CLAREMONT BANK SITE (GP)","R1D56","CLAREMONT BANK SITE (GP)","R1D"]
["RBL14","ARROWE PARK HOSPITAL",null,0,0,0,0,0,0,0,0,0,0,0,null,null,null,null,null,null,0,null,null,null,null,null,0,0,0,0,{"$f":"IF(AE34=\"\",0,IF(AE34>100%,1,0))","v":0},0,0,null,null,null,0,null,0,0,1,null,null,null,"RBL14ARROWE PARK HOSPITALAMU",false,0,"Complete",0,0,null,null,null,null,null,"R1DCLEE HILL (GP)","R1D67","CLEE HILL (GP)","R1D67","CLEE HILL (GP)","R1D"]
["RBL14","ARROWE PARK HOSPITAL",null,0,0,0,0,0,0,0,0,0,0,0,null,null,null,null,null,null,0,null,null,null,null,null,0,0,0,0,{"$f":"IF(AE35=\"\",0,IF(AE35>100%,1,0))","v":0},0,0,null,null,null,0,null,0,0,0,null,null,null,"RBL14ARROWE PARK HOSPITALMSSW",false,0,"Complete",0,0,null,null,null,null,null,"R1DCRAVEN ARMS (GP)","R1D69","CRAVEN ARMS (GP)","R1D69","CRAVEN ARMS (GP)","R1D"]
["RBL14","ARROWE PARK HOSPITAL",null,0,0,0,0,0,0,0,0,0,0,0,null,null,null,null,null,null,0,null,null,null,null,null,0,0,0,0,{"$f":"IF(AE36=\"\",0,IF(AE36>100%,1,0))","v":0},0,0,null,null,null,0,null,0,0,0,null,null,null,"RBL14ARROWE PARK HOSPITALEDRU",false,0,"Complete",0,0,null,null,null,null,null,"R1DCSMS 1","R1D97","CSMS 1","R1D97","CSMS 1","R1D"]
["RBL14","ARROWE PARK HOSPITAL",null,0,0,0,0,0,0,0,0,0,0,0,null,null,null,null,null,null,0,null,null,null,null,null,0,0,0,0,{"$f":"IF(AE37=\"\",0,IF(AE37>100%,1,0))","v":0},0,0,null,null,null,0,null,0,0,0,null,null,null,"RBL14ARROWE PARK HOSPITALESAU",false,0,"Complete",0,0,null,null,null,null,null,"R1DCSMS 2","R1DAK","CSMS 2","R1DAK","CSMS 2","R1D"]
["RBL14","ARROWE PARK HOSPITAL",null,0,0,0,0,0,0,0,0,0,0,0,null,null,null,null,null,null,0,null,null,null,null,null,0,0,0,0,{"$f":"IF(AE38=\"\",0,IF(AE38>100%,1,0))","v":0},0,0,null,null,null,0,null,0,0,0,null,null,null,"RBL14ARROWE PARK HOSPITALITU",false,0,"Complete",0,0,null,null,null,null,null,"R1DDALE ACRE - SHROPSHIRE COMMUNITY HEALTH","R1DF9","DALE ACRE - SHROPSHIRE COMMUNITY HEALTH","R1DF9","DALE ACRE - SHROPSHIRE COMMUNITY HEALTH","R1D"]
["RBL14","ARROWE PARK HOSPITAL",null,0,0,0,0,0,0,0,0,0,0,0,null,null,null,null,null,null,0,null,null,null,null,null,0,0,0,0,{"$f":"IF(AE39=\"\",0,IF(AE39>100%,1,0))","v":0},0,0,null,null,null,0,null,0,0,0,null,null,null,"RBL14ARROWE PARK HOSPITALHDU",false,0,"Complete",0,0,null,null,null,null,null,"R1DDIMENSIONS (NSO) RESIDENTIAL HOME","R1D78","DIMENSIONS (NSO) RESIDENTIAL HOME","R1D78","DIMENSIONS (NSO) RESIDENTIAL HOME","R1D"]
["RBL14","ARROWE PARK HOSPITAL",null,0,0,0,0,0,0,0,0,0,0,0,null,null,null,null,null,null,0,null,null,null,null,null,0,0,0,0,{"$f":"IF(AE40=\"\",0,IF(AE40>100%,1,0))","v":0},0,0,null,null,null,0,null,0,0,0,null,null,null,"RBL14ARROWE PARK HOSPITALDelivery suite",false,0,"Complete",0,0,null,null,null,null,null,"R1DFAMILY CONNECT","R1DHY","FAMILY CONNECT","R1DHY","FAMILY CONNECT","R1D"]
["RBL14","ARROWE PARK HOSPITAL",null,0,0,0,0,0,0,0,0,0,0,0,null,null,null,null,null,null,0,null,null,null,null,null,1,1,1,0,{"$f":"IF(AE41=\"\",0,IF(AE41>100%,1,0))","v":0},0,3,null,null,null,0,null,0,0,0,null,null,null,"RBL14ARROWE PARK HOSPITALNeonatal",false,0,"Complete",0,0,null,null,null,null,null,"R1DGLENVIEW","R1D89","GLENVIEW","R1D89","GLENVIEW","R1D"]
["RBL20","CLATTERBRIDGE HOSPITAL",null,0,0,0,0,0,0,0,0,0,0,0,null,null,null,null,null,null,0,null,null,null,null,null,0,0,0,0,{"$f":"IF(AE42=\"\",0,IF(AE42>100%,1,0))","v":0},0,0,null,null,null,1,null,1,1,0,null,null,null,"RBL14ARROWE PARK HOSPITALChildren's",false,0,"Complete",0,0,null,null,null,null,null,"R1DHADLEY LEARNING COMMUNITY","R1DEG","HADLEY LEARNING COMMUNITY","R1DEG","HADLEY LEARNING COMMUNITY","R1D"]
["RBL20","CLATTERBRIDGE HOSPITAL",null,0,0,0,0,1,0,0,0,0,0,0,null,null,null,null,null,null,0,null,null,null,null,null,0,0,0,0,{"$f":"IF(AE43=\"\",0,IF(AE43>100%,1,0))","v":0},0,1,null,null,null,0,null,0,0,0,null,null,null,"RBL20CLATTERBRIDGE HOSPITALM2 Ortho",false,0,"Complete",0,0,null,null,null,null,null,"R1DHIGHLEY (GP)","R1D70","HIGHLEY (GP)","R1D70","HIGHLEY (GP)","R1D"]
["RBL20","CLATTERBRIDGE HOSPITAL",null,0,0,0,0,0,0,0,0,0,0,0,null,null,null,null,null,null,0,null,null,null,null,null,0,0,0,0,{"$f":"IF(AE44=\"\",0,IF(AE44>100%,1,0))","v":0},0,0,null,null,null,0,null,0,0,0,null,null,null,"RBL20CLATTERBRIDGE HOSPITALM2 Surg",false,0,"Complete",0,0,null,null,null,null,null,"R1DHINSTOCK MANOR","R1DA8","HINSTOCK MANOR","R1DA8","HINSTOCK MANOR","R1D"]
["RBL20","CLATTERBRIDGE HOSPITAL",null,0,0,0,0,0,0,0,0,0,0,0,null,null,null,null,null,null,0,null,null,null,null,null,0,1,0,0,{"$f":"IF(AE45=\"\",0,IF(AE45>100%,1,0))","v":0},0,1,null,null,null,0,null,0,0,0,null,null,null,"RBL20CLATTERBRIDGE HOSPITALCRC",false,0,"Complete",0,0,null,null,null,null,null,"R1DHODNET (GP)","R1D75","HODNET (GP)","R1D75","HODNET (GP)","R1D"]
[{"$f":"VLOOKUP($D46,$BE:$BE,1,0)","v":"RBL20"},{"$f":"VLOOKUP($E46,$BF:$BF,1,0)","v":"CLATTERBRIDGE HOSPITAL"},null,{"$f":"IF(D46=\"\",0,IF(ISERROR(VLOOKUP(D46,$BE$3:$BE$249,1,0)),0,IF(VLOOKUP(D46,$BE$3:$BI$249,5,0)=$B$8,0,1)))","v":0},0,0,0,0,0,{"$f":"IF(G46=\"\",0,IF(ISERROR(VLOOKUP(G46,$AH$14:$AH$98,1,FALSE)),1,0))","v":0},{"$f":"IF(H46=\"\",0,IF(ISERROR(VLOOKUP(H46,$AH$14:$AH$98,1,FALSE)),1,0))","v":0},0,0,0,null,null,null,null,null,null,0,null,null,null,null,null,{"$f":"IF(AA46=\"\",0,IF(AA46>100%,1,0))","v":0},0,0,0,{"$f":"IF(AE46=\"\",0,IF(AE46>100%,1,0))","v":0},0,0,null,null,null,0,null,1,0,0,null,null,null,"RBL20CLATTERBRIDGE HOSPITALM1 rehab M1 MO",false,0,"Complete",0,0,null,null,null,null,null,"R1DIRONBRIDGE (GP)","R1D64","IRONBRIDGE (GP)","R1D64","IRONBRIDGE (GP)","R1D"]
["RBL14","ARROWE PARK HOSPITAL",null,0,0,0,0,0,0,0,0,0,0,0,null,null,null,null,null,null,0,null,null,null,null,null,0,0,0,0,{"$f":"IF(AE47=\"\",0,IF(AE47>100%,1,0))","v":0},0,0,null,null,null,{"$f":"IF(AA46=\"\",0, IF(AA46=\"-\",0,IF(AA46>100%,1,0)))","v":0},null,0,0,0,null,null,null,"RBL20CLATTERBRIDGE HOSPITALDermataology",{"$f":"IF(AS248=\"\",\"\",(IF(COUNTIF($AS$216:$AS$414,AS248)>1,1,0))=1)","v":false},0,{"$f":"IF(E46=\"\",(COUNTA(E47)=1),\"Complete\")","v":"Complete"},0,0,null,null,null,null,null,"R1DKEEPER'S CRESCENT","R1D91","KEEPER'S CRESCENT","R1D91","KEEPER'S CRESCENT","R1D"]
["RBL14","ARROWE PARK HOSPITAL",null,0,0,0,0,0,0,0,0,0,0,0,null,null,null,null,null,null,0,null,null,null,null,null,0,0,0,0,{"$f":"IF(AE48=\"\",0,IF(AE48>100%,1,0))","v":0},0,0,null,null,null,0,null,0,0,0,null,null,null,"RBL14ARROWE PARK HOSPITAL25",false,0,"Complete",0,0,null,null,null,null,null,"R1DLABURNHAMS","R1D82","LABURNHAMS","R1D82","LABURNHAMS","R1D"]
["RBL14","ARROWE PARK HOSPITAL",null,0,0,0,0,0,0,0,0,0,0,0,null,null,null,null,null,null,0,null,null,null,null,null,0,0,0,0,{"$f":"IF(AE49=\"\",0,IF(AE49>100%,1,0))","v":0},0,0,null,null,null,0,null,0,0,0,null,null,null,"RBL14ARROWE PARK HOSPITALCCU",false,0,"Complete",0,0,null,null,null,null,null,"R1DLIFESOURCE COLLABORATIVE PROCUREMENT HUB","R1DD8","LIFESOURCE COLLABORATIVE PROCUREMENT HUB","R1DD8","LIFESOURCE COLLABORATIVE PROCUREMENT HUB","R1D"]
["RBL14","ARROWE PARK HOSPITAL",null,0,0,0,0,0,0,0,0,0,0,0,null,null,null,null,null,null,0,null,null,null,null,null,0,0,1,1,{"$f":"IF(AE50=\"\",0,IF(AE50>100%,1,0))","v":0},0,2,null,null,null,0,null,0,0,0,null,null,null,"RBL14ARROWE PARK HOSPITAL37",false,0,"Complete",0,0,null,null,null,null,null,"R1DLUDLOW COMMUNITY HOSPITAL","R1DG3","LUDLOW COMMUNITY HOSPITAL","R1DG3","LUDLOW COMMUNITY HOSPITAL","R1D"]
["RBL14","ARROWE PARK HOSPITAL",null,0,0,0,0,0,0,0,0,0,0,0,null,null,null,null,null,null,0,null,null,null,null,null,0,1,0,1,{"$f":"IF(AE51=\"\",0,IF(AE51>100%,1,0))","v":0},0,2,null,null,null,0,null,0,1,1,null,null,null,"RBL14ARROWE PARK HOSPITAL24 IPC",false,0,"Complete",0,0,null,null,null,null,null,"R1DLUDLOW HOSP OPD1","R1DJ2","LUDLOW HOSP OPD1","R1DJ2","LUDLOW HOSP OPD1","R1D"]
[{"$error":"#N/A"},{"$error":"#N/A"},null,0,0,"","",0,0,0,0,0,0,0,null,null,null,null,null,null,0,null,null,null,null,null,0,0,0,0,{"$f":"IF(AE52=\"\",0,IF(AE52>100%,1,0))","v":0},0,0,null,null,null,0,null,1,0,1,null,null,null,"RBL14ARROWE PARK HOSPITALWAFFU",false,0,"Complete",0,0,null,null,null,null,null,"R1DLUDLOW HOSPITAL","R1D21","LUDLOW HOSPITAL","R1D21","LUDLOW HOSPITAL","R1D"]
[{"$error":"#N/A"},{"$error":"#N/A"},null,0,0,"","",0,0,0,0,0,0,0,null,null,null,null,null,null,0,null,null,null,null,null,0,0,0,0,{"$f":"IF(AE53=\"\",0,IF(AE53>100%,1,0))","v":0},0,0,null,null,null,0,null,0,0,0,null,null,null,"","",0,false,0,0,null,null,null,null,null,"R1DMARKET DRAYTON COTTAGE HOSPITAL","R1D07","MARKET DRAYTON COTTAGE HOSPITAL","R1D07","MARKET DRAYTON COTTAGE HOSPITAL","R1D"]
[{"$error":"#N/A"},{"$error":"#N/A"},null,0,0,"","",0,0,0,0,0,0,0,null,null,null,null,null,null,0,null,null,null,null,null,0,0,0,0,{"$f":"IF(AE54=\"\",0,IF(AE54>100%,1,0))","v":0},0,0,null,null,null,0,null,0,0,0,null,null,null,"","",0,false,0,0,null,null,null,null,null,"R1DNEWPORT (GP)","R1D63","NEWPORT (GP)","R1D63","NEWPORT (GP)","R1D"]
[{"$error":"#N/A"},{"$error":"#N/A"},null,0,0,"","",0,0,0,0,0,0,0,null,null,null,null,null,null,0,null,null,null,null,null,0,0,0,0,{"$f":"IF(AE55=\"\",0,IF(AE55>100%,1,0))","v":0},0,0,null,null,null,0,null,0,0,0,null,null,null,"","",0,false,0,0,null,null,null,null,null,"R1DNEWPORT HOSPITAL","R1DAF","NEWPORT HOSPITAL","R1DAF","NEWPORT HOSPITAL","R1D"]
[{"$error":"#N/A"},{"$error":"#N/A"},null,0,0,"","",0,0,0,0,0,0,0,null,null,null,null,null,null,0,null,null,null,null,null,0,0,0,0,{"$f":"IF(AE56=\"\",0,IF(AE56>100%,1,0))","v":0},0,0,null,null,null,0,null,0,0,0,null,null,null,"","",0,false,0,0,null,null,null,null,null,"R1DOCCUPATIONAL HEALTH DEPARTMENT - FENTON","R1DEK","OCCUPATIONAL HEALTH DEPARTMENT - FENTON","R1DEK","OCCUPATIONAL HEALTH DEPARTMENT - FENTON","R1D"]
[{"$error":"#N/A"},{"$error":"#N/A"},null,0,0,"","",0,0,0,0,0,0,0,null,null,null,null,null,null,0,null,null,null,null,null,0,0,0,0,{"$f":"IF(AE57=\"\",0,IF(AE57>100%,1,0))","v":0},0,0,null,null,null,0,null,0,0,0,null,null,null,"","",0,false,0,0,null,null,null,null,null,"R1DOCCUPATIONAL HEALTH FENTON","R1DG7","OCCUPATIONAL HEALTH FENTON","R1DG7","OCCUPATIONAL HEALTH FENTON","R1D"]
[{"$error":"#N/A"},{"$error":"#N/A"},null,0,0,"","",0,0,0,0,0,0,0,null,null,null,null,null,null,0,null,null,null,null,null,0,0,0,0,{"$f":"IF(AE58=\"\",0,IF(AE58>100%,1,0))","v":0},0,0,null,null,null,0,null,0,0,0,null,null,null,"","",0,false,0,0,null,null,null,null,null,"R1DOCCUPATIONAL HEALTH GAINS PARK","R1DD9","OCCUPATIONAL HEALTH GAINS PARK","R1DD9","OCCUPATIONAL HEALTH GAINS PARK","R1D"]
[{"$error":"#N/A"},{"$error":"#N/A"},null,0,0,"","",0,0,0,0,0,0,0,null,null,null,null,null,null,0,null,null,null,null,null,0,0,0,0,{"$f":"IF(AE59=\"\",0,IF(AE59>100%,1,0))","v":0},0,0,null,null,null,0,null,0,0,0,null,null,null,"","",0,false,0,0,null,null,null,null,null,"R1DOLDFIELD RESIDENTIAL HOME","R1D92","OLDFIELD RESIDENTIAL HOME","R1D92","OLDFIELD RESIDENTIAL HOME","R1D"]
[{"$error":"#N/A"},{"$error":"#N/A"},null,0,0,"","",0,0,0,0,0,0,0,null,null,null,null,null,null,0,null,null,null,null,null,0,0,0,0,{"$f":"IF(AE60=\"\",0,IF(AE60>100%,1,0))","v":0},0,0,null,null,null,0,null,0,0,0,null,null,null,"","",0,false,0,0,null,null,null,null,null,"R1DOSWESTRY SOCIAL & HEALTH CARE","R1DDC","OSWESTRY SOCIAL & HEALTH CARE","R1DDC","OSWESTRY SOCIAL & HEALTH CARE","R1D"]
[{"$error":"#N/A"},{"$error":"#N/A"},null,0,0,"","",0,0,0,0,0,0,0,null,null,null,null,null,null,0,null,null,null,null,null,0,0,0,0,{"$f":"IF(AE61=\"\",0,IF(AE61>100%,1,0))","v":0},0,0,null,null,null,0,null,0,0,0,null,null,null,"","",0,false,0,0,null,null,null,null,null,"R1DPLAS NEWYDD","R1DA6","PLAS NEWYDD","R1DA6","PLAS NEWYDD","R1D"]
[{"$error":"#N/A"},{"$error":"#N/A"},null,0,0,"","",0,0,0,0,0,0,0,null,null,null,null,null,null,0,null,null,null,null,null,{"$f":"IF(AA62=\"\",0,IF(AA62>100%,1,0))","v":0},0,0,0,{"$f":"IF(AE62=\"\",0,IF(AE62>100%,1,0))","v":0},0,0,null,null,null,0,null,0,0,0,null,null,null,"","",0,false,0,0,null,null,null,null,null,"R1DPRINCESS ROYAL HOSPITAL","R1D03","PRINCESS ROYAL HOSPITAL","R1D03","PRINCESS ROYAL HOSPITAL","R1D"]
[{"$error":"#N/A"},{"$error":"#N/A"},null,0,0,"","",0,0,0,0,0,0,0,null,null,null,null,null,null,0,null,null,null,null,null,0,0,0,0,{"$f":"IF(AE63=\"\",0,IF(AE63>100%,1,0))","v":0},0,0,null,null,null,0,null,0,0,0,null,null,null,"","",0,false,0,0,null,null,null,null,null,"R1DROBERT JONES & AGNES HUNT ORTHOPAEDIC HOSPITAL","R1DAC","ROBERT JONES & AGNES HUNT ORTHOPAEDIC HOSPITAL","R1DAC","ROBERT JONES & AGNES HUNT ORTHOPAEDIC HOSPITAL","R1D"]
[{"$error":"#N/A"},{"$error":"#N/A"},null,0,0,"","",0,0,0,0,0,0,0,null,null,null,null,null,null,0,null,null,null,null,null,0,0,0,0,{"$f":"IF(AE64=\"\",0,IF(AE64>100%,1,0))","v":0},0,0,null,null,null,0,null,0,0,0,null,null,null,"","",0,false,0,0,null,null,null,null,null,"R1DROYAL SHREWSBURY HOSPITAL","R1D16","ROYAL SHREWSBURY HOSPITAL","R1D16","ROYAL SHREWSBURY HOSPITAL","R1D"]
[{"$error":"#N/A"},{"$error":"#N/A"},null,0,0,"","",0,0,0,0,0,0,0,null,null,null,null,null,null,0,null,null,null,null,null,0,0,0,0,{"$f":"IF(AE65=\"\",0,IF(AE65>100%,1,0))","v":0},0,0,null,null,null,0,null,0,0,0,null,null,null,"","",0,false,0,0,null,null,null,null,null,"R1DSEVERN FIELDS HEALTH VILLAGE","R1DFC","SEVERN FIELDS HEALTH VILLAGE","R1DFC","SEVERN FIELDS HEALTH VILLAGE","R1D"]
[{"$error":"#N/A"},{"$error":"#N/A"},null,0,0,"","",0,0,0,0,0,0,0,null,null,null,null,null,null,0,null,null,null,null,null,0,0,0,0,{"$f":"IF(AE66=\"\",0,IF(AE66>100%,1,0))","v":0},0,0,null,null,null,0,null,0,0,0,null,null,null,"","",0,false,0,0,null,null,null,null,null,"R1DSHELTON HOSPITAL","R1D01","SHELTON HOSPITAL","R1D01","SHELTON HOSPITAL","R1D"]
[{"$error":"#N/A"},{"$error":"#N/A"},null,0,0,"","",0,0,0,0,0,0,0,null,null,null,null,null,null,0,null,null,null,null,null,0,0,0,0,{"$f":"IF(AE67=\"\",0,IF(AE67>100%,1,0))","v":0},0,0,null,null,null,0,null,0,0,0,null,null,null,"","",0,false,0,0,null,null,null,null,null,{"$f":"CONCATENATE(LEFT(BE268, 3),BF268)","v":"R1DSHERBOURNE"},"R1D90","SHERBOURNE","R1D90","SHERBOURNE",{"$f":"LEFT(BG268,3)","v":"R1D"}]
[{"$error":"#N/A"},{"$error":"#N/A"},null,0,0,"","",0,0,0,0,0,0,0,null,null,null,null,null,null,0,null,null,null,null,null,0,0,0,0,{"$f":"IF(AE68=\"\",0,IF(AE68>100%,1,0))","v":0},0,0,null,null,null,0,null,0,0,0,null,null,null,"","",0,false,0,0,null,null,null,null,null,"R1DSINGLE POINT OF ACCESS","R1DJ5","SINGLE POINT OF ACCESS","R1DJ5","SINGLE POINT OF ACCESS","R1D"]
[{"$error":"#N/A"},{"$error":"#N/A"},null,0,0,"","",0,0,0,0,0,0,0,null,null,null,null,null,null,0,null,null,null,null,null,0,0,0,0,{"$f":"IF(AE69=\"\",0,IF(AE69>100%,1,0))","v":0},0,0,null,null,null,0,null,0,0,0,null,null,null,"","",0,false,0,0,null,null,null,null,null,"R1DTELFORD AND WREKIN PCT COMMISSIONERS","R1DEJ","TELFORD AND WREKIN PCT COMMISSIONERS","R1DEJ","TELFORD AND WREKIN PCT COMMISSIONERS","R1D"]
[{"$error":"#N/A"},{"$error":"#N/A"},null,0,0,"","",0,0,0,0,0,0,0,null,null,null,null,null,null,0,null,null,null,null,null,0,0,0,0,{"$f":"IF(AE70=\"\",0,IF(AE70>100%,1,0))","v":0},0,0,null,null,null,0,null,0,0,0,null,null,null,"","",0,false,0,0,null,null,null,null,null,"R1DTERRENCE HIGGINS TRUST WELLINGTON","R1DFL","TERRENCE HIGGINS TRUST WELLINGTON","R1DFL","TERRENCE HIGGINS TRUST WELLINGTON","R1D"]
[{"$error":"#N/A"},{"$error":"#N/A"},null,0,0,"","",0,0,0,0,0,0,0,null,null,null,null,null,null,0,null,null,null,null,null,0,0,0,0,{"$f":"IF(AE71=\"\",0,IF(AE71>100%,1,0))","v":0},0,0,null,null,null,0,null,0,0,0,null,null,null,"","",0,false,0,0,null,null,null,null,null,"R1DTHE HEATHERS","R1D80","THE HEATHERS","R1D80","THE HEATHERS","R1D"]
[{"$error":"#N/A"},{"$error":"#N/A"},null,0,0,"","",0,0,0,0,0,0,0,null,null,null,null,null,null,0,null,null,null,null,null,0,0,0,0,{"$f":"IF(AE72=\"\",0,IF(AE72>100%,1,0))","v":0},0,0,null,null,null,0,null,0,0,0,null,null,null,"","",0,false,0,0,null,null,null,null,null,"R1DTHE LAUREL'S","R1DC1","THE LAUREL'S","R1DC1","THE LAUREL'S","R1D"]
[{"$error":"#N/A"},{"$error":"#N/A"},null,0,0,"","",0,0,0,0,0,0,0,null,null,null,null,null,null,0,null,null,null,null,null,0,0,0,0,{"$f":"IF(AE73=\"\",0,IF(AE73>100%,1,0))","v":0},0,0,null,null,null,0,null,0,0,0,null,null,null,"","",0,false,0,0,null,null,null,null,null,"R1DTHE MEWS","R1DDD","THE MEWS","R1DDD","THE MEWS","R1D"]
[{"$error":"#N/A"},{"$error":"#N/A"},null,0,0,"","",0,0,0,0,0,0,0,null,null,null,null,null,null,0,null,null,null,null,null,0,0,0,0,{"$f":"IF(AE74=\"\",0,IF(AE74>100%,1,0))","v":0},0,0,null,null,null,0,null,0,0,0,null,null,null,"","",0,false,0,0,null,null,null,null,null,"R1DTHE MOUNT","R1D02","THE MOUNT","R1D02","THE MOUNT","R1D"]
[{"$error":"#N/A"},{"$error":"#N/A"},null,0,0,"","",0,0,0,0,0,0,0,null,null,null,null,null,null,0,null,null,null,null,null,0,0,0,0,{"$f":"IF(AE75=\"\",0,IF(AE75>100%,1,0))","v":0},0,0,null,null,null,0,null,0,0,0,null,null,null,"","",0,false,0,0,null,null,null,null,null,"R1DTHE OLD BARN","R1D93","THE OLD BARN","R1D93","THE OLD BARN","R1D"]
[{"$error":"#N/A"},{"$error":"#N/A"},null,0,0,"","",0,0,0,0,0,0,0,null,null,null,null,null,null,0,null,null,null,null,null,0,0,0,0,{"$f":"IF(AE76=\"\",0,IF(AE76>100%,1,0))","v":0},0,0,null,null,null,0,null,0,0,0,null,null,null,"","",0,false,0,0,null,null,null,null,null,"R1DVISION HOMES (1A)","R1D84","VISION HOMES (1A)","R1D84","VISION HOMES (1A)","R1D"]
[{"$error":"#N/A"},{"$error":"#N/A"},null,0,0,"","",0,0,0,0,0,0,0,null,null,null,null,null,null,0,null,null,null,null,null,0,0,0,0,{"$f":"IF(AE77=\"\",0,IF(AE77>100%,1,0))","v":0},0,0,null,null,null,0,null,0,0,0,null,null,null,"","",0,false,0,0,null,null,null,null,null,"R1DWEST BANK","R1D11","WEST BANK","R1D11","WEST BANK","R1D"]
[{"$f":"VLOOKUP($D78,$BE:$BE,1,0)","v":{"$error":"#N/A"}},{"$f":"VLOOKUP($E78,$BF:$BF,1,0)","v":{"$error":"#N/A"}},null,{"$f":"IF(D78=\"\",0,IF(ISERROR(VLOOKUP(D78,$BE$3:$BE$249,1,0)),0,IF(VLOOKUP(D78,$BE$3:$BI$249,5,0)=$B$8,0,1)))","v":0},0,"","",0,0,{"$f":"IF(G78=\"\",0,IF(ISERROR(VLOOKUP(G78,$AH$14:$AH$98,1,FALSE)),1,0))","v":0},{"$f":"IF(H78=\"\",0,IF(ISERROR(VLOOKUP(H78,$AH$14:$AH$98,1,FALSE)),1,0))","v":0},0,0,0,null,null,null,null,null,null,0,null,null,null,null,null,{"$f":"IF(AA78=\"\",0,IF(AA78>100%,1,0))","v":0},0,0,0,{"$f":"IF(AE78=\"\",0,IF(AE78>100%,1,0))","v":0},0,0,null,null,null,0,null,0,0,0,null,null,null,"","",0,false,0,0,null,null,null,null,null,"R1DWHITCHURCH COMMUNITY HOSPITAL","R1DG5","WHITCHURCH COMMUNITY HOSPITAL","R1DG5","WHITCHURCH COMMUNITY HOSPITAL","R1D"]
[{"$error":"#N/A"},{"$error":"#N/A"},null,0,{"$f":"IF(E79=\"\",0,IF(G79=\"\",1,0))","v":0},{"$f":"IF(E79=\"\",\"\",IF(SUM(I79,K79,M79,O79)=0,1,0))","v":""},{"$f":"IF(E79=\"\",\"\",IF(SUM(J79,L79,N79,P79)=0,1,0))","v":""},{"$f":"IF(E79=\"\",0,IF(SUM(I79:P79)<1448,1,0))","v":0},{"$f":"IF(E79=\"\",0,IF((J79+L79+N79+P79)>30000,1,0))","v":0},0,0,{"$f":"IF(E79=\"\",0,IF(D79=\"\",1,0))","v":0},{"$f":"IF(OR(I79<>\"\",K79<>\"\",J79<>\"\",L79<>\"\",M79<>\"\",N79<>\"\",O79<>\"\",P79<>\"\",F79<>\"\",G79<>\"\",H79<>\"\",Q79<>\"\",R79<>\"\",S79<>\"\",T79<>\"\",U79<>\"\"),IF(E79=\"\",1,0),0)","v":0},{"$f":"IF(E79=\"\",0,IF(F79=\"\",1,0))","v":0},null,null,null,null,null,null,{"$f":"IF(AND(SUM(J79,L79,N79,P79,R79,T79)>0,U79=0),1,0)","v":0},null,null,null,null,null,0,0,0,0,{"$f":"IF(AE79=\"\",0,IF(AE79>100%,1,0))","v":0},0,{"$f":"SUM(H280:AF280)","v":0},null,null,null,{"$f":"IF(AA78=\"\",0, IF(AA78=\"-\",0,IF(AA78>100%,1,0)))","v":0},null,0,0,0,null,null,null,"",{"$f":"IF(AS280=\"\",\"\",(IF(COUNTIF($AS$216:$AS$414,AS280)>1,1,0))=1)","v":""},0,{"$f":"IF(E78=\"\",(COUNTA(E79)=1),\"Complete\")","v":false},0,{"$f":"IF(G78=\"\",0,IF(G78=H78,1,0))","v":0},null,null,null,null,null,"R1DWHITCHURCH HOSP OPD1","R1DJ4","WHITCHURCH HOSP OPD1","R1DJ4","WHITCHURCH HOSP OPD1","R1D"]
[{"$error":"#N/A"},{"$error":"#N/A"},null,0,0,"","",0,0,0,0,0,0,0,null,null,null,null,null,null,0,null,null,null,null,null,0,0,0,0,{"$f":"IF(AE80=\"\",0,IF(AE80>100%,1,0))","v":0},0,0,null,null,null,0,null,0,0,0,null,null,null,{"$f":"CONCATENATE(D79,E79,F79)","v":""},"",{"$f":"IF(AT281=TRUE,1,0)","v":0},false,{"$f":"IF(AV281=\"Complete\",0, IF(AV281=TRUE, 1, IF(AV281=FALSE,0,0)))","v":0},0,null,null,null,null,null,"R1DWHITCHURCH HOSPITAL ","R1D34","WHITCHURCH HOSPITAL ","R1D34","WHITCHURCH HOSPITAL ","R1D"]
[{"$error":"#N/A"},{"$error":"#N/A"},null,0,0,"","",0,0,0,0,0,0,0,null,null,null,null,null,null,0,null,null,null,null,null,0,0,0,0,{"$f":"IF(AE81=\"\",0,IF(AE81>100%,1,0))","v":0},0,0,null,null,null,0,null,0,0,0,null,null,null,"","",0,false,0,0,null,null,null,null,null,"R1DWREXHAM MAELOR HOSPITAL","R1DD4","WREXHAM MAELOR HOSPITAL","R1DD4","WREXHAM MAELOR HOSPITAL","R1D"]
[{"$error":"#N/A"},{"$error":"#N/A"},null,0,0,"","",0,0,0,0,0,0,0,null,null,null,null,null,null,0,null,null,null,null,null,0,0,0,0,{"$f":"IF(AE82=\"\",0,IF(AE82>100%,1,0))","v":0},0,0,null,null,null,0,null,0,0,0,null,null,null,"","",0,false,0,0,null,null,null,null,null,"R1EAIRS - CHEADLE HOSPITAL","R1EL7","AIRS - CHEADLE HOSPITAL","R1EL7","AIRS - CHEADLE HOSPITAL","R1E"]
[{"$error":"#N/A"},{"$error":"#N/A"},null,0,0,"","",0,0,0,0,0,0,0,null,null,null,null,null,null,0,null,null,null,null,null,0,0,0,0,{"$f":"IF(AE83=\"\",0,IF(AE83>100%,1,0))","v":0},0,0,null,null,null,0,null,0,0,0,null,null,null,"","",0,false,0,0,null,null,null,null,null,"R1EAIRS - HAYWOOD HOSPTIAL","R1EK8","AIRS - HAYWOOD HOSPTIAL","R1EK8","AIRS - HAYWOOD HOSPTIAL","R1E"]
[{"$error":"#N/A"},{"$error":"#N/A"},null,0,0,"","",0,0,0,0,0,0,0,null,null,null,null,null,null,0,null,null,null,null,null,0,0,0,0,{"$f":"IF(AE84=\"\",0,IF(AE84>100%,1,0))","v":0},0,0,null,null,null,0,null,0,0,0,null,null,null,"","",0,false,0,0,null,null,null,null,null,"R1EAIRS - LEEK MOORLANDS HOSPITAL","R1EL8","AIRS - LEEK MOORLANDS HOSPITAL","R1EL8","AIRS - LEEK MOORLANDS HOSPITAL","R1E"]
[{"$error":"#N/A"},{"$error":"#N/A"},null,0,0,"","",0,0,0,0,0,0,0,null,null,null,null,null,null,0,null,null,null,null,null,0,0,0,0,{"$f":"IF(AE85=\"\",0,IF(AE85>100%,1,0))","v":0},0,0,null,null,null,0,null,0,0,0,null,null,null,"","",0,false,0,0,null,null,null,null,null,"R1EAIRS - LONGTON COTTAGE HOSPTIAL","R1EK7","AIRS - LONGTON COTTAGE HOSPTIAL","R1EK7","AIRS - LONGTON COTTAGE HOSPTIAL","R1E"]
[{"$error":"#N/A"},{"$error":"#N/A"},null,0,0,"","",0,0,0,0,0,0,0,null,null,null,null,null,null,0,null,null,null,null,null,0,0,0,0,{"$f":"IF(AE86=\"\",0,IF(AE86>100%,1,0))","v":0},0,0,null,null,null,0,null,0,0,0,null,null,null,"","",0,false,0,0,null,null,null,null,null,"R1EAIRS -BRADWELL HOSPITAL","R1EL6","AIRS -BRADWELL HOSPITAL","R1EL6","AIRS -BRADWELL HOSPITAL","R1E"]
[{"$error":"#N/A"},{"$error":"#N/A"},null,0,0,"","",0,0,0,0,0,0,0,null,null,null,null,null,null,0,null,null,null,null,null,0,0,0,0,{"$f":"IF(AE87=\"\",0,IF(AE87>100%,1,0))","v":0},0,0,null,null,null,0,null,0,0,0,null,null,null,"","",0,false,0,0,null,null,null,null,null,"R1EAQUEDUCT","R1EM1","AQUEDUCT","R1EM1","AQUEDUCT","R1E"]
[{"$error":"#N/A"},{"$error":"#N/A"},null,0,0,"","",0,0,0,0,0,0,0,null,null,null,null,null,null,0,null,null,null,null,null,0,0,0,0,{"$f":"IF(AE88=\"\",0,IF(AE88>100%,1,0))","v":0},0,0,null,null,null,0,null,0,0,0,null,null,null,"","",0,false,0,0,null,null,null,null,null,"R1EBARTON UNDER NEEDWOOD COTTAGE HOSPITAL","R1E04","BARTON UNDER NEEDWOOD COTTAGE HOSPITAL","R1E04","BARTON UNDER NEEDWOOD COTTAGE HOSPITAL","R1E"]
[{"$error":"#N/A"},{"$error":"#N/A"},null,0,0,"","",0,0,0,0,0,0,0,null,null,null,null,null,null,0,null,null,null,null,null,0,0,0,0,{"$f":"IF(AE89=\"\",0,IF(AE89>100%,1,0))","v":0},0,0,null,null,null,0,null,0,0,0,null,null,null,"","",0,false,0,0,null,null,null,null,null,"R1EBRADWELL HOSPITAL","R1EE5","BRADWELL HOSPITAL","R1EE5","BRADWELL HOSPITAL","R1E"]
[{"$error":"#N/A"},{"$error":"#N/A"},null,0,0,"","",0,0,0,0,0,0,0,null,null,null,null,null,null,0,null,null,null,null,null,0,0,0,0,{"$f":"IF(AE90=\"\",0,IF(AE90>100%,1,0))","v":0},0,0,null,null,null,0,null,{"$f":"IF(AB89=\"\",0, IF(AB89=\"-\",0,IF(AB89>100%,1,0)))","v":0},{"$f":"IF(AC89=\"\",0, IF(AC89=\"-\",0,IF(AC89>100%,1,0)))","v":0},{"$f":"IF(AD89=\"\",0, IF(AD89=\"-\",0,IF(AD89>100%,1,0)))","v":0},null,null,null,"","",0,false,0,0,null,null,null,null,null,"R1EBUCKNALL HOSPITAL","R1E74","BUCKNALL HOSPITAL","R1E74","BUCKNALL HOSPITAL","R1E"]
[{"$error":"#N/A"},{"$error":"#N/A"},null,0,0,"","",0,0,0,0,0,0,0,null,null,null,null,null,null,0,null,null,null,null,null,0,0,0,0,{"$f":"IF(AE91=\"\",0,IF(AE91>100%,1,0))","v":0},0,0,null,null,null,0,null,0,0,0,null,null,null,"","",0,false,0,0,null,null,null,null,null,"R1ECANNOCK CHASE HOSPITAL","R1E07","CANNOCK CHASE HOSPITAL","R1E07","CANNOCK CHASE HOSPITAL","R1E"]
[{"$error":"#N/A"},{"$error":"#N/A"},null,0,0,"","",0,0,0,0,0,0,0,null,null,null,null,null,null,0,null,null,null,null,null,0,0,0,0,{"$f":"IF(AE92=\"\",0,IF(AE92>100%,1,0))","v":0},0,0,null,null,null,0,null,0,0,0,null,null,null,"","",0,false,0,0,null,null,null,null,null,"R1ECHEADLE HOSPITAL","R1EE4","CHEADLE HOSPITAL","R1EE4","CHEADLE HOSPITAL","R1E"]
[{"$error":"#N/A"},{"$error":"#N/A"},null,0,0,"","",0,0,0,0,0,0,0,null,null,null,null,null,null,0,null,null,null,null,null,0,0,0,0,{"$f":"IF(AE93=\"\",0,IF(AE93>100%,1,0))","v":0},0,0,null,null,null,0,null,0,0,0,null,null,null,"","",0,false,0,0,null,null,null,null,null,"R1EDR PARIKH AND PARTNER","R1E97","DR PARIKH AND PARTNER","R1E97","DR PARIKH AND PARTNER","R1E"]
[{"$error":"#N/A"},{"$error":"#N/A"},null,0,0,"","",0,0,0,0,0,0,0,null,null,null,null,null,null,0,null,null,null,null,null,{"$f":"IF(AA94=\"\",0,IF(AA94>100%,1,0))","v":0},0,0,0,{"$f":"IF(AE94=\"\",0,IF(AE94>100%,1,0))","v":0},0,0,null,null,null,0,null,0,0,0,null,null,null,"","",0,false,0,0,null,null,null,null,null,"R1EDRUG LINK","R1EA2","DRUG LINK","R1EA2","DRUG LINK","R1E"]
[{"$error":"#N/A"},{"$error":"#N/A"},null,0,0,"","",0,0,0,0,0,0,0,null,null,null,null,null,null,0,null,null,null,null,null,0,0,0,0,{"$f":"IF(AE95=\"\",0,IF(AE95>100%,1,0))","v":0},0,0,null,null,null,0,null,0,0,0,null,null,null,"","",0,false,0,0,null,null,null,null,null,"R1EHAYWOOD HOSPITAL","R1E56","HAYWOOD HOSPITAL","R1E56","HAYWOOD HOSPITAL","R1E"]
[{"$error":"#N/A"},{"$error":"#N/A"},null,0,0,"","",0,0,0,0,0,0,0,null,null,null,null,null,null,0,null,null,null,null,null,0,0,0,0,{"$f":"IF(AE96=\"\",0,IF(AE96>100%,1,0))","v":0},0,0,null,null,null,0,null,0,0,0,null,null,null,"","",0,false,0,0,null,null,null,null,null,"R1EHILLTOP / ST MICHAELS","R1EA4","HILLTOP / ST MICHAELS","R1EA4","HILLTOP / ST MICHAELS","R1E"]
[{"$error":"#N/A"},{"$error":"#N/A"},null,0,0,"","",0,0,0,0,0,0,0,null,null,null,null,null,null,0,null,null,null,null,null,0,0,0,0,{"$f":"IF(AE97=\"\",0,IF(AE97>100%,1,0))","v":0},0,0,null,null,null,0,null,0,0,0,null,null,null,"","",0,false,0,0,null,null,null,null,null,"R1EKEELE UNIVERSITY","R1ED4","KEELE UNIVERSITY","R1ED4","KEELE UNIVERSITY","R1E"]
[{"$error":"#N/A"},{"$error":"#N/A"},null,0,0,"","",0,0,0,0,0,0,0,null,null,null,null,null,null,0,null,null,null,null,null,0,0,0,0,{"$f":"IF(AE98=\"\",0,IF(AE98>100%,1,0))","v":0},0,0,null,null,null,0,null,0,0,0,null,null,null,"","",0,false,0,0,null,null,null,null,null,"R1ELEEK MOORLANDS HOSPITAL","R1EE3","LEEK MOORLANDS HOSPITAL","R1EE3","LEEK MOORLANDS HOSPITAL","R1E"]
[{"$error":"#N/A"},{"$error":"#N/A"},null,0,0,"","",0,0,0,0,0,0,0,null,null,null,null,null,null,0,null,null,null,null,null,0,0,0,0,{"$f":"IF(AE99=\"\",0,IF(AE99>100%,1,0))","v":0},0,0,null,null,null,0,null,0,0,0,null,null,null,"","",0,false,0,0,null,null,null,null,null,"R1ELONGTON HOSPITAL","R1E75","LONGTON HOSPITAL","R1E75","LONGTON HOSPITAL","R1E"]
[{"$error":"#N/A"},{"$error":"#N/A"},null,0,0,"","",0,0,0,0,0,0,0,null,null,null,null,null,null,0,null,null,null,null,null,0,0,0,0,{"$f":"IF(AE100=\"\",0,IF(AE100>100%,1,0))","v":0},0,0,null,null,null,0,null,0,0,0,null,null,null,"","",0,false,0,0,null,null,null,null,null,"R1EMAIN BUILDING CITY GENERAL HOSPITAL","R1EH2","MAIN BUILDING CITY GENERAL HOSPITAL","R1EH2","MAIN BUILDING CITY GENERAL HOSPITAL","R1E"]
[{"$error":"#N/A"},{"$error":"#N/A"},null,0,0,"","",0,0,0,0,0,0,0,null,null,null,null,null,null,0,null,null,null,null,null,0,0,0,0,{"$f":"IF(AE101=\"\",0,IF(AE101>100%,1,0))","v":0},0,0,null,null,null,0,null,0,0,0,null,null,null,"","",0,false,0,0,null,null,null,null,null,"R1ENORTH STAFFS URGENT CARE","R1E89","NORTH STAFFS URGENT CARE","R1E89","NORTH STAFFS URGENT CARE","R1E"]
[{"$error":"#N/A"},{"$error":"#N/A"},null,0,0,"","",0,0,0,0,0,0,0,null,null,null,null,null,null,0,null,null,null,null,null,0,0,0,0,{"$f":"IF(AE102=\"\",0,IF(AE102>100%,1,0))","v":0},0,0,null,null,null,0,null,0,0,0,null,null,null,"","",0,false,0,0,null,null,null,null,null,"R1EOAKWOOD","R1EH1","OAKWOOD","R1EH1","OAKWOOD","R1E"]
[{"$error":"#N/A"},{"$error":"#N/A"},null,0,0,"","",0,0,0,0,0,0,0,null,null,null,null,null,null,0,null,null,null,null,null,0,0,0,0,{"$f":"IF(AE103=\"\",0,IF(AE103>100%,1,0))","v":0},0,0,null,null,null,0,null,0,0,0,null,null,null,"","",0,false,0,0,null,null,null,null,null,"R1EREHABILITATION MEDICINE","R1EL9","REHABILITATION MEDICINE","R1EL9","REHABILITATION MEDICINE","R1E"]
[{"$error":"#N/A"},{"$error":"#N/A"},null,0,0,"","",0,0,0,0,0,0,0,null,null,null,null,null,null,0,null,null,null,null,null,0,0,0,0,{"$f":"IF(AE104=\"\",0,IF(AE104>100%,1,0))","v":0},0,0,null,null,null,0,null,0,0,0,null,null,null,"","",0,false,0,0,null,null,null,null,null,"R1ESAMUEL JOHNSON COMMUNITY HOSPITAL","R1E28","SAMUEL JOHNSON COMMUNITY HOSPITAL","R1E28","SAMUEL JOHNSON COMMUNITY HOSPITAL","R1E"]
[{"$error":"#N/A"},{"$error":"#N/A"},null,0,0,"","",0,0,0,0,0,0,0,null,null,null,null,null,null,0,null,null,null,null,null,0,0,0,0,{"$f":"IF(AE105=\"\",0,IF(AE105>100%,1,0))","v":0},0,0,null,null,null,0,null,0,0,0,null,null,null,"","",0,false,0,0,null,null,null,null,null,"R1ESIR ROBERT PEEL HOSPITAL","R1E30","SIR ROBERT PEEL HOSPITAL","R1E30","SIR ROBERT PEEL HOSPITAL","R1E"]
[{"$error":"#N/A"},{"$error":"#N/A"},null,0,0,"","",0,0,0,0,0,0,0,null,null,null,null,null,null,0,null,null,null,null,null,0,0,0,0,{"$f":"IF(AE106=\"\",0,IF(AE106>100%,1,0))","v":0},0,0,null,null,null,0,null,0,0,0,null,null,null,"","",0,false,0,0,null,null,null,null,null,"R1EST MICHAEL'S HOSPITAL","R1E33","ST MICHAEL'S HOSPITAL","R1E33","ST MICHAEL'S HOSPITAL","R1E"]
[{"$error":"#N/A"},{"$error":"#N/A"},null,0,0,"","",0,0,0,0,0,0,0,null,null,null,null,null,null,0,null,null,null,null,null,0,0,0,0,{"$f":"IF(AE107=\"\",0,IF(AE107>100%,1,0))","v":0},0,0,null,null,null,0,null,0,0,0,null,null,null,"","",0,false,0,0,null,null,null,null,null,"R1ESTOKE SPEAKS OUT","R1EC4","STOKE SPEAKS OUT","R1EC4","STOKE SPEAKS OUT","R1E"]
[{"$error":"#N/A"},{"$error":"#N/A"},null,0,0,"","",0,0,0,0,0,0,0,null,null,null,null,null,null,0,null,null,null,null,null,0,0,0,0,{"$f":"IF(AE108=\"\",0,IF(AE108>100%,1,0))","v":0},0,0,null,null,null,0,null,0,0,0,null,null,null,"","",0,false,0,0,null,null,null,null,null,"R1ETHE MEADOWS RETIREMENT HOME","R1ED5","THE MEADOWS RETIREMENT HOME","R1ED5","THE MEADOWS RETIREMENT HOME","R1E"]
[{"$error":"#N/A"},{"$error":"#N/A"},null,0,0,"","",0,0,0,0,0,0,0,null,null,null,null,null,null,0,null,null,null,null,null,0,0,0,0,{"$f":"IF(AE109=\"\",0,IF(AE109>100%,1,0))","v":0},0,0,null,null,null,0,null,0,0,0,null,null,null,"","",0,false,0,0,null,null,null,null,null,"R1EUNIVERSITY HOSPITAL OF NORTH STAFFS","R1E58","UNIVERSITY HOSPITAL OF NORTH STAFFS","R1E58","UNIVERSITY HOSPITAL OF NORTH STAFFS","R1E"]
[{"$f":"VLOOKUP($D110,$BE:$BE,1,0)","v":{"$error":"#N/A"}},{"$f":"VLOOKUP($E110,$BF:$BF,1,0)","v":{"$error":"#N/A"}},null,{"$f":"IF(D110=\"\",0,IF(ISERROR(VLOOKUP(D110,$BE$3:$BE$249,1,0)),0,IF(VLOOKUP(D110,$BE$3:$BI$249,5,0)=$B$8,0,1)))","v":0},0,"","",0,0,{"$f":"IF(G110=\"\",0,IF(ISERROR(VLOOKUP(G110,$AH$14:$AH$98,1,FALSE)),1,0))","v":0},{"$f":"IF(H110=\"\",0,IF(ISERROR(VLOOKUP(H110,$AH$14:$AH$98,1,FALSE)),1,0))","v":0},0,0,0,null,null,null,null,null,null,0,null,null,null,null,null,{"$f":"IF(AA110=\"\",0,IF(AA110>100%,1,0))","v":0},0,0,0,{"$f":"IF(AE110=\"\",0,IF(AE110>100%,1,0))","v":0},0,0,null,null,null,0,null,0,0,0,null,null,null,"","",0,false,0,0,null,null,null,null,null,"R1EWHITFIELD UNIT","R1EL4","WHITFIELD UNIT","R1EL4","WHITFIELD UNIT","R1E"]
[{"$error":"#N/A"},{"$error":"#N/A"},null,0,0,"","",0,0,0,0,0,0,0,null,null,null,null,null,null,0,null,null,null,null,null,0,0,0,0,{"$f":"IF(AE111=\"\",0,IF(AE111>100%,1,0))","v":0},0,0,null,null,null,{"$f":"IF(AA110=\"\",0, IF(AA110=\"-\",0,IF(AA110>100%,1,0)))","v":0},null,0,0,0,null,null,null,"",{"$f":"IF(AS312=\"\",\"\",(IF(COUNTIF($AS$216:$AS$414,AS312)>1,1,0))=1)","v":""},0,{"$f":"IF(E110=\"\",(COUNTA(E111)=1),\"Complete\")","v":false},0,0,null,null,null,null,null,"R1FST MARY'S HOSPITAL","R1F01","ST MARY'S HOSPITAL","R1F01","ST MARY'S HOSPITAL","R1F"]
[{"$error":"#N/A"},{"$error":"#N/A"},null,0,0,"","",0,0,0,0,0,0,0,null,null,null,null,null,null,0,null,null,null,null,null,0,0,0,0,{"$f":"IF(AE112=\"\",0,IF(AE112>100%,1,0))","v":0},0,0,null,null,null,0,null,0,0,0,null,null,null,"","",0,false,0,0,null,null,null,null,null,"R1GASHBURTON AND BUCKFASTLEIGH HOSPITAL","R1G09","ASHBURTON AND BUCKFASTLEIGH HOSPITAL","R1G09","ASHBURTON AND BUCKFASTLEIGH HOSPITAL","R1G"]
[{"$error":"#N/A"},{"$error":"#N/A"},null,0,0,"","",0,0,0,0,0,0,0,null,null,null,null,null,null,0,null,null,null,null,null,0,0,0,0,{"$f":"IF(AE113=\"\",0,IF(AE113>100%,1,0))","v":0},0,0,null,null,null,0,null,0,0,0,null,null,null,"","",0,false,0,0,null,null,null,null,null,"R1GBOVEY TRACEY HOSPITAL","R1G54","BOVEY TRACEY HOSPITAL","R1G54","BOVEY TRACEY HOSPITAL","R1G"]
[{"$error":"#N/A"},{"$error":"#N/A"},null,0,0,"","",0,0,0,0,0,0,0,null,null,null,null,null,null,0,null,null,null,null,null,0,0,0,0,{"$f":"IF(AE114=\"\",0,IF(AE114>100%,1,0))","v":0},0,0,null,null,null,0,null,0,0,0,null,null,null,"","",0,false,0,0,null,null,null,null,null,"R1GBRISEHAM UNIT","R1G06","BRISEHAM UNIT","R1G06","BRISEHAM UNIT","R1G"]
[{"$error":"#N/A"},{"$error":"#N/A"},null,0,0,"","",0,0,0,0,0,0,0,null,null,null,null,null,null,0,null,null,null,null,null,0,0,0,0,{"$f":"IF(AE115=\"\",0,IF(AE115>100%,1,0))","v":0},0,0,null,null,null,0,null,0,0,0,null,null,null,"","",0,false,0,0,null,null,null,null,null,"R1GBRIXHAM CARERS","R1G65","BRIXHAM CARERS","R1G65","BRIXHAM CARERS","R1G"]
[{"$error":"#N/A"},{"$error":"#N/A"},null,0,0,"","",0,0,0,0,0,0,0,null,null,null,null,null,null,0,null,null,null,null,null,0,0,0,0,{"$f":"IF(AE116=\"\",0,IF(AE116>100%,1,0))","v":0},0,0,null,null,null,0,null,0,0,0,null,null,null,"","",0,false,0,0,null,null,null,null,null,"R1GBRIXHAM HOSPITAL","R1G02","BRIXHAM HOSPITAL","R1G02","BRIXHAM HOSPITAL","R1G"]
[{"$error":"#N/A"},{"$error":"#N/A"},null,0,0,"","",0,0,0,0,0,0,0,null,null,null,null,null,null,0,null,null,null,null,null,0,0,0,0,{"$f":"IF(AE117=\"\",0,IF(AE117>100%,1,0))","v":0},0,0,null,null,null,0,null,0,0,0,null,null,null,"","",0,false,0,0,null,null,null,null,null,"R1GBRIXHAM MIU","R1G66","BRIXHAM MIU","R1G66","BRIXHAM MIU","R1G"]
[{"$error":"#N/A"},{"$error":"#N/A"},null,0,0,"","",0,0,0,0,0,0,0,null,null,null,null,null,null,0,null,null,null,null,null,0,0,0,0,{"$f":"IF(AE118=\"\",0,IF(AE118>100%,1,0))","v":0},0,0,null,null,null,0,null,0,0,0,null,null,null,"","",0,false,0,0,null,null,null,null,null,"R1GCHADWELL OPMH","R1G68","CHADWELL OPMH","R1G68","CHADWELL OPMH","R1G"]
[{"$error":"#N/A"},{"$error":"#N/A"},null,0,0,"","",0,0,0,0,0,0,0,null,null,null,null,null,null,0,null,null,null,null,null,0,0,0,0,{"$f":"IF(AE119=\"\",0,IF(AE119>100%,1,0))","v":0},0,0,null,null,null,0,null,0,0,0,null,null,null,"","",0,false,0,0,null,null,null,null,null,"R1GDARTMOUTH HOSPITAL","R1G10","DARTMOUTH HOSPITAL","R1G10","DARTMOUTH HOSPITAL","R1G"]
[{"$error":"#N/A"},{"$error":"#N/A"},null,0,0,"","",0,0,0,0,0,0,0,null,null,null,null,null,null,0,null,null,null,null,null,0,0,0,0,{"$f":"IF(AE120=\"\",0,IF(AE120>100%,1,0))","v":0},0,0,null,null,null,0,null,0,0,0,null,null,null,"","",0,false,0,0,null,null,null,null,null,"R1GDAWLISH HOSPITAL","R1G11","DAWLISH HOSPITAL","R1G11","DAWLISH HOSPITAL","R1G"]
[{"$error":"#N/A"},{"$error":"#N/A"},null,0,0,"","",0,0,0,0,0,0,0,null,null,null,null,null,null,0,null,null,null,null,null,0,0,0,0,{"$f":"IF(AE121=\"\",0,IF(AE121>100%,1,0))","v":0},0,0,null,null,null,0,null,0,0,0,null,null,null,"","",0,false,0,0,null,null,null,null,null,"R1GNEWTON ABBOT HOSPITAL","R1G12","NEWTON ABBOT HOSPITAL","R1G12","NEWTON ABBOT HOSPITAL","R1G"]
[{"$error":"#N/A"},{"$error":"#N/A"},null,0,0,"","",0,0,0,0,0,0,0,null,null,null,null,null,null,0,null,null,null,null,null,0,0,0,0,{"$f":"IF(AE122=\"\",0,IF(AE122>100%,1,0))","v":0},0,0,null,null,null,0,null,0,0,0,null,null,null,"","",0,false,0,0,null,null,null,null,null,"R1GNHS CONTINUING CARE RETROSPECTIVE REVIEW","R1G48","NHS CONTINUING CARE RETROSPECTIVE REVIEW","R1G48","NHS CONTINUING CARE RETROSPECTIVE REVIEW","R1G"]
[{"$error":"#N/A"},{"$error":"#N/A"},null,0,0,"","",0,0,0,0,0,0,0,null,null,null,null,null,null,0,null,null,null,null,null,0,0,0,0,{"$f":"IF(AE123=\"\",0,IF(AE123>100%,1,0))","v":0},0,0,null,null,null,0,null,0,0,0,null,null,null,"","",0,false,0,0,null,null,null,null,null,"R1GPAIGNTON HOSPITAL","R1G01","PAIGNTON HOSPITAL","R1G01","PAIGNTON HOSPITAL","R1G"]
[{"$error":"#N/A"},{"$error":"#N/A"},null,0,0,"","",0,0,0,0,0,0,0,null,null,null,null,null,null,0,null,null,null,null,null,0,0,0,0,{"$f":"IF(AE124=\"\",0,IF(AE124>100%,1,0))","v":0},0,0,null,null,null,0,null,0,0,0,null,null,null,"","",0,false,0,0,null,null,null,null,null,"R1GSAFER COMMUNITIES TORBAY","R1G51","SAFER COMMUNITIES TORBAY","R1G51","SAFER COMMUNITIES TORBAY","R1G"]
[{"$error":"#N/A"},{"$error":"#N/A"},null,0,0,"","",0,0,0,0,0,0,0,null,null,null,null,null,null,0,null,null,null,null,null,0,0,0,0,{"$f":"IF(AE125=\"\",0,IF(AE125>100%,1,0))","v":0},0,0,null,null,null,0,null,0,0,0,null,null,null,"","",0,false,0,0,null,null,null,null,null,"R1GSOUTH HAMS (KINGSBRIDGE) HOSPITAL","R1G55","SOUTH HAMS (KINGSBRIDGE) HOSPITAL","R1G55","SOUTH HAMS (KINGSBRIDGE) HOSPITAL","R1G"]
[{"$error":"#N/A"},{"$error":"#N/A"},null,0,0,"","",0,0,0,0,0,0,0,null,null,null,null,null,null,0,null,null,null,null,null,{"$f":"IF(AA126=\"\",0,IF(AA126>100%,1,0))","v":0},0,0,0,{"$f":"IF(AE126=\"\",0,IF(AE126>100%,1,0))","v":0},0,0,null,null,null,0,null,0,0,0,null,null,null,"","",0,false,0,0,null,null,null,null,null,"R1GST EDMUNDS","R1G08","ST EDMUNDS","R1G08","ST EDMUNDS","R1G"]
[{"$error":"#N/A"},{"$error":"#N/A"},null,0,0,"","",0,0,0,0,0,0,0,null,null,null,null,null,null,0,null,null,null,null,null,0,0,0,0,{"$f":"IF(AE127=\"\",0,IF(AE127>100%,1,0))","v":0},0,0,null,null,null,0,null,0,0,0,null,null,null,"","",0,false,0,0,null,null,null,null,null,"R1GTAVISTOCK HOSPITAL","R1G56","TAVISTOCK HOSPITAL","R1G56","TAVISTOCK HOSPITAL","R1G"]
[{"$error":"#N/A"},{"$error":"#N/A"},null,0,0,"","",0,0,0,0,0,0,0,null,null,null,null,null,null,0,null,null,null,null,null,0,0,0,0,{"$f":"IF(AE128=\"\",0,IF(AE128>100%,1,0))","v":0},0,0,null,null,null,0,null,0,0,0,null,null,null,"","",0,false,0,0,null,null,null,null,null,"R1GTEIGNMOUTH HOSPITAL","R1G13","TEIGNMOUTH HOSPITAL","R1G13","TEIGNMOUTH HOSPITAL","R1G"]
[{"$error":"#N/A"},{"$error":"#N/A"},null,0,0,"","",0,0,0,0,0,0,0,null,null,null,null,null,null,0,null,null,null,null,null,0,0,0,0,{"$f":"IF(AE129=\"\",0,IF(AE129>100%,1,0))","v":0},0,0,null,null,null,0,null,0,0,0,null,null,null,"","",0,false,0,0,null,null,null,null,null,"R1GTOTNES HOSPITAL","R1G14","TOTNES HOSPITAL","R1G14","TOTNES HOSPITAL","R1G"]
[{"$error":"#N/A"},{"$error":"#N/A"},null,0,0,"","",0,0,0,0,0,0,0,null,null,null,null,null,null,0,null,null,null,null,null,0,0,0,0,{"$f":"IF(AE130=\"\",0,IF(AE130>100%,1,0))","v":0},0,0,null,null,null,0,null,0,0,0,null,null,null,"","",0,false,0,0,null,null,null,null,null,"R1GUNIT 3","R1G64","UNIT 3","R1G64","UNIT 3","R1G"]
[{"$error":"#N/A"},{"$error":"#N/A"},null,0,0,"","",0,0,0,0,0,0,0,null,null,null,null,null,null,0,null,null,null,null,null,0,0,0,0,{"$f":"IF(AE131=\"\",0,IF(AE131>100%,1,0))","v":0},0,0,null,null,null,0,null,0,0,0,null,null,null,"","",0,false,0,0,null,null,null,null,null,{"$f":"CONCATENATE(LEFT(BE332, 3),BF332)","v":"R1HAINSLEY UNIT"},"R1H42","AINSLEY UNIT","R1H42","AINSLEY UNIT",{"$f":"LEFT(BG332,3)","v":"R1H"}]
[{"$error":"#N/A"},{"$error":"#N/A"},null,0,0,"","",0,0,0,0,0,0,0,null,null,null,null,null,null,0,null,null,null,null,null,0,0,0,0,{"$f":"IF(AE132=\"\",0,IF(AE132>100%,1,0))","v":0},0,0,null,null,null,0,null,0,0,0,null,null,null,"","",0,false,0,0,null,null,null,null,null,"R1HBLT BIRTH CENTRE","R1H90","BLT BIRTH CENTRE","R1H90","BLT BIRTH CENTRE","R1H"]
[{"$error":"#N/A"},{"$error":"#N/A"},null,0,0,"","",0,0,0,0,0,0,0,null,null,null,null,null,null,0,null,null,null,null,null,0,0,0,0,{"$f":"IF(AE133=\"\",0,IF(AE133>100%,1,0))","v":0},0,0,null,null,null,0,null,0,0,0,null,null,null,"","",0,false,0,0,null,null,null,null,null,"R1HBLT PRIVATE HOSPITALS","R1H86","BLT PRIVATE HOSPITALS","R1H86","BLT PRIVATE HOSPITALS","R1H"]
[{"$error":"#N/A"},{"$error":"#N/A"},null,0,0,"","",0,0,0,0,0,0,0,null,null,null,null,null,null,0,null,null,null,null,null,0,0,0,0,{"$f":"IF(AE134=\"\",0,IF(AE134>100%,1,0))","v":0},0,0,null,null,null,0,null,0,0,0,null,null,null,"","",0,false,0,0,null,null,null,null,null,"R1HGATEWAY SURGICAL CENTRE","R1H11","GATEWAY SURGICAL CENTRE","R1H11","GATEWAY SURGICAL CENTRE","R1H"]
[{"$error":"#N/A"},{"$error":"#N/A"},null,0,0,"","",0,0,0,0,0,0,0,null,null,null,null,null,null,0,null,null,null,null,null,0,0,0,0,{"$f":"IF(AE135=\"\",0,IF(AE135>100%,1,0))","v":0},0,0,null,null,null,0,null,0,0,0,null,null,null,"","",0,false,0,0,null,null,null,null,null,"R1HMILE END HOSPITAL","R1H13","MILE END HOSPITAL","R1H13","MILE END HOSPITAL","R1H"]
[{"$error":"#N/A"},{"$error":"#N/A"},null,0,0,"","",0,0,0,0,0,0,0,null,null,null,null,null,null,0,null,null,null,null,null,0,0,0,0,{"$f":"IF(AE136=\"\",0,IF(AE136>100%,1,0))","v":0},0,0,null,null,null,0,null,0,0,0,null,null,null,"","",0,false,0,0,null,null,null,null,null,"R1HNEWHAM GENERAL HOSPITAL","R1HNH","NEWHAM GENERAL HOSPITAL","R1HNH","NEWHAM GENERAL HOSPITAL","R1H"]
[{"$error":"#N/A"},{"$error":"#N/A"},null,0,0,"","",0,0,0,0,0,0,0,null,null,null,null,null,null,0,null,null,null,null,null,0,0,0,0,{"$f":"IF(AE137=\"\",0,IF(AE137>100%,1,0))","v":0},0,0,null,null,null,0,null,0,0,0,null,null,null,"","",0,false,0,0,null,null,null,null,null,"R1HST BARTHOLOMEW'S HOSPITAL","R1HM0","ST BARTHOLOMEW'S HOSPITAL","R1HM0","ST BARTHOLOMEW'S HOSPITAL","R1H"]
[{"$error":"#N/A"},{"$error":"#N/A"},null,0,0,"","",0,0,0,0,0,0,0,null,null,null,null,null,null,0,null,null,null,null,null,0,0,0,0,{"$f":"IF(AE138=\"\",0,IF(AE138>100%,1,0))","v":0},0,0,null,null,null,0,null,0,0,0,null,null,null,"","",0,false,0,0,null,null,null,null,null,"R1HTHE LONDON CHEST HOSPITAL","R1H83","THE LONDON CHEST HOSPITAL","R1H83","THE LONDON CHEST HOSPITAL","R1H"]
[{"$error":"#N/A"},{"$error":"#N/A"},null,0,0,"","",0,0,0,0,0,0,0,null,null,null,null,null,null,0,null,null,null,null,null,0,0,0,0,{"$f":"IF(AE139=\"\",0,IF(AE139>100%,1,0))","v":0},0,0,null,null,null,0,null,0,0,0,null,null,null,"","",0,false,0,0,null,null,null,null,null,"R1HTHE ROYAL LONDON HOSPITAL","R1H12","THE ROYAL LONDON HOSPITAL","R1H12","THE ROYAL LONDON HOSPITAL","R1H"]
[{"$error":"#N/A"},{"$error":"#N/A"},null,0,0,"","",0,0,0,0,0,0,0,null,null,null,null,null,null,0,null,null,null,null,null,0,0,0,0,{"$f":"IF(AE140=\"\",0,IF(AE140>100%,1,0))","v":0},0,0,null,null,null,0,null,0,0,0,null,null,null,"","",0,false,0,0,null,null,null,null,null,"R1HWHIPPS CROSS AT SILVERTHORN MEDICAL","R1HMC","WHIPPS CROSS AT SILVERTHORN MEDICAL","R1HMC","WHIPPS CROSS AT SILVERTHORN MEDICAL","R1H"]
[{"$error":"#N/A"},{"$error":"#N/A"},null,0,0,"","",0,0,0,0,0,0,0,null,null,null,null,null,null,0,null,null,null,null,null,0,0,0,0,{"$f":"IF(AE141=\"\",0,IF(AE141>100%,1,0))","v":0},0,0,null,null,null,0,null,0,0,0,null,null,null,"","",0,false,0,0,null,null,null,null,null,"R1HWHIPPS CROSS UNIVERSITY HOSPITAL","R1HKH","WHIPPS CROSS UNIVERSITY HOSPITAL","R1HKH","WHIPPS CROSS UNIVERSITY HOSPITAL","R1H"]
[{"$f":"VLOOKUP($D142,$BE:$BE,1,0)","v":{"$error":"#N/A"}},{"$f":"VLOOKUP($E142,$BF:$BF,1,0)","v":{"$error":"#N/A"}},null,{"$f":"IF(D142=\"\",0,IF(ISERROR(VLOOKUP(D142,$BE$3:$BE$249,1,0)),0,IF(VLOOKUP(D142,$BE$3:$BI$249,5,0)=$B$8,0,1)))","v":0},0,"","",0,0,{"$f":"IF(G142=\"\",0,IF(ISERROR(VLOOKUP(G142,$AH$14:$AH$98,1,FALSE)),1,0))","v":0},{"$f":"IF(H142=\"\",0,IF(ISERROR(VLOOKUP(H142,$AH$14:$AH$98,1,FALSE)),1,0))","v":0},0,0,0,null,null,null,null,null,null,0,null,null,null,null,null,{"$f":"IF(AA142=\"\",0,IF(AA142>100%,1,0))","v":0},0,0,0,{"$f":"IF(AE142=\"\",0,IF(AE142>100%,1,0))","v":0},0,0,null,null,null,0,null,0,0,0,null,null,null,"","",0,false,0,0,null,null,null,null,null,"R1JBADGERS CROFT","R1J51","BADGERS CROFT","R1J51","BADGERS CROFT","R1J"]
[{"$error":"#N/A"},{"$error":"#N/A"},null,0,{"$f":"IF(E143=\"\",0,IF(G143=\"\",1,0))","v":0},{"$f":"IF(E143=\"\",\"\",IF(SUM(I143,K143,M143,O143)=0,1,0))","v":""},{"$f":"IF(E143=\"\",\"\",IF(SUM(J143,L143,N143,P143)=0,1,0))","v":""},{"$f":"IF(E143=\"\",0,IF(SUM(I143:P143)<1448,1,0))","v":0},{"$f":"IF(E143=\"\",0,IF((J143+L143+N143+P143)>30000,1,0))","v":0},0,0,{"$f":"IF(E143=\"\",0,IF(D143=\"\",1,0))","v":0},{"$f":"IF(OR(I143<>\"\",K143<>\"\",J143<>\"\",L143<>\"\",M143<>\"\",N143<>\"\",O143<>\"\",P143<>\"\",F143<>\"\",G143<>\"\",H143<>\"\",Q143<>\"\",R143<>\"\",S143<>\"\",T143<>\"\",U143<>\"\"),IF(E143=\"\",1,0),0)","v":0},{"$f":"IF(E143=\"\",0,IF(F143=\"\",1,0))","v":0},null,null,null,null,null,null,{"$f":"IF(AND(SUM(J143,L143,N143,P143,R143,T143)>0,U143=0),1,0)","v":0},null,null,null,null,null,0,0,0,0,{"$f":"IF(AE143=\"\",0,IF(AE143>100%,1,0))","v":0},0,{"$f":"SUM(H344:AF344)","v":0},null,null,null,{"$f":"IF(AA142=\"\",0, IF(AA142=\"-\",0,IF(AA142>100%,1,0)))","v":0},null,0,0,0,null,null,null,"",{"$f":"IF(AS344=\"\",\"\",(IF(COUNTIF($AS$216:$AS$414,AS344)>1,1,0))=1)","v":""},0,{"$f":"IF(E142=\"\",(COUNTA(E143)=1),\"Complete\")","v":false},0,{"$f":"IF(G142=\"\",0,IF(G142=H142,1,0))","v":0},null,null,null,null,null,"R1JBVALE ASSESS & TREAT (ICATS)","R1J90","BVALE ASSESS & TREAT (ICATS)","R1J90","BVALE ASSESS & TREAT (ICATS)","R1J"]
[{"$error":"#N/A"},{"$error":"#N/A"},null,0,0,"","",0,0,0,0,0,0,0,null,null,null,null,null,null,0,null,null,null,null,null,0,0,0,0,{"$f":"IF(AE144=\"\",0,IF(AE144>100%,1,0))","v":0},0,0,null,null,null,0,null,0,0,0,null,null,null,{"$f":"CONCATENATE(D143,E143,F143)","v":""},"",{"$f":"IF(AT345=TRUE,1,0)","v":0},false,{"$f":"IF(AV345=\"Complete\",0, IF(AV345=TRUE, 1, IF(AV345=FALSE,0,0)))","v":0},0,null,null,null,null,null,"R1JCHELTENHAM GENERAL HOSPITAL","R1J05","CHELTENHAM GENERAL HOSPITAL","R1J05","CHELTENHAM GENERAL HOSPITAL","R1J"]
[{"$error":"#N/A"},{"$error":"#N/A"},null,0,0,"","",0,0,0,0,0,0,0,null,null,null,null,null,null,0,null,null,null,null,null,0,0,0,0,{"$f":"IF(AE145=\"\",0,IF(AE145>100%,1,0))","v":0},0,0,null,null,null,0,null,0,0,0,null,null,null,"","",0,false,0,0,null,null,null,null,null,"R1JCIRENCESTER HOSPITAL","R1J06","CIRENCESTER HOSPITAL","R1J06","CIRENCESTER HOSPITAL","R1J"]
[{"$error":"#N/A"},{"$error":"#N/A"},null,0,0,"","",0,0,0,0,0,0,0,null,null,null,null,null,null,0,null,null,null,null,null,0,0,0,0,{"$f":"IF(AE146=\"\",0,IF(AE146>100%,1,0))","v":0},0,0,null,null,null,0,null,0,0,0,null,null,null,"","",0,false,0,0,null,null,null,null,null,"R1JDERMATOLOGY GPSI-TEWKESBURY","R1J92","DERMATOLOGY GPSI-TEWKESBURY","R1J92","DERMATOLOGY GPSI-TEWKESBURY","R1J"]
[{"$error":"#N/A"},{"$error":"#N/A"},null,0,0,"","",0,0,0,0,0,0,0,null,null,null,null,null,null,0,null,null,null,null,null,0,0,0,0,{"$f":"IF(AE147=\"\",0,IF(AE147>100%,1,0))","v":0},0,0,null,null,null,0,null,0,0,0,null,null,null,"","",0,false,0,0,null,null,null,null,null,"R1JDILKE MEMORIAL HOSPITAL","R1J10","DILKE MEMORIAL HOSPITAL","R1J10","DILKE MEMORIAL HOSPITAL","R1J"]
[{"$error":"#N/A"},{"$error":"#N/A"},null,0,0,"","",0,0,0,0,0,0,0,null,null,null,null,null,null,0,null,null,null,null,null,0,0,0,0,{"$f":"IF(AE148=\"\",0,IF(AE148>100%,1,0))","v":0},0,0,null,null,null,0,null,0,0,0,null,null,null,"","",0,false,0,0,null,null,null,null,null,"R1JFAIRFORD HOSPITAL","R1J12","FAIRFORD HOSPITAL","R1J12","FAIRFORD HOSPITAL","R1J"]
[{"$error":"#N/A"},{"$error":"#N/A"},null,0,0,"","",0,0,0,0,0,0,0,null,null,null,null,null,null,0,null,null,null,null,null,0,0,0,0,{"$f":"IF(AE149=\"\",0,IF(AE149>100%,1,0))","v":0},0,0,null,null,null,0,null,0,0,0,null,null,null,"","",0,false,0,0,null,null,null,null,null,"R1JGLOUCESTER EAPC","R1J64","GLOUCESTER EAPC","R1J64","GLOUCESTER EAPC","R1J"]
[{"$error":"#N/A"},{"$error":"#N/A"},null,0,0,"","",0,0,0,0,0,0,0,null,null,null,null,null,null,0,null,null,null,null,null,0,0,0,0,{"$f":"IF(AE150=\"\",0,IF(AE150>100%,1,0))","v":0},0,0,null,null,null,0,null,0,0,0,null,null,null,"","",0,false,0,0,null,null,null,null,null,"R1JGLOUCESTERSHIRE ROYAL HOSPITAL","R1J04","GLOUCESTERSHIRE ROYAL HOSPITAL","R1J04","GLOUCESTERSHIRE ROYAL HOSPITAL","R1J"]
[{"$error":"#N/A"},{"$error":"#N/A"},null,0,0,"","",0,0,0,0,0,0,0,null,null,null,null,null,null,0,null,null,null,null,null,0,0,0,0,{"$f":"IF(AE151=\"\",0,IF(AE151>100%,1,0))","v":0},0,0,null,null,null,0,null,0,0,0,null,null,null,"","",0,false,0,0,null,null,null,null,null,"R1JGWC INTERMEDIATE CARE","R1J84","GWC INTERMEDIATE CARE","R1J84","GWC INTERMEDIATE CARE","R1J"]
[{"$error":"#N/A"},{"$error":"#N/A"},null,0,0,"","",0,0,0,0,0,0,0,null,null,null,null,null,null,0,null,null,null,null,null,0,0,0,0,{"$f":"IF(AE152=\"\",0,IF(AE152>100%,1,0))","v":0},0,0,null,null,null,0,null,0,0,0,null,null,null,"","",0,false,0,0,null,null,null,null,null,"R1JLYDNEY & DISTRICT HOSPITAL SITE","R1J11","LYDNEY & DISTRICT HOSPITAL SITE","R1J11","LYDNEY & DISTRICT HOSPITAL SITE","R1J"]
[{"$error":"#N/A"},{"$error":"#N/A"},null,0,0,"","",0,0,0,0,0,0,0,null,null,null,null,null,null,0,null,null,null,null,null,0,0,0,0,{"$f":"IF(AE153=\"\",0,IF(AE153>100%,1,0))","v":0},0,0,null,null,null,0,null,0,0,0,null,null,null,"","",0,false,0,0,null,null,null,null,null,"R1JMOORE COTTAGE HOSPITAL","R1J14","MOORE COTTAGE HOSPITAL","R1J14","MOORE COTTAGE HOSPITAL","R1J"]
[{"$error":"#N/A"},{"$error":"#N/A"},null,0,0,"","",0,0,0,0,0,0,0,null,null,null,null,null,null,0,null,null,null,null,null,0,0,0,0,{"$f":"IF(AE154=\"\",0,IF(AE154>100%,1,0))","v":0},0,0,null,null,null,0,null,{"$f":"IF(AB153=\"\",0, IF(AB153=\"-\",0,IF(AB153>100%,1,0)))","v":0},{"$f":"IF(AC153=\"\",0, IF(AC153=\"-\",0,IF(AC153>100%,1,0)))","v":0},{"$f":"IF(AD153=\"\",0, IF(AD153=\"-\",0,IF(AD153>100%,1,0)))","v":0},null,null,null,"","",0,false,0,0,null,null,null,null,null,"R1JNEW TEWKESBURY COMMUNITY HOSPITAL","R1J18","NEW TEWKESBURY COMMUNITY HOSPITAL","R1J18","NEW TEWKESBURY COMMUNITY HOSPITAL","R1J"]
[{"$error":"#N/A"},{"$error":"#N/A"},null,0,0,"","",0,0,0,0,0,0,0,null,null,null,null,null,null,0,null,null,null,null,null,0,0,0,0,{"$f":"IF(AE155=\"\",0,IF(AE155>100%,1,0))","v":0},0,0,null,null,null,0,null,0,0,0,null,null,null,"","",0,false,0,0,null,null,null,null,null,"R1JNORTH COTSWOLD HOSPITAL","R1J21","NORTH COTSWOLD HOSPITAL","R1J21","NORTH COTSWOLD HOSPITAL","R1J"]
[{"$error":"#N/A"},{"$error":"#N/A"},null,0,0,"","",0,0,0,0,0,0,0,null,null,null,null,null,null,0,null,null,null,null,null,0,0,0,0,{"$f":"IF(AE156=\"\",0,IF(AE156>100%,1,0))","v":0},0,0,null,null,null,0,null,0,0,0,null,null,null,"","",0,false,0,0,null,null,null,null,null,"R1JNORTH COTSWOLDS INTERMEDIATE CARE UNIT","R1J94","NORTH COTSWOLDS INTERMEDIATE CARE UNIT","R1J94","NORTH COTSWOLDS INTERMEDIATE CARE UNIT","R1J"]
[{"$error":"#N/A"},{"$error":"#N/A"},null,0,0,"","",0,0,0,0,0,0,0,null,null,null,null,null,null,0,null,null,null,null,null,0,0,0,0,{"$f":"IF(AE157=\"\",0,IF(AE157>100%,1,0))","v":0},0,0,null,null,null,0,null,0,0,0,null,null,null,"","",0,false,0,0,null,null,null,null,null,"R1JREDWOOD","R1JAT","REDWOOD","R1JAT","REDWOOD","R1J"]
[{"$error":"#N/A"},{"$error":"#N/A"},null,0,0,"","",0,0,0,0,0,0,0,null,null,null,null,null,null,0,null,null,null,null,null,{"$f":"IF(AA158=\"\",0,IF(AA158>100%,1,0))","v":0},0,0,0,{"$f":"IF(AE158=\"\",0,IF(AE158>100%,1,0))","v":0},0,0,null,null,null,0,null,0,0,0,null,null,null,"","",0,false,0,0,null,null,null,null,null,"R1JSOUTHGATE MOORINGS","R1J58","SOUTHGATE MOORINGS","R1J58","SOUTHGATE MOORINGS","R1J"]
[{"$error":"#N/A"},{"$error":"#N/A"},null,0,0,"","",0,0,0,0,0,0,0,null,null,null,null,null,null,0,null,null,null,null,null,0,0,0,0,{"$f":"IF(AE159=\"\",0,IF(AE159>100%,1,0))","v":0},0,0,null,null,null,0,null,0,0,0,null,null,null,"","",0,false,0,0,null,null,null,null,null,"R1JSTROUD GENERAL HOSPITAL","R1J13","STROUD GENERAL HOSPITAL","R1J13","STROUD GENERAL HOSPITAL","R1J"]
[{"$error":"#N/A"},{"$error":"#N/A"},null,0,0,"","",0,0,0,0,0,0,0,null,null,null,null,null,null,0,null,null,null,null,null,0,0,0,0,{"$f":"IF(AE160=\"\",0,IF(AE160>100%,1,0))","v":0},0,0,null,null,null,0,null,0,0,0,null,null,null,"","",0,false,0,0,null,null,null,null,null,"R1JSUE RYDER CARE HOME","R1J17","SUE RYDER CARE HOME","R1J17","SUE RYDER CARE HOME","R1J"]
[{"$error":"#N/A"},{"$error":"#N/A"},null,0,0,"","",0,0,0,0,0,0,0,null,null,null,null,null,null,0,null,null,null,null,null,0,0,0,0,{"$f":"IF(AE161=\"\",0,IF(AE161>100%,1,0))","v":0},0,0,null,null,null,0,null,0,0,0,null,null,null,"","",0,false,0,0,null,null,null,null,null,"R1JTETBURY HOSPITAL","R1J16","TETBURY HOSPITAL","R1J16","TETBURY HOSPITAL","R1J"]
[{"$error":"#N/A"},{"$error":"#N/A"},null,0,0,"","",0,0,0,0,0,0,0,null,null,null,null,null,null,0,null,null,null,null,null,0,0,0,0,{"$f":"IF(AE162=\"\",0,IF(AE162>100%,1,0))","v":0},0,0,null,null,null,0,null,0,0,0,null,null,null,"","",0,false,0,0,null,null,null,null,null,"R1JTEWKESBURY HOSPITAL","R1J08","TEWKESBURY HOSPITAL","R1J08","TEWKESBURY HOSPITAL","R1J"]
[{"$error":"#N/A"},{"$error":"#N/A"},null,0,0,"","",0,0,0,0,0,0,0,null,null,null,null,null,null,0,null,null,null,null,null,0,0,0,0,{"$f":"IF(AE163=\"\",0,IF(AE163>100%,1,0))","v":0},0,0,null,null,null,0,null,0,0,0,null,null,null,"","",0,false,0,0,null,null,null,null,null,"R1JTHE WINCHCOMBE UNIT","R1J15","THE WINCHCOMBE UNIT","R1J15","THE WINCHCOMBE UNIT","R1J"]
[{"$error":"#N/A"},{"$error":"#N/A"},null,0,0,"","",0,0,0,0,0,0,0,null,null,null,null,null,null,0,null,null,null,null,null,0,0,0,0,{"$f":"IF(AE164=\"\",0,IF(AE164>100%,1,0))","v":0},0,0,null,null,null,0,null,0,0,0,null,null,null,"","",0,false,0,0,null,null,null,null,null,"R1JTHE WINCHCOMBE UNIT","R1J86","THE WINCHCOMBE UNIT","R1J86","THE WINCHCOMBE UNIT","R1J"]
[{"$error":"#N/A"},{"$error":"#N/A"},null,0,0,"","",0,0,0,0,0,0,0,null,null,null,null,null,null,0,null,null,null,null,null,0,0,0,0,{"$f":"IF(AE165=\"\",0,IF(AE165>100%,1,0))","v":0},0,0,null,null,null,0,null,0,0,0,null,null,null,"","",0,false,0,0,null,null,null,null,null,"R1JVALE COMMUNITY HOSPITAL","R1J07","VALE COMMUNITY HOSPITAL","R1J07","VALE COMMUNITY HOSPITAL","R1J"]
[{"$error":"#N/A"},{"$error":"#N/A"},null,0,0,"","",0,0,0,0,0,0,0,null,null,null,null,null,null,0,null,null,null,null,null,0,0,0,0,{"$f":"IF(AE166=\"\",0,IF(AE166>100%,1,0))","v":0},0,0,null,null,null,0,null,0,0,0,null,null,null,"","",0,false,0,0,null,null,null,null,null,"R1K EDGWARE COMMUNITY HOSPITAL","R1K21"," EDGWARE COMMUNITY HOSPITAL","R1K21"," EDGWARE COMMUNITY HOSPITAL","R1K"]
[{"$error":"#N/A"},{"$error":"#N/A"},null,0,0,"","",0,0,0,0,0,0,0,null,null,null,null,null,null,0,null,null,null,null,null,0,0,0,0,{"$f":"IF(AE167=\"\",0,IF(AE167>100%,1,0))","v":0},0,0,null,null,null,0,null,0,0,0,null,null,null,"","",0,false,0,0,null,null,null,null,null,"R1KCENTRAL MIDDLESEX HOSPITAL","R1K02","CENTRAL MIDDLESEX HOSPITAL","R1K02","CENTRAL MIDDLESEX HOSPITAL","R1K"]
[{"$error":"#N/A"},{"$error":"#N/A"},null,0,0,"","",0,0,0,0,0,0,0,null,null,null,null,null,null,0,null,null,null,null,null,0,0,0,0,{"$f":"IF(AE168=\"\",0,IF(AE168>100%,1,0))","v":0},0,0,null,null,null,0,null,0,0,0,null,null,null,"","",0,false,0,0,null,null,null,null,null,"R1KEALING HOSPITAL","R1K04","EALING HOSPITAL","R1K04","EALING HOSPITAL","R1K"]
[{"$error":"#N/A"},{"$error":"#N/A"},null,0,0,"","",0,0,0,0,0,0,0,null,null,null,null,null,null,0,null,null,null,null,null,0,0,0,0,{"$f":"IF(AE169=\"\",0,IF(AE169>100%,1,0))","v":0},0,0,null,null,null,0,null,0,0,0,null,null,null,"","",0,false,0,0,null,null,null,null,null,"R1KNORTHWICK PARK HOSPITAL","R1K01","NORTHWICK PARK HOSPITAL","R1K01","NORTHWICK PARK HOSPITAL","R1K"]
[{"$error":"#N/A"},{"$error":"#N/A"},null,0,0,"","",0,0,0,0,0,0,0,null,null,null,null,null,null,0,null,null,null,null,null,0,0,0,0,{"$f":"IF(AE170=\"\",0,IF(AE170>100%,1,0))","v":0},0,0,null,null,null,0,null,0,0,0,null,null,null,"","",0,false,0,0,null,null,null,null,null,"R1KNORTHWICK PARK HOSPITAL  STARRS HARROW","R1K46","NORTHWICK PARK HOSPITAL  STARRS HARROW","R1K46","NORTHWICK PARK HOSPITAL  STARRS HARROW","R1K"]
[{"$error":"#N/A"},{"$error":"#N/A"},null,0,0,"","",0,0,0,0,0,0,0,null,null,null,null,null,null,0,null,null,null,null,null,0,0,0,0,{"$f":"IF(AE171=\"\",0,IF(AE171>100%,1,0))","v":0},0,0,null,null,null,0,null,0,0,0,null,null,null,"","",0,false,0,0,null,null,null,null,null,"R1KNORTHWICK PARK HOSPITAL ELCO COMMUNITY","R1K59","NORTHWICK PARK HOSPITAL ELCO COMMUNITY","R1K59","NORTHWICK PARK HOSPITAL ELCO COMMUNITY","R1K"]
[{"$error":"#N/A"},{"$error":"#N/A"},null,0,0,"","",0,0,0,0,0,0,0,null,null,null,null,null,null,0,null,null,null,null,null,0,0,0,0,{"$f":"IF(AE172=\"\",0,IF(AE172>100%,1,0))","v":0},0,0,null,null,null,0,null,0,0,0,null,null,null,"","",0,false,0,0,null,null,null,null,null,"R1KST MARKS HOSPITAL ","R1K03","ST MARKS HOSPITAL ","R1K03","ST MARKS HOSPITAL ","R1K"]
[{"$error":"#N/A"},{"$error":"#N/A"},null,0,0,"","",0,0,0,0,0,0,0,null,null,null,null,null,null,0,null,null,null,null,null,0,0,0,0,{"$f":"IF(AE173=\"\",0,IF(AE173>100%,1,0))","v":0},0,0,null,null,null,0,null,0,0,0,null,null,null,"","",0,false,0,0,null,null,null,null,null,"R1KURGENT CARE CENTRE CENTAL MIDDLESEX HOSPITAL","R1K12","URGENT CARE CENTRE CENTAL MIDDLESEX HOSPITAL","R1K12","URGENT CARE CENTRE CENTAL MIDDLESEX HOSPITAL","R1K"]
[{"$f":"VLOOKUP($D174,$BE:$BE,1,0)","v":{"$error":"#N/A"}},{"$f":"VLOOKUP($E174,$BF:$BF,1,0)","v":{"$error":"#N/A"}},null,{"$f":"IF(D174=\"\",0,IF(ISERROR(VLOOKUP(D174,$BE$3:$BE$249,1,0)),0,IF(VLOOKUP(D174,$BE$3:$BI$249,5,0)=$B$8,0,1)))","v":0},0,"","",0,0,{"$f":"IF(G174=\"\",0,IF(ISERROR(VLOOKUP(G174,$AH$14:$AH$98,1,FALSE)),1,0))","v":0},{"$f":"IF(H174=\"\",0,IF(ISERROR(VLOOKUP(H174,$AH$14:$AH$98,1,FALSE)),1,0))","v":0},0,0,0,null,null,null,null,null,null,0,null,null,null,null,null,{"$f":"IF(AA174=\"\",0,IF(AA174>100%,1,0))","v":0},0,0,0,{"$f":"IF(AE174=\"\",0,IF(AE174>100%,1,0))","v":0},0,0,null,null,null,0,null,0,0,0,null,null,null,"","",0,false,0,0,null,null,null,null,null,"R1KURGENT CARE CENTRE EALING HOSPITAL","R1K14","URGENT CARE CENTRE EALING HOSPITAL","R1K14","URGENT CARE CENTRE EALING HOSPITAL","R1K"]
[{"$error":"#N/A"},{"$error":"#N/A"},null,0,0,"","",0,0,0,0,0,0,0,null,null,null,null,null,null,0,null,null,null,null,null,0,0,0,0,{"$f":"IF(AE175=\"\",0,IF(AE175>100%,1,0))","v":0},0,0,null,null,null,{"$f":"IF(AA174=\"\",0, IF(AA174=\"-\",0,IF(AA174>100%,1,0)))","v":0},null,0,0,0,null,null,null,"",{"$f":"IF(AS376=\"\",\"\",(IF(COUNTIF($AS$216:$AS$414,AS376)>1,1,0))=1)","v":""},0,{"$f":"IF(E174=\"\",(COUNTA(E175)=1),\"Complete\")","v":false},0,0,null,null,null,null,null,"R1LARCHER UNIT","R1L92","ARCHER UNIT","R1L92","ARCHER UNIT","R1L"]
[{"$error":"#N/A"},{"$error":"#N/A"},null,0,0,"","",0,0,0,0,0,0,0,null,null,null,null,null,null,0,null,null,null,null,null,0,0,0,0,{"$f":"IF(AE176=\"\",0,IF(AE176>100%,1,0))","v":0},0,0,null,null,null,0,null,0,0,0,null,null,null,"","",0,false,0,0,null,null,null,null,null,"R1LBRAINTREE - THE GABLES","R1LD1","BRAINTREE - THE GABLES","R1LD1","BRAINTREE - THE GABLES","R1L"]
[{"$error":"#N/A"},{"$error":"#N/A"},null,0,0,"","",0,0,0,0,0,0,0,null,null,null,null,null,null,0,null,null,null,null,null,0,0,0,0,{"$f":"IF(AE177=\"\",0,IF(AE177>100%,1,0))","v":0},0,0,null,null,null,0,null,0,0,0,null,null,null,"","",0,false,0,0,null,null,null,null,null,"R1LBROCKFIELD HOUSE","R1LK9","BROCKFIELD HOUSE","R1LK9","BROCKFIELD HOUSE","R1L"]
[{"$error":"#N/A"},{"$error":"#N/A"},null,0,0,"","",0,0,0,0,0,0,0,null,null,null,null,null,null,0,null,null,null,null,null,0,0,0,0,{"$f":"IF(AE178=\"\",0,IF(AE178>100%,1,0))","v":0},0,0,null,null,null,0,null,0,0,0,null,null,null,"","",0,false,0,0,null,null,null,null,null,"R1LCHELMSFORD - THE LINDEN CENTRE","R1LAH","CHELMSFORD - THE LINDEN CENTRE","R1LAH","CHELMSFORD - THE LINDEN CENTRE","R1L"]
[{"$error":"#N/A"},{"$error":"#N/A"},null,0,0,"","",0,0,0,0,0,0,0,null,null,null,null,null,null,0,null,null,null,null,null,0,0,0,0,{"$f":"IF(AE179=\"\",0,IF(AE179>100%,1,0))","v":0},0,0,null,null,null,0,null,0,0,0,null,null,null,"","",0,false,0,0,null,null,null,null,null,"R1LCLACTON - MENTAL HEALTH SERVICES - CLACTON HOSPITAL","R1LE2","CLACTON - MENTAL HEALTH SERVICES - CLACTON HOSPITAL","R1LE2","CLACTON - MENTAL HEALTH SERVICES - CLACTON HOSPITAL","R1L"]
[{"$error":"#N/A"},{"$error":"#N/A"},null,0,0,"","",0,0,0,0,0,0,0,null,null,null,null,null,null,0,null,null,null,null,null,0,0,0,0,{"$f":"IF(AE180=\"\",0,IF(AE180>100%,1,0))","v":0},0,0,null,null,null,0,null,0,0,0,null,null,null,"","",0,false,0,0,null,null,null,null,null,"R1LCLIFTON LODGE","R1LJ3","CLIFTON LODGE","R1LJ3","CLIFTON LODGE","R1L"]
[{"$error":"#N/A"},{"$error":"#N/A"},null,0,0,"","",0,0,0,0,0,0,0,null,null,null,null,null,null,0,null,null,null,null,null,0,0,0,0,{"$f":"IF(AE181=\"\",0,IF(AE181>100%,1,0))","v":0},0,0,null,null,null,0,null,0,0,0,null,null,null,"","",0,false,0,0,null,null,null,null,null,"R1LCOLCHESTER - KING'S WOOD CENTRE","R1LD6","COLCHESTER - KING'S WOOD CENTRE","R1LD6","COLCHESTER - KING'S WOOD CENTRE","R1L"]
[{"$error":"#N/A"},{"$error":"#N/A"},null,0,0,"","",0,0,0,0,0,0,0,null,null,null,null,null,null,0,null,null,null,null,null,0,0,0,0,{"$f":"IF(AE182=\"\",0,IF(AE182>100%,1,0))","v":0},0,0,null,null,null,0,null,0,0,0,null,null,null,"","",0,false,0,0,null,null,null,null,null,"R1LCOLCHESTER - THE BRAMBLES","R1LAT","COLCHESTER - THE BRAMBLES","R1LAT","COLCHESTER - THE BRAMBLES","R1L"]
[{"$error":"#N/A"},{"$error":"#N/A"},null,0,0,"","",0,0,0,0,0,0,0,null,null,null,null,null,null,0,null,null,null,null,null,0,0,0,0,{"$f":"IF(AE183=\"\",0,IF(AE183>100%,1,0))","v":0},0,0,null,null,null,0,null,0,0,0,null,null,null,"","",0,false,0,0,null,null,null,null,null,"R1LCOLCHESTER - THE LAKES","R1LE1","COLCHESTER - THE LAKES","R1LE1","COLCHESTER - THE LAKES","R1L"]
[{"$error":"#N/A"},{"$error":"#N/A"},null,0,0,"","",0,0,0,0,0,0,0,null,null,null,null,null,null,0,null,null,null,null,null,0,0,0,0,{"$f":"IF(AE184=\"\",0,IF(AE184>100%,1,0))","v":0},0,0,null,null,null,0,null,0,0,0,null,null,null,"","",0,false,0,0,null,null,null,null,null,"R1LCUMBERLEDGE CENTRE","R1L90","CUMBERLEDGE CENTRE","R1L90","CUMBERLEDGE CENTRE","R1L"]
[{"$error":"#N/A"},{"$error":"#N/A"},null,0,0,"","",0,0,0,0,0,0,0,null,null,null,null,null,null,0,null,null,null,null,null,0,0,0,0,{"$f":"IF(AE185=\"\",0,IF(AE185>100%,1,0))","v":0},0,0,null,null,null,0,null,0,0,0,null,null,null,"","",0,false,0,0,null,null,null,null,null,"R1LHARLOW - DERWENT CENTRE","R1LPA","HARLOW - DERWENT CENTRE","R1LPA","HARLOW - DERWENT CENTRE","R1L"]
[{"$error":"#N/A"},{"$error":"#N/A"},null,0,0,"","",0,0,0,0,0,0,0,null,null,null,null,null,null,0,null,null,null,null,null,0,0,0,0,{"$f":"IF(AE186=\"\",0,IF(AE186>100%,1,0))","v":0},0,0,null,null,null,0,null,0,0,0,null,null,null,"","",0,false,0,0,null,null,null,null,null,"R1LHARLOW - SYDENHAM HOUSE","R1LHF","HARLOW - SYDENHAM HOUSE","R1LHF","HARLOW - SYDENHAM HOUSE","R1L"]
[{"$error":"#N/A"},{"$error":"#N/A"},null,0,0,"","",0,0,0,0,0,0,0,null,null,null,null,null,null,0,null,null,null,null,null,0,0,0,0,{"$f":"IF(AE187=\"\",0,IF(AE187>100%,1,0))","v":0},0,0,null,null,null,0,null,0,0,0,null,null,null,"","",0,false,0,0,null,null,null,null,null,"R1LHEATH CLOSE","R1LA9","HEATH CLOSE","R1LA9","HEATH CLOSE","R1L"]
[{"$error":"#N/A"},{"$error":"#N/A"},null,0,0,"","",0,0,0,0,0,0,0,null,null,null,null,null,null,0,null,null,null,null,null,0,0,0,0,{"$f":"IF(AE188=\"\",0,IF(AE188>100%,1,0))","v":0},0,0,null,null,null,0,null,0,0,0,null,null,null,"","",0,false,0,0,null,null,null,null,null,"R1LMENTAL HEALTH UNIT (BASILDON)","R1L40","MENTAL HEALTH UNIT (BASILDON)","R1L40","MENTAL HEALTH UNIT (BASILDON)","R1L"]
[{"$error":"#N/A"},{"$error":"#N/A"},null,0,0,"","",0,0,0,0,0,0,0,null,null,null,null,null,null,0,null,null,null,null,null,0,0,0,0,{"$f":"IF(AE189=\"\",0,IF(AE189>100%,1,0))","v":0},0,0,null,null,null,0,null,0,0,0,null,null,null,"","",0,false,0,0,null,null,null,null,null,"R1LMOUNTNESSING COURT","R1L65","MOUNTNESSING COURT","R1L65","MOUNTNESSING COURT","R1L"]
[{"$error":"#N/A"},{"$error":"#N/A"},null,0,0,"","",0,0,0,0,0,0,0,null,null,null,null,null,null,0,null,null,null,null,null,{"$f":"IF(AA190=\"\",0,IF(AA190>100%,1,0))","v":0},0,0,0,{"$f":"IF(AE190=\"\",0,IF(AE190>100%,1,0))","v":0},0,0,null,null,null,0,null,0,0,0,null,null,null,"","",0,false,0,0,null,null,null,null,null,"R1LNEW ST AUBYN CENTRE","R1L22","NEW ST AUBYN CENTRE","R1LL","NEW ST AUBYN CENTRE","R1L"]
[{"$error":"#N/A"},{"$error":"#N/A"},null,0,0,"","",0,0,0,0,0,0,0,null,null,null,null,null,null,0,null,null,null,null,null,0,0,0,0,{"$f":"IF(AE191=\"\",0,IF(AE191>100%,1,0))","v":0},0,0,null,null,null,0,null,0,0,0,null,null,null,"","",0,false,0,0,null,null,null,null,null,"R1LROBIN PINTO UNIT","R1L31","ROBIN PINTO UNIT","R1L31","ROBIN PINTO UNIT","R1L"]
[{"$error":"#N/A"},{"$error":"#N/A"},null,0,0,"","",0,0,0,0,0,0,0,null,null,null,null,null,null,0,null,null,null,null,null,0,0,0,0,{"$f":"IF(AE192=\"\",0,IF(AE192>100%,1,0))","v":0},0,0,null,null,null,0,null,0,0,0,null,null,null,"","",0,false,0,0,null,null,null,null,null,"R1LROCHFORD COMMUNITY HOSPITAL","R1L10","ROCHFORD COMMUNITY HOSPITAL","R1L10","ROCHFORD COMMUNITY HOSPITAL","R1L"]
[{"$error":"#N/A"},{"$error":"#N/A"},null,0,0,"","",0,0,0,0,0,0,0,null,null,null,null,null,null,0,null,null,null,null,null,0,0,0,0,{"$f":"IF(AE193=\"\",0,IF(AE193>100%,1,0))","v":0},0,0,null,null,null,0,null,0,0,0,null,null,null,"","",0,false,0,0,null,null,null,null,null,"R1LSAFFRON WALDEN COMMUNITY HOSPITAL","R1LTH","SAFFRON WALDEN COMMUNITY HOSPITAL","R1LTH","SAFFRON WALDEN COMMUNITY HOSPITAL","R1L"]
[{"$error":"#N/A"},{"$error":"#N/A"},null,0,0,"","",0,0,0,0,0,0,0,null,null,null,null,null,null,0,null,null,null,null,null,0,0,0,0,{"$f":"IF(AE194=\"\",0,IF(AE194>100%,1,0))","v":0},0,0,null,null,null,0,null,0,0,0,null,null,null,"","",0,false,0,0,null,null,null,null,null,"R1LST MARGARET'S HOSPITAL","R1LT1","ST MARGARET'S HOSPITAL","R1LT1","ST MARGARET'S HOSPITAL","R1L"]
[{"$error":"#N/A"},{"$error":"#N/A"},null,0,0,"","",0,0,0,0,0,0,0,null,null,null,null,null,null,0,null,null,null,null,null,0,0,0,0,{"$f":"IF(AE195=\"\",0,IF(AE195>100%,1,0))","v":0},0,0,null,null,null,0,null,0,0,0,null,null,null,"","",0,false,0,0,null,null,null,null,null,"R1LTHE CRYSTAL CENTRE","R1L14","THE CRYSTAL CENTRE","R1L14","THE CRYSTAL CENTRE","R1L"]
[{"$error":"#N/A"},{"$error":"#N/A"},null,0,0,"","",0,0,0,0,0,0,0,null,null,null,null,null,null,0,null,null,null,null,null,0,0,0,0,{"$f":"IF(AE196=\"\",0,IF(AE196>100%,1,0))","v":0},0,0,null,null,null,0,null,0,0,0,null,null,null,"","",0,false,0,0,null,null,null,null,null,"R1LTHURROCK COMMUNITY HOSPITAL","R1L50","THURROCK COMMUNITY HOSPITAL","R1L50","THURROCK COMMUNITY HOSPITAL","R1L"]
[{"$error":"#N/A"},{"$error":"#N/A"},null,0,0,"","",0,0,0,0,0,0,0,null,null,null,null,null,null,0,null,null,null,null,null,0,0,0,0,{"$f":"IF(AE197=\"\",0,IF(AE197>100%,1,0))","v":0},0,0,null,null,null,0,null,0,0,0,null,null,null,"","",0,false,0,0,null,null,null,null,null,"R1LWOODLEA CLINIC (LEARNING DISABILITY SERVICE)","R1LL8","WOODLEA CLINIC (LEARNING DISABILITY SERVICE)","R1LL8","WOODLEA CLINIC (LEARNING DISABILITY SERVICE)","R1L"]
[{"$error":"#N/A"},{"$error":"#N/A"},null,0,0,"","",0,0,0,0,0,0,0,null,null,null,null,null,null,0,null,null,null,null,null,0,0,0,0,{"$f":"IF(AE198=\"\",0,IF(AE198>100%,1,0))","v":0},0,0,null,null,null,0,null,0,0,0,null,null,null,"","",0,false,0,0,null,null,null,null,null,"RA2FARNHAM HOSPITAL","RA215","FARNHAM HOSPITAL","RA215","FARNHAM HOSPITAL","RA2"]
[{"$error":"#N/A"},{"$error":"#N/A"},null,0,0,"","",0,0,0,0,0,0,0,null,null,null,null,null,null,0,null,null,null,null,null,0,0,0,0,{"$f":"IF(AE199=\"\",0,IF(AE199>100%,1,0))","v":0},0,0,null,null,null,0,null,0,0,0,null,null,null,"","",0,false,0,0,null,null,null,null,null,"RA2FRIMLEY PARK HOSPITAL","RA245","FRIMLEY PARK HOSPITAL","RA245","FRIMLEY PARK HOSPITAL","RA2"]
[{"$error":"#N/A"},{"$error":"#N/A"},null,0,0,"","",0,0,0,0,0,0,0,null,null,null,null,null,null,0,null,null,null,null,null,0,0,0,0,{"$f":"IF(AE200=\"\",0,IF(AE200>100%,1,0))","v":0},0,0,null,null,null,0,null,0,0,0,null,null,null,"","",0,false,0,0,null,null,null,null,null,"RA2HASLEMERE HOSPITAL","RA219","HASLEMERE HOSPITAL","RA219","HASLEMERE HOSPITAL","RA2"]
[{"$error":"#N/A"},{"$error":"#N/A"},null,0,0,"","",0,0,0,0,0,0,0,null,null,null,null,null,null,0,null,null,null,null,null,0,0,0,0,{"$f":"IF(AE201=\"\",0,IF(AE201>100%,1,0))","v":0},0,0,null,null,null,0,null,0,0,0,null,null,null,"","",0,false,0,0,null,null,null,null,null,"RA2ROYAL SURREY COUNTY HOSPITAL","RA201","ROYAL SURREY COUNTY HOSPITAL","RA201","ROYAL SURREY COUNTY HOSPITAL","RA2"]
[{"$error":"#N/A"},{"$error":"#N/A"},null,0,0,"","",0,0,0,0,0,0,0,null,null,null,null,null,null,0,null,null,null,null,null,0,0,0,0,{"$f":"IF(AE202=\"\",0,IF(AE202>100%,1,0))","v":0},0,0,null,null,null,0,null,0,0,0,null,null,null,"","",0,false,0,0,null,null,null,null,null,"RA3CHILDREN'S SERVICES SOUTH","RA305","CHILDREN'S SERVICES SOUTH","RA305","CHILDREN'S SERVICES SOUTH","RA3"]
[{"$error":"#N/A"},{"$error":"#N/A"},null,0,0,"","",0,0,0,0,0,0,0,null,null,null,null,null,null,0,null,null,null,null,null,0,0,0,0,{"$f":"IF(AE203=\"\",0,IF(AE203>100%,1,0))","v":0},0,0,null,null,null,0,null,0,0,0,null,null,null,"","",0,false,0,0,null,null,null,null,null,"RA3WESTON GENERAL HOSPITAL","RA301","WESTON GENERAL HOSPITAL","RA301","WESTON GENERAL HOSPITAL","RA3"]
[{"$error":"#N/A"},{"$error":"#N/A"},null,0,0,"","",0,{"$f":"IF(E204=\"\",0,IF((J204+L204+N204+P204)>30000,1,0))","v":0},0,0,0,0,0,null,null,null,null,null,null,0,null,null,null,null,null,0,0,0,0,{"$f":"IF(AE204=\"\",0,IF(AE204>100%,1,0))","v":0},0,0,null,null,null,0,null,0,0,0,null,null,null,"","",0,false,0,0,null,null,null,null,null,"RA4YEOVIL DISTRICT HOSPITAL","RA430","YEOVIL DISTRICT HOSPITAL","RA430","YEOVIL DISTRICT HOSPITAL","RA4"]
[{"$error":"#N/A"},{"$error":"#N/A"},null,0,0,"","",0,0,0,0,0,0,0,null,null,null,null,null,null,0,null,null,null,null,null,0,0,0,0,{"$f":"IF(AE205=\"\",0,IF(AE205>100%,1,0))","v":0},0,0,null,null,null,0,null,0,0,0,null,null,null,"","",0,false,0,0,null,null,null,null,null,"RA7BRISTOL EYE HOSPITAL","RA708","BRISTOL EYE HOSPITAL","RA708","BRISTOL EYE HOSPITAL","RA7"]
[{"$f":"VLOOKUP($D206,$BE:$BE,1,0)","v":{"$error":"#N/A"}},{"$f":"VLOOKUP($E206,$BF:$BF,1,0)","v":{"$error":"#N/A"}},null,{"$f":"IF(D206=\"\",0,IF(ISERROR(VLOOKUP(D206,$BE$3:$BE$249,1,0)),0,IF(VLOOKUP(D206,$BE$3:$BI$249,5,0)=$B$8,0,1)))","v":0},0,"","",0,0,{"$f":"IF(G206=\"\",0,IF(ISERROR(VLOOKUP(G206,$AH$14:$AH$98,1,FALSE)),1,0))","v":0},0,0,0,0,null,null,null,null,null,null,0,null,null,null,null,null,{"$f":"IF(AA206=\"\",0,IF(AA206>100%,1,0))","v":0},0,0,0,{"$f":"IF(AE206=\"\",0,IF(AE206>100%,1,0))","v":0},0,0,null,null,null,0,null,0,0,0,null,null,null,"","",0,false,0,0,null,null,null,null,null,"RA7BRISTOL GENERAL HOSPITAL","RA702","BRISTOL GENERAL HOSPITAL","RA702","BRISTOL GENERAL HOSPITAL","RA7"]
[{"$error":"#N/A"},{"$error":"#N/A"},null,0,{"$f":"IF(E207=\"\",0,IF(G207=\"\",1,0))","v":0},{"$f":"IF(E207=\"\",\"\",IF(SUM(I207,K207,M207,O207)=0,1,0))","v":""},{"$f":"IF(E207=\"\",\"\",IF(SUM(J207,L207,N207,P207)=0,1,0))","v":""},{"$f":"IF(E207=\"\",0,IF(SUM(I207:P207)<1448,1,0))","v":0},{"$f":"IF(E207=\"\",0,IF((J207+L207+N207+P207)>30000,1,0))","v":0},0,0,{"$f":"IF(E207=\"\",0,IF(D207=\"\",1,0))","v":0},{"$f":"IF(OR(I207<>\"\",K207<>\"\",J207<>\"\",L207<>\"\",M207<>\"\",N207<>\"\",O207<>\"\",P207<>\"\",F207<>\"\",G207<>\"\",H207<>\"\",Q207<>\"\",R207<>\"\",S207<>\"\",T207<>\"\",U207<>\"\"),IF(E207=\"\",1,0),0)","v":0},{"$f":"IF(E207=\"\",0,IF(F207=\"\",1,0))","v":0},null,null,null,null,null,null,{"$f":"IF(AND(SUM(J207,L207,N207,P207,R207,T207)>0,U207=0),1,0)","v":0},null,null,null,null,null,0,0,0,0,{"$f":"IF(AE207=\"\",0,IF(AE207>100%,1,0))","v":0},0,{"$f":"SUM(H408:AF408)","v":0},null,null,null,{"$f":"IF(AA206=\"\",0, IF(AA206=\"-\",0,IF(AA206>100%,1,0)))","v":0},null,0,0,0,null,null,null,"",{"$f":"IF(AS408=\"\",\"\",(IF(COUNTIF($AS$216:$AS$414,AS408)>1,1,0))=1)","v":""},0,{"$f":"IF(E206=\"\",(COUNTA(E207)=1),\"Complete\")","v":false},0,{"$f":"IF(G206=\"\",0,IF(G206=H206,1,0))","v":0},null,null,null,null,null,"RA7BRISTOL HAEMATOLOGY AND ONCOLOGY CENTRE","RA710","BRISTOL HAEMATOLOGY AND ONCOLOGY CENTRE","RA710","BRISTOL HAEMATOLOGY AND ONCOLOGY CENTRE","RA7"]
[{"$error":"#N/A"},{"$error":"#N/A"},null,0,0,"","",0,0,0,0,0,0,0,null,null,null,null,null,null,0,null,null,null,null,null,0,0,0,0,{"$f":"IF(AE208=\"\",0,IF(AE208>100%,1,0))","v":0},0,0,null,null,null,0,null,0,0,0,null,null,null,{"$f":"CONCATENATE(D207,E207,F207)","v":""},"",{"$f":"IF(AT409=TRUE,1,0)","v":0},false,{"$f":"IF(AV409=\"Complete\",0, IF(AV409=TRUE, 1, IF(AV409=FALSE,0,0)))","v":0},0,null,null,null,null,null,"RA7BRISTOL HOMEOPATHIC HOSPITAL","RA703","BRISTOL HOMEOPATHIC HOSPITAL","RA703","BRISTOL HOMEOPATHIC HOSPITAL","RA7"]
[{"$error":"#N/A"},{"$error":"#N/A"},null,0,0,"","",0,0,0,0,0,0,0,null,null,null,null,null,null,0,null,null,null,null,null,0,0,0,0,{"$f":"IF(AE209=\"\",0,IF(AE209>100%,1,0))","v":0},0,0,null,null,null,0,null,0,0,0,null,null,null,"","",0,false,0,0,null,null,null,null,null,"RA7BRISTOL ROYAL HOSPITAL FOR CHILDREN","RA723","BRISTOL ROYAL HOSPITAL FOR CHILDREN","RA723","BRISTOL ROYAL HOSPITAL FOR CHILDREN","RA7"]
[{"$error":"#N/A"},{"$error":"#N/A"},null,0,0,"","",0,0,0,0,0,0,0,null,null,null,null,null,null,0,null,null,null,null,null,0,0,0,0,{"$f":"IF(AE210=\"\",0,IF(AE210>100%,1,0))","v":0},0,0,null,null,null,0,null,0,0,0,null,null,null,"","",0,false,0,0,null,null,null,null,null,"RA7BRISTOL ROYAL INFIRMARY","RA701","BRISTOL ROYAL INFIRMARY","RA701","BRISTOL ROYAL INFIRMARY","RA7"]
[{"$error":"#N/A"},{"$error":"#N/A"},null,0,0,"","",0,0,0,0,0,0,0,null,null,null,null,null,null,0,null,null,null,null,null,0,0,0,0,{"$f":"IF(AE211=\"\",0,IF(AE211>100%,1,0))","v":0},0,0,null,null,null,0,null,0,0,0,null,null,null,"","",0,false,0,0,null,null,null,null,null,"RA7KEYNSHAM HOSPITAL","RA705","KEYNSHAM HOSPITAL","RA705","KEYNSHAM HOSPITAL","RA7"]
[{"$error":"#N/A"},{"$error":"#N/A"},null,0,0,"","",0,0,0,0,0,0,0,null,null,null,null,null,null,0,null,null,null,null,null,0,0,0,0,{"$f":"IF(AE212=\"\",0,IF(AE212>100%,1,0))","v":0},0,0,null,null,null,0,null,0,0,0,null,null,null,"","",0,false,0,0,null,null,null,null,null,"RA7SOUTH BRISTOL COMMUNITY HOSPITAL","RA773","SOUTH BRISTOL COMMUNITY HOSPITAL","RA773","SOUTH BRISTOL COMMUNITY HOSPITAL","RA7"]
[{"$error":"#N/A"},{"$error":"#N/A"},null,0,0,"","",0,0,0,0,0,0,0,null,null,null,null,null,null,{"$f":"IF(AND(SUM(J213,L213,N213,P213,R213,T213)>0,U213=0),1,0)","v":0},null,null,null,null,null,0,0,0,0,{"$f":"IF(AE213=\"\",0,IF(AE213>100%,1,0))","v":0},0,0,null,null,null,0,null,0,0,0,null,null,null,"","",0,false,0,0,null,null,null,null,null,"RA7ST MICHAEL'S HOSPITAL","RA707","ST MICHAEL'S HOSPITAL","RA707","ST MICHAEL'S HOSPITAL","RA7"]
[{"$f":"IF((COUNTIF(D14:D213,\"\")=400),2,IF((COUNTIF(A215:A414,ERROR.TYPE(7)))=(COUNTIF(D14:D213,\"\")),0,1))","v":0},{"$f":"IF((COUNTIF(E14:E213,\"\")=400),2,IF((COUNTIF(B215:B414,ERROR.TYPE(7)))=(COUNTIF(E14:E213,\"\")),0,1))","v":0},null,{"$f":"IF(COUNTIF(D215:D414,1)>0,1,0)","v":0},{"$f":"IF(COUNTIF(E215:E414,1)>0,1,0)","v":0},{"$f":"IF(COUNTIF(F215:F414,1)>0,1,0)","v":0},{"$f":"IF(COUNTIF(G215:G414,1)>0,1,0)","v":0},{"$f":"IF(COUNTIF(H215:H414,1)>0,1,0)","v":1},{"$f":"IF(COUNTIF(I215:I414,1)>0,1,0)","v":0},0,0,0,0,0,null,null,null,null,null,null,{"$f":"IF(COUNTIF(U215:U414,1)>0,1,0)","v":0},null,null,null,null,null,{"$f":"IF(COUNTIF(AA215:AA414,1)>0,1,0)","v":1},1,1,1,{"$f":"IF(COUNTIF(AE215:AE414,1)>0,1,0)","v":0},0,5,null,null,null,0,null,0,0,0,null,null,null,null,null,null,false,0,0,null,null,null,null,null,"RA7UNIVERSITY OF BRISTOL DENTAL HOSPITAL","RA709","UNIVERSITY OF BRISTOL DENTAL HOSPITAL","RA709","UNIVERSITY OF BRISTOL DENTAL HOSPITAL","RA7"]
["got to equal 0","got to equal 0",null,"got to equal 0","got to equal 0","got to equal 0","got to equal 0","got to equal 0","got to equal 1",null,null,null,null,null,null,null,null,null,null,null,"Care hours, no patients",null,null,null,null,null,null,null,null,null,null,null,null,null,null,null,null,null,null,null,null,null,null,null,null,null,{"$f":"SUM(AU216:AU414)","v":0},null,{"$f":"SUM(AW216:AW415)","v":0},{"$f":"SUM(AX216:AX415)","v":0},null,null,null,null,null,"RA9ASHBURTON AND BUCKFASTLEIGH HOSPITAL","RA952","ASHBURTON AND BUCKFASTLEIGH HOSPITAL","RA952","ASHBURTON AND BUCKFASTLEIGH HOSPITAL","RA9"]
[null,null,null,null,"List one specialty","Total planned hrs >0","Total actual hrs >0","Total hrs <1448","Total hrs >30000","Check Spec 1 name","Check Spec 2 Name","Missing site code",null,null,null,null,null,null,null,null,null,null,null,null,null,null,null,null,null,null,null,null,null,null,null,null,{"$f":"SUM(AK216:AK415)","v":2},null,{"$f":"SUM(AM216:AM415)","v":11},3,16,null,null,null,null,null,null,null,"shows gap in rows of data. Must be 0.","shows duplicate specialitiy codes. Must be 0",null,null,null,null,null,"RA9BOVEY TRACEY HOSPITAL","RA953","BOVEY TRACEY HOSPITAL","RA953","BOVEY TRACEY HOSPITAL","RA9"]
["code in list","name in list",null,"does site belong to trust",null,null,null,null,null,null,null,null,null,null,null,null,null,null,null,null,null,null,null,null,null,null,null,null,null,null,null,null,null,null,null,null,null,null,null,null,null,null,null,null,null,null,null,null,null,null,null,null,null,null,null,"RA9BRIXHAM HOSPITAL ","RA954","BRIXHAM HOSPITAL ","RA954","BRIXHAM HOSPITAL ","RA9"]
[null,null,null,null,null,null,null,null,null,null,null,null,null,null,null,null,null,null,null,null,null,null,null,null,null,null,null,null,null,null,null,null,null,null,null,null,"Day nurse fill rate. Must be 0",null,"Day staff fill rate. Must be 0","Night nurse fill rate. Must be 0","Night staff fill rate. Must be 0",null,null,null,null,null,null,null,null,null,null,null,null,null,null,{"$f":"CONCATENATE(LEFT(BE419, 3),BF419)","v":"RA9DARTMOUTH HOSPITAL"},"RA955","DARTMOUTH HOSPITAL","RA955","DARTMOUTH HOSPITAL",{"$f":"LEFT(BG419,3)","v":"RA9"}]
["2- all blank","2- all blank",null,null,null,null,null,null,null,{"$f":"IF(J14<0, 1, 0)","v":0},{"$f":"IF(K14<0, 1, 0)","v":0},0,0,0,0,0,{"$f":"IF(Q14<0, 1, 0)","v":0},0,0,0,{"$f":"IF(U14<0, 1, 0)","v":0},null,null,null,null,null,0,0,0,0,{"$f":"IF(AE14<0, 1, 0)","v":0},0,null,null,null,null,null,null,null,null,null,null,null,null,null,null,null,null,null,null,null,null,null,null,null,"RA9DAWLISH HOSPITAL","RA956","DAWLISH HOSPITAL","RA956","DAWLISH HOSPITAL","RA9"]
[null,null,null,null,null,null,null,null,null,{"$f":"IF(J15<0, 1, 0)","v":0},0,0,0,0,0,0,{"$f":"IF(Q15<0, 1, 0)","v":0},0,0,0,{"$f":"IF(U15<0, 1, 0)","v":0},null,null,null,null,null,0,0,0,0,{"$f":"IF(AE15<0, 1, 0)","v":0},0,null,null,null,null,null,null,null,null,null,null,null,null,null,null,null,null,null,null,null,null,null,null,null,"RA9NEWTON ABBOT HOSPITAL","RA957","NEWTON ABBOT HOSPITAL","RA957","NEWTON ABBOT HOSPITAL","RA9"]
[null,null,null,null,null,null,null,null,null,{"$f":"IF(J16<0, 1, 0)","v":0},0,0,0,0,0,0,{"$f":"IF(Q16<0, 1, 0)","v":0},0,0,0,{"$f":"IF(U16<0, 1, 0)","v":0},null,null,null,null,null,0,0,0,0,{"$f":"IF(AE16<0, 1, 0)","v":0},0,null,null,null,null,null,null,null,null,null,null,null,null,null,null,null,null,null,null,null,null,null,null,null,"RA9PAIGNTON HOSPITAL","RA958","PAIGNTON HOSPITAL","RA958","PAIGNTON HOSPITAL","RA9"]
[null,null,null,null,null,null,null,null,null,{"$f":"IF(J17<0, 1, 0)","v":0},0,0,0,0,0,0,{"$f":"IF(Q17<0, 1, 0)","v":0},0,0,0,{"$f":"IF(U17<0, 1, 0)","v":0},null,null,null,null,null,0,0,0,0,{"$f":"IF(AE17<0, 1, 0)","v":0},0,null,null,null,null,{"$f":"IF(AK417>0,\"Day Nurse Fill Rate must not exceed 100%\",\"\")","v":"Day Nurse Fill Rate must not exceed 100%"},null,{"$f":"IF(AM417>0,\"Day Staff Fill Rate must not exceed 100%\",\"\")","v":"Day Staff Fill Rate must not exceed 100%"},{"$f":"IF(AN417>0,\"Night Nurse Fill Rate must not exceed 100%\",\"\")","v":"Night Nurse Fill Rate must not exceed 100%"},{"$f":"IF(AO417>0,\"Night Staff Fill Rate must not exceed 100%\",\"\")","v":"Night Staff Fill Rate must not exceed 100%"},null,null,null,null,null,null,null,null,null,null,null,null,null,null,"RA9TEIGNMOUTH HOSPITAL","RA959","TEIGNMOUTH HOSPITAL","RA959","TEIGNMOUTH HOSPITAL","RA9"]
[null,null,null,null,null,null,null,null,null,{"$f":"IF(J18<0, 1, 0)","v":0},0,0,0,0,0,0,{"$f":"IF(Q18<0, 1, 0)","v":0},0,0,0,{"$f":"IF(U18<0, 1, 0)","v":0},null,null,null,null,null,0,0,0,0,{"$f":"IF(AE18<0, 1, 0)","v":0},0,null,null,null,null,null,null,null,null,null,null,null,null,null,null,null,null,null,null,null,null,null,null,null,"RA9TORBAY HOSPITAL","RA901","TORBAY HOSPITAL","RA901","TORBAY HOSPITAL","RA9"]
[null,null,null,null,null,null,null,null,null,{"$f":"IF(J19<0, 1, 0)","v":0},0,0,0,0,0,0,{"$f":"IF(Q19<0, 1, 0)","v":0},0,0,0,{"$f":"IF(U19<0, 1, 0)","v":0},null,null,null,null,null,0,0,0,0,{"$f":"IF(AE19<0, 1, 0)","v":0},0,null,null,null,null,null,null,null,null,null,null,null,null,null,null,null,null,null,null,null,null,null,null,null,"RA9TOTNES HOSPITAL","RA979","TOTNES HOSPITAL","RA979","TOTNES HOSPITAL","RA9"]
[null,null,null,{"$f":"IF(D14=\"\", IF(E14=\"\", 0,1),0)","v":0},null,null,null,null,null,{"$f":"IF(J20<0, 1, 0)","v":0},0,0,0,0,0,0,{"$f":"IF(Q20<0, 1, 0)","v":0},0,0,0,{"$f":"IF(U20<0, 1, 0)","v":0},null,null,null,null,null,0,0,0,0,{"$f":"IF(AE20<0, 1, 0)","v":0},0,null,null,null,null,null,null,null,null,null,null,null,null,null,null,null,null,null,null,null,null,null,null,null,"RAEBRADFORD ROYAL INFIRMARY","RAE01","BRADFORD ROYAL INFIRMARY","RAE01","BRADFORD ROYAL INFIRMARY","RAE"]
[null,null,null,{"$f":"IF(D15=\"\", IF(E15=\"\", 0,1),0)","v":0},null,null,null,null,null,{"$f":"IF(J21<0, 1, 0)","v":0},0,0,0,0,0,0,{"$f":"IF(Q21<0, 1, 0)","v":0},0,0,0,{"$f":"IF(U21<0, 1, 0)","v":0},null,null,null,null,null,0,0,0,0,{"$f":"IF(AE21<0, 1, 0)","v":0},0,null,null,null,null,null,null,null,null,null,null,null,null,null,null,null,null,null,null,null,null,null,null,null,"RAEST LUKES HOSPITAL","RAE05","ST LUKES HOSPITAL","RAE05","ST LUKES HOSPITAL","RAE"]
[null,null,null,0,null,null,null,null,null,{"$f":"IF(J22<0, 1, 0)","v":0},0,0,0,0,0,0,{"$f":"IF(Q22<0, 1, 0)","v":0},0,0,0,{"$f":"IF(U22<0, 1, 0)","v":0},null,null,null,null,null,0,0,0,0,{"$f":"IF(AE22<0, 1, 0)","v":0},0,null,null,null,null,null,null,null,null,null,null,null,null,null,null,null,null,null,null,null,null,null,null,null,"RAJBASILDON HOSPITAL","RAJ12","BASILDON HOSPITAL","RAJ12","BASILDON HOSPITAL","RAJ"]
[null,null,null,0,null,null,null,null,null,{"$f":"IF(J23<0, 1, 0)","v":0},0,0,0,0,0,0,{"$f":"IF(Q23<0, 1, 0)","v":0},0,0,0,{"$f":"IF(U23<0, 1, 0)","v":0},null,null,null,null,null,0,0,0,0,{"$f":"IF(AE23<0, 1, 0)","v":0},0,null,null,null,null,null,null,null,null,null,null,null,null,null,null,null,null,null,null,null,null,null,null,null,"RAJBRENTWOOD COMMUNITY HOSPITAL","RAJ25","BRENTWOOD COMMUNITY HOSPITAL","RAJ25","BRENTWOOD COMMUNITY HOSPITAL","RAJ"]
[null,null,null,0,null,null,null,null,null,{"$f":"IF(J24<0, 1, 0)","v":0},0,0,0,0,0,0,{"$f":"IF(Q24<0, 1, 0)","v":0},0,0,0,{"$f":"IF(U24<0, 1, 0)","v":0},null,null,null,null,null,0,0,0,0,{"$f":"IF(AE24<0, 1, 0)","v":0},0,null,null,null,null,null,null,null,null,null,null,null,null,null,null,null,null,null,null,null,null,null,null,null,"RAJSOUTHEND HOSPITAL","RAJ01","SOUTHEND HOSPITAL","RAJ01","SOUTHEND HOSPITAL","RAJ"]
[null,null,null,0,null,null,null,null,null,{"$f":"IF(J25<0, 1, 0)","v":0},0,0,0,0,0,0,{"$f":"IF(Q25<0, 1, 0)","v":0},0,0,0,{"$f":"IF(U25<0, 1, 0)","v":0},null,null,null,null,null,0,0,0,0,{"$f":"IF(AE25<0, 1, 0)","v":0},0,null,null,null,null,null,null,null,null,null,null,null,null,null,null,null,null,null,null,null,null,null,null,null,"RALBARNET HOSPITAL","RAL26","BARNET HOSPITAL","RAL26","BARNET HOSPITAL","RAL"]
[null,null,null,0,null,null,null,null,null,{"$f":"IF(J26<0, 1, 0)","v":0},0,0,0,0,0,0,{"$f":"IF(Q26<0, 1, 0)","v":0},0,0,0,{"$f":"IF(U26<0, 1, 0)","v":0},null,null,null,null,null,0,0,0,0,{"$f":"IF(AE26<0, 1, 0)","v":0},0,null,null,null,null,null,null,null,null,null,null,null,null,null,null,null,null,null,null,null,null,null,null,null,"RALCHASE FARM HOSPITAL","RALC7 ","CHASE FARM HOSPITAL","RALC7 ","CHASE FARM HOSPITAL","RAL"]
[null,null,null,0,null,null,null,null,null,{"$f":"IF(J27<0, 1, 0)","v":0},0,0,0,0,0,0,{"$f":"IF(Q27<0, 1, 0)","v":0},0,0,0,{"$f":"IF(U27<0, 1, 0)","v":0},null,null,null,null,null,0,0,0,0,{"$f":"IF(AE27<0, 1, 0)","v":0},0,null,null,null,null,null,null,null,null,null,null,null,null,null,null,null,null,null,null,null,null,null,null,null,"RALEDGWARE COMMUNITY HOSPITAL","RALRA","EDGWARE COMMUNITY HOSPITAL","RALRA","EDGWARE COMMUNITY HOSPITAL","RAL"]
[null,null,null,0,null,null,null,null,null,{"$f":"IF(J28<0, 1, 0)","v":0},0,0,0,0,0,0,{"$f":"IF(Q28<0, 1, 0)","v":0},0,0,0,{"$f":"IF(U28<0, 1, 0)","v":0},null,null,null,null,null,0,0,0,0,{"$f":"IF(AE28<0, 1, 0)","v":0},0,null,null,null,null,null,null,null,null,null,null,null,null,null,null,null,null,null,null,null,null,null,null,null,"RALFINCHLEY MEMORIAL HOSPITAL","RAL22","FINCHLEY MEMORIAL HOSPITAL","RAL22","FINCHLEY MEMORIAL HOSPITAL","RAL"]
[null,null,null,0,null,null,null,null,null,{"$f":"IF(J29<0, 1, 0)","v":0},0,0,0,0,0,0,{"$f":"IF(Q29<0, 1, 0)","v":0},0,0,0,{"$f":"IF(U29<0, 1, 0)","v":0},null,null,null,null,null,0,0,0,0,{"$f":"IF(AE29<0, 1, 0)","v":0},0,null,null,null,null,null,null,null,null,null,null,null,null,null,null,null,null,null,null,null,null,null,null,null,"RALHARPENDEN MEMORIAL HOSPITAL","RALHA","HARPENDEN MEMORIAL HOSPITAL","RALHA","HARPENDEN MEMORIAL HOSPITAL","RAL"]
[null,null,null,0,null,null,null,null,null,{"$f":"IF(J30<0, 1, 0)","v":0},0,0,0,0,0,0,{"$f":"IF(Q30<0, 1, 0)","v":0},0,0,0,{"$f":"IF(U30<0, 1, 0)","v":0},null,null,null,null,null,0,0,0,0,{"$f":"IF(AE30<0, 1, 0)","v":0},0,null,null,null,null,null,null,null,null,null,null,null,null,null,null,null,null,null,null,null,null,null,null,null,"RALMOUNT VERNON HOSPITAL","RALMV","MOUNT VERNON HOSPITAL","RALMV","MOUNT VERNON HOSPITAL","RAL"]
[null,null,null,0,null,null,null,null,null,{"$f":"IF(J31<0, 1, 0)","v":0},0,0,0,0,0,0,{"$f":"IF(Q31<0, 1, 0)","v":0},0,0,0,{"$f":"IF(U31<0, 1, 0)","v":0},null,null,null,null,null,0,0,0,0,{"$f":"IF(AE31<0, 1, 0)","v":0},0,null,null,null,null,null,null,null,null,null,null,null,null,null,null,null,null,null,null,null,null,null,null,null,"RALQUEEN MARY'S HOUSE","RAL02","QUEEN MARY'S HOUSE","RAL02","QUEEN MARY'S HOUSE","RAL"]
[null,null,null,0,null,null,null,null,null,{"$f":"IF(J32<0, 1, 0)","v":0},0,0,0,0,0,0,{"$f":"IF(Q32<0, 1, 0)","v":0},0,0,0,{"$f":"IF(U32<0, 1, 0)","v":0},null,null,null,null,null,0,0,0,0,{"$f":"IF(AE32<0, 1, 0)","v":0},0,null,null,null,null,null,null,null,null,null,null,null,null,null,null,null,null,null,null,null,null,null,null,null,"RALROYAL FREE HOSPITAL","RAL01","ROYAL FREE HOSPITAL","RAL01","ROYAL FREE HOSPITAL","RAL"]
[null,null,null,0,null,null,null,null,null,{"$f":"IF(J33<0, 1, 0)","v":0},0,0,0,0,0,0,{"$f":"IF(Q33<0, 1, 0)","v":0},0,0,0,{"$f":"IF(U33<0, 1, 0)","v":0},null,null,null,null,null,0,0,0,0,{"$f":"IF(AE33<0, 1, 0)","v":0},0,null,null,null,null,null,null,null,null,null,null,null,null,null,null,null,null,null,null,null,null,null,null,null,"RALST. ALBANS CITY HOSPITAL","RALAL","ST. ALBANS CITY HOSPITAL","RALAL","ST. ALBANS CITY HOSPITAL","RAL"]
[null,null,null,0,null,null,null,null,null,{"$f":"IF(J34<0, 1, 0)","v":0},0,0,0,0,0,0,{"$f":"IF(Q34<0, 1, 0)","v":0},0,0,0,{"$f":"IF(U34<0, 1, 0)","v":0},null,null,null,null,null,0,0,0,0,{"$f":"IF(AE34<0, 1, 0)","v":0},0,null,null,null,null,null,null,null,null,null,null,null,null,null,null,null,null,null,null,null,null,null,null,null,"RALWATFORD GENERAL HOSPITAL","RALWA","WATFORD GENERAL HOSPITAL","RALWA","WATFORD GENERAL HOSPITAL","RAL"]
[null,null,null,0,null,null,null,null,null,{"$f":"IF(J35<0, 1, 0)","v":0},0,0,0,0,0,0,{"$f":"IF(Q35<0, 1, 0)","v":0},0,0,0,{"$f":"IF(U35<0, 1, 0)","v":0},null,null,null,null,null,0,0,0,0,{"$f":"IF(AE35<0, 1, 0)","v":0},0,null,null,null,null,null,null,null,null,null,null,null,null,null,null,null,null,null,null,null,null,null,null,null,"RANROYAL NATIONAL ORTHOPAEDIC HOSPITAL (BOLSOVER STREET)","RAN02","ROYAL NATIONAL ORTHOPAEDIC HOSPITAL (BOLSOVER STREET)","RAN02","ROYAL NATIONAL ORTHOPAEDIC HOSPITAL (BOLSOVER STREET)","RAN"]
[null,null,null,0,null,null,null,null,null,{"$f":"IF(J36<0, 1, 0)","v":0},0,0,0,0,0,0,{"$f":"IF(Q36<0, 1, 0)","v":0},0,0,0,{"$f":"IF(U36<0, 1, 0)","v":0},null,null,null,null,null,0,0,0,0,{"$f":"IF(AE36<0, 1, 0)","v":0},0,null,null,null,null,null,null,null,null,null,null,null,null,null,null,null,null,null,null,null,null,null,null,null,"RANTHE ROYAL NATIONAL ORTHOPAEDIC HOSPITAL (STANMORE)","RAN01","THE ROYAL NATIONAL ORTHOPAEDIC HOSPITAL (STANMORE)","RAN01","THE ROYAL NATIONAL ORTHOPAEDIC HOSPITAL (STANMORE)","RAN"]
[null,null,null,0,null,null,null,null,null,{"$f":"IF(J37<0, 1, 0)","v":0},0,0,0,0,0,0,{"$f":"IF(Q37<0, 1, 0)","v":0},0,0,0,{"$f":"IF(U37<0, 1, 0)","v":0},null,null,null,null,null,0,0,0,0,{"$f":"IF(AE37<0, 1, 0)","v":0},0,null,null,null,null,null,null,null,null,null,null,null,null,null,null,null,null,null,null,null,null,null,null,null,"RAPNORTH MIDDLESEX HOSPITAL","RAPNM","NORTH MIDDLESEX HOSPITAL","RAPNM","NORTH MIDDLESEX HOSPITAL","RAP"]
[null,null,null,0,null,null,null,null,null,{"$f":"IF(J38<0, 1, 0)","v":0},0,0,0,0,0,0,{"$f":"IF(Q38<0, 1, 0)","v":0},0,0,0,{"$f":"IF(U38<0, 1, 0)","v":0},null,null,null,null,null,0,0,0,0,{"$f":"IF(AE38<0, 1, 0)","v":0},0,null,null,null,null,null,null,null,null,null,null,null,null,null,null,null,null,null,null,null,null,null,null,null,"RAPST ANNS HOSPITAL (ACUTE WARDS)","RAPST","ST ANNS HOSPITAL (ACUTE WARDS)","RAPST","ST ANNS HOSPITAL (ACUTE WARDS)","RAP"]
[null,null,null,0,null,null,null,null,null,{"$f":"IF(J39<0, 1, 0)","v":0},0,0,0,0,0,0,{"$f":"IF(Q39<0, 1, 0)","v":0},0,0,0,{"$f":"IF(U39<0, 1, 0)","v":0},null,null,null,null,null,0,0,0,0,{"$f":"IF(AE39<0, 1, 0)","v":0},0,null,null,null,null,null,null,null,null,null,null,null,null,null,null,null,null,null,null,null,null,null,null,null,"RASHILLINGDON HOSPITAL","RAS01","HILLINGDON HOSPITAL","RAS01","HILLINGDON HOSPITAL","RAS"]
[null,null,null,0,null,null,null,null,null,{"$f":"IF(J40<0, 1, 0)","v":0},0,0,0,0,0,0,{"$f":"IF(Q40<0, 1, 0)","v":0},0,0,0,{"$f":"IF(U40<0, 1, 0)","v":0},null,null,null,null,null,0,0,0,0,{"$f":"IF(AE40<0, 1, 0)","v":0},0,null,null,null,null,null,null,null,null,null,null,null,null,null,null,null,null,null,null,null,null,null,null,null,"RASMOUNT VERNON HOSPITAL SITE","RAS02","MOUNT VERNON HOSPITAL SITE","RAS02","MOUNT VERNON HOSPITAL SITE","RAS"]
[null,null,null,0,null,null,null,null,null,{"$f":"IF(J41<0, 1, 0)","v":0},0,0,0,0,0,0,{"$f":"IF(Q41<0, 1, 0)","v":0},0,0,0,{"$f":"IF(U41<0, 1, 0)","v":0},null,null,null,null,null,0,0,0,0,{"$f":"IF(AE41<0, 1, 0)","v":0},0,null,null,null,null,null,null,null,null,null,null,null,null,null,null,null,null,null,null,null,null,null,null,null,"RATBARKING HOSPITAL","RATAP","BARKING HOSPITAL","RATAP","BARKING HOSPITAL","RAT"]
[null,null,null,0,null,null,null,null,null,{"$f":"IF(J42<0, 1, 0)","v":0},0,0,0,0,0,0,{"$f":"IF(Q42<0, 1, 0)","v":0},0,0,0,{"$f":"IF(U42<0, 1, 0)","v":0},null,null,null,null,null,0,0,0,0,{"$f":"IF(AE42<0, 1, 0)","v":0},0,null,null,null,null,null,null,null,null,null,null,null,null,null,null,null,null,null,null,null,null,null,null,null,"RATBASILDON HOSPITAL","RATJC","BASILDON HOSPITAL","RATJC","BASILDON HOSPITAL","RAT"]
[null,null,null,0,null,null,null,null,null,{"$f":"IF(J43<0, 1, 0)","v":0},0,0,0,0,0,0,{"$f":"IF(Q43<0, 1, 0)","v":0},0,0,0,{"$f":"IF(U43<0, 1, 0)","v":0},null,null,null,null,null,0,0,0,0,{"$f":"IF(AE43<0, 1, 0)","v":0},0,null,null,null,null,null,null,null,null,null,null,null,null,null,null,null,null,null,null,null,null,null,null,null,"RATBILLERICAY COMMUNITY HOSPITAL","RATDK","BILLERICAY COMMUNITY HOSPITAL","RATDK","BILLERICAY COMMUNITY HOSPITAL","RAT"]
[null,null,null,0,null,null,null,null,null,{"$f":"IF(J44<0, 1, 0)","v":0},0,0,0,0,0,0,{"$f":"IF(Q44<0, 1, 0)","v":0},0,0,0,{"$f":"IF(U44<0, 1, 0)","v":0},null,null,null,null,null,0,0,0,0,{"$f":"IF(AE44<0, 1, 0)","v":0},0,null,null,null,null,null,null,null,null,null,null,null,null,null,null,null,null,null,null,null,null,null,null,null,"RATBRENTWOOD COMMUNITY HOSPITAL","RATRM","BRENTWOOD COMMUNITY HOSPITAL","RATRM","BRENTWOOD COMMUNITY HOSPITAL","RAT"]
[null,null,null,0,null,null,null,null,null,{"$f":"IF(J45<0, 1, 0)","v":0},0,0,0,0,0,0,{"$f":"IF(Q45<0, 1, 0)","v":0},0,0,0,{"$f":"IF(U45<0, 1, 0)","v":0},null,null,null,null,null,0,0,0,0,{"$f":"IF(AE45<0, 1, 0)","v":0},0,null,null,null,null,null,null,null,null,null,null,null,null,null,null,null,null,null,null,null,null,null,null,null,"RATBROOKSIDE","RATRY","BROOKSIDE","RATRY","BROOKSIDE","RAT"]
[null,null,null,0,null,null,null,null,null,{"$f":"IF(J46<0, 1, 0)","v":0},0,0,0,0,0,0,{"$f":"IF(Q46<0, 1, 0)","v":0},0,0,0,{"$f":"IF(U46<0, 1, 0)","v":0},null,null,null,null,null,0,0,0,0,{"$f":"IF(AE46<0, 1, 0)","v":0},0,null,null,null,null,null,null,null,null,null,null,null,null,null,null,null,null,null,null,null,null,null,null,null,"RATCHADWELL HEATH (CHS)","RATCS","CHADWELL HEATH (CHS)","RATCS","CHADWELL HEATH (CHS)","RAT"]
[null,null,null,0,null,null,null,null,null,{"$f":"IF(J47<0, 1, 0)","v":0},0,0,0,0,0,0,{"$f":"IF(Q47<0, 1, 0)","v":0},0,0,0,{"$f":"IF(U47<0, 1, 0)","v":0},null,null,null,null,null,0,0,0,0,{"$f":"IF(AE47<0, 1, 0)","v":0},0,null,null,null,null,null,null,null,null,null,null,null,null,null,null,null,null,null,null,null,null,null,null,null,"RATCHILD & FAMILY FOREST","RATWC","CHILD & FAMILY FOREST","RATWC","CHILD & FAMILY FOREST","RAT"]
[null,null,null,0,null,null,null,null,null,{"$f":"IF(J48<0, 1, 0)","v":0},0,0,0,0,0,0,{"$f":"IF(Q48<0, 1, 0)","v":0},0,0,0,{"$f":"IF(U48<0, 1, 0)","v":0},null,null,null,null,null,0,0,0,0,{"$f":"IF(AE48<0, 1, 0)","v":0},0,null,null,null,null,null,null,null,null,null,null,null,null,null,null,null,null,null,null,null,null,null,null,null,"RATCOMMUNITY PAEDIATRICS - CDC","RATE3","COMMUNITY PAEDIATRICS - CDC","RATE3","COMMUNITY PAEDIATRICS - CDC","RAT"]
[null,null,null,0,null,null,null,null,null,{"$f":"IF(J49<0, 1, 0)","v":0},0,0,0,0,0,0,{"$f":"IF(Q49<0, 1, 0)","v":0},0,0,0,{"$f":"IF(U49<0, 1, 0)","v":0},null,null,null,null,null,0,0,0,0,{"$f":"IF(AE49<0, 1, 0)","v":0},0,null,null,null,null,null,null,null,null,null,null,null,null,null,null,null,null,null,null,null,null,null,null,null,"RATDRUG & ALCOHOL ILFORD","RATRD","DRUG & ALCOHOL ILFORD","RATRD","DRUG & ALCOHOL ILFORD","RAT"]
[null,null,null,0,null,null,null,null,null,{"$f":"IF(J50<0, 1, 0)","v":0},0,0,0,0,0,0,{"$f":"IF(Q50<0, 1, 0)","v":0},0,0,0,{"$f":"IF(U50<0, 1, 0)","v":0},null,null,null,null,null,0,0,0,0,{"$f":"IF(AE50<0, 1, 0)","v":0},0,null,null,null,null,null,null,null,null,null,null,null,null,null,null,null,null,null,null,null,null,null,null,null,"RATFACE TO FACE","RATFF","FACE TO FACE","RATFF","FACE TO FACE","RAT"]
[null,null,null,0,null,null,null,null,null,{"$f":"IF(J51<0, 1, 0)","v":0},0,0,0,0,0,0,{"$f":"IF(Q51<0, 1, 0)","v":0},0,0,0,{"$f":"IF(U51<0, 1, 0)","v":0},null,null,null,null,null,0,0,0,0,{"$f":"IF(AE51<0, 1, 0)","v":0},0,null,null,null,null,null,null,null,null,null,null,null,null,null,null,null,null,null,null,null,null,null,null,null,"RATFIVE ELMS (CHS)","RATFG","FIVE ELMS (CHS)","RATFG","FIVE ELMS (CHS)","RAT"]
[null,null,null,0,null,null,null,null,null,{"$f":"IF(J52<0, 1, 0)","v":0},0,0,0,0,0,0,{"$f":"IF(Q52<0, 1, 0)","v":0},0,0,0,{"$f":"IF(U52<0, 1, 0)","v":0},null,null,null,null,null,0,0,0,0,{"$f":"IF(AE52<0, 1, 0)","v":0},0,null,null,null,null,null,null,null,null,null,null,null,null,null,null,null,null,null,null,null,null,null,null,null,"RATFOXGLOVE WARD","RATKG","FOXGLOVE WARD","RATKG","FOXGLOVE WARD","RAT"]
[null,null,null,0,null,null,null,null,null,{"$f":"IF(J53<0, 1, 0)","v":0},0,0,0,0,0,0,{"$f":"IF(Q53<0, 1, 0)","v":0},0,0,0,{"$f":"IF(U53<0, 1, 0)","v":0},null,null,null,null,null,0,0,0,0,{"$f":"IF(AE53<0, 1, 0)","v":0},0,null,null,null,null,null,null,null,null,null,null,null,null,null,null,null,null,null,null,null,null,null,null,null,"RATGALLEON AND HERONWOOD","RATGF","GALLEON AND HERONWOOD","RATGF","GALLEON AND HERONWOOD","RAT"]
[null,null,null,0,null,null,null,null,null,{"$f":"IF(J54<0, 1, 0)","v":0},0,0,0,0,0,0,{"$f":"IF(Q54<0, 1, 0)","v":0},0,0,0,{"$f":"IF(U54<0, 1, 0)","v":0},null,null,null,null,null,0,0,0,0,{"$f":"IF(AE54<0, 1, 0)","v":0},0,null,null,null,null,null,null,null,null,null,null,null,null,null,null,null,null,null,null,null,null,null,null,null,"RATGOODMAYES HOSPITAL","RATGM","GOODMAYES HOSPITAL","RATGM","GOODMAYES HOSPITAL","RAT"]
[null,null,null,0,null,null,null,null,null,{"$f":"IF(J55<0, 1, 0)","v":0},0,0,0,0,0,0,{"$f":"IF(Q55<0, 1, 0)","v":0},0,0,0,{"$f":"IF(U55<0, 1, 0)","v":0},null,null,null,null,null,0,0,0,0,{"$f":"IF(AE55<0, 1, 0)","v":0},0,null,null,null,null,null,null,null,null,null,null,null,null,null,null,null,null,null,null,null,null,null,null,null,"RATGREENTHORNE","RATGT","GREENTHORNE","RATGT","GREENTHORNE","RAT"]
[null,null,null,0,null,null,null,null,null,{"$f":"IF(J56<0, 1, 0)","v":0},0,0,0,0,0,0,{"$f":"IF(Q56<0, 1, 0)","v":0},0,0,0,{"$f":"IF(U56<0, 1, 0)","v":0},null,null,null,null,null,0,0,0,0,{"$f":"IF(AE56<0, 1, 0)","v":0},0,null,null,null,null,null,null,null,null,null,null,null,null,null,null,null,null,null,null,null,null,null,null,null,"RATGREENTHORNE","RATWF","GREENTHORNE","RATWF","GREENTHORNE","RAT"]
[null,null,null,0,null,null,null,null,null,{"$f":"IF(J57<0, 1, 0)","v":0},0,0,0,0,0,0,{"$f":"IF(Q57<0, 1, 0)","v":0},0,0,0,{"$f":"IF(U57<0, 1, 0)","v":0},null,null,null,null,null,0,0,0,0,{"$f":"IF(AE57<0, 1, 0)","v":0},0,null,null,null,null,null,null,null,null,null,null,null,null,null,null,null,null,null,null,null,null,null,null,null,"RATGROVELANDS DAY HOSPITAL","RATRJ","GROVELANDS DAY HOSPITAL","RATRJ","GROVELANDS DAY HOSPITAL","RAT"]
[null,null,null,0,null,null,null,null,null,{"$f":"IF(J58<0, 1, 0)","v":0},0,0,0,0,0,0,{"$f":"IF(Q58<0, 1, 0)","v":0},0,0,0,{"$f":"IF(U58<0, 1, 0)","v":0},null,null,null,null,null,0,0,0,0,{"$f":"IF(AE58<0, 1, 0)","v":0},0,null,null,null,null,null,null,null,null,null,null,null,null,null,null,null,null,null,null,null,null,null,null,null,"RATHAWKWELL COURT","RATHC","HAWKWELL COURT","RATHC","HAWKWELL COURT","RAT"]
[null,null,null,0,null,null,null,null,null,{"$f":"IF(J59<0, 1, 0)","v":0},0,0,0,0,0,0,{"$f":"IF(Q59<0, 1, 0)","v":0},0,0,0,{"$f":"IF(U59<0, 1, 0)","v":0},null,null,null,null,null,0,0,0,0,{"$f":"IF(AE59<0, 1, 0)","v":0},0,null,null,null,null,null,null,null,null,null,null,null,null,null,null,null,null,null,null,null,null,null,null,null,"RATHERONWOOD AND GALLEON","RATC5","HERONWOOD AND GALLEON","RATC5","HERONWOOD AND GALLEON","RAT"]
[null,null,null,0,null,null,null,null,null,{"$f":"IF(J60<0, 1, 0)","v":0},0,0,0,0,0,0,{"$f":"IF(Q60<0, 1, 0)","v":0},0,0,0,{"$f":"IF(U60<0, 1, 0)","v":0},null,null,null,null,null,0,0,0,0,{"$f":"IF(AE60<0, 1, 0)","v":0},0,null,null,null,null,null,null,null,null,null,null,null,null,null,null,null,null,null,null,null,null,null,null,null,"RATICAT","RATC2","ICAT","RATC2","ICAT","RAT"]
[null,null,null,0,null,null,null,null,null,{"$f":"IF(J61<0, 1, 0)","v":0},0,0,0,0,0,0,{"$f":"IF(Q61<0, 1, 0)","v":0},0,0,0,{"$f":"IF(U61<0, 1, 0)","v":0},null,null,null,null,null,0,0,0,0,{"$f":"IF(AE61<0, 1, 0)","v":0},0,null,null,null,null,null,null,null,null,null,null,null,null,null,null,null,null,null,null,null,null,null,null,null,"RATINITIAL ASSESSMENT (HAV)","RATHA","INITIAL ASSESSMENT (HAV)","RATHA","INITIAL ASSESSMENT (HAV)","RAT"]
[null,null,null,0,null,null,null,null,null,{"$f":"IF(J62<0, 1, 0)","v":0},0,0,0,0,0,0,{"$f":"IF(Q62<0, 1, 0)","v":0},0,0,0,{"$f":"IF(U62<0, 1, 0)","v":0},null,null,null,null,null,0,0,0,0,{"$f":"IF(AE62<0, 1, 0)","v":0},0,null,null,null,null,null,null,null,null,null,null,null,null,null,null,null,null,null,null,null,null,null,null,null,"RATJONES UNIT - RIVERSIDE","RATRV","JONES UNIT - RIVERSIDE","RATRV","JONES UNIT - RIVERSIDE","RAT"]
[null,null,null,0,null,null,null,null,null,{"$f":"IF(J63<0, 1, 0)","v":0},0,0,0,0,0,0,{"$f":"IF(Q63<0, 1, 0)","v":0},0,0,0,{"$f":"IF(U63<0, 1, 0)","v":0},null,null,null,null,null,0,0,0,0,{"$f":"IF(AE63<0, 1, 0)","v":0},0,null,null,null,null,null,null,null,null,null,null,null,null,null,null,null,null,null,null,null,null,null,null,null,"RATJULIA ENGWELL (CHS)","RATJE","JULIA ENGWELL (CHS)","RATJE","JULIA ENGWELL (CHS)","RAT"]
[null,null,null,0,null,null,null,null,null,{"$f":"IF(J64<0, 1, 0)","v":0},0,0,0,0,0,0,{"$f":"IF(Q64<0, 1, 0)","v":0},0,0,0,{"$f":"IF(U64<0, 1, 0)","v":0},null,null,null,null,null,0,0,0,0,{"$f":"IF(AE64<0, 1, 0)","v":0},0,null,null,null,null,null,null,null,null,null,null,null,null,null,null,null,null,null,null,null,null,null,null,null,"RATKING GEORGES HOSPITAL","RATDG","KING GEORGES HOSPITAL","RATDG","KING GEORGES HOSPITAL","RAT"]
[null,null,null,0,null,null,null,null,null,{"$f":"IF(J65<0, 1, 0)","v":0},0,0,0,0,0,0,{"$f":"IF(Q65<0, 1, 0)","v":0},0,0,0,{"$f":"IF(U65<0, 1, 0)","v":0},null,null,null,null,null,0,0,0,0,{"$f":"IF(AE65<0, 1, 0)","v":0},0,null,null,null,null,null,null,null,null,null,null,null,null,null,null,null,null,null,null,null,null,null,null,null,"RATLITTLE HIGHWOOD","RATLH","LITTLE HIGHWOOD","RATLH","LITTLE HIGHWOOD","RAT"]
[null,null,null,0,null,null,null,null,null,{"$f":"IF(J66<0, 1, 0)","v":0},0,0,0,0,0,0,{"$f":"IF(Q66<0, 1, 0)","v":0},0,0,0,{"$f":"IF(U66<0, 1, 0)","v":0},null,null,null,null,null,0,0,0,0,{"$f":"IF(AE66<0, 1, 0)","v":0},0,null,null,null,null,null,null,null,null,null,null,null,null,null,null,null,null,null,null,null,null,null,null,null,"RATLOXFORD HALL","RATLX","LOXFORD HALL","RATLX","LOXFORD HALL","RAT"]
[null,null,null,0,null,null,null,null,null,{"$f":"IF(J67<0, 1, 0)","v":0},0,0,0,0,0,0,{"$f":"IF(Q67<0, 1, 0)","v":0},0,0,0,{"$f":"IF(U67<0, 1, 0)","v":0},null,null,null,null,null,0,0,0,0,{"$f":"IF(AE67<0, 1, 0)","v":0},0,null,null,null,null,null,null,null,null,null,null,null,null,null,null,null,null,null,null,null,null,null,null,null,"RATLOXFORD HALL","RATRQ","LOXFORD HALL","RATRQ","LOXFORD HALL","RAT"]
[null,null,null,0,null,null,null,null,null,{"$f":"IF(J68<0, 1, 0)","v":0},0,0,0,0,0,0,{"$f":"IF(Q68<0, 1, 0)","v":0},0,0,0,{"$f":"IF(U68<0, 1, 0)","v":0},null,null,null,null,null,0,0,0,0,{"$f":"IF(AE68<0, 1, 0)","v":0},0,null,null,null,null,null,null,null,null,null,null,null,null,null,null,null,null,null,null,null,null,null,null,null,"RATMARKS GATE (CHS)","RATMG","MARKS GATE (CHS)","RATMG","MARKS GATE (CHS)","RAT"]
[null,null,null,0,null,null,null,null,null,{"$f":"IF(J69<0, 1, 0)","v":0},0,0,0,0,0,0,{"$f":"IF(Q69<0, 1, 0)","v":0},0,0,0,{"$f":"IF(U69<0, 1, 0)","v":0},null,null,null,null,null,0,0,0,0,{"$f":"IF(AE69<0, 1, 0)","v":0},0,null,null,null,null,null,null,null,null,null,null,null,null,null,null,null,null,null,null,null,null,null,null,null,"RATMASCALLS OLDER PEOPLE HAV","RATHG","MASCALLS OLDER PEOPLE HAV","RATHG","MASCALLS OLDER PEOPLE HAV","RAT"]
[null,null,null,0,null,null,null,null,null,{"$f":"IF(J70<0, 1, 0)","v":0},0,0,0,0,0,0,{"$f":"IF(Q70<0, 1, 0)","v":0},0,0,0,{"$f":"IF(U70<0, 1, 0)","v":0},null,null,null,null,null,0,0,0,0,{"$f":"IF(AE70<0, 1, 0)","v":0},0,null,null,null,null,null,null,null,null,null,null,null,null,null,null,null,null,null,null,null,null,null,null,null,"RATMAYFIELD CENTRE","RATAF","MAYFIELD CENTRE","RATAF","MAYFIELD CENTRE","RAT"]
[null,null,null,0,null,null,null,null,null,{"$f":"IF(J71<0, 1, 0)","v":0},0,0,0,0,0,0,{"$f":"IF(Q71<0, 1, 0)","v":0},0,0,0,{"$f":"IF(U71<0, 1, 0)","v":0},null,null,null,null,null,0,0,0,0,{"$f":"IF(AE71<0, 1, 0)","v":0},0,null,null,null,null,null,null,null,null,null,null,null,null,null,null,null,null,null,null,null,null,null,null,null,"RATNEW DIRECTIONS","RATHP","NEW DIRECTIONS","RATHP","NEW DIRECTIONS","RAT"]
[null,null,null,0,null,null,null,null,null,{"$f":"IF(J72<0, 1, 0)","v":0},0,0,0,0,0,0,{"$f":"IF(Q72<0, 1, 0)","v":0},0,0,0,{"$f":"IF(U72<0, 1, 0)","v":0},null,null,null,null,null,0,0,0,0,{"$f":"IF(AE72<0, 1, 0)","v":0},0,null,null,null,null,null,null,null,null,null,null,null,null,null,null,null,null,null,null,null,null,null,null,null,"RATOAHTT (BARKING HOSPITAL)","RATT3","OAHTT (BARKING HOSPITAL)","RATT3","OAHTT (BARKING HOSPITAL)","RAT"]
[null,null,null,0,null,null,null,null,null,{"$f":"IF(J73<0, 1, 0)","v":0},0,0,0,0,0,0,{"$f":"IF(Q73<0, 1, 0)","v":0},0,0,0,{"$f":"IF(U73<0, 1, 0)","v":0},null,null,null,null,null,0,0,0,0,{"$f":"IF(AE73<0, 1, 0)","v":0},0,null,null,null,null,null,null,null,null,null,null,null,null,null,null,null,null,null,null,null,null,null,null,null,"RATORSETT HOSPITAL","RATPH","ORSETT HOSPITAL","RATPH","ORSETT HOSPITAL","RAT"]
[null,null,null,0,null,null,null,null,null,{"$f":"IF(J74<0, 1, 0)","v":0},0,0,0,0,0,0,{"$f":"IF(Q74<0, 1, 0)","v":0},0,0,0,{"$f":"IF(U74<0, 1, 0)","v":0},null,null,null,null,null,0,0,0,0,{"$f":"IF(AE74<0, 1, 0)","v":0},0,null,null,null,null,null,null,null,null,null,null,null,null,null,null,null,null,null,null,null,null,null,null,null,"RATQUEENS HOSPITAL","RATQH","QUEENS HOSPITAL","RATQH","QUEENS HOSPITAL","RAT"]
[null,null,null,0,null,null,null,null,null,{"$f":"IF(J75<0, 1, 0)","v":0},0,0,0,0,0,0,{"$f":"IF(Q75<0, 1, 0)","v":0},0,0,0,{"$f":"IF(U75<0, 1, 0)","v":0},null,null,null,null,null,0,0,0,0,{"$f":"IF(AE75<0, 1, 0)","v":0},0,null,null,null,null,null,null,null,null,null,null,null,null,null,null,null,null,null,null,null,null,null,null,null,"RATREDBRIDGE HTT","RATRN","REDBRIDGE HTT","RATRN","REDBRIDGE HTT","RAT"]
[null,null,null,0,null,null,null,null,null,{"$f":"IF(J76<0, 1, 0)","v":0},0,0,0,0,0,0,{"$f":"IF(Q76<0, 1, 0)","v":0},0,0,0,{"$f":"IF(U76<0, 1, 0)","v":0},null,null,null,null,null,0,0,0,0,{"$f":"IF(AE76<0, 1, 0)","v":0},0,null,null,null,null,null,null,null,null,null,null,null,null,null,null,null,null,null,null,null,null,null,null,null,"RATROMFORD CRT","RATH3","ROMFORD CRT","RATH3","ROMFORD CRT","RAT"]
[null,null,null,0,null,null,null,null,null,{"$f":"IF(J77<0, 1, 0)","v":0},0,0,0,0,0,0,{"$f":"IF(Q77<0, 1, 0)","v":0},0,0,0,{"$f":"IF(U77<0, 1, 0)","v":0},null,null,null,null,null,0,0,0,0,{"$f":"IF(AE77<0, 1, 0)","v":0},0,null,null,null,null,null,null,null,null,null,null,null,null,null,null,null,null,null,null,null,null,null,null,null,{"$f":"CONCATENATE(LEFT(BE483, 3),BF483)","v":"RATST GEORGES"},"RATGK","ST GEORGES","RATGK","ST GEORGES",{"$f":"LEFT(BG483,3)","v":"RAT"}]
[null,null,null,0,null,null,null,null,null,{"$f":"IF(J78<0, 1, 0)","v":0},0,0,0,0,0,0,{"$f":"IF(Q78<0, 1, 0)","v":0},0,0,0,{"$f":"IF(U78<0, 1, 0)","v":0},null,null,null,null,null,0,0,0,0,{"$f":"IF(AE78<0, 1, 0)","v":0},0,null,null,null,null,null,null,null,null,null,null,null,null,null,null,null,null,null,null,null,null,null,null,null,"RATST GEORGES DAY HOSPITAL","RATC3","ST GEORGES DAY HOSPITAL","RATC3","ST GEORGES DAY HOSPITAL","RAT"]
[null,null,null,0,null,null,null,null,null,{"$f":"IF(J79<0, 1, 0)","v":0},0,0,0,0,0,0,{"$f":"IF(Q79<0, 1, 0)","v":0},0,0,0,{"$f":"IF(U79<0, 1, 0)","v":0},null,null,null,null,null,0,0,0,0,{"$f":"IF(AE79<0, 1, 0)","v":0},0,null,null,null,null,null,null,null,null,null,null,null,null,null,null,null,null,null,null,null,null,null,null,null,"RATSTONELEA","RATTL","STONELEA","RATTL","STONELEA","RAT"]
[null,null,null,0,null,null,null,null,null,{"$f":"IF(J80<0, 1, 0)","v":0},0,0,0,0,0,0,{"$f":"IF(Q80<0, 1, 0)","v":0},0,0,0,{"$f":"IF(U80<0, 1, 0)","v":0},null,null,null,null,null,0,0,0,0,{"$f":"IF(AE80<0, 1, 0)","v":0},0,null,null,null,null,null,null,null,null,null,null,null,null,null,null,null,null,null,null,null,null,null,null,null,"RATTHAMES VIEW (CHS)","RATTV","THAMES VIEW (CHS)","RATTV","THAMES VIEW (CHS)","RAT"]
[null,null,null,0,null,null,null,null,null,{"$f":"IF(J81<0, 1, 0)","v":0},0,0,0,0,0,0,{"$f":"IF(Q81<0, 1, 0)","v":0},0,0,0,{"$f":"IF(U81<0, 1, 0)","v":0},null,null,null,null,null,0,0,0,0,{"$f":"IF(AE81<0, 1, 0)","v":0},0,null,null,null,null,null,null,null,null,null,null,null,null,null,null,null,null,null,null,null,null,null,null,null,"RATTHE AINSLIE REHAB UNIT","RAT42","THE AINSLIE REHAB UNIT","RAT42","THE AINSLIE REHAB UNIT","RAT"]
[null,null,null,0,null,null,null,null,null,{"$f":"IF(J82<0, 1, 0)","v":0},0,0,0,0,0,0,{"$f":"IF(Q82<0, 1, 0)","v":0},0,0,0,{"$f":"IF(U82<0, 1, 0)","v":0},null,null,null,null,null,0,0,0,0,{"$f":"IF(AE82<0, 1, 0)","v":0},0,null,null,null,null,null,null,null,null,null,null,null,null,null,null,null,null,null,null,null,null,null,null,null,"RATTHORNEBURY UNIT","RATHN","THORNEBURY UNIT","RATHN","THORNEBURY UNIT","RAT"]
[null,null,null,0,null,null,null,null,null,{"$f":"IF(J83<0, 1, 0)","v":0},0,0,0,0,0,0,{"$f":"IF(Q83<0, 1, 0)","v":0},0,0,0,{"$f":"IF(U83<0, 1, 0)","v":0},null,null,null,null,null,0,0,0,0,{"$f":"IF(AE83<0, 1, 0)","v":0},0,null,null,null,null,null,null,null,null,null,null,null,null,null,null,null,null,null,null,null,null,null,null,null,"RATTHORPE COOMBE","RATTH","THORPE COOMBE","RATTH","THORPE COOMBE","RAT"]
[null,null,null,0,null,null,null,null,null,{"$f":"IF(J84<0, 1, 0)","v":0},0,0,0,0,0,0,{"$f":"IF(Q84<0, 1, 0)","v":0},0,0,0,{"$f":"IF(U84<0, 1, 0)","v":0},null,null,null,null,null,0,0,0,0,{"$f":"IF(AE84<0, 1, 0)","v":0},0,null,null,null,null,null,null,null,null,null,null,null,null,null,null,null,null,null,null,null,null,null,null,null,"RATTHURROCK COMMUNITY HOSPITAL","RATH7","THURROCK COMMUNITY HOSPITAL","RATH7","THURROCK COMMUNITY HOSPITAL","RAT"]
[null,null,null,{"$f":"IF(D79=\"\", IF(E79=\"\", 0,1),0)","v":0},null,null,null,null,null,{"$f":"IF(J85<0, 1, 0)","v":0},0,0,0,0,0,0,{"$f":"IF(Q85<0, 1, 0)","v":0},0,0,0,{"$f":"IF(U85<0, 1, 0)","v":0},null,null,null,null,null,0,0,0,0,{"$f":"IF(AE85<0, 1, 0)","v":0},0,null,null,null,null,null,null,null,null,null,null,null,null,null,null,null,null,null,null,null,null,null,null,null,"RATTOMSWOOD REHAB. UNIT","RATWT","TOMSWOOD REHAB. UNIT","RATWT","TOMSWOOD REHAB. UNIT","RAT"]
[null,null,null,0,null,null,null,null,null,{"$f":"IF(J86<0, 1, 0)","v":0},0,0,0,0,0,0,{"$f":"IF(Q86<0, 1, 0)","v":0},0,0,0,{"$f":"IF(U86<0, 1, 0)","v":0},null,null,null,null,null,0,0,0,0,{"$f":"IF(AE86<0, 1, 0)","v":0},0,null,null,null,null,null,null,null,null,null,null,null,null,null,null,null,null,null,null,null,null,null,null,null,"RATUPMINSTER CRT1","RATH5","UPMINSTER CRT1","RATH5","UPMINSTER CRT1","RAT"]
[null,null,null,0,null,null,null,null,null,{"$f":"IF(J87<0, 1, 0)","v":0},0,0,0,0,0,0,{"$f":"IF(Q87<0, 1, 0)","v":0},0,0,0,{"$f":"IF(U87<0, 1, 0)","v":0},null,null,null,null,null,0,0,0,0,{"$f":"IF(AE87<0, 1, 0)","v":0},0,null,null,null,null,null,null,null,null,null,null,null,null,null,null,null,null,null,null,null,null,null,null,null,"RATVICARAGE FIELDS (CHS)","RATVF","VICARAGE FIELDS (CHS)","RATVF","VICARAGE FIELDS (CHS)","RAT"]
[null,null,null,0,null,null,null,null,null,{"$f":"IF(J88<0, 1, 0)","v":0},0,0,0,0,0,0,{"$f":"IF(Q88<0, 1, 0)","v":0},0,0,0,{"$f":"IF(U88<0, 1, 0)","v":0},null,null,null,null,null,0,0,0,0,{"$f":"IF(AE88<0, 1, 0)","v":0},0,null,null,null,null,null,null,null,null,null,null,null,null,null,null,null,null,null,null,null,null,null,null,null,"RATWOODBURY UNIT","RATWD","WOODBURY UNIT","RATWD","WOODBURY UNIT","RAT"]
[null,null,null,0,null,null,null,null,null,{"$f":"IF(J89<0, 1, 0)","v":0},0,0,0,0,0,0,{"$f":"IF(Q89<0, 1, 0)","v":0},0,0,0,{"$f":"IF(U89<0, 1, 0)","v":0},null,null,null,null,null,0,0,0,0,{"$f":"IF(AE89<0, 1, 0)","v":0},0,null,null,null,null,null,null,null,null,null,null,null,null,null,null,null,null,null,null,null,null,null,null,null,"RAXKINGSTON HOSPITAL","RAX01","KINGSTON HOSPITAL","RAX01","KINGSTON HOSPITAL","RAX"]
[null,null,null,0,null,null,null,null,null,{"$f":"IF(J90<0, 1, 0)","v":0},0,0,0,0,0,0,{"$f":"IF(Q90<0, 1, 0)","v":0},0,0,0,{"$f":"IF(U90<0, 1, 0)","v":0},null,null,null,null,null,0,0,0,0,{"$f":"IF(AE90<0, 1, 0)","v":0},0,null,null,null,null,null,null,null,null,null,null,null,null,null,null,null,null,null,null,null,null,null,null,null,"RBAFROME VICTORIA HOSPITAL","RBAD1","FROME VICTORIA HOSPITAL","RBAD1","FROME VICTORIA HOSPITAL","RBA"]
[null,null,null,0,null,null,null,null,null,{"$f":"IF(J91<0, 1, 0)","v":0},0,0,0,0,0,0,{"$f":"IF(Q91<0, 1, 0)","v":0},0,0,0,{"$f":"IF(U91<0, 1, 0)","v":0},null,null,null,null,null,0,0,0,0,{"$f":"IF(AE91<0, 1, 0)","v":0},0,null,null,null,null,null,null,null,null,null,null,null,null,null,null,null,null,null,null,null,null,null,null,null,"RBAMUSGROVE PARK HOSPITAL","RBA11","MUSGROVE PARK HOSPITAL","RBA11","MUSGROVE PARK HOSPITAL","RBA"]
[null,null,null,0,null,null,null,null,null,{"$f":"IF(J92<0, 1, 0)","v":0},0,0,0,0,0,0,{"$f":"IF(Q92<0, 1, 0)","v":0},0,0,0,{"$f":"IF(U92<0, 1, 0)","v":0},null,null,null,null,null,0,0,0,0,{"$f":"IF(AE92<0, 1, 0)","v":0},0,null,null,null,null,null,null,null,null,null,null,null,null,null,null,null,null,null,null,null,null,null,null,null,"RBASHEPTON MALLET COMMUNITY HOSPITAL","RBAD2","SHEPTON MALLET COMMUNITY HOSPITAL","RBAD2","SHEPTON MALLET COMMUNITY HOSPITAL","RBA"]
[null,null,null,0,null,null,null,null,null,{"$f":"IF(J93<0, 1, 0)","v":0},0,0,0,0,0,0,{"$f":"IF(Q93<0, 1, 0)","v":0},0,0,0,{"$f":"IF(U93<0, 1, 0)","v":0},null,null,null,null,null,0,0,0,0,{"$f":"IF(AE93<0, 1, 0)","v":0},0,null,null,null,null,null,null,null,null,null,null,null,null,null,null,null,null,null,null,null,null,null,null,null,"RBBCHIPPENHAM HOSPITAL","RBBP1","CHIPPENHAM HOSPITAL","RBBP1","CHIPPENHAM HOSPITAL","RBB"]
[null,null,null,0,null,null,null,null,null,{"$f":"IF(J94<0, 1, 0)","v":0},0,0,0,0,0,0,{"$f":"IF(Q94<0, 1, 0)","v":0},0,0,0,{"$f":"IF(U94<0, 1, 0)","v":0},null,null,null,null,null,0,0,0,0,{"$f":"IF(AE94<0, 1, 0)","v":0},0,null,null,null,null,null,null,null,null,null,null,null,null,null,null,null,null,null,null,null,null,null,null,null,"RBBDEVIZES HOSPITAL","RBBP2","DEVIZES HOSPITAL","RBBP2","DEVIZES HOSPITAL","RBB"]
[null,null,null,0,null,null,null,null,null,{"$f":"IF(J101<0, 1, 0)","v":0},0,0,0,0,0,0,{"$f":"IF(Q101<0, 1, 0)","v":0},0,0,0,{"$f":"IF(U101<0, 1, 0)","v":0},null,null,null,null,null,0,0,0,0,{"$f":"IF(AE101<0, 1, 0)","v":0},0,null,null,null,null,null,null,null,null,null,null,null,null,null,null,null,null,null,null,null,null,null,null,null,"RBDPORTLAND HOSPITAL","RBD08","PORTLAND HOSPITAL","RBD08","PORTLAND HOSPITAL","RBD"]
[null,null,null,0,null,null,null,null,null,{"$f":"IF(J108<0, 1, 0)","v":0},0,0,0,0,0,0,{"$f":"IF(Q108<0, 1, 0)","v":0},0,0,0,{"$f":"IF(U108<0, 1, 0)","v":0},null,null,null,null,null,0,0,0,0,{"$f":"IF(AE108<0, 1, 0)","v":0},0,null,null,null,null,null,null,null,null,null,null,null,null,null,null,null,null,null,null,null,null,null,null,null,"RBLOUTPATIENTS DEPARTMENT (ST JOHN'S HOSPICE)","RBL25","OUTPATIENTS DEPARTMENT (ST JOHN'S HOSPICE)","RBL25","OUTPATIENTS DEPARTMENT (ST JOHN'S HOSPICE)","RBL"]
[null,null,null,0,null,null,null,null,null,{"$f":"IF(J120<0, 1, 0)","v":0},0,0,0,0,0,0,{"$f":"IF(Q120<0, 1, 0)","v":0},0,0,0,{"$f":"IF(U120<0, 1, 0)","v":0},null,null,null,null,null,0,0,0,0,{"$f":"IF(AE120<0, 1, 0)","v":0},0,null,null,null,null,null,null,null,null,null,null,null,null,null,null,null,null,null,null,null,null,null,null,null,"RBTVICTORIA INFIRMARY (NORTHWICH)","RBT21","VICTORIA INFIRMARY (NORTHWICH)","RBT21","VICTORIA INFIRMARY (NORTHWICH)","RBT"]
[null,null,null,0,null,null,null,null,null,{"$f":"IF(J127<0, 1, 0)","v":0},0,0,0,0,0,0,{"$f":"IF(Q127<0, 1, 0)","v":0},0,0,0,{"$f":"IF(U127<0, 1, 0)","v":0},null,null,null,null,null,0,0,0,0,{"$f":"IF(AE127<0, 1, 0)","v":0},0,null,null,null,null,null,null,null,null,null,null,null,null,null,null,null,null,null,null,null,null,null,null,null,"RBZHOLSWORTHY HOSPITAL","RBZ92","HOLSWORTHY HOSPITAL","RBZ92","HOLSWORTHY HOSPITAL","RBZ"]
[null,null,null,0,null,null,null,null,null,{"$f":"IF(J139<0, 1, 0)","v":0},0,0,0,0,0,0,{"$f":"IF(Q139<0, 1, 0)","v":0},0,0,0,{"$f":"IF(U139<0, 1, 0)","v":0},null,null,null,null,null,0,0,0,0,{"$f":"IF(AE139<0, 1, 0)","v":0},0,null,null,null,null,null,null,null,null,null,null,null,null,null,null,null,null,null,null,null,null,null,null,null,"RC1BEDFORD HOSPITAL NORTH WING","RC111","BEDFORD HOSPITAL NORTH WING","RC111","BEDFORD HOSPITAL NORTH WING","RC1"]
[null,null,null,0,null,null,null,null,null,{"$f":"IF(J142<0, 1, 0)","v":0},0,0,0,0,0,0,{"$f":"IF(Q142<0, 1, 0)","v":0},0,0,0,{"$f":"IF(U142<0, 1, 0)","v":0},null,null,null,null,null,0,0,0,0,{"$f":"IF(AE142<0, 1, 0)","v":0},0,null,null,null,null,null,null,null,null,null,null,null,null,null,null,null,null,null,null,null,null,null,null,null,"RC3EALING HOSPITAL","RC368","EALING HOSPITAL","RC368","EALING HOSPITAL","RC3"]
[null,null,null,0,null,null,null,null,null,{"$f":"IF(J152<0, 1, 0)","v":0},0,0,0,0,0,0,{"$f":"IF(Q152<0, 1, 0)","v":0},0,0,0,{"$f":"IF(U152<0, 1, 0)","v":0},null,null,null,null,null,0,0,0,0,{"$f":"IF(AE152<0, 1, 0)","v":0},0,null,null,null,null,null,null,null,null,null,null,null,null,null,null,null,null,null,null,null,null,null,null,null,"RCBMALTON COMMUNITY HOSPITAL","RCBL8","MALTON COMMUNITY HOSPITAL","RCBL8","MALTON COMMUNITY HOSPITAL","RCB"]
[null,null,null,0,null,null,null,null,null,{"$f":"IF(J162<0, 1, 0)","v":0},0,0,0,0,0,0,{"$f":"IF(Q162<0, 1, 0)","v":0},0,0,0,{"$f":"IF(U162<0, 1, 0)","v":0},null,null,null,null,null,0,0,0,0,{"$f":"IF(AE162<0, 1, 0)","v":0},0,null,null,null,null,null,null,null,null,null,null,null,null,null,null,null,null,null,null,null,null,null,null,null,"RCDLANCASTER PARK ROAD (SITE 2)","RCD22","LANCASTER PARK ROAD (SITE 2)","RCD22","LANCASTER PARK ROAD (SITE 2)","RCD"]
[null,null,null,0,null,null,null,null,null,{"$f":"IF(J169<0, 1, 0)","v":0},0,0,0,0,0,0,{"$f":"IF(Q169<0, 1, 0)","v":0},0,0,0,{"$f":"IF(U169<0, 1, 0)","v":0},null,null,null,null,null,0,0,0,0,{"$f":"IF(AE169<0, 1, 0)","v":0},0,null,null,null,null,null,null,null,null,null,null,null,null,null,null,null,null,null,null,null,null,null,null,null,"RCFCORONATION HOSPITAL","RCF26","CORONATION HOSPITAL","RCF26","CORONATION HOSPITAL","RCF"]
[null,null,null,0,null,null,null,null,null,{"$f":"IF(J181<0, 1, 0)","v":0},0,0,0,0,0,0,{"$f":"IF(Q181<0, 1, 0)","v":0},0,0,0,{"$f":"IF(U181<0, 1, 0)","v":0},null,null,null,null,null,0,0,0,0,{"$f":"IF(AE181<0, 1, 0)","v":0},0,null,null,null,null,null,null,null,null,null,null,null,null,null,null,null,null,null,null,null,null,null,null,null,"RD1DEVIZES HOSPITAL","RD107","DEVIZES HOSPITAL","RD107","DEVIZES HOSPITAL","RD1"]
[null,null,null,0,null,null,null,null,null,{"$f":"IF(J193<0, 1, 0)","v":0},0,0,0,0,0,0,{"$f":"IF(Q193<0, 1, 0)","v":0},0,0,0,{"$f":"IF(U193<0, 1, 0)","v":0},null,null,null,null,null,0,0,0,0,{"$f":"IF(AE193<0, 1, 0)","v":0},0,null,null,null,null,null,null,null,null,null,null,null,null,null,null,null,null,null,null,null,null,null,null,null,"RD1WESTBURY HOSPITAL","RD106","WESTBURY HOSPITAL","RD106","WESTBURY HOSPITAL","RD1"]
[null,null,null,0,null,null,null,null,null,{"$f":"IF(J200<0, 1, 0)","v":0},0,0,0,0,0,0,{"$f":"IF(Q200<0, 1, 0)","v":0},0,0,0,{"$f":"IF(U200<0, 1, 0)","v":0},null,null,null,null,null,0,0,0,0,{"$f":"IF(AE200<0, 1, 0)","v":0},0,null,null,null,null,null,null,null,null,null,null,null,null,null,null,null,null,null,null,null,null,null,null,null,"RD7HSH BROADMOOR HOSPITAL","RD765","HSH BROADMOOR HOSPITAL","RD765","HSH BROADMOOR HOSPITAL","RD7"]
[null,null,null,0,null,null,null,null,null,{"$f":"IF(J212<0, 1, 0)","v":0},0,0,0,0,0,0,{"$f":"IF(Q212<0, 1, 0)","v":0},0,0,0,{"$f":"IF(U212<0, 1, 0)","v":0},null,null,null,null,null,0,0,0,0,{"$f":"IF(AE212<0, 1, 0)","v":0},0,null,null,null,null,null,null,null,null,null,null,null,null,null,null,null,null,null,null,null,null,null,null,null,"RDDTHE ESSEX CARDIOTHORACIC CENTRE","RDDH8","THE ESSEX CARDIOTHORACIC CENTRE","RDDH8","THE ESSEX CARDIOTHORACIC CENTRE","RDD"]
[null,null,null,{"$f":"IF(D207=\"\", IF(E207=\"\", 0,1),0)","v":0},null,null,null,null,null,{"$f":"IF(J213<0, 1, 0)","v":0},0,0,0,0,0,0,{"$f":"IF(Q213<0, 1, 0)","v":0},0,0,0,{"$f":"IF(U213<0, 1, 0)","v":0},null,null,null,null,null,0,0,0,0,{"$f":"IF(AE213<0, 1, 0)","v":0},0,null,null,null,null,null,null,null,null,null,null,null,null,null,null,null,null,null,null,null,null,null,null,null,"RDEALDEBURGH HOSPITAL","RDE83","ALDEBURGH HOSPITAL","RDE83","ALDEBURGH HOSPITAL","RDE"]
[null,null,null,null,null,null,null,null,null,null,null,null,null,null,null,null,null,null,null,null,null,null,null,null,null,null,null,null,null,null,null,null,null,null,null,null,null,null,null,null,null,null,null,null,null,null,null,null,null,null,null,null,null,null,null,"RDEIPSWICH HOSPITAL NHS TRUST","RDE03","IPSWICH HOSPITAL NHS TRUST","RDE03","IPSWICH HOSPITAL NHS TRUST","RDE"]
[null,null,null,0,"",null,null,null,null,null,null,null,null,null,null,null,null,null,null,null,null,null,null,null,null,null,null,null,null,null,null,null,null,null,null,null,null,null,null,null,null,null,null,null,null,null,null,null,null,null,null,null,null,null,null,"RDRCROWBOROUGH WAR MEMORIAL HOSPITAL","RDRCR","CROWBOROUGH WAR MEMORIAL HOSPITAL","RDRCR","CROWBOROUGH WAR MEMORIAL HOSPITAL","RDR"]
[null,null,null,0,"",null,null,null,null,null,null,null,null,null,null,null,null,null,null,null,null,null,null,null,null,null,null,null,null,null,null,null,null,null,null,null,null,null,null,null,null,null,null,null,null,null,null,null,null,null,null,null,null,null,null,"RDRHORSHAM HOSPITAL","RDR3L","HORSHAM HOSPITAL","RDR3L","HORSHAM HOSPITAL","RDR"]
[null,null,null,0,"",null,null,null,null,null,null,null,null,null,null,null,null,null,null,null,null,null,null,null,null,null,null,null,null,null,null,null,null,null,null,null,null,null,null,null,null,null,null,null,null,null,null,null,null,null,null,null,null,null,null,"RDRNEWHAVEN DOWNS","RDRXR","NEWHAVEN DOWNS","RDRXR","NEWHAVEN DOWNS","RDR"]
[null,null,null,"","",null,null,null,null,null,null,null,null,null,null,null,null,null,null,null,null,null,null,null,null,null,null,null,null,null,null,null,null,null,null,null,null,null,null,null,null,null,null,null,null,null,null,null,null,null,null,null,null,null,null,"RDRST RICHARDS HOSPITAL","RDR2M","ST RICHARDS HOSPITAL","RDR2M","ST RICHARDS HOSPITAL","RDR"]
[null,null,null,"","",null,null,null,null,null,null,null,null,null,null,null,null,null,null,null,null,null,null,null,null,null,null,null,null,null,null,null,null,null,null,null,null,null,null,null,null,null,null,null,null,null,null,null,null,null,null,null,null,null,null,"RDRZACHARY MERTON HOSPITAL","RDR1L","ZACHARY MERTON HOSPITAL","RDR1L","ZACHARY MERTON HOSPITAL","RDR"]
[null,null,null,"","",null,null,null,null,null,null,null,null,null,null,null,null,null,null,null,null,null,null,null,null,null,null,null,null,null,null,null,null,null,null,null,null,null,null,null,null,null,null,null,null,null,null,null,null,null,null,null,null,null,null,"RDUFLEET HOSPITAL OUTPATIENTS DEPARTMENT","RDU03","FLEET HOSPITAL OUTPATIENTS DEPARTMENT","RDU03","FLEET HOSPITAL OUTPATIENTS DEPARTMENT","RDU"]
[null,null,null,"","",null,null,null,null,null,null,null,null,null,null,null,null,null,null,null,null,null,null,null,null,null,null,null,null,null,null,null,null,null,null,null,null,null,null,null,null,null,null,null,null,null,null,null,null,null,null,null,null,null,null,"RDUPINE LODGE (THAMES HOSPICE CARE)","RDU57","PINE LODGE (THAMES HOSPICE CARE)","RDU57","PINE LODGE (THAMES HOSPICE CARE)","RDU"]
[null,null,null,"","",null,null,null,null,null,null,null,null,null,null,null,null,null,null,null,null,null,null,null,null,null,null,null,null,null,null,null,null,null,null,null,null,null,null,null,null,null,null,null,null,null,null,null,null,null,null,null,null,null,null,"RDUWOKING NUFFIELD HOSPITAL","RDU20","WOKING NUFFIELD HOSPITAL","RDU20","WOKING NUFFIELD HOSPITAL","RDU"]
[null,null,null,"","",null,null,null,null,null,null,null,null,null,null,null,null,null,null,null,null,null,null,null,null,null,null,null,null,null,null,null,null,null,null,null,null,null,null,null,null,null,null,null,null,null,null,null,null,null,null,null,null,null,null,"RDYBLANDFORD THEATRE","RDYKP","BLANDFORD THEATRE","RDYKP","BLANDFORD THEATRE","RDY"]
[null,null,null,"","",null,null,null,null,null,null,null,null,null,null,null,null,null,null,null,null,null,null,null,null,null,null,null,null,null,null,null,null,null,null,null,null,null,null,null,null,null,null,null,null,null,null,null,null,null,null,null,null,null,null,"RDYBRIDPORT HUGHES UNIT","RDYKV","BRIDPORT HUGHES UNIT","RDYKV","BRIDPORT HUGHES UNIT","RDY"]
[null,null,null,"","",null,null,null,null,null,null,null,null,null,null,null,null,null,null,null,null,null,null,null,null,null,null,null,null,null,null,null,null,null,null,null,null,null,null,null,null,null,null,null,null,null,null,null,null,null,null,null,null,null,null,"RDYFAIRMILE HOUSE (ACUTE MENTAL ILLNESS)","RDY38","FAIRMILE HOUSE (ACUTE MENTAL ILLNESS)","RDY38","FAIRMILE HOUSE (ACUTE MENTAL ILLNESS)","RDY"]
[null,null,null,"","",null,null,null,null,null,null,null,null,null,null,null,null,null,null,null,null,null,null,null,null,null,null,null,null,null,null,null,null,null,null,null,null,null,null,null,null,null,null,null,null,null,null,null,null,null,null,null,null,null,null,{"$f":"CONCATENATE(LEFT(BE743, 3),BF743)","v":"RDYIN-REACH DORCHESTER"},"RDYLW","IN-REACH DORCHESTER","RDYLW","IN-REACH DORCHESTER",{"$f":"LEFT(BG743,3)","v":"RDY"}]
[null,null,null,"","",null,null,null,null,null,null,null,null,null,null,null,null,null,null,null,null,null,null,null,null,null,null,null,null,null,null,null,null,null,null,null,null,null,null,null,null,null,null,null,null,null,null,null,null,null,null,null,null,null,null,"RDYMUNICIPAL BUILDING","RDYDF","MUNICIPAL BUILDING","RDYDF","MUNICIPAL BUILDING","RDY"]
[null,null,null,"","",null,null,null,null,null,null,null,null,null,null,null,null,null,null,null,null,null,null,null,null,null,null,null,null,null,null,null,null,null,null,null,null,null,null,null,null,null,null,null,null,null,null,null,null,null,null,null,null,null,null,"RDYSEDMAN UNIT","RDYCJ","SEDMAN UNIT","RDYCJ","SEDMAN UNIT","RDY"]
[null,null,null,"","",null,null,null,null,null,null,null,null,null,null,null,null,null,null,null,null,null,null,null,null,null,null,null,null,null,null,null,null,null,null,null,null,null,null,null,null,null,null,null,null,null,null,null,null,null,null,null,null,null,null,"RDYST ANN'S HOSPITAL","RDY10","ST ANN'S HOSPITAL","RDY10","ST ANN'S HOSPITAL","RDY"]
[null,null,null,"","",null,null,null,null,null,null,null,null,null,null,null,null,null,null,null,null,null,null,null,null,null,null,null,null,null,null,null,null,null,null,null,null,null,null,null,null,null,null,null,null,null,null,null,null,null,null,null,null,null,null,"RDYST LEONARD'S FAYREWOOD","RDYJT","ST LEONARD'S FAYREWOOD","RDYJT","ST LEONARD'S FAYREWOOD","RDY"]
[null,null,null,"","",null,null,null,null,null,null,null,null,null,null,null,null,null,null,null,null,null,null,null,null,null,null,null,null,null,null,null,null,null,null,null,null,null,null,null,null,null,null,null,null,null,null,null,null,null,null,null,null,null,null,"RDYUNIT 4 PARK PLACE","RDYGX","UNIT 4 PARK PLACE","RDYGX","UNIT 4 PARK PLACE","RDY"]
[null,null,null,"","",null,null,null,null,null,null,null,null,null,null,null,null,null,null,null,null,null,null,null,null,null,null,null,null,null,null,null,null,null,null,null,null,null,null,null,null,null,null,null,null,null,null,null,null,null,null,null,null,null,null,"RDYWESTHAVEN RADIPOLE WARD","RDYJL","WESTHAVEN RADIPOLE WARD","RDYJL","WESTHAVEN RADIPOLE WARD","RDY"]
[null,null,null,"","",null,null,null,null,null,null,null,null,null,null,null,null,null,null,null,null,null,null,null,null,null,null,null,null,null,null,null,null,null,null,null,null,null,null,null,null,null,null,null,null,null,null,null,null,null,null,null,null,null,null,"RE9GLASGOW ROAD CLINIC","RE912","GLASGOW ROAD CLINIC","RE912","GLASGOW ROAD CLINIC","RE9"]
[null,null,null,"","",null,null,null,null,null,null,null,null,null,null,null,null,null,null,null,null,null,null,null,null,null,null,null,null,null,null,null,null,null,null,null,null,null,null,null,null,null,null,null,null,null,null,null,null,null,null,null,null,null,null,"RE9ST BENEDICT'S HOSPICE","RE922","ST BENEDICT'S HOSPICE","RE922","ST BENEDICT'S HOSPICE","RE9"]
[null,null,null,"","",null,null,null,null,null,null,null,null,null,null,null,null,null,null,null,null,null,null,null,null,null,null,null,null,null,null,null,null,null,null,null,null,null,null,null,null,null,null,null,null,null,null,null,null,null,null,null,null,null,null,"REFSTRATTON HOSPITAL","REF90","STRATTON HOSPITAL","REF90","STRATTON HOSPITAL","REF"]
[null,null,null,null,null,null,null,null,null,null,null,null,null,null,null,null,null,null,null,null,null,null,null,null,null,null,null,null,null,null,null,null,null,null,null,null,null,null,null,null,null,null,null,null,null,null,null,null,null,null,null,null,null,null,null,"RF4HAROLD WOOD HOSPITAL","RF4HA","HAROLD WOOD HOSPITAL","RF4HA","HAROLD WOOD HOSPITAL","RF4"]
[null,null,null,null,null,null,null,null,null,null,null,null,null,null,null,null,null,null,null,null,null,null,null,null,null,null,null,null,null,null,null,null,null,null,null,null,null,null,null,null,null,null,null,null,null,null,null,null,null,null,null,null,null,null,null,"RFRROTHERHAM DISTRICT GENERAL HOSPITAL","RFRPA","ROTHERHAM DISTRICT GENERAL HOSPITAL","RFRPA","ROTHERHAM DISTRICT GENERAL HOSPITAL","RFR"]
[null,null,null,null,null,null,null,null,null,null,null,null,null,null,null,null,null,null,null,null,null,null,null,null,null,null,null,null,null,null,null,null,null,null,null,null,null,null,null,null,null,null,null,null,null,null,null,null,null,null,null,null,null,null,null,"RFSFOLJAMBE ROAD","RFSDL","FOLJAMBE ROAD","RFSDL","FOLJAMBE ROAD","RFS"]
[null,null,null,null,null,null,null,null,null,null,null,null,null,null,null,null,null,null,null,null,null,null,null,null,null,null,null,null,null,null,null,null,null,null,null,null,null,null,null,null,null,null,null,null,null,null,null,null,null,null,null,null,null,null,null,"RGDBOOTHAM PARK HOSPITAL","RGDT3","BOOTHAM PARK HOSPITAL","RGDT3","BOOTHAM PARK HOSPITAL","RGD"]
[null,null,null,null,null,null,null,null,null,null,null,null,null,null,null,null,null,null,null,null,null,null,null,null,null,null,null,null,null,null,null,null,null,null,null,null,null,null,null,null,null,null,null,null,null,null,null,null,null,null,null,null,null,null,null,"RGDJOSEPH'S WELL","RGDE3","JOSEPH'S WELL","RGDE3","JOSEPH'S WELL","RGD"]
[null,null,null,null,null,null,null,null,null,null,null,null,null,null,null,null,null,null,null,null,null,null,null,null,null,null,null,null,null,null,null,null,null,null,null,null,null,null,null,null,null,null,null,null,null,null,null,null,null,null,null,null,null,null,null,"RGDNEWTON LODGE SECURE UNIT","RGDED","NEWTON LODGE SECURE UNIT","RGDED","NEWTON LODGE SECURE UNIT","RGD"]
[null,null,null,null,null,null,null,null,null,null,null,null,null,null,null,null,null,null,null,null,null,null,null,null,null,null,null,null,null,null,null,null,null,null,null,null,null,null,null,null,null,null,null,null,null,null,null,null,null,null,null,null,null,null,null,"RGDPONTEFRACT GENERAL INFIRMARY","RGD08","PONTEFRACT GENERAL INFIRMARY","RGD08","PONTEFRACT GENERAL INFIRMARY","RGD"]
[null,null,null,null,null,null,null,null,null,null,null,null,null,null,null,null,null,null,null,null,null,null,null,null,null,null,null,null,null,null,null,null,null,null,null,null,null,null,null,null,null,null,null,null,null,null,null,null,null,null,null,null,null,null,null,"RGDTEMPLARS CROFT","RGDE5","TEMPLARS CROFT","RGDE5","TEMPLARS CROFT","RGD"]
[null,null,null,null,null,null,null,null,null,null,null,null,null,null,null,null,null,null,null,null,null,null,null,null,null,null,null,null,null,null,null,null,null,null,null,null,null,null,null,null,null,null,null,null,null,null,null,null,null,null,null,null,null,null,null,"RGNHINCHINGBROOKE HOSPITAL","RGN90","HINCHINGBROOKE HOSPITAL","RGN90","HINCHINGBROOKE HOSPITAL","RGN"]
[null,null,null,null,null,null,null,null,null,null,null,null,null,null,null,null,null,null,null,null,null,null,null,null,null,null,null,null,null,null,null,null,null,null,null,null,null,null,null,null,null,null,null,null,null,null,null,null,null,null,null,null,null,null,null,"RGPNORTHGATE HOSPITAL","RGP77","NORTHGATE HOSPITAL","RGP77","NORTHGATE HOSPITAL","RGP"]
[null,null,null,null,null,null,null,null,null,null,null,null,null,null,null,null,null,null,null,null,null,null,null,null,null,null,null,null,null,null,null,null,null,null,null,null,null,null,null,null,null,null,null,null,null,null,null,null,null,null,null,null,null,null,null,"RGQTHE IPSWICH HOSPITAL NHS TRUST","RGQ02","THE IPSWICH HOSPITAL NHS TRUST","RGQ02","THE IPSWICH HOSPITAL NHS TRUST","RGQ"]
[null,null,null,null,null,null,null,null,null,null,null,null,null,null,null,null,null,null,null,null,null,null,null,null,null,null,null,null,null,null,null,null,null,null,null,null,null,null,null,null,null,null,null,null,null,null,null,null,null,null,null,null,null,null,null,"RH5BLACK SWAN","RH590","BLACK SWAN","RH590","BLACK SWAN","RH5"]
[null,null,null,null,null,null,null,null,null,null,null,null,null,null,null,null,null,null,null,null,null,null,null,null,null,null,null,null,null,null,null,null,null,null,null,null,null,null,null,null,null,null,null,null,null,null,null,null,null,null,null,null,null,null,null,"RH5CEDAR LODGE","RH595","CEDAR LODGE","RH595","CEDAR LODGE","RH5"]
[null,null,null,null,null,null,null,null,null,null,null,null,null,null,null,null,null,null,null,null,null,null,null,null,null,null,null,null,null,null,null,null,null,null,null,null,null,null,null,null,null,null,null,null,null,null,null,null,null,null,null,null,null,null,null,"RH5PYRLAND","RH563","PYRLAND","RH563","PYRLAND","RH5"]
[null,null,null,null,null,null,null,null,null,null,null,null,null,null,null,null,null,null,null,null,null,null,null,null,null,null,null,null,null,null,null,null,null,null,null,null,null,null,null,null,null,null,null,null,null,null,null,null,null,null,null,null,null,null,null,"RH5TAUNTON ADULT","RH5D2","TAUNTON ADULT","RH5D2","TAUNTON ADULT","RH5"]
[null,null,null,null,null,null,null,null,null,null,null,null,null,null,null,null,null,null,null,null,null,null,null,null,null,null,null,null,null,null,null,null,null,null,null,null,null,null,null,null,null,null,null,null,null,null,null,null,null,null,null,null,null,null,null,"RH5WYVERN LINK","RH591","WYVERN LINK","RH591","WYVERN LINK","RH5"]
[null,null,null,null,null,null,null,null,null,null,null,null,null,null,null,null,null,null,null,null,null,null,null,null,null,null,null,null,null,null,null,null,null,null,null,null,null,null,null,null,null,null,null,null,null,null,null,null,null,null,null,null,null,null,null,"RHAARNOLD LODGE REGIONAL SECURE UNIT","RHAAR","ARNOLD LODGE REGIONAL SECURE UNIT","RHAAR","ARNOLD LODGE REGIONAL SECURE UNIT","RHA"]
[null,null,null,null,null,null,null,null,null,null,null,null,null,null,null,null,null,null,null,null,null,null,null,null,null,null,null,null,null,null,null,null,null,null,null,null,null,null,null,null,null,null,null,null,null,null,null,null,null,null,null,null,null,null,null,"RHABASSETLAW MHSOP (RHAW6) - RX","RHAW6","BASSETLAW MHSOP (RHAW6) - RX","RHAW6","BASSETLAW MHSOP (RHAW6) - RX","RHA"]
[null,null,null,null,null,null,null,null,null,null,null,null,null,null,null,null,null,null,null,null,null,null,null,null,null,null,null,null,null,null,null,null,null,null,null,null,null,null,null,null,null,null,null,null,null,null,null,null,null,null,null,null,null,null,null,"RHABULWELL RIVERSIDE","RHALT","BULWELL RIVERSIDE","RHALT","BULWELL RIVERSIDE","RHA"]
[null,null,null,null,null,null,null,null,null,null,null,null,null,null,null,null,null,null,null,null,null,null,null,null,null,null,null,null,null,null,null,null,null,null,null,null,null,null,null,null,null,null,null,null,null,null,null,null,null,null,null,null,null,null,null,"RHAHEATHCOAT BUILDINGS","RHAFQ","HEATHCOAT BUILDINGS","RHAFQ","HEATHCOAT BUILDINGS","RHA"]
[null,null,null,null,null,null,null,null,null,null,null,null,null,null,null,null,null,null,null,null,null,null,null,null,null,null,null,null,null,null,null,null,null,null,null,null,null,null,null,null,null,null,null,null,null,null,null,null,null,null,null,null,null,null,null,"RHAHOPEWOOD","RHAFL","HOPEWOOD","RHAFL","HOPEWOOD","RHA"]
[null,null,null,null,null,null,null,null,null,null,null,null,null,null,null,null,null,null,null,null,null,null,null,null,null,null,null,null,null,null,null,null,null,null,null,null,null,null,null,null,null,null,null,null,null,null,null,null,null,null,null,null,null,null,null,"RHANORTH GATE","RHAD4","NORTH GATE","RHAD4","NORTH GATE","RHA"]
[null,null,null,null,null,null,null,null,null,null,null,null,null,null,null,null,null,null,null,null,null,null,null,null,null,null,null,null,null,null,null,null,null,null,null,null,null,null,null,null,null,null,null,null,null,null,null,null,null,null,null,null,null,null,null,"RHANORTH NOTTS LD YP - RX","RHAYP","NORTH NOTTS LD YP - RX","RHAYP","NORTH NOTTS LD YP - RX","RHA"]
[null,null,null,null,null,null,null,null,null,null,null,null,null,null,null,null,null,null,null,null,null,null,null,null,null,null,null,null,null,null,null,null,null,null,null,null,null,null,null,null,null,null,null,null,null,null,null,null,null,null,null,null,null,null,null,"RHANORTH NOTTS MILLBROOK XX-RX","RHAXX","NORTH NOTTS MILLBROOK XX-RX","RHAXX","NORTH NOTTS MILLBROOK XX-RX","RHA"]
[null,null,null,null,null,null,null,null,null,null,null,null,null,null,null,null,null,null,null,null,null,null,null,null,null,null,null,null,null,null,null,null,null,null,null,null,null,null,null,null,null,null,null,null,null,null,null,null,null,null,null,null,null,null,null,"RHAPLATFORM ONE","RHAE8","PLATFORM ONE","RHAE8","PLATFORM ONE","RHA"]
[null,null,null,null,null,null,null,null,null,null,null,null,null,null,null,null,null,null,null,null,null,null,null,null,null,null,null,null,null,null,null,null,null,null,null,null,null,null,null,null,null,null,null,null,null,null,null,null,null,null,null,null,null,null,null,"RHARETFORD HOSPITAL","RHAAC","RETFORD HOSPITAL","RHAAC","RETFORD HOSPITAL","RHA"]
[null,null,null,null,null,null,null,null,null,null,null,null,null,null,null,null,null,null,null,null,null,null,null,null,null,null,null,null,null,null,null,null,null,null,null,null,null,null,null,null,null,null,null,null,null,null,null,null,null,null,null,null,null,null,null,"RHAST. MICHAELS VIEW RH","RHAGA","ST. MICHAELS VIEW RH","RHAGA","ST. MICHAELS VIEW RH","RHA"]
[null,null,null,null,null,null,null,null,null,null,null,null,null,null,null,null,null,null,null,null,null,null,null,null,null,null,null,null,null,null,null,null,null,null,null,null,null,null,null,null,null,null,null,null,null,null,null,null,null,null,null,null,null,null,null,"RHAUNIVERSITY HOSPITAL","RHARA","UNIVERSITY HOSPITAL","RHARA","UNIVERSITY HOSPITAL","RHA"]
[null,null,null,null,null,null,null,null,null,null,null,null,null,null,null,null,null,null,null,null,null,null,null,null,null,null,null,null,null,null,null,null,null,null,null,null,null,null,null,null,null,null,null,null,null,null,null,null,null,null,null,null,null,null,null,"RHMCOUNTESS MOUNTBATTEN HOUSE","RHM04","COUNTESS MOUNTBATTEN HOUSE","RHM04","COUNTESS MOUNTBATTEN HOUSE","RHM"]
[null,null,null,null,null,null,null,null,null,null,null,null,null,null,null,null,null,null,null,null,null,null,null,null,null,null,null,null,null,null,null,null,null,null,null,null,null,null,null,null,null,null,null,null,null,null,null,null,null,null,null,null,null,null,null,"RHQROTHERHAM DISTRICT GENERAL HOSPITAL","RHQRT","ROTHERHAM DISTRICT GENERAL HOSPITAL","RHQRT","ROTHERHAM DISTRICT GENERAL HOSPITAL","RHQ"]
[null,null,null,null,null,null,null,null,null,null,null,null,null,null,null,null,null,null,null,null,null,null,null,null,null,null,null,null,null,null,null,null,null,null,null,null,null,null,null,null,null,null,null,null,null,null,null,null,null,null,null,null,null,null,null,"RHUROYAL HOSPITAL HASLAR","RHU59","ROYAL HOSPITAL HASLAR","RHU59","ROYAL HOSPITAL HASLAR","RHU"]
[null,null,null,null,null,null,null,null,null,null,null,null,null,null,null,null,null,null,null,null,null,null,null,null,null,null,null,null,null,null,null,null,null,null,null,null,null,null,null,null,null,null,null,null,null,null,null,null,null,null,null,null,null,null,null,"RHWKING EDWARD VII HOSPITAL","RHW03","KING EDWARD VII HOSPITAL","RHW03","KING EDWARD VII HOSPITAL","RHW"]
[null,null,null,null,null,null,null,null,null,null,null,null,null,null,null,null,null,null,null,null,null,null,null,null,null,null,null,null,null,null,null,null,null,null,null,null,null,null,null,null,null,null,null,null,null,null,null,null,null,null,null,null,null,null,null,"RHWWEST BERKSHIRE COMMUNITY HOSPITAL","RHW05","WEST BERKSHIRE COMMUNITY HOSPITAL","RHW05","WEST BERKSHIRE COMMUNITY HOSPITAL","RHW"]
[null,null,null,null,null,null,null,null,null,null,null,null,null,null,null,null,null,null,null,null,null,null,null,null,null,null,null,null,null,null,null,null,null,null,null,null,null,null,null,null,null,null,null,null,null,null,null,null,null,null,null,null,null,null,null,"RJ1KING'S COLLEGE HOSPITAL (DENMARK HILL)","RJ128","KING'S COLLEGE HOSPITAL (DENMARK HILL)","RJ128","KING'S COLLEGE HOSPITAL (DENMARK HILL)","RJ1"]
[null,null,null,null,null,null,null,null,null,null,null,null,null,null,null,null,null,null,null,null,null,null,null,null,null,null,null,null,null,null,null,null,null,null,null,null,null,null,null,null,null,null,null,null,null,null,null,null,null,null,null,null,null,null,null,"RJ2QUEEN MARYS HOSPITAL","RJ230","QUEEN MARYS HOSPITAL","RJ230","QUEEN MARYS HOSPITAL","RJ2"]
[null,null,null,null,null,null,null,null,null,null,null,null,null,null,null,null,null,null,null,null,null,null,null,null,null,null,null,null,null,null,null,null,null,null,null,null,null,null,null,null,null,null,null,null,null,null,null,null,null,null,null,null,null,null,null,"RJ8BETHANY","RJ8CL","BETHANY","RJ8CL","BETHANY","RJ8"]
[null,null,null,null,null,null,null,null,null,null,null,null,null,null,null,null,null,null,null,null,null,null,null,null,null,null,null,null,null,null,null,null,null,null,null,null,null,null,null,null,null,null,null,null,null,null,null,null,null,null,null,null,null,null,null,"RJ8BOUNDERVEAN","RJ8DP","BOUNDERVEAN","RJ8DP","BOUNDERVEAN","RJ8"]
[null,null,null,null,null,null,null,null,null,null,null,null,null,null,null,null,null,null,null,null,null,null,null,null,null,null,null,null,null,null,null,null,null,null,null,null,null,null,null,null,null,null,null,null,null,null,null,null,null,null,null,null,null,null,null,"RJ8LD NMP ONE","RJ83K","LD NMP ONE","RJ83K","LD NMP ONE","RJ8"]
[null,null,null,null,null,null,null,null,null,null,null,null,null,null,null,null,null,null,null,null,null,null,null,null,null,null,null,null,null,null,null,null,null,null,null,null,null,null,null,null,null,null,null,null,null,null,null,null,null,null,null,null,null,null,null,"RJ8MANOR VILLAS","RJ8AW","MANOR VILLAS","RJ8AW","MANOR VILLAS","RJ8"]
[null,null,null,null,null,null,null,null,null,null,null,null,null,null,null,null,null,null,null,null,null,null,null,null,null,null,null,null,null,null,null,null,null,null,null,null,null,null,null,null,null,null,null,null,null,null,null,null,null,null,null,null,null,null,null,"RJ8ST MARY'S HOSPITAL","RJ809","ST MARY'S HOSPITAL","RJ809","ST MARY'S HOSPITAL","RJ8"]
[null,null,null,null,null,null,null,null,null,null,null,null,null,null,null,null,null,null,null,null,null,null,null,null,null,null,null,null,null,null,null,null,null,null,null,null,null,null,null,null,null,null,null,null,null,null,null,null,null,null,null,null,null,null,null,"RJ8TRENGWEATH","RJ827","TRENGWEATH","RJ827","TRENGWEATH","RJ8"]
[null,null,null,null,null,null,null,null,null,null,null,null,null,null,null,null,null,null,null,null,null,null,null,null,null,null,null,null,null,null,null,null,null,null,null,null,null,null,null,null,null,null,null,null,null,null,null,null,null,null,null,null,null,null,null,"RJDSTAFFORD HOSPITAL","RJD01","STAFFORD HOSPITAL","RJD01","STAFFORD HOSPITAL","RJD"]
[null,null,null,null,null,null,null,null,null,null,null,null,null,null,null,null,null,null,null,null,null,null,null,null,null,null,null,null,null,null,null,null,null,null,null,null,null,null,null,null,null,null,null,null,null,null,null,null,null,null,null,null,null,null,null,"RJECITY GENERAL HOSPITAL","RJE02","CITY GENERAL HOSPITAL","RJE02","CITY GENERAL HOSPITAL","RJE"]
[null,null,null,null,null,null,null,null,null,null,null,null,null,null,null,null,null,null,null,null,null,null,null,null,null,null,null,null,null,null,null,null,null,null,null,null,null,null,null,null,null,null,null,null,null,null,null,null,null,null,null,null,null,null,null,"RJNPARKSIDE HOSPITAL","RJN67","PARKSIDE HOSPITAL","RJN67","PARKSIDE HOSPITAL","RJN"]
[null,null,null,null,null,null,null,null,null,null,null,null,null,null,null,null,null,null,null,null,null,null,null,null,null,null,null,null,null,null,null,null,null,null,null,null,null,null,null,null,null,null,null,null,null,null,null,null,null,null,null,null,null,null,null,"RJXCALDERSTONES HOSPITAL","RJX04","CALDERSTONES HOSPITAL","RJX04","CALDERSTONES HOSPITAL","RJX"]
[null,null,null,null,null,null,null,null,null,null,null,null,null,null,null,null,null,null,null,null,null,null,null,null,null,null,null,null,null,null,null,null,null,null,null,null,null,null,null,null,null,null,null,null,null,null,null,null,null,null,null,null,null,null,null,"RJZKING'S COLLEGE HOSPITAL (DULWICH)","RJZ03","KING'S COLLEGE HOSPITAL (DULWICH)","RJZ03","KING'S COLLEGE HOSPITAL (DULWICH)","RJZ"]
[null,null,null,null,null,null,null,null,null,null,null,null,null,null,null,null,null,null,null,null,null,null,null,null,null,null,null,null,null,null,null,null,null,null,null,null,null,null,null,null,null,null,null,null,null,null,null,null,null,null,null,null,null,null,null,"RK5NEWARK HOSPITAL","RK5HP","NEWARK HOSPITAL","RK5HP","NEWARK HOSPITAL","RK5"]
[null,null,null,null,null,null,null,null,null,null,null,null,null,null,null,null,null,null,null,null,null,null,null,null,null,null,null,null,null,null,null,null,null,null,null,null,null,null,null,null,null,null,null,null,null,null,null,null,null,null,null,null,null,null,null,"RKLADTS EALING","RKL1V","ADTS EALING","RKL1V","ADTS EALING","RKL"]
[null,null,null,null,null,null,null,null,null,null,null,null,null,null,null,null,null,null,null,null,null,null,null,null,null,null,null,null,null,null,null,null,null,null,null,null,null,null,null,null,null,null,null,null,null,null,null,null,null,null,null,null,null,null,null,"RKLCLAYPONDS REHABILITATION HOSPITAL ","RKL18","CLAYPONDS REHABILITATION HOSPITAL ","RKL18","CLAYPONDS REHABILITATION HOSPITAL ","RKL"]
[null,null,null,null,null,null,null,null,null,null,null,null,null,null,null,null,null,null,null,null,null,null,null,null,null,null,null,null,null,null,null,null,null,null,null,null,null,null,null,null,null,null,null,null,null,null,null,null,null,null,null,null,null,null,null,"RKLHAMMERSMITH AND FULHAM MH UNIT","RKL98","HAMMERSMITH AND FULHAM MH UNIT","RKL98","HAMMERSMITH AND FULHAM MH UNIT","RKL"]
[null,null,null,null,null,null,null,null,null,null,null,null,null,null,null,null,null,null,null,null,null,null,null,null,null,null,null,null,null,null,null,null,null,null,null,null,null,null,null,null,null,null,null,null,null,null,null,null,null,null,null,null,null,null,null,"RKLLOCAL SECURE UNIT","RKL1Q","LOCAL SECURE UNIT","RKL1Q","LOCAL SECURE UNIT","RKL"]
[null,null,null,null,null,null,null,null,null,null,null,null,null,null,null,null,null,null,null,null,null,null,null,null,null,null,null,null,null,null,null,null,null,null,null,null,null,null,null,null,null,null,null,null,null,null,null,null,null,null,null,null,null,null,null,"RL4CANNOCK CHASE HOSPITAL","RL4TC","CANNOCK CHASE HOSPITAL","RL4TC","CANNOCK CHASE HOSPITAL","RL4"]
[null,null,null,null,null,null,null,null,null,null,null,null,null,null,null,null,null,null,null,null,null,null,null,null,null,null,null,null,null,null,null,null,null,null,null,null,null,null,null,null,null,null,null,null,null,null,null,null,null,null,null,null,null,null,null,"RL4STAFFORD HOSPITAL","RL4TA","STAFFORD HOSPITAL","RL4TA","STAFFORD HOSPITAL","RL4"]
[null,null,null,null,null,null,null,null,null,null,null,null,null,null,null,null,null,null,null,null,null,null,null,null,null,null,null,null,null,null,null,null,null,null,null,null,null,null,null,null,null,null,null,null,null,null,null,null,null,null,null,null,null,null,null,"RLTGEORGE ELIOT HOSPITAL - ACUTE SERVICES","RLT01","GEORGE ELIOT HOSPITAL - ACUTE SERVICES","RLT01","GEORGE ELIOT HOSPITAL - ACUTE SERVICES","RLT"]
[null,null,null,null,null,null,null,null,null,null,null,null,null,null,null,null,null,null,null,null,null,null,null,null,null,null,null,null,null,null,null,null,null,null,null,null,null,null,null,null,null,null,null,null,null,null,null,null,null,null,null,null,null,null,null,"RLYCHILD PROTECTION","RLY93","CHILD PROTECTION","RLY93","CHILD PROTECTION","RLY"]
[null,null,null,null,null,null,null,null,null,null,null,null,null,null,null,null,null,null,null,null,null,null,null,null,null,null,null,null,null,null,null,null,null,null,null,null,null,null,null,null,null,null,null,null,null,null,null,null,null,null,null,null,null,null,null,"RLYLONGTON HOSPITAL- MENTAL HEALTH","RLY05","LONGTON HOSPITAL- MENTAL HEALTH","RLY05","LONGTON HOSPITAL- MENTAL HEALTH","RLY"]
[null,null,null,null,null,null,null,null,null,null,null,null,null,null,null,null,null,null,null,null,null,null,null,null,null,null,null,null,null,null,null,null,null,null,null,null,null,null,null,null,null,null,null,null,null,null,null,null,null,null,null,null,null,null,null,"RM1CROMER HOSPITAL","RM131","CROMER HOSPITAL","RM131","CROMER HOSPITAL","RM1"]
[null,null,null,null,null,null,null,null,null,null,null,null,null,null,null,null,null,null,null,null,null,null,null,null,null,null,null,null,null,null,null,null,null,null,null,null,null,null,null,null,null,null,null,null,null,null,null,null,null,null,null,null,null,null,null,"RMYCOLEGATE","RMY52","COLEGATE","RMY52","COLEGATE","RMY"]
[null,null,null,null,null,null,null,null,null,null,null,null,null,null,null,null,null,null,null,null,null,null,null,null,null,null,null,null,null,null,null,null,null,null,null,null,null,null,null,null,null,null,null,null,null,null,null,null,null,null,null,null,null,null,null,"RMYHELLESDON HOSPITAL","RMY01","HELLESDON HOSPITAL","RMY01","HELLESDON HOSPITAL","RMY"]
[null,null,null,null,null,null,null,null,null,null,null,null,null,null,null,null,null,null,null,null,null,null,null,null,null,null,null,null,null,null,null,null,null,null,null,null,null,null,null,null,null,null,null,null,null,null,null,null,null,null,null,null,null,null,null,"RMYPATRICK STEAD HOSPITAL","RMY70","PATRICK STEAD HOSPITAL","RMY70","PATRICK STEAD HOSPITAL","RMY"]
[null,null,null,null,null,null,null,null,null,null,null,null,null,null,null,null,null,null,null,null,null,null,null,null,null,null,null,null,null,null,null,null,null,null,null,null,null,null,null,null,null,null,null,null,null,null,null,null,null,null,null,null,null,null,null,"RMYSPRINGWELL","RMY51","SPRINGWELL","RMY51","SPRINGWELL","RMY"]
[null,null,null,null,null,null,null,null,null,null,null,null,null,null,null,null,null,null,null,null,null,null,null,null,null,null,null,null,null,null,null,null,null,null,null,null,null,null,null,null,null,null,null,null,null,null,null,null,null,null,null,null,null,null,null,"RN3SHEPTON MALLET COMMUNITY HOSPITAL","RN3C4","SHEPTON MALLET COMMUNITY HOSPITAL","RN3C4","SHEPTON MALLET COMMUNITY HOSPITAL","RN3"]
[null,null,null,null,null,null,null,null,null,null,null,null,null,null,null,null,null,null,null,null,null,null,null,null,null,null,null,null,null,null,null,null,null,null,null,null,null,null,null,null,null,null,null,null,null,null,null,null,null,null,null,null,null,null,null,"RN3TROWBRIDGE COMMUNITY HOSPITAL","RN334","TROWBRIDGE COMMUNITY HOSPITAL","RN334","TROWBRIDGE COMMUNITY HOSPITAL","RN3"]
[null,null,null,null,null,null,null,null,null,null,null,null,null,null,null,null,null,null,null,null,null,null,null,null,null,null,null,null,null,null,null,null,null,null,null,null,null,null,null,null,null,null,null,null,null,null,null,null,null,null,null,null,null,null,null,"RNLHALTWHISTLE WAR MEMORIAL HOSPITAL","RNL05","HALTWHISTLE WAR MEMORIAL HOSPITAL","RNL05","HALTWHISTLE WAR MEMORIAL HOSPITAL","RNL"]
[null,null,null,null,null,null,null,null,null,null,null,null,null,null,null,null,null,null,null,null,null,null,null,null,null,null,null,null,null,null,null,null,null,null,null,null,null,null,null,null,null,null,null,null,null,null,null,null,null,null,null,null,null,null,null,"RNLWEST CUMBERLAND HOSPITAL","RNLBX","WEST CUMBERLAND HOSPITAL","RNLBX","WEST CUMBERLAND HOSPITAL","RNL"]
[null,null,null,null,null,null,null,null,null,null,null,null,null,null,null,null,null,null,null,null,null,null,null,null,null,null,null,null,null,null,null,null,null,null,null,null,null,null,null,null,null,null,null,null,null,null,null,null,null,null,null,null,null,null,null,"RNNCOCKERMOUTH COTTAGE HOSPITAL","RNNCK","COCKERMOUTH COTTAGE HOSPITAL","RNNCK","COCKERMOUTH COTTAGE HOSPITAL","RNN"]
[null,null,null,null,null,null,null,null,null,null,null,null,null,null,null,null,null,null,null,null,null,null,null,null,null,null,null,null,null,null,null,null,null,null,null,null,null,null,null,null,null,null,null,null,null,null,null,null,null,null,null,null,null,null,null,"RNNCOMMUNITY PAEDIATRICS","RNNHT","COMMUNITY PAEDIATRICS","RNNHT","COMMUNITY PAEDIATRICS","RNN"]
[null,null,null,null,null,null,null,null,null,null,null,null,null,null,null,null,null,null,null,null,null,null,null,null,null,null,null,null,null,null,null,null,null,null,null,null,null,null,null,null,null,null,null,null,null,null,null,null,null,null,null,null,null,null,null,"RNNKESWICK MINOR INJURY UNIT","RNNKM","KESWICK MINOR INJURY UNIT","RNNKM","KESWICK MINOR INJURY UNIT","RNN"]
[null,null,null,null,null,null,null,null,null,null,null,null,null,null,null,null,null,null,null,null,null,null,null,null,null,null,null,null,null,null,null,null,null,null,null,null,null,null,null,null,null,null,null,null,null,null,null,null,null,null,null,null,null,null,null,"RNNLOCUM, OLDER AGE MH","RNN24","LOCUM, OLDER AGE MH","RNN24","LOCUM, OLDER AGE MH","RNN"]
[null,null,null,null,null,null,null,null,null,null,null,null,null,null,null,null,null,null,null,null,null,null,null,null,null,null,null,null,null,null,null,null,null,null,null,null,null,null,null,null,null,null,null,null,null,null,null,null,null,null,null,null,null,null,null,"RNNROSEHILL BUILDING","RNN02","ROSEHILL BUILDING","RNN02","ROSEHILL BUILDING","RNN"]
[null,null,null,null,null,null,null,null,null,null,null,null,null,null,null,null,null,null,null,null,null,null,null,null,null,null,null,null,null,null,null,null,null,null,null,null,null,null,null,null,null,null,null,null,null,null,null,null,null,null,null,null,null,null,null,"RNNSEACROFT","RNNCG","SEACROFT","RNNCG","SEACROFT","RNN"]
[null,null,null,null,null,null,null,null,null,null,null,null,null,null,null,null,null,null,null,null,null,null,null,null,null,null,null,null,null,null,null,null,null,null,null,null,null,null,null,null,null,null,null,null,null,null,null,null,null,null,null,null,null,null,null,"RNSDAVENTRY HEALTH CENTRE (ACUTE)","RNS94","DAVENTRY HEALTH CENTRE (ACUTE)","RNS94","DAVENTRY HEALTH CENTRE (ACUTE)","RNS"]
[null,null,null,null,null,null,null,null,null,null,null,null,null,null,null,null,null,null,null,null,null,null,null,null,null,null,null,null,null,null,null,null,null,null,null,null,null,null,null,null,null,null,null,null,null,null,null,null,null,null,null,null,null,null,null,"RNUMARLBOROUGH HOUSE","RNU92","MARLBOROUGH HOUSE","RNU92","MARLBOROUGH HOUSE","RNU"]
[null,null,null,null,null,null,null,null,null,null,null,null,null,null,null,null,null,null,null,null,null,null,null,null,null,null,null,null,null,null,null,null,null,null,null,null,null,null,null,null,null,null,null,null,null,null,null,null,null,null,null,null,null,null,null,"RNZSALISBURY DISTRICT HOSPITAL","RNZ02","SALISBURY DISTRICT HOSPITAL","RNZ02","SALISBURY DISTRICT HOSPITAL","RNZ"]
[null,null,null,null,null,null,null,null,null,null,null,null,null,null,null,null,null,null,null,null,null,null,null,null,null,null,null,null,null,null,null,null,null,null,null,null,null,null,null,null,null,null,null,null,null,null,null,null,null,null,null,null,null,null,null,"RP1BARTON HALL","RP1T2","BARTON HALL","RP1T2","BARTON HALL","RP1"]
[null,null,null,null,null,null,null,null,null,null,null,null,null,null,null,null,null,null,null,null,null,null,null,null,null,null,null,null,null,null,null,null,null,null,null,null,null,null,null,null,null,null,null,null,null,null,null,null,null,null,null,null,null,null,null,"RP1GU DEPARTMENT (NORTHAMPTON)","RP1T5","GU DEPARTMENT (NORTHAMPTON)","RP1T5","GU DEPARTMENT (NORTHAMPTON)","RP1"]
[null,null,null,null,null,null,null,null,null,null,null,null,null,null,null,null,null,null,null,null,null,null,null,null,null,null,null,null,null,null,null,null,null,null,null,null,null,null,null,null,null,null,null,null,null,null,null,null,null,null,null,null,null,null,null,"RP1ISEBROOK HOSPITAL","RP1F2","ISEBROOK HOSPITAL","RP1F2","ISEBROOK HOSPITAL","RP1"]
[null,null,null,null,null,null,null,null,null,null,null,null,null,null,null,null,null,null,null,null,null,null,null,null,null,null,null,null,null,null,null,null,null,null,null,null,null,null,null,null,null,null,null,null,null,null,null,null,null,null,null,null,null,null,null,"RP1MENTAL AFTER CARE ASSOCIATION WELLINGBOROUGH","RP1N3","MENTAL AFTER CARE ASSOCIATION WELLINGBOROUGH","RP1N3","MENTAL AFTER CARE ASSOCIATION WELLINGBOROUGH","RP1"]
[null,null,null,null,null,null,null,null,null,null,null,null,null,null,null,null,null,null,null,null,null,null,null,null,null,null,null,null,null,null,null,null,null,null,null,null,null,null,null,null,null,null,null,null,null,null,null,null,null,null,null,null,null,null,null,"RP1SHORT BREAKS UNIT","RP1NR","SHORT BREAKS UNIT","RP1NR","SHORT BREAKS UNIT","RP1"]
[null,null,null,null,null,null,null,null,null,null,null,null,null,null,null,null,null,null,null,null,null,null,null,null,null,null,null,null,null,null,null,null,null,null,null,null,null,null,null,null,null,null,null,null,null,null,null,null,null,null,null,null,null,null,null,"RP4GREAT ORMOND STREET HOSPITAL CENTRAL LONDON SITE","RP401","GREAT ORMOND STREET HOSPITAL CENTRAL LONDON SITE","RP401","GREAT ORMOND STREET HOSPITAL CENTRAL LONDON SITE","RP4"]
[null,null,null,null,null,null,null,null,null,null,null,null,null,null,null,null,null,null,null,null,null,null,null,null,null,null,null,null,null,null,null,null,null,null,null,null,null,null,null,null,null,null,null,null,null,null,null,null,null,null,null,null,null,null,null,{"$f":"CONCATENATE(LEFT(BE1565, 3),BF1565)","v":"RP5TICKHILL ROAD HOSPITAL"},"RP5TR","TICKHILL ROAD HOSPITAL","RP5TR","TICKHILL ROAD HOSPITAL",{"$f":"LEFT(BG1565,3)","v":"RP5"}]
[null,null,null,null,null,null,null,null,null,null,null,null,null,null,null,null,null,null,null,null,null,null,null,null,null,null,null,null,null,null,null,null,null,null,null,null,null,null,null,null,null,null,null,null,null,null,null,null,null,null,null,null,null,null,null,"RP6MOORFIELDS AT WATFORD GENERAL HOSPITAL - RP602","RP602","MOORFIELDS AT WATFORD GENERAL HOSPITAL - RP602","RP602","MOORFIELDS AT WATFORD GENERAL HOSPITAL - RP602","RP6"]
[null,null,null,null,null,null,null,null,null,null,null,null,null,null,null,null,null,null,null,null,null,null,null,null,null,null,null,null,null,null,null,null,null,null,null,null,null,null,null,null,null,null,null,null,null,null,null,null,null,null,null,null,null,null,null,"RP7274 SSRH2 ASHLEY HOUSE REHAB L21540","RP706","274 SSRH2 ASHLEY HOUSE REHAB L21540","RP706","274 SSRH2 ASHLEY HOUSE REHAB L21540","RP7"]
[null,null,null,null,null,null,null,null,null,null,null,null,null,null,null,null,null,null,null,null,null,null,null,null,null,null,null,null,null,null,null,null,null,null,null,null,null,null,null,null,null,null,null,null,null,null,null,null,null,null,null,null,null,null,null,"RP7EMSI UNIT - PILGRIM HOSPITAL SITE","RP719","EMSI UNIT - PILGRIM HOSPITAL SITE","RP719","EMSI UNIT - PILGRIM HOSPITAL SITE","RP7"]
[null,null,null,null,null,null,null,null,null,null,null,null,null,null,null,null,null,null,null,null,null,null,null,null,null,null,null,null,null,null,null,null,null,null,null,null,null,null,null,null,null,null,null,null,null,null,null,null,null,null,null,null,null,null,null,"RP7LOW SECURE MENTAL HEALTH UNIT","RP7FK","LOW SECURE MENTAL HEALTH UNIT","RP7FK","LOW SECURE MENTAL HEALTH UNIT","RP7"]
[null,null,null,null,null,null,null,null,null,null,null,null,null,null,null,null,null,null,null,null,null,null,null,null,null,null,null,null,null,null,null,null,null,null,null,null,null,null,null,null,null,null,null,null,null,null,null,null,null,null,null,null,null,null,null,"RP7SECURE COMMUNITY ESTABLISHMENT","RP7NN","SECURE COMMUNITY ESTABLISHMENT","RP7NN","SECURE COMMUNITY ESTABLISHMENT","RP7"]
[null,null,null,null,null,null,null,null,null,null,null,null,null,null,null,null,null,null,null,null,null,null,null,null,null,null,null,null,null,null,null,null,null,null,null,null,null,null,null,null,null,null,null,null,null,null,null,null,null,null,null,null,null,null,null,"RP7THE KEEP","RP782","THE KEEP","RP782","THE KEEP","RP7"]
[null,null,null,null,null,null,null,null,null,null,null,null,null,null,null,null,null,null,null,null,null,null,null,null,null,null,null,null,null,null,null,null,null,null,null,null,null,null,null,null,null,null,null,null,null,null,null,null,null,null,null,null,null,null,null,"RPCDARENT VALLEY HOSPITAL - RPC12","RPC12","DARENT VALLEY HOSPITAL - RPC12","RPC12","DARENT VALLEY HOSPITAL - RPC12","RPC"]
[null,null,null,null,null,null,null,null,null,null,null,null,null,null,null,null,null,null,null,null,null,null,null,null,null,null,null,null,null,null,null,null,null,null,null,null,null,null,null,null,null,null,null,null,null,null,null,null,null,null,null,null,null,null,null,"RPCSEVENOAKS HOSPITAL - RPC16","RPC16","SEVENOAKS HOSPITAL - RPC16","RPC16","SEVENOAKS HOSPITAL - RPC16","RPC"]
[null,null,null,null,null,null,null,null,null,null,null,null,null,null,null,null,null,null,null,null,null,null,null,null,null,null,null,null,null,null,null,null,null,null,null,null,null,null,null,null,null,null,null,null,null,null,null,null,null,null,null,null,null,null,null,"RPGCHILDREN'S COMMUNITY NURSING","RPGHD","CHILDREN'S COMMUNITY NURSING","RPGHD","CHILDREN'S COMMUNITY NURSING","RPG"]
[null,null,null,null,null,null,null,null,null,null,null,null,null,null,null,null,null,null,null,null,null,null,null,null,null,null,null,null,null,null,null,null,null,null,null,null,null,null,null,null,null,null,null,null,null,null,null,null,null,null,null,null,null,null,null,"RPGISIS","RPGHV","ISIS","RPGHV","ISIS","RPG"]
[null,null,null,null,null,null,null,null,null,null,null,null,null,null,null,null,null,null,null,null,null,null,null,null,null,null,null,null,null,null,null,null,null,null,null,null,null,null,null,null,null,null,null,null,null,null,null,null,null,null,null,null,null,null,null,"RPGOAKHURST","RPGCF","OAKHURST","RPGCF","OAKHURST","RPG"]
[null,null,null,null,null,null,null,null,null,null,null,null,null,null,null,null,null,null,null,null,null,null,null,null,null,null,null,null,null,null,null,null,null,null,null,null,null,null,null,null,null,null,null,null,null,null,null,null,null,null,null,null,null,null,null,"RPGQUEEN MARYS HOSPITAL","RPGHF","QUEEN MARYS HOSPITAL","RPGHF","QUEEN MARYS HOSPITAL","RPG"]
[null,null,null,null,null,null,null,null,null,null,null,null,null,null,null,null,null,null,null,null,null,null,null,null,null,null,null,null,null,null,null,null,null,null,null,null,null,null,null,null,null,null,null,null,null,null,null,null,null,null,null,null,null,null,null,"RPGWOODLANDS","RPGAH","WOODLANDS","RPGAH","WOODLANDS","RPG"]
[null,null,null,null,null,null,null,null,null,null,null,null,null,null,null,null,null,null,null,null,null,null,null,null,null,null,null,null,null,null,null,null,null,null,null,null,null,null,null,null,null,null,null,null,null,null,null,null,null,null,null,null,null,null,null,"RPYTHE ROYAL MARSDEN HOSPITAL (SURREY) - RPY02","RPY02","THE ROYAL MARSDEN HOSPITAL (SURREY) - RPY02","RPY02","THE ROYAL MARSDEN HOSPITAL (SURREY) - RPY02","RPY"]
[null,null,null,null,null,null,null,null,null,null,null,null,null,null,null,null,null,null,null,null,null,null,null,null,null,null,null,null,null,null,null,null,null,null,null,null,null,null,null,null,null,null,null,null,null,null,null,null,null,null,null,null,null,null,null,"RQ3BIRMINGHAM CHILDREN'S HOSPITAL - NON-GH ENDOCRINE","RQ318","BIRMINGHAM CHILDREN'S HOSPITAL - NON-GH ENDOCRINE","RQ318","BIRMINGHAM CHILDREN'S HOSPITAL - NON-GH ENDOCRINE","RQ3"]
[null,null,null,null,null,null,null,null,null,null,null,null,null,null,null,null,null,null,null,null,null,null,null,null,null,null,null,null,null,null,null,null,null,null,null,null,null,null,null,null,null,null,null,null,null,null,null,null,null,null,null,null,null,null,null,"RQ8BROOMFIELD HOSPITAL - RQ8L0","RQ8L0","BROOMFIELD HOSPITAL - RQ8L0","RQ8L0","BROOMFIELD HOSPITAL - RQ8L0","RQ8"]
[null,null,null,null,null,null,null,null,null,null,null,null,null,null,null,null,null,null,null,null,null,null,null,null,null,null,null,null,null,null,null,null,null,null,null,null,null,null,null,null,null,null,null,null,null,null,null,null,null,null,null,null,null,null,null,"RQQTHE HUNTINGDON NHS TREATMENT CENTRE - RQQTC","RQQTC","THE HUNTINGDON NHS TREATMENT CENTRE - RQQTC","RQQTC","THE HUNTINGDON NHS TREATMENT CENTRE - RQQTC","RQQ"]
[null,null,null,null,null,null,null,null,null,null,null,null,null,null,null,null,null,null,null,null,null,null,null,null,null,null,null,null,null,null,null,null,null,null,null,null,null,null,null,null,null,null,null,null,null,null,null,null,null,null,null,null,null,null,null,"RQWSAFFRON WALDEN COMMUNITY HOSPITAL - RQWG3","RQWG3","SAFFRON WALDEN COMMUNITY HOSPITAL - RQWG3","RQWG3","SAFFRON WALDEN COMMUNITY HOSPITAL - RQWG3","RQW"]
[null,null,null,null,null,null,null,null,null,null,null,null,null,null,null,null,null,null,null,null,null,null,null,null,null,null,null,null,null,null,null,null,null,null,null,null,null,null,null,null,null,null,null,null,null,null,null,null,null,null,null,null,null,null,null,"RQYHENDERSON HOSPITAL","RQY06","HENDERSON HOSPITAL","RQY06","HENDERSON HOSPITAL","RQY"]
[null,null,null,null,null,null,null,null,null,null,null,null,null,null,null,null,null,null,null,null,null,null,null,null,null,null,null,null,null,null,null,null,null,null,null,null,null,null,null,null,null,null,null,null,null,null,null,null,null,null,null,null,null,null,null,"RQYKINGSTON HOSPITAL","RQY57","KINGSTON HOSPITAL","RQY57","KINGSTON HOSPITAL","RQY"]
[null,null,null,null,null,null,null,null,null,null,null,null,null,null,null,null,null,null,null,null,null,null,null,null,null,null,null,null,null,null,null,null,null,null,null,null,null,null,null,null,null,null,null,null,null,null,null,null,null,null,null,null,null,null,null,"RQYST. HELIER HOSPITAL","RQY33","ST. HELIER HOSPITAL","RQY33","ST. HELIER HOSPITAL","RQY"]
[null,null,null,null,null,null,null,null,null,null,null,null,null,null,null,null,null,null,null,null,null,null,null,null,null,null,null,null,null,null,null,null,null,null,null,null,null,null,null,null,null,null,null,null,null,null,null,null,null,null,null,null,null,null,null,"RQYSUTTON MHT FOR PLD","RQYPD","SUTTON MHT FOR PLD","RQYPD","SUTTON MHT FOR PLD","RQY"]
[null,null,null,null,null,null,null,null,null,null,null,null,null,null,null,null,null,null,null,null,null,null,null,null,null,null,null,null,null,null,null,null,null,null,null,null,null,null,null,null,null,null,null,null,null,null,null,null,null,null,null,null,null,null,null,"RR7QUEEN ELIZABETH HOSPITAL - RR7EN","RR7EN","QUEEN ELIZABETH HOSPITAL - RR7EN","RR7EN","QUEEN ELIZABETH HOSPITAL - RR7EN","RR7"]
[null,null,null,null,null,null,null,null,null,null,null,null,null,null,null,null,null,null,null,null,null,null,null,null,null,null,null,null,null,null,null,null,null,null,null,null,null,null,null,null,null,null,null,null,null,null,null,null,null,null,null,null,null,null,null,"RR8NEW HALL SURGERY - RR865","RR865","NEW HALL SURGERY - RR865","RR865","NEW HALL SURGERY - RR865","RR8"]
[null,null,null,null,null,null,null,null,null,null,null,null,null,null,null,null,null,null,null,null,null,null,null,null,null,null,null,null,null,null,null,null,null,null,null,null,null,null,null,null,null,null,null,null,null,null,null,null,null,null,null,null,null,null,null,"RRDCLACTON - EAGLEHURST","RRDA2","CLACTON - EAGLEHURST","RRDA2","CLACTON - EAGLEHURST","RRD"]
[null,null,null,null,null,null,null,null,null,null,null,null,null,null,null,null,null,null,null,null,null,null,null,null,null,null,null,null,null,null,null,null,null,null,null,null,null,null,null,null,null,null,null,null,null,null,null,null,null,null,null,null,null,null,null,"RRDCOLCHESTER GENERAL HOSPITAL","RRDCG","COLCHESTER GENERAL HOSPITAL","RRDCG","COLCHESTER GENERAL HOSPITAL","RRD"]
[null,null,null,null,null,null,null,null,null,null,null,null,null,null,null,null,null,null,null,null,null,null,null,null,null,null,null,null,null,null,null,null,null,null,null,null,null,null,null,null,null,null,null,null,null,null,null,null,null,null,null,null,null,null,null,"RREBRIDGNORTH HOSPITAL","RREDR","BRIDGNORTH HOSPITAL","RREDR","BRIDGNORTH HOSPITAL","RRE"]
[null,null,null,null,null,null,null,null,null,null,null,null,null,null,null,null,null,null,null,null,null,null,null,null,null,null,null,null,null,null,null,null,null,null,null,null,null,null,null,null,null,null,null,null,null,null,null,null,null,null,null,null,null,null,null,"RRECHILDRENS 5","RREP2","CHILDRENS 5","RREP2","CHILDRENS 5","RRE"]
[null,null,null,null,null,null,null,null,null,null,null,null,null,null,null,null,null,null,null,null,null,null,null,null,null,null,null,null,null,null,null,null,null,null,null,null,null,null,null,null,null,null,null,null,null,null,null,null,null,null,null,null,null,null,null,"RREKEEPERS CRESCENT, DONNINGTON","RREF3","KEEPERS CRESCENT, DONNINGTON","RREF3","KEEPERS CRESCENT, DONNINGTON","RRE"]
[null,null,null,null,null,null,null,null,null,null,null,null,null,null,null,null,null,null,null,null,null,null,null,null,null,null,null,null,null,null,null,null,null,null,null,null,null,null,null,null,null,null,null,null,null,null,null,null,null,null,null,null,null,null,null,"RRELABURNHAMS","RREEV","LABURNHAMS","RREEV","LABURNHAMS","RRE"]
[null,null,null,null,null,null,null,null,null,null,null,null,null,null,null,null,null,null,null,null,null,null,null,null,null,null,null,null,null,null,null,null,null,null,null,null,null,null,null,null,null,null,null,null,null,null,null,null,null,null,null,null,null,null,null,"RREQUEST","RRET3","QUEST","RRET3","QUEST","RRE"]
[null,null,null,null,null,null,null,null,null,null,null,null,null,null,null,null,null,null,null,null,null,null,null,null,null,null,null,null,null,null,null,null,null,null,null,null,null,null,null,null,null,null,null,null,null,null,null,null,null,null,null,null,null,null,null,"RREST GEORGES HOSPITAL 2","RREV5","ST GEORGES HOSPITAL 2","RREV5","ST GEORGES HOSPITAL 2","RRE"]
[null,null,null,null,null,null,null,null,null,null,null,null,null,null,null,null,null,null,null,null,null,null,null,null,null,null,null,null,null,null,null,null,null,null,null,null,null,null,null,null,null,null,null,null,null,null,null,null,null,null,null,null,null,null,null,"RRETORC","RREGK","TORC","RREGK","TORC","RRE"]
[null,null,null,null,null,null,null,null,null,null,null,null,null,null,null,null,null,null,null,null,null,null,null,null,null,null,null,null,null,null,null,null,null,null,null,null,null,null,null,null,null,null,null,null,null,null,null,null,null,null,null,null,null,null,null,"RREWEST BANK - WELLINGTON","RREDG","WEST BANK - WELLINGTON","RREDG","WEST BANK - WELLINGTON","RRE"]
[null,null,null,null,null,null,null,null,null,null,null,null,null,null,null,null,null,null,null,null,null,null,null,null,null,null,null,null,null,null,null,null,null,null,null,null,null,null,null,null,null,null,null,null,null,null,null,null,null,null,null,null,null,null,null,"RRJROYAL ORTHOPAEDIC HOSPITAL - RRJ05","RRJ05","ROYAL ORTHOPAEDIC HOSPITAL - RRJ05","RRJ05","ROYAL ORTHOPAEDIC HOSPITAL - RRJ05","RRJ"]
[null,null,null,null,null,null,null,null,null,null,null,null,null,null,null,null,null,null,null,null,null,null,null,null,null,null,null,null,null,null,null,null,null,null,null,null,null,null,null,null,null,null,null,null,null,null,null,null,null,null,null,null,null,null,null,"RRKSELLY OAK HOSPITAL (ACUTE) - RRK03","RRK03","SELLY OAK HOSPITAL (ACUTE) - RRK03","RRK03","SELLY OAK HOSPITAL (ACUTE) - RRK03","RRK"]
[null,null,null,null,null,null,null,null,null,null,null,null,null,null,null,null,null,null,null,null,null,null,null,null,null,null,null,null,null,null,null,null,null,null,null,null,null,null,null,null,null,null,null,null,null,null,null,null,null,null,null,null,null,null,null,"RRPEDGWARE COMMUNITY HOSPITAL","RRP23","EDGWARE COMMUNITY HOSPITAL","RRP23","EDGWARE COMMUNITY HOSPITAL","RRP"]
[null,null,null,null,null,null,null,null,null,null,null,null,null,null,null,null,null,null,null,null,null,null,null,null,null,null,null,null,null,null,null,null,null,null,null,null,null,null,null,null,null,null,null,null,null,null,null,null,null,null,null,null,null,null,null,"RRPISLINGTON CANONBURY COMMUNITY MENTAL HEALTH","RRP32","ISLINGTON CANONBURY COMMUNITY MENTAL HEALTH","RRP32","ISLINGTON CANONBURY COMMUNITY MENTAL HEALTH","RRP"]
[null,null,null,null,null,null,null,null,null,null,null,null,null,null,null,null,null,null,null,null,null,null,null,null,null,null,null,null,null,null,null,null,null,null,null,null,null,null,null,null,null,null,null,null,null,null,null,null,null,null,null,null,null,null,null,"RRVHOSPITAL FOR TROPICAL DISEASES - RRVRH","RRVRH","HOSPITAL FOR TROPICAL DISEASES - RRVRH","RRVRH","HOSPITAL FOR TROPICAL DISEASES - RRVRH","RRV"]
[null,null,null,null,null,null,null,null,null,null,null,null,null,null,null,null,null,null,null,null,null,null,null,null,null,null,null,null,null,null,null,null,null,null,null,null,null,null,null,null,null,null,null,null,null,null,null,null,null,null,null,null,null,null,null,"RRVUNIVERSITY COLLEGE HOSPITAL - RRV03","RRV03","UNIVERSITY COLLEGE HOSPITAL - RRV03","RRV03","UNIVERSITY COLLEGE HOSPITAL - RRV03","RRV"]
[null,null,null,null,null,null,null,null,null,null,null,null,null,null,null,null,null,null,null,null,null,null,null,null,null,null,null,null,null,null,null,null,null,null,null,null,null,null,null,null,null,null,null,null,null,null,null,null,null,null,null,null,null,null,null,"RT1CAMBRIDGE OPMH","RT1AJ","CAMBRIDGE OPMH","RT1AJ","CAMBRIDGE OPMH","RT1"]
[null,null,null,null,null,null,null,null,null,null,null,null,null,null,null,null,null,null,null,null,null,null,null,null,null,null,null,null,null,null,null,null,null,null,null,null,null,null,null,null,null,null,null,null,null,null,null,null,null,null,null,null,null,null,null,"RT1DARWIN NURSERY, PROSPECT FARM","RT136","DARWIN NURSERY, PROSPECT FARM","RT136","DARWIN NURSERY, PROSPECT FARM","RT1"]
[null,null,null,null,null,null,null,null,null,null,null,null,null,null,null,null,null,null,null,null,null,null,null,null,null,null,null,null,null,null,null,null,null,null,null,null,null,null,null,null,null,null,null,null,null,null,null,null,null,null,null,null,null,null,null,"RT1HUNTINGDON CDS","RT104","HUNTINGDON CDS","RT104","HUNTINGDON CDS","RT1"]
[null,null,null,null,null,null,null,null,null,null,null,null,null,null,null,null,null,null,null,null,null,null,null,null,null,null,null,null,null,null,null,null,null,null,null,null,null,null,null,null,null,null,null,null,null,null,null,null,null,null,null,null,null,null,null,"RT1MARU","RT1DP","MARU","RT1DP","MARU","RT1"]
[null,null,null,null,null,null,null,null,null,null,null,null,null,null,null,null,null,null,null,null,null,null,null,null,null,null,null,null,null,null,null,null,null,null,null,null,null,null,null,null,null,null,null,null,null,null,null,null,null,null,null,null,null,null,null,"RT1REEPHAM COMMUNITY HOME","RT107","REEPHAM COMMUNITY HOME","RT107","REEPHAM COMMUNITY HOME","RT1"]
[null,null,null,null,null,null,null,null,null,null,null,null,null,null,null,null,null,null,null,null,null,null,null,null,null,null,null,null,null,null,null,null,null,null,null,null,null,null,null,null,null,null,null,null,null,null,null,null,null,null,null,null,null,null,null,"RT1THE CEDARS","RT128","THE CEDARS","RT128","THE CEDARS","RT1"]
[null,null,null,null,null,null,null,null,null,null,null,null,null,null,null,null,null,null,null,null,null,null,null,null,null,null,null,null,null,null,null,null,null,null,null,null,null,null,null,null,null,null,null,null,null,null,null,null,null,null,null,null,null,null,null,"RT1WHITTLESEY COMMUNITY HOME","RT120","WHITTLESEY COMMUNITY HOME","RT120","WHITTLESEY COMMUNITY HOME","RT1"]
[null,null,null,null,null,null,null,null,null,null,null,null,null,null,null,null,null,null,null,null,null,null,null,null,null,null,null,null,null,null,null,null,null,null,null,null,null,null,null,null,null,null,null,null,null,null,null,null,null,null,null,null,null,null,null,"RT2ETHEROW BUILDING","RT2M7","ETHEROW BUILDING","RT2M7","ETHEROW BUILDING","RT2"]
[null,null,null,null,null,null,null,null,null,null,null,null,null,null,null,null,null,null,null,null,null,null,null,null,null,null,null,null,null,null,null,null,null,null,null,null,null,null,null,null,null,null,null,null,null,null,null,null,null,null,null,null,null,null,null,"RT2MENTAL HEALTH UNIT","RT274","MENTAL HEALTH UNIT","RT274","MENTAL HEALTH UNIT","RT2"]
[null,null,null,null,null,null,null,null,null,null,null,null,null,null,null,null,null,null,null,null,null,null,null,null,null,null,null,null,null,null,null,null,null,null,null,null,null,null,null,null,null,null,null,null,null,null,null,null,null,null,null,null,null,null,null,"RT3ROYAL BROMPTON HOSPITAL - RT302","RT302","ROYAL BROMPTON HOSPITAL - RT302","RT302","ROYAL BROMPTON HOSPITAL - RT302","RT3"]
[null,null,null,null,null,null,null,null,null,null,null,null,null,null,null,null,null,null,null,null,null,null,null,null,null,null,null,null,null,null,null,null,null,null,null,null,null,null,null,null,null,null,null,null,null,null,null,null,null,null,null,null,null,null,null,"RT5BRACKENDALE","RT5LB","BRACKENDALE","RT5LB","BRACKENDALE","RT5"]
[null,null,null,null,null,null,null,null,null,null,null,null,null,null,null,null,null,null,null,null,null,null,null,null,null,null,null,null,null,null,null,null,null,null,null,null,null,null,null,null,null,null,null,null,null,null,null,null,null,null,null,null,null,null,null,"RT5CHARNWOOD 3","RT5D4","CHARNWOOD 3","RT5D4","CHARNWOOD 3","RT5"]
[null,null,null,null,null,null,null,null,null,null,null,null,null,null,null,null,null,null,null,null,null,null,null,null,null,null,null,null,null,null,null,null,null,null,null,null,null,null,null,null,null,null,null,null,null,null,null,null,null,null,null,null,null,null,null,"RT5CITY CENTRAL 4 (EPMA)","RT5WX","CITY CENTRAL 4 (EPMA)","RT5WX","CITY CENTRAL 4 (EPMA)","RT5"]
[null,null,null,null,null,null,null,null,null,null,null,null,null,null,null,null,null,null,null,null,null,null,null,null,null,null,null,null,null,null,null,null,null,null,null,null,null,null,null,null,null,null,null,null,null,null,null,null,null,null,null,null,null,null,null,"RT5CITY EAST 2","RT5E7","CITY EAST 2","RT5E7","CITY EAST 2","RT5"]
[null,null,null,null,null,null,null,null,null,null,null,null,null,null,null,null,null,null,null,null,null,null,null,null,null,null,null,null,null,null,null,null,null,null,null,null,null,null,null,null,null,null,null,null,null,null,null,null,null,null,null,null,null,null,null,"RT5CITY WEST 1 (EPMA)","RT5F3","CITY WEST 1 (EPMA)","RT5F3","CITY WEST 1 (EPMA)","RT5"]
[null,null,null,null,null,null,null,null,null,null,null,null,null,null,null,null,null,null,null,null,null,null,null,null,null,null,null,null,null,null,null,null,null,null,null,null,null,null,null,null,null,null,null,null,null,null,null,null,null,null,null,null,null,null,null,{"$f":"CONCATENATE(LEFT(BE2077, 3),BF2077)","v":"RT5EAST LEICESTERSHIRE 1 (EPMA)"},"RT5F9","EAST LEICESTERSHIRE 1 (EPMA)","RT5F9","EAST LEICESTERSHIRE 1 (EPMA)",{"$f":"LEFT(BG2077,3)","v":"RT5"}]
[null,null,null,null,null,null,null,null,null,null,null,null,null,null,null,null,null,null,null,null,null,null,null,null,null,null,null,null,null,null,null,null,null,null,null,null,null,null,null,null,null,null,null,null,null,null,null,null,null,null,null,null,null,null,null,"RT5EATING DISORDERS 2 (EPMA)","RT5V7","EATING DISORDERS 2 (EPMA)","RT5V7","EATING DISORDERS 2 (EPMA)","RT5"]
[null,null,null,null,null,null,null,null,null,null,null,null,null,null,null,null,null,null,null,null,null,null,null,null,null,null,null,null,null,null,null,null,null,null,null,null,null,null,null,null,null,null,null,null,null,null,null,null,null,null,null,null,null,null,null,"RT5FORENSIC 2 (EPMA)","RT5G8","FORENSIC 2 (EPMA)","RT5G8","FORENSIC 2 (EPMA)","RT5"]
[null,null,null,null,null,null,null,null,null,null,null,null,null,null,null,null,null,null,null,null,null,null,null,null,null,null,null,null,null,null,null,null,null,null,null,null,null,null,null,null,null,null,null,null,null,null,null,null,null,null,null,null,null,null,null,"RT5HINCKLEY AND BOSWORTH 2 (EPMA)","RT5H3","HINCKLEY AND BOSWORTH 2 (EPMA)","RT5H3","HINCKLEY AND BOSWORTH 2 (EPMA)","RT5"]
[null,null,null,null,null,null,null,null,null,null,null,null,null,null,null,null,null,null,null,null,null,null,null,null,null,null,null,null,null,null,null,null,null,null,null,null,null,null,null,null,null,null,null,null,null,null,null,null,null,null,null,null,null,null,null,"RT5LD 2 (EPMA)","RT56C","LD 2 (EPMA)","RT56C","LD 2 (EPMA)","RT5"]
[null,null,null,null,null,null,null,null,null,null,null,null,null,null,null,null,null,null,null,null,null,null,null,null,null,null,null,null,null,null,null,null,null,null,null,null,null,null,null,null,null,null,null,null,null,null,null,null,null,null,null,null,null,null,null,"RT5LEICESTER FRITH (BALDWIN UNIT)","RT555","LEICESTER FRITH (BALDWIN UNIT)","RT555","LEICESTER FRITH (BALDWIN UNIT)","RT5"]
[null,null,null,null,null,null,null,null,null,null,null,null,null,null,null,null,null,null,null,null,null,null,null,null,null,null,null,null,null,null,null,null,null,null,null,null,null,null,null,null,null,null,null,null,null,null,null,null,null,null,null,null,null,null,null,"RT5LEICESTER FRITH (FURTHER EDUCATION BUILDING)","RT559","LEICESTER FRITH (FURTHER EDUCATION BUILDING)","RT559","LEICESTER FRITH (FURTHER EDUCATION BUILDING)","RT5"]
[null,null,null,null,null,null,null,null,null,null,null,null,null,null,null,null,null,null,null,null,null,null,null,null,null,null,null,null,null,null,null,null,null,null,null,null,null,null,null,null,null,null,null,null,null,null,null,null,null,null,null,null,null,null,null,"RT5LEICESTERSHIRE PARTNERSHIP NHS TRUST (UNIVERSITY HOSPITALS)","RT503","LEICESTERSHIRE PARTNERSHIP NHS TRUST (UNIVERSITY HOSPITALS)","RT503","LEICESTERSHIRE PARTNERSHIP NHS TRUST (UNIVERSITY HOSPITALS)","RT5"]
[null,null,null,null,null,null,null,null,null,null,null,null,null,null,null,null,null,null,null,null,null,null,null,null,null,null,null,null,null,null,null,null,null,null,null,null,null,null,null,null,null,null,null,null,null,null,null,null,null,null,null,null,null,null,null,"RT5MHSOP 1 (EPMA)","RT5Q9","MHSOP 1 (EPMA)","RT5Q9","MHSOP 1 (EPMA)","RT5"]
[null,null,null,null,null,null,null,null,null,null,null,null,null,null,null,null,null,null,null,null,null,null,null,null,null,null,null,null,null,null,null,null,null,null,null,null,null,null,null,null,null,null,null,null,null,null,null,null,null,null,null,null,null,null,null,"RT5MHSOP 13","RT54A","MHSOP 13","RT54A","MHSOP 13","RT5"]
[null,null,null,null,null,null,null,null,null,null,null,null,null,null,null,null,null,null,null,null,null,null,null,null,null,null,null,null,null,null,null,null,null,null,null,null,null,null,null,null,null,null,null,null,null,null,null,null,null,null,null,null,null,null,null,"RT5MHSOP 2","RT5A1","MHSOP 2","RT5A1","MHSOP 2","RT5"]
[null,null,null,null,null,null,null,null,null,null,null,null,null,null,null,null,null,null,null,null,null,null,null,null,null,null,null,null,null,null,null,null,null,null,null,null,null,null,null,null,null,null,null,null,null,null,null,null,null,null,null,null,null,null,null,"RT5MHSOP 8","RT5T4","MHSOP 8","RT5T4","MHSOP 8","RT5"]
[null,null,null,null,null,null,null,null,null,null,null,null,null,null,null,null,null,null,null,null,null,null,null,null,null,null,null,null,null,null,null,null,null,null,null,null,null,null,null,null,null,null,null,null,null,null,null,null,null,null,null,null,null,null,null,"RT5MMH DALGLEISH WARD","RT5YH","MMH DALGLEISH WARD","RT5YH","MMH DALGLEISH WARD","RT5"]
[null,null,null,null,null,null,null,null,null,null,null,null,null,null,null,null,null,null,null,null,null,null,null,null,null,null,null,null,null,null,null,null,null,null,null,null,null,null,null,null,null,null,null,null,null,null,null,null,null,null,null,null,null,null,null,"RT5PSYCHO-ONCOLOGY 1 (EPMA)","RT5K2","PSYCHO-ONCOLOGY 1 (EPMA)","RT5K2","PSYCHO-ONCOLOGY 1 (EPMA)","RT5"]
[null,null,null,null,null,null,null,null,null,null,null,null,null,null,null,null,null,null,null,null,null,null,null,null,null,null,null,null,null,null,null,null,null,null,null,null,null,null,null,null,null,null,null,null,null,null,null,null,null,null,null,null,null,null,null,"RT5RMH RUTLAND WARD","RT5YJ","RMH RUTLAND WARD","RT5YJ","RMH RUTLAND WARD","RT5"]
[null,null,null,null,null,null,null,null,null,null,null,null,null,null,null,null,null,null,null,null,null,null,null,null,null,null,null,null,null,null,null,null,null,null,null,null,null,null,null,null,null,null,null,null,null,null,null,null,null,null,null,null,null,null,null,"RT5SOUTH LEICESTERSHIRE 1","RT5K7","SOUTH LEICESTERSHIRE 1","RT5K7","SOUTH LEICESTERSHIRE 1","RT5"]
[null,null,null,null,null,null,null,null,null,null,null,null,null,null,null,null,null,null,null,null,null,null,null,null,null,null,null,null,null,null,null,null,null,null,null,null,null,null,null,null,null,null,null,null,null,null,null,null,null,null,null,null,null,null,null,"RT5STEWART HOUSE","RT5KE","STEWART HOUSE","RT5KE","STEWART HOUSE","RT5"]
[null,null,null,null,null,null,null,null,null,null,null,null,null,null,null,null,null,null,null,null,null,null,null,null,null,null,null,null,null,null,null,null,null,null,null,null,null,null,null,null,null,null,null,null,null,null,null,null,null,null,null,null,null,null,null,"RT5THE WILLOWS (LEICESTER)","RT5FK","THE WILLOWS (LEICESTER)","RT5FK","THE WILLOWS (LEICESTER)","RT5"]
[null,null,null,null,null,null,null,null,null,null,null,null,null,null,null,null,null,null,null,null,null,null,null,null,null,null,null,null,null,null,null,null,null,null,null,null,null,null,null,null,null,null,null,null,null,null,null,null,null,null,null,null,null,null,null,"RT5WILLOWS","RT5FK","WILLOWS","RT5FK","WILLOWS","RT5"]
[null,null,null,null,null,null,null,null,null,null,null,null,null,null,null,null,null,null,null,null,null,null,null,null,null,null,null,null,null,null,null,null,null,null,null,null,null,null,null,null,null,null,null,null,null,null,null,null,null,null,null,null,null,null,null,"RTECHELTENHAM GENERAL HOSPITAL - RTE01","RTE01","CHELTENHAM GENERAL HOSPITAL - RTE01","RTE01","CHELTENHAM GENERAL HOSPITAL - RTE01","RTE"]
[null,null,null,null,null,null,null,null,null,null,null,null,null,null,null,null,null,null,null,null,null,null,null,null,null,null,null,null,null,null,null,null,null,null,null,null,null,null,null,null,null,null,null,null,null,null,null,null,null,null,null,null,null,null,null,"RTEDURSLEY CLINIC - RTE48","RTE48","DURSLEY CLINIC - RTE48","RTE48","DURSLEY CLINIC - RTE48","RTE"]
[null,null,null,null,null,null,null,null,null,null,null,null,null,null,null,null,null,null,null,null,null,null,null,null,null,null,null,null,null,null,null,null,null,null,null,null,null,null,null,null,null,null,null,null,null,null,null,null,null,null,null,null,null,null,null,"RTEHEREFORD COUNTY HOSPITAL - RTE83","RTE83","HEREFORD COUNTY HOSPITAL - RTE83","RTE83","HEREFORD COUNTY HOSPITAL - RTE83","RTE"]
[null,null,null,null,null,null,null,null,null,null,null,null,null,null,null,null,null,null,null,null,null,null,null,null,null,null,null,null,null,null,null,null,null,null,null,null,null,null,null,null,null,null,null,null,null,null,null,null,null,null,null,null,null,null,null,"RTEST ROSES SPECIAL SCHOOL - RTE45","RTE45","ST ROSES SPECIAL SCHOOL - RTE45","RTE45","ST ROSES SPECIAL SCHOOL - RTE45","RTE"]
[null,null,null,null,null,null,null,null,null,null,null,null,null,null,null,null,null,null,null,null,null,null,null,null,null,null,null,null,null,null,null,null,null,null,null,null,null,null,null,null,null,null,null,null,null,null,null,null,null,null,null,null,null,null,null,"RTESTROUD GENERAL HOSPITAL - RTE26","RTE26","STROUD GENERAL HOSPITAL - RTE26","RTE26","STROUD GENERAL HOSPITAL - RTE26","RTE"]
[null,null,null,null,null,null,null,null,null,null,null,null,null,null,null,null,null,null,null,null,null,null,null,null,null,null,null,null,null,null,null,null,null,null,null,null,null,null,null,null,null,null,null,null,null,null,null,null,null,null,null,null,null,null,null,"RTFALNWICK INFIRMARY - RTFDJ","RTFDJ","ALNWICK INFIRMARY - RTFDJ","RTFDJ","ALNWICK INFIRMARY - RTFDJ","RTF"]
[null,null,null,null,null,null,null,null,null,null,null,null,null,null,null,null,null,null,null,null,null,null,null,null,null,null,null,null,null,null,null,null,null,null,null,null,null,null,null,null,null,null,null,null,null,null,null,null,null,null,null,null,null,null,null,"RTFHALTWHISTLE WAR MEMORIAL HOSPITAL - RTFDU","RTFDU","HALTWHISTLE WAR MEMORIAL HOSPITAL - RTFDU","RTFDU","HALTWHISTLE WAR MEMORIAL HOSPITAL - RTFDU","RTF"]
[null,null,null,null,null,null,null,null,null,null,null,null,null,null,null,null,null,null,null,null,null,null,null,null,null,null,null,null,null,null,null,null,null,null,null,null,null,null,null,null,null,null,null,null,null,null,null,null,null,null,null,null,null,null,null,"RTFROTHBURY COMMUNITY HOSPITAL - RTFEF","RTFEF","ROTHBURY COMMUNITY HOSPITAL - RTFEF","RTFEF","ROTHBURY COMMUNITY HOSPITAL - RTFEF","RTF"]
[null,null,null,null,null,null,null,null,null,null,null,null,null,null,null,null,null,null,null,null,null,null,null,null,null,null,null,null,null,null,null,null,null,null,null,null,null,null,null,null,null,null,null,null,null,null,null,null,null,null,null,null,null,null,null,"RTGILKESTON COMMUNITY HOSPITAL - RTG07","RTG07","ILKESTON COMMUNITY HOSPITAL - RTG07","RTG07","ILKESTON COMMUNITY HOSPITAL - RTG07","RTG"]
[null,null,null,null,null,null,null,null,null,null,null,null,null,null,null,null,null,null,null,null,null,null,null,null,null,null,null,null,null,null,null,null,null,null,null,null,null,null,null,null,null,null,null,null,null,null,null,null,null,null,null,null,null,null,null,{"$f":"CONCATENATE(LEFT(BE2336, 3),BF2336)","v":"RTHCHURCHILL HOSPITAL - RTH02"},"RTH02","CHURCHILL HOSPITAL - RTH02","RTH02","CHURCHILL HOSPITAL - RTH02",{"$f":"LEFT(BG2336,3)","v":"RTH"}]
[null,null,null,null,null,null,null,null,null,null,null,null,null,null,null,null,null,null,null,null,null,null,null,null,null,null,null,null,null,null,null,null,null,null,null,null,null,null,null,null,null,null,null,null,null,null,null,null,null,null,null,null,null,null,null,"RTHMARLBOROUGH SCHOOL","RTHE3","MARLBOROUGH SCHOOL","RTHE3","MARLBOROUGH SCHOOL","RTH"]
[null,null,null,null,null,null,null,null,null,null,null,null,null,null,null,null,null,null,null,null,null,null,null,null,null,null,null,null,null,null,null,null,null,null,null,null,null,null,null,null,null,null,null,null,null,null,null,null,null,null,null,null,null,null,null,"RTHWANTAGE COMMUNITY HOSPITAL","RTH21","WANTAGE COMMUNITY HOSPITAL","RTH21","WANTAGE COMMUNITY HOSPITAL","RTH"]
[null,null,null,null,null,null,null,null,null,null,null,null,null,null,null,null,null,null,null,null,null,null,null,null,null,null,null,null,null,null,null,null,null,null,null,null,null,null,null,null,null,null,null,null,null,null,null,null,null,null,null,null,null,null,null,"RTKASHLEY MEDICAL PRACTICE","RTK34","ASHLEY MEDICAL PRACTICE","RTK34","ASHLEY MEDICAL PRACTICE","RTK"]
[null,null,null,null,null,null,null,null,null,null,null,null,null,null,null,null,null,null,null,null,null,null,null,null,null,null,null,null,null,null,null,null,null,null,null,null,null,null,null,null,null,null,null,null,null,null,null,null,null,null,null,null,null,null,null,"RTKNEW OTTERSHAW SURGERY","RTK28","NEW OTTERSHAW SURGERY","RTK28","NEW OTTERSHAW SURGERY","RTK"]
[null,null,null,null,null,null,null,null,null,null,null,null,null,null,null,null,null,null,null,null,null,null,null,null,null,null,null,null,null,null,null,null,null,null,null,null,null,null,null,null,null,null,null,null,null,null,null,null,null,null,null,null,null,null,null,"RTKST JOHNS HEALTH CENTRE","RTK38","ST JOHNS HEALTH CENTRE","RTK38","ST JOHNS HEALTH CENTRE","RTK"]
[null,null,null,null,null,null,null,null,null,null,null,null,null,null,null,null,null,null,null,null,null,null,null,null,null,null,null,null,null,null,null,null,null,null,null,null,null,null,null,null,null,null,null,null,null,null,null,null,null,null,null,null,null,null,null,"RTPCATERHAM DENE HOSPITAL","RTP24","CATERHAM DENE HOSPITAL","RTP24","CATERHAM DENE HOSPITAL","RTP"]
[null,null,null,null,null,null,null,null,null,null,null,null,null,null,null,null,null,null,null,null,null,null,null,null,null,null,null,null,null,null,null,null,null,null,null,null,null,null,null,null,null,null,null,null,null,null,null,null,null,null,null,null,null,null,null,"RTPEAST SURREY HOSPITAL","RTP04","EAST SURREY HOSPITAL","RTP04","EAST SURREY HOSPITAL","RTP"]
[null,null,null,null,null,null,null,null,null,null,null,null,null,null,null,null,null,null,null,null,null,null,null,null,null,null,null,null,null,null,null,null,null,null,null,null,null,null,null,null,null,null,null,null,null,null,null,null,null,null,null,null,null,null,null,"RTQCHELTENHAM GENERAL HOSPITAL","RTQ88","CHELTENHAM GENERAL HOSPITAL","RTQ88","CHELTENHAM GENERAL HOSPITAL","RTQ"]
[null,null,null,null,null,null,null,null,null,null,null,null,null,null,null,null,null,null,null,null,null,null,null,null,null,null,null,null,null,null,null,null,null,null,null,null,null,null,null,null,null,null,null,null,null,null,null,null,null,null,null,null,null,null,null,"RTQHILLSIDE INTERMEDIATE CARE UNIT","RTQHG","HILLSIDE INTERMEDIATE CARE UNIT","RTQHG","HILLSIDE INTERMEDIATE CARE UNIT","RTQ"]
[null,null,null,null,null,null,null,null,null,null,null,null,null,null,null,null,null,null,null,null,null,null,null,null,null,null,null,null,null,null,null,null,null,null,null,null,null,null,null,null,null,null,null,null,null,null,null,null,null,null,null,null,null,null,null,"RTQMOORE HOSPITAL","RTQ82","MOORE HOSPITAL","RTQ82","MOORE HOSPITAL","RTQ"]
[null,null,null,null,null,null,null,null,null,null,null,null,null,null,null,null,null,null,null,null,null,null,null,null,null,null,null,null,null,null,null,null,null,null,null,null,null,null,null,null,null,null,null,null,null,null,null,null,null,null,null,null,null,null,null,"RTQOAK HOUSE","RTQHM","OAK HOUSE","RTQHM","OAK HOUSE","RTQ"]
[null,null,null,null,null,null,null,null,null,null,null,null,null,null,null,null,null,null,null,null,null,null,null,null,null,null,null,null,null,null,null,null,null,null,null,null,null,null,null,null,null,null,null,null,null,null,null,null,null,null,null,null,null,null,null,"RTQTHE VRON - 91B","RTQ37","THE VRON - 91B","RTQ37","THE VRON - 91B","RTQ"]
[null,null,null,null,null,null,null,null,null,null,null,null,null,null,null,null,null,null,null,null,null,null,null,null,null,null,null,null,null,null,null,null,null,null,null,null,null,null,null,null,null,null,null,null,null,null,null,null,null,null,null,null,null,null,null,"RTRCARTER BEQUEST HOSPITAL","RTR27","CARTER BEQUEST HOSPITAL","RTR27","CARTER BEQUEST HOSPITAL","RTR"]
[null,null,null,null,null,null,null,null,null,null,null,null,null,null,null,null,null,null,null,null,null,null,null,null,null,null,null,null,null,null,null,null,null,null,null,null,null,null,null,null,null,null,null,null,null,null,null,null,null,null,null,null,null,null,null,"RTRREDCAR PRIMARY CARE HOSPITAL","RTR18","REDCAR PRIMARY CARE HOSPITAL","RTR18","REDCAR PRIMARY CARE HOSPITAL","RTR"]
[null,null,null,null,null,null,null,null,null,null,null,null,null,null,null,null,null,null,null,null,null,null,null,null,null,null,null,null,null,null,null,null,null,null,null,null,null,null,null,null,null,null,null,null,null,null,null,null,null,null,null,null,null,null,null,"RTVCAVENDISH UNIT","RTV79","CAVENDISH UNIT","RTV79","CAVENDISH UNIT","RTV"]
[null,null,null,null,null,null,null,null,null,null,null,null,null,null,null,null,null,null,null,null,null,null,null,null,null,null,null,null,null,null,null,null,null,null,null,null,null,null,null,null,null,null,null,null,null,null,null,null,null,null,null,null,null,null,null,"RTVLONGVIEW PCRC","RTVL8","LONGVIEW PCRC","RTVL8","LONGVIEW PCRC","RTV"]
[null,null,null,null,null,null,null,null,null,null,null,null,null,null,null,null,null,null,null,null,null,null,null,null,null,null,null,null,null,null,null,null,null,null,null,null,null,null,null,null,null,null,null,null,null,null,null,null,null,null,null,null,null,null,null,"RTVSTEPHENSON SUITE - WHISTON HOSPITAL","RTV55","STEPHENSON SUITE - WHISTON HOSPITAL","RTV55","STEPHENSON SUITE - WHISTON HOSPITAL","RTV"]
[null,null,null,null,null,null,null,null,null,null,null,null,null,null,null,null,null,null,null,null,null,null,null,null,null,null,null,null,null,null,null,null,null,null,null,null,null,null,null,null,null,null,null,null,null,null,null,null,null,null,null,null,null,null,null,"RTXQUEEN VICTORIA HOSPITAL","RTX01","QUEEN VICTORIA HOSPITAL","RTX01","QUEEN VICTORIA HOSPITAL","RTX"]
[null,null,null,null,null,null,null,null,null,null,null,null,null,null,null,null,null,null,null,null,null,null,null,null,null,null,null,null,null,null,null,null,null,null,null,null,null,null,null,null,null,null,null,null,null,null,null,null,null,null,null,null,null,null,null,"RV3  PARK ROYAL CENTRE FOR MENTAL HEALTH","RV312","  PARK ROYAL CENTRE FOR MENTAL HEALTH","RV312","  PARK ROYAL CENTRE FOR MENTAL HEALTH","RV3"]
[null,null,null,null,null,null,null,null,null,null,null,null,null,null,null,null,null,null,null,null,null,null,null,null,null,null,null,null,null,null,null,null,null,null,null,null,null,null,null,null,null,null,null,null,null,null,null,null,null,null,null,null,null,null,null,"RV3FAIRLIGHT AVENUE COMMUNITY REHABILITATION UNIT","RV314","FAIRLIGHT AVENUE COMMUNITY REHABILITATION UNIT","RV314","FAIRLIGHT AVENUE COMMUNITY REHABILITATION UNIT","RV3"]
[null,null,null,null,null,null,null,null,null,null,null,null,null,null,null,null,null,null,null,null,null,null,null,null,null,null,null,null,null,null,null,null,null,null,null,null,null,null,null,null,null,null,null,null,null,null,null,null,null,null,null,null,null,null,null,"RV3HORTON HAVEN","RV351","HORTON HAVEN","RV351","HORTON HAVEN","RV3"]
[null,null,null,null,null,null,null,null,null,null,null,null,null,null,null,null,null,null,null,null,null,null,null,null,null,null,null,null,null,null,null,null,null,null,null,null,null,null,null,null,null,null,null,null,null,null,null,null,null,null,null,null,null,null,null,"RV3NORTHWOOD & PINNER COMMUNITY HOSPITAL","RV3FG","NORTHWOOD & PINNER COMMUNITY HOSPITAL","RV3FG","NORTHWOOD & PINNER COMMUNITY HOSPITAL","RV3"]
[null,null,null,null,null,null,null,null,null,null,null,null,null,null,null,null,null,null,null,null,null,null,null,null,null,null,null,null,null,null,null,null,null,null,null,null,null,null,null,null,null,null,null,null,null,null,null,null,null,null,null,null,null,null,null,"RV3SOUTH KENSINGTON & CHELSEA MENTAL HEALTH CENTRE","RV332","SOUTH KENSINGTON & CHELSEA MENTAL HEALTH CENTRE","RV332","SOUTH KENSINGTON & CHELSEA MENTAL HEALTH CENTRE","RV3"]
[null,null,null,null,null,null,null,null,null,null,null,null,null,null,null,null,null,null,null,null,null,null,null,null,null,null,null,null,null,null,null,null,null,null,null,null,null,null,null,null,null,null,null,null,null,null,null,null,null,null,null,null,null,null,null,"RV3WOODHILL HEALTHCARE","RV3JG","WOODHILL HEALTHCARE","RV3JG","WOODHILL HEALTHCARE","RV3"]
[null,null,null,null,null,null,null,null,null,null,null,null,null,null,null,null,null,null,null,null,null,null,null,null,null,null,null,null,null,null,null,null,null,null,null,null,null,null,null,null,null,null,null,null,null,null,null,null,null,null,null,null,null,null,null,"RV5CROYDON PC MENTAL HEALTH","RV5CC","CROYDON PC MENTAL HEALTH","RV5CC","CROYDON PC MENTAL HEALTH","RV5"]
[null,null,null,null,null,null,null,null,null,null,null,null,null,null,null,null,null,null,null,null,null,null,null,null,null,null,null,null,null,null,null,null,null,null,null,null,null,null,null,null,null,null,null,null,null,null,null,null,null,null,null,null,null,null,null,"RV5LAMBETH SUPPORTED RESIDENCE OFFERTON","RV5HH","LAMBETH SUPPORTED RESIDENCE OFFERTON","RV5HH","LAMBETH SUPPORTED RESIDENCE OFFERTON","RV5"]
[null,null,null,null,null,null,null,null,null,null,null,null,null,null,null,null,null,null,null,null,null,null,null,null,null,null,null,null,null,null,null,null,null,null,null,null,null,null,null,null,null,null,null,null,null,null,null,null,null,null,null,null,null,null,null,"RV5LEWISHAM DIP","RV5L2","LEWISHAM DIP","RV5L2","LEWISHAM DIP","RV5"]
[null,null,null,null,null,null,null,null,null,null,null,null,null,null,null,null,null,null,null,null,null,null,null,null,null,null,null,null,null,null,null,null,null,null,null,null,null,null,null,null,null,null,null,null,null,null,null,null,null,null,null,null,null,null,null,"RV5ST THOMAS' HOSPITAL (MENTAL HEALTH UNIT)","RV5YR","ST THOMAS' HOSPITAL (MENTAL HEALTH UNIT)","RV5YR","ST THOMAS' HOSPITAL (MENTAL HEALTH UNIT)","RV5"]
[null,null,null,null,null,null,null,null,null,null,null,null,null,null,null,null,null,null,null,null,null,null,null,null,null,null,null,null,null,null,null,null,null,null,null,null,null,null,null,null,null,null,null,null,null,null,null,null,null,null,null,null,null,null,null,"RV5WARD IN THE COMMUNITY","RV5M5","WARD IN THE COMMUNITY","RV5M5","WARD IN THE COMMUNITY","RV5"]
[null,null,null,null,null,null,null,null,null,null,null,null,null,null,null,null,null,null,null,null,null,null,null,null,null,null,null,null,null,null,null,null,null,null,null,null,null,null,null,null,null,null,null,null,null,null,null,null,null,null,null,null,null,null,null,"RV9AVONDALE IN-PATIENT 101740","RV9AH","AVONDALE IN-PATIENT 101740","RV9AH","AVONDALE IN-PATIENT 101740","RV9"]
[null,null,null,null,null,null,null,null,null,null,null,null,null,null,null,null,null,null,null,null,null,null,null,null,null,null,null,null,null,null,null,null,null,null,null,null,null,null,null,null,null,null,null,null,null,null,null,null,null,null,null,null,null,null,null,"RV9CHEST MEDICINE (HFT)","RV9JM","CHEST MEDICINE (HFT)","RV9JM","CHEST MEDICINE (HFT)","RV9"]
[null,null,null,null,null,null,null,null,null,null,null,null,null,null,null,null,null,null,null,null,null,null,null,null,null,null,null,null,null,null,null,null,null,null,null,null,null,null,null,null,null,null,null,null,null,null,null,null,null,null,null,null,null,null,null,"RV9ERYPSM","RV9D4","ERYPSM","RV9D4","ERYPSM","RV9"]
[null,null,null,null,null,null,null,null,null,null,null,null,null,null,null,null,null,null,null,null,null,null,null,null,null,null,null,null,null,null,null,null,null,null,null,null,null,null,null,null,null,null,null,null,null,null,null,null,null,null,null,null,null,null,null,"RV9HAWTHORNE CT IN-PATIENT 101720","RV9AG","HAWTHORNE CT IN-PATIENT 101720","RV9AG","HAWTHORNE CT IN-PATIENT 101720","RV9"]
[null,null,null,null,null,null,null,null,null,null,null,null,null,null,null,null,null,null,null,null,null,null,null,null,null,null,null,null,null,null,null,null,null,null,null,null,null,null,null,null,null,null,null,null,null,null,null,null,null,null,null,null,null,null,null,"RV9MEMORY SERV - YOUNG PEOP 101763","RV9AT","MEMORY SERV - YOUNG PEOP 101763","RV9AT","MEMORY SERV - YOUNG PEOP 101763","RV9"]
[null,null,null,null,null,null,null,null,null,null,null,null,null,null,null,null,null,null,null,null,null,null,null,null,null,null,null,null,null,null,null,null,null,null,null,null,null,null,null,null,null,null,null,null,null,null,null,null,null,null,null,null,null,null,null,"RV9NEW BRIDGES","RV934","NEW BRIDGES","RV934","NEW BRIDGES","RV9"]
[null,null,null,null,null,null,null,null,null,null,null,null,null,null,null,null,null,null,null,null,null,null,null,null,null,null,null,null,null,null,null,null,null,null,null,null,null,null,null,null,null,null,null,null,null,null,null,null,null,null,null,null,null,null,null,"RV9RST ER EAST - BRID","RV9JA","RST ER EAST - BRID","RV9JA","RST ER EAST - BRID","RV9"]
[null,null,null,null,null,null,null,null,null,null,null,null,null,null,null,null,null,null,null,null,null,null,null,null,null,null,null,null,null,null,null,null,null,null,null,null,null,null,null,null,null,null,null,null,null,null,null,null,null,null,null,null,null,null,null,"RV9SOUTHCOATES ANNEX","RV985","SOUTHCOATES ANNEX","RV985","SOUTHCOATES ANNEX","RV9"]
[null,null,null,null,null,null,null,null,null,null,null,null,null,null,null,null,null,null,null,null,null,null,null,null,null,null,null,null,null,null,null,null,null,null,null,null,null,null,null,null,null,null,null,null,null,null,null,null,null,null,null,null,null,null,null,"RV9UROLOGY (SNEY)","RV9JY","UROLOGY (SNEY)","RV9JY","UROLOGY (SNEY)","RV9"]
[null,null,null,null,null,null,null,null,null,null,null,null,null,null,null,null,null,null,null,null,null,null,null,null,null,null,null,null,null,null,null,null,null,null,null,null,null,null,null,null,null,null,null,null,null,null,null,null,null,null,null,null,null,null,null,"RV9WILLOW GARTH RESIDENTIAL HOME","RV953","WILLOW GARTH RESIDENTIAL HOME","RV953","WILLOW GARTH RESIDENTIAL HOME","RV9"]
[null,null,null,null,null,null,null,null,null,null,null,null,null,null,null,null,null,null,null,null,null,null,null,null,null,null,null,null,null,null,null,null,null,null,null,null,null,null,null,null,null,null,null,null,null,null,null,null,null,null,null,null,null,null,null,"RVJGLENSIDE HOSPITAL","RVJ60","GLENSIDE HOSPITAL","RVJ60","GLENSIDE HOSPITAL","RVJ"]
[null,null,null,null,null,null,null,null,null,null,null,null,null,null,null,null,null,null,null,null,null,null,null,null,null,null,null,null,null,null,null,null,null,null,null,null,null,null,null,null,null,null,null,null,null,null,null,null,null,null,null,null,null,null,null,"RVJWESTON GENERAL HOSPITAL","RVJJ8","WESTON GENERAL HOSPITAL","RVJJ8","WESTON GENERAL HOSPITAL","RVJ"]
[null,null,null,null,null,null,null,null,null,null,null,null,null,null,null,null,null,null,null,null,null,null,null,null,null,null,null,null,null,null,null,null,null,null,null,null,null,null,null,null,null,null,null,null,null,null,null,null,null,null,null,null,null,null,null,"RVNBROOKLAND HALL","RVN3H","BROOKLAND HALL","RVN3H","BROOKLAND HALL","RVN"]
[null,null,null,null,null,null,null,null,null,null,null,null,null,null,null,null,null,null,null,null,null,null,null,null,null,null,null,null,null,null,null,null,null,null,null,null,null,null,null,null,null,null,null,null,null,null,null,null,null,null,null,null,null,null,null,"RVNCITY HALL","RVNHE","CITY HALL","RVNHE","CITY HALL","RVN"]
[null,null,null,null,null,null,null,null,null,null,null,null,null,null,null,null,null,null,null,null,null,null,null,null,null,null,null,null,null,null,null,null,null,null,null,null,null,null,null,null,null,null,null,null,null,null,null,null,null,null,null,null,null,null,null,"RVNNORTH SOMERSET EIS","RVNTH","NORTH SOMERSET EIS","RVNTH","NORTH SOMERSET EIS","RVN"]
[null,null,null,null,null,null,null,null,null,null,null,null,null,null,null,null,null,null,null,null,null,null,null,null,null,null,null,null,null,null,null,null,null,null,null,null,null,null,null,null,null,null,null,null,null,null,null,null,null,null,null,null,null,null,null,"RVNNORTH WILTS SDAS","RVNX8","NORTH WILTS SDAS","RVNX8","NORTH WILTS SDAS","RVN"]
[null,null,null,null,null,null,null,null,null,null,null,null,null,null,null,null,null,null,null,null,null,null,null,null,null,null,null,null,null,null,null,null,null,null,null,null,null,null,null,null,null,null,null,null,null,null,null,null,null,null,null,null,null,null,null,"RVNSWINDON PSYCHOTHERAPY","RVNR2","SWINDON PSYCHOTHERAPY","RVNR2","SWINDON PSYCHOTHERAPY","RVN"]
[null,null,null,null,null,null,null,null,null,null,null,null,null,null,null,null,null,null,null,null,null,null,null,null,null,null,null,null,null,null,null,null,null,null,null,null,null,null,null,null,null,null,null,null,null,null,null,null,null,null,null,null,null,null,null,"RVNTHE ELMS","RVN5A","THE ELMS","RVN5A","THE ELMS","RVN"]
[null,null,null,null,null,null,null,null,null,null,null,null,null,null,null,null,null,null,null,null,null,null,null,null,null,null,null,null,null,null,null,null,null,null,null,null,null,null,null,null,null,null,null,null,null,null,null,null,null,null,null,null,null,null,null,"RVRLEATHERHEAD HOSPITAL","RVR90","LEATHERHEAD HOSPITAL","RVR90","LEATHERHEAD HOSPITAL","RVR"]
[null,null,null,null,null,null,null,null,null,null,null,null,null,null,null,null,null,null,null,null,null,null,null,null,null,null,null,null,null,null,null,null,null,null,null,null,null,null,null,null,null,null,null,null,null,null,null,null,null,null,null,null,null,null,null,"RVRTHE NEW EPSOM AND EWELL COTTAGE HOSPITAL","RVR60","THE NEW EPSOM AND EWELL COTTAGE HOSPITAL","RVR60","THE NEW EPSOM AND EWELL COTTAGE HOSPITAL","RVR"]
[null,null,null,null,null,null,null,null,null,null,null,null,null,null,null,null,null,null,null,null,null,null,null,null,null,null,null,null,null,null,null,null,null,null,null,null,null,null,null,null,null,null,null,null,null,null,null,null,null,null,null,null,null,null,null,"RVVSAINSBURY STORE","RVV99","SAINSBURY STORE","RVV99","SAINSBURY STORE","RVV"]
[null,null,null,null,null,null,null,null,null,null,null,null,null,null,null,null,null,null,null,null,null,null,null,null,null,null,null,null,null,null,null,null,null,null,null,null,null,null,null,null,null,null,null,null,null,null,null,null,null,null,null,null,null,null,null,"RVVVICTORIA HOSPITAL (DEAL)","RVV05","VICTORIA HOSPITAL (DEAL)","RVV05","VICTORIA HOSPITAL (DEAL)","RVV"]
[null,null,null,null,null,null,null,null,null,null,null,null,null,null,null,null,null,null,null,null,null,null,null,null,null,null,null,null,null,null,null,null,null,null,null,null,null,null,null,null,null,null,null,null,null,null,null,null,null,null,null,null,null,null,null,"RW1ANDLERS ASH","RW1K8","ANDLERS ASH","RW1K8","ANDLERS ASH","RW1"]
[null,null,null,null,null,null,null,null,null,null,null,null,null,null,null,null,null,null,null,null,null,null,null,null,null,null,null,null,null,null,null,null,null,null,null,null,null,null,null,null,null,null,null,null,null,null,null,null,null,null,null,null,null,null,null,"RW1ASHURST RAVENSWOOD","RW1C1","ASHURST RAVENSWOOD","RW1C1","ASHURST RAVENSWOOD","RW1"]
[null,null,null,null,null,null,null,null,null,null,null,null,null,null,null,null,null,null,null,null,null,null,null,null,null,null,null,null,null,null,null,null,null,null,null,null,null,null,null,null,null,null,null,null,null,null,null,null,null,null,null,null,null,null,null,"RW1COPPER BEECHES (ANDOVER)","RW171","COPPER BEECHES (ANDOVER)","RW171","COPPER BEECHES (ANDOVER)","RW1"]
[null,null,null,null,null,null,null,null,null,null,null,null,null,null,null,null,null,null,null,null,null,null,null,null,null,null,null,null,null,null,null,null,null,null,null,null,null,null,null,null,null,null,null,null,null,null,null,null,null,null,null,null,null,null,null,"RW1CRHT NEW FOREST","RW1CV","CRHT NEW FOREST","RW1CV","CRHT NEW FOREST","RW1"]
[null,null,null,null,null,null,null,null,null,null,null,null,null,null,null,null,null,null,null,null,null,null,null,null,null,null,null,null,null,null,null,null,null,null,null,null,null,null,null,null,null,null,null,null,null,null,null,null,null,null,null,null,null,null,null,"RW1FAREHAM & GOSPORT","RW1XX","FAREHAM & GOSPORT","RW1XX","FAREHAM & GOSPORT","RW1"]
[null,null,null,null,null,null,null,null,null,null,null,null,null,null,null,null,null,null,null,null,null,null,null,null,null,null,null,null,null,null,null,null,null,null,null,null,null,null,null,null,null,null,null,null,null,null,null,null,null,null,null,null,null,null,null,"RW1FLEET COMMUNITY HOSPITAL","RW11J","FLEET COMMUNITY HOSPITAL","RW11J","FLEET COMMUNITY HOSPITAL","RW1"]
[null,null,null,null,null,null,null,null,null,null,null,null,null,null,null,null,null,null,null,null,null,null,null,null,null,null,null,null,null,null,null,null,null,null,null,null,null,null,null,null,null,null,null,null,null,null,null,null,null,null,null,null,null,null,null,"RW1HAVANT & PETERSFIELD","RW1XW","HAVANT & PETERSFIELD","RW1XW","HAVANT & PETERSFIELD","RW1"]
[null,null,null,null,null,null,null,null,null,null,null,null,null,null,null,null,null,null,null,null,null,null,null,null,null,null,null,null,null,null,null,null,null,null,null,null,null,null,null,null,null,null,null,null,null,null,null,null,null,null,null,null,null,null,null,"RW1HAVANT OPMH","RW1WP","HAVANT OPMH","RW1WP","HAVANT OPMH","RW1"]
[null,null,null,null,null,null,null,null,null,null,null,null,null,null,null,null,null,null,null,null,null,null,null,null,null,null,null,null,null,null,null,null,null,null,null,null,null,null,null,null,null,null,null,null,null,null,null,null,null,null,null,null,null,null,null,"RW1LEONARD CHESHIRE","RW104","LEONARD CHESHIRE","RW104","LEONARD CHESHIRE","RW1"]
[null,null,null,null,null,null,null,null,null,null,null,null,null,null,null,null,null,null,null,null,null,null,null,null,null,null,null,null,null,null,null,null,null,null,null,null,null,null,null,null,null,null,null,null,null,null,null,null,null,null,null,null,null,null,null,"RW1LYNDHURST RAVENSWOOD","RW1XN","LYNDHURST RAVENSWOOD","RW1XN","LYNDHURST RAVENSWOOD","RW1"]
[null,null,null,null,null,null,null,null,null,null,null,null,null,null,null,null,null,null,null,null,null,null,null,null,null,null,null,null,null,null,null,null,null,null,null,null,null,null,null,null,null,null,null,null,null,null,null,null,null,null,null,null,null,null,null,"RW1NEW FOREST CLDT","RW1C7","NEW FOREST CLDT","RW1C7","NEW FOREST CLDT","RW1"]
[null,null,null,null,null,null,null,null,null,null,null,null,null,null,null,null,null,null,null,null,null,null,null,null,null,null,null,null,null,null,null,null,null,null,null,null,null,null,null,null,null,null,null,null,null,null,null,null,null,null,null,null,null,null,null,"RW1OAKRIDGE HALL FOR ALL","RW1FT","OAKRIDGE HALL FOR ALL","RW1FT","OAKRIDGE HALL FOR ALL","RW1"]
[null,null,null,null,null,null,null,null,null,null,null,null,null,null,null,null,null,null,null,null,null,null,null,null,null,null,null,null,null,null,null,null,null,null,null,null,null,null,null,null,null,null,null,null,null,null,null,null,null,null,null,null,null,null,null,"RW1PINEWOOD","RW1FE","PINEWOOD","RW1FE","PINEWOOD","RW1"]
[null,null,null,null,null,null,null,null,null,null,null,null,null,null,null,null,null,null,null,null,null,null,null,null,null,null,null,null,null,null,null,null,null,null,null,null,null,null,null,null,null,null,null,null,null,null,null,null,null,null,null,null,null,null,null,"RW1RAPID ASSESSMENT UNIT","RW15E","RAPID ASSESSMENT UNIT","RW15E","RAPID ASSESSMENT UNIT","RW1"]
[null,null,null,null,null,null,null,null,null,null,null,null,null,null,null,null,null,null,null,null,null,null,null,null,null,null,null,null,null,null,null,null,null,null,null,null,null,null,null,null,null,null,null,null,null,null,null,null,null,null,null,null,null,null,null,"RW1S WILTS","RW1JD","S WILTS","RW1JD","S WILTS","RW1"]
[null,null,null,null,null,null,null,null,null,null,null,null,null,null,null,null,null,null,null,null,null,null,null,null,null,null,null,null,null,null,null,null,null,null,null,null,null,null,null,null,null,null,null,null,null,null,null,null,null,null,null,null,null,null,null,"RW1SOTON CITY CLDT","RW1WJ","SOTON CITY CLDT","RW1WJ","SOTON CITY CLDT","RW1"]
[null,null,null,null,null,null,null,null,null,null,null,null,null,null,null,null,null,null,null,null,null,null,null,null,null,null,null,null,null,null,null,null,null,null,null,null,null,null,null,null,null,null,null,null,null,null,null,null,null,null,null,null,null,null,null,"RW1THE GRANGE","RW1T8","THE GRANGE","RW1T8","THE GRANGE","RW1"]
[null,null,null,null,null,null,null,null,null,null,null,null,null,null,null,null,null,null,null,null,null,null,null,null,null,null,null,null,null,null,null,null,null,null,null,null,null,null,null,null,null,null,null,null,null,null,null,null,null,null,null,null,null,null,null,"RW1THE POTTERIES","RW164","THE POTTERIES","RW164","THE POTTERIES","RW1"]
[null,null,null,null,null,null,null,null,null,null,null,null,null,null,null,null,null,null,null,null,null,null,null,null,null,null,null,null,null,null,null,null,null,null,null,null,null,null,null,null,null,null,null,null,null,null,null,null,null,null,null,null,null,null,null,"RW1WILLIAM KIMBER CRESCENT","RW13M","WILLIAM KIMBER CRESCENT","RW13M","WILLIAM KIMBER CRESCENT","RW1"]
[null,null,null,null,null,null,null,null,null,null,null,null,null,null,null,null,null,null,null,null,null,null,null,null,null,null,null,null,null,null,null,null,null,null,null,null,null,null,null,null,null,null,null,null,null,null,null,null,null,null,null,null,null,null,null,{"$f":"CONCATENATE(LEFT(BE2982, 3),BF2982)","v":"RW4AINTREE EMI"},"RW406","AINTREE EMI","RW406","AINTREE EMI",{"$f":"LEFT(BG2982,3)","v":"RW4"}]
[null,null,null,null,null,null,null,null,null,null,null,null,null,null,null,null,null,null,null,null,null,null,null,null,null,null,null,null,null,null,null,null,null,null,null,null,null,null,null,null,null,null,null,null,null,null,null,null,null,null,null,null,null,null,null,"RW4ELM WARD - MERSEY CARE AT AINTREE UNIVERSITY HOSPITAL SITE","RW423","ELM WARD - MERSEY CARE AT AINTREE UNIVERSITY HOSPITAL SITE","RW423","ELM WARD - MERSEY CARE AT AINTREE UNIVERSITY HOSPITAL SITE","RW4"]
[null,null,null,null,null,null,null,null,null,null,null,null,null,null,null,null,null,null,null,null,null,null,null,null,null,null,null,null,null,null,null,null,null,null,null,null,null,null,null,null,null,null,null,null,null,null,null,null,null,null,null,null,null,null,null,"RW4KEVIN WHITE UNIT","RW446","KEVIN WHITE UNIT","RW446","KEVIN WHITE UNIT","RW4"]
[null,null,null,null,null,null,null,null,null,null,null,null,null,null,null,null,null,null,null,null,null,null,null,null,null,null,null,null,null,null,null,null,null,null,null,null,null,null,null,null,null,null,null,null,null,null,null,null,null,null,null,null,null,null,null,"RW4POST GRADUATE BUILDING","RW442","POST GRADUATE BUILDING","RW442","POST GRADUATE BUILDING","RW4"]
[null,null,null,null,null,null,null,null,null,null,null,null,null,null,null,null,null,null,null,null,null,null,null,null,null,null,null,null,null,null,null,null,null,null,null,null,null,null,null,null,null,null,null,null,null,null,null,null,null,null,null,null,null,null,null,"RW4SEFTON HEALTH RESOURCE PARK","RW486","SEFTON HEALTH RESOURCE PARK","RW486","SEFTON HEALTH RESOURCE PARK","RW4"]
[null,null,null,null,null,null,null,null,null,null,null,null,null,null,null,null,null,null,null,null,null,null,null,null,null,null,null,null,null,null,null,null,null,null,null,null,null,null,null,null,null,null,null,null,null,null,null,null,null,null,null,null,null,null,null,"RW5ALBERT VIEW","RW5MG","ALBERT VIEW","RW5MG","ALBERT VIEW","RW5"]
[null,null,null,null,null,null,null,null,null,null,null,null,null,null,null,null,null,null,null,null,null,null,null,null,null,null,null,null,null,null,null,null,null,null,null,null,null,null,null,null,null,null,null,null,null,null,null,null,null,null,null,null,null,null,null,"RW5AVONDALE UNIT","RW5EA","AVONDALE UNIT","RW5EA","AVONDALE UNIT","RW5"]
[null,null,null,null,null,null,null,null,null,null,null,null,null,null,null,null,null,null,null,null,null,null,null,null,null,null,null,null,null,null,null,null,null,null,null,null,null,null,null,null,null,null,null,null,null,null,null,null,null,null,null,null,null,null,null,"RW5DOB BRIDGE COTTAGE","RW5FC","DOB BRIDGE COTTAGE","RW5FC","DOB BRIDGE COTTAGE","RW5"]
[null,null,null,null,null,null,null,null,null,null,null,null,null,null,null,null,null,null,null,null,null,null,null,null,null,null,null,null,null,null,null,null,null,null,null,null,null,null,null,null,null,null,null,null,null,null,null,null,null,null,null,null,null,null,null,"RW5EAST LANCS SPOA","RW5TA","EAST LANCS SPOA","RW5TA","EAST LANCS SPOA","RW5"]
[null,null,null,null,null,null,null,null,null,null,null,null,null,null,null,null,null,null,null,null,null,null,null,null,null,null,null,null,null,null,null,null,null,null,null,null,null,null,null,null,null,null,null,null,null,null,null,null,null,null,null,null,null,null,null,"RW5NORTH BARN","RW5LW","NORTH BARN","RW5LW","NORTH BARN","RW5"]
[null,null,null,null,null,null,null,null,null,null,null,null,null,null,null,null,null,null,null,null,null,null,null,null,null,null,null,null,null,null,null,null,null,null,null,null,null,null,null,null,null,null,null,null,null,null,null,null,null,null,null,null,null,null,null,"RW5PRESTON PRISON","RW5Z1","PRESTON PRISON","RW5Z1","PRESTON PRISON","RW5"]
[null,null,null,null,null,null,null,null,null,null,null,null,null,null,null,null,null,null,null,null,null,null,null,null,null,null,null,null,null,null,null,null,null,null,null,null,null,null,null,null,null,null,null,null,null,null,null,null,null,null,null,null,null,null,null,"RW5THE BRIDGE","RW5JL","THE BRIDGE","RW5JL","THE BRIDGE","RW5"]
[null,null,null,null,null,null,null,null,null,null,null,null,null,null,null,null,null,null,null,null,null,null,null,null,null,null,null,null,null,null,null,null,null,null,null,null,null,null,null,null,null,null,null,null,null,null,null,null,null,null,null,null,null,null,null,"RW5THORNLEIGH","RW5AR","THORNLEIGH","RW5AR","THORNLEIGH","RW5"]
[null,null,null,null,null,null,null,null,null,null,null,null,null,null,null,null,null,null,null,null,null,null,null,null,null,null,null,null,null,null,null,null,null,null,null,null,null,null,null,null,null,null,null,null,null,null,null,null,null,null,null,null,null,null,null,"RW6ROYAL OLDHAM HOSPITAL","RW603","ROYAL OLDHAM HOSPITAL","RW603","ROYAL OLDHAM HOSPITAL","RW6"]
[null,null,null,null,null,null,null,null,null,null,null,null,null,null,null,null,null,null,null,null,null,null,null,null,null,null,null,null,null,null,null,null,null,null,null,null,null,null,null,null,null,null,null,null,null,null,null,null,null,null,null,null,null,null,null,"RWAHULL ROYAL INFIRMARY","RWA01","HULL ROYAL INFIRMARY","RWA01","HULL ROYAL INFIRMARY","RWA"]
[null,null,null,null,null,null,null,null,null,null,null,null,null,null,null,null,null,null,null,null,null,null,null,null,null,null,null,null,null,null,null,null,null,null,null,null,null,null,null,null,null,null,null,null,null,null,null,null,null,null,null,null,null,null,null,"RWDTHE JOHNSON COMMUNITY HOSPITAL","RWDXT","THE JOHNSON COMMUNITY HOSPITAL","RWDXT","THE JOHNSON COMMUNITY HOSPITAL","RWD"]
[null,null,null,null,null,null,null,null,null,null,null,null,null,null,null,null,null,null,null,null,null,null,null,null,null,null,null,null,null,null,null,null,null,null,null,null,null,null,null,null,null,null,null,null,null,null,null,null,null,null,null,null,null,null,null,"RWFBUCKLAND HOSPITAL","RWF23","BUCKLAND HOSPITAL","RWF23","BUCKLAND HOSPITAL","RWF"]
[null,null,null,null,null,null,null,null,null,null,null,null,null,null,null,null,null,null,null,null,null,null,null,null,null,null,null,null,null,null,null,null,null,null,null,null,null,null,null,null,null,null,null,null,null,null,null,null,null,null,null,null,null,null,null,"RWFMAIDSTONE DISTRICT GENERAL HOSPITAL","RWF03","MAIDSTONE DISTRICT GENERAL HOSPITAL","RWF03","MAIDSTONE DISTRICT GENERAL HOSPITAL","RWF"]
[null,null,null,null,null,null,null,null,null,null,null,null,null,null,null,null,null,null,null,null,null,null,null,null,null,null,null,null,null,null,null,null,null,null,null,null,null,null,null,null,null,null,null,null,null,null,null,null,null,null,null,null,null,null,null,"RWFTHE TUNBRIDGE WELLS HOSPITAL","RWFTW","THE TUNBRIDGE WELLS HOSPITAL","RWFTW","THE TUNBRIDGE WELLS HOSPITAL","RWF"]
[null,null,null,null,null,null,null,null,null,null,null,null,null,null,null,null,null,null,null,null,null,null,null,null,null,null,null,null,null,null,null,null,null,null,null,null,null,null,null,null,null,null,null,null,null,null,null,null,null,null,null,null,null,null,null,"RWHHERTFORD COUNTY HOSPITAL","RWH23","HERTFORD COUNTY HOSPITAL","RWH23","HERTFORD COUNTY HOSPITAL","RWH"]
[null,null,null,null,null,null,null,null,null,null,null,null,null,null,null,null,null,null,null,null,null,null,null,null,null,null,null,null,null,null,null,null,null,null,null,null,null,null,null,null,null,null,null,null,null,null,null,null,null,null,null,null,null,null,null,"RWJSHIRE HILL HOSPITAL","RWJ97 ","SHIRE HILL HOSPITAL","RWJ97","SHIRE HILL HOSPITAL","RWJ"]
[null,null,null,null,null,null,null,null,null,null,null,null,null,null,null,null,null,null,null,null,null,null,null,null,null,null,null,null,null,null,null,null,null,null,null,null,null,null,null,null,null,null,null,null,null,null,null,null,null,null,null,null,null,null,null,"RWKCHARTER HOUSE","RWK2T","CHARTER HOUSE","RWK2T","CHARTER HOUSE","RWK"]
[null,null,null,null,null,null,null,null,null,null,null,null,null,null,null,null,null,null,null,null,null,null,null,null,null,null,null,null,null,null,null,null,null,null,null,null,null,null,null,null,null,null,null,null,null,null,null,null,null,null,null,null,null,null,null,"RWKEAST HAM CARE CENTRE","RWK89","EAST HAM CARE CENTRE","RWK89","EAST HAM CARE CENTRE","RWK"]
[null,null,null,null,null,null,null,null,null,null,null,null,null,null,null,null,null,null,null,null,null,null,null,null,null,null,null,null,null,null,null,null,null,null,null,null,null,null,null,null,null,null,null,null,null,null,null,null,null,null,null,null,null,null,null,"RWKTHE COPPICE","RWK2G","THE COPPICE","RWK2G","THE COPPICE","RWK"]
[null,null,null,null,null,null,null,null,null,null,null,null,null,null,null,null,null,null,null,null,null,null,null,null,null,null,null,null,null,null,null,null,null,null,null,null,null,null,null,null,null,null,null,null,null,null,null,null,null,null,null,null,null,null,null,"RWKTHE WILLOWS","RWK2Q","THE WILLOWS","RWK2Q","THE WILLOWS","RWK"]
[null,null,null,null,null,null,null,null,null,null,null,null,null,null,null,null,null,null,null,null,null,null,null,null,null,null,null,null,null,null,null,null,null,null,null,null,null,null,null,null,null,null,null,null,null,null,null,null,null,null,null,null,null,null,null,"RWNARCHER UNIT","RWN92","ARCHER UNIT","RWN92","ARCHER UNIT","RWN"]
[null,null,null,null,null,null,null,null,null,null,null,null,null,null,null,null,null,null,null,null,null,null,null,null,null,null,null,null,null,null,null,null,null,null,null,null,null,null,null,null,null,null,null,null,null,null,null,null,null,null,null,null,null,null,null,"RWNDRR BEDFORD","RWN09","DRR BEDFORD","RWN09","DRR BEDFORD","RWN"]
[null,null,null,null,null,null,null,null,null,null,null,null,null,null,null,null,null,null,null,null,null,null,null,null,null,null,null,null,null,null,null,null,null,null,null,null,null,null,null,null,null,null,null,null,null,null,null,null,null,null,null,null,null,null,null,"RWNLITTLE ACORNS","RWND7","LITTLE ACORNS","RWND7","LITTLE ACORNS","RWN"]
[null,null,null,null,null,null,null,null,null,null,null,null,null,null,null,null,null,null,null,null,null,null,null,null,null,null,null,null,null,null,null,null,null,null,null,null,null,null,null,null,null,null,null,null,null,null,null,null,null,null,null,null,null,null,null,"RWNLUTON INTERMEDIATE ASSESSMENT UNIT","RWNL2","LUTON INTERMEDIATE ASSESSMENT UNIT","RWNL2","LUTON INTERMEDIATE ASSESSMENT UNIT","RWN"]
[null,null,null,null,null,null,null,null,null,null,null,null,null,null,null,null,null,null,null,null,null,null,null,null,null,null,null,null,null,null,null,null,null,null,null,null,null,null,null,null,null,null,null,null,null,null,null,null,null,null,null,null,null,null,null,"RWNROBIN PINTO UNIT","RWNN2","ROBIN PINTO UNIT","RWNN2","ROBIN PINTO UNIT","RWN"]
[null,null,null,null,null,null,null,null,null,null,null,null,null,null,null,null,null,null,null,null,null,null,null,null,null,null,null,null,null,null,null,null,null,null,null,null,null,null,null,null,null,null,null,null,null,null,null,null,null,null,null,null,null,null,null,"RWNSAFFRON WALDEN COMMUNITY HOSPITAL","RWNTH","SAFFRON WALDEN COMMUNITY HOSPITAL","RWNTH","SAFFRON WALDEN COMMUNITY HOSPITAL","RWN"]
[null,null,null,null,null,null,null,null,null,null,null,null,null,null,null,null,null,null,null,null,null,null,null,null,null,null,null,null,null,null,null,null,null,null,null,null,null,null,null,null,null,null,null,null,null,null,null,null,null,null,null,null,null,null,null,"RWR(SOVEREIGN HOUSE) HILL END LANE (SITE 3)","RWR08","(SOVEREIGN HOUSE) HILL END LANE (SITE 3)","RWR08","(SOVEREIGN HOUSE) HILL END LANE (SITE 3)","RWR"]
[null,null,null,null,null,null,null,null,null,null,null,null,null,null,null,null,null,null,null,null,null,null,null,null,null,null,null,null,null,null,null,null,null,null,null,null,null,null,null,null,null,null,null,null,null,null,null,null,null,null,null,null,null,null,null,"RWRADTU EAST AND NORTH","RWRPF","ADTU EAST AND NORTH","RWRPF","ADTU EAST AND NORTH","RWR"]
[null,null,null,null,null,null,null,null,null,null,null,null,null,null,null,null,null,null,null,null,null,null,null,null,null,null,null,null,null,null,null,null,null,null,null,null,null,null,null,null,null,null,null,null,null,null,null,null,null,null,null,null,null,null,null,"RWRCOMMUNITY SUPPORT UNIT (WATFORD)","RWR19","COMMUNITY SUPPORT UNIT (WATFORD)","RWR19","COMMUNITY SUPPORT UNIT (WATFORD)","RWR"]
[null,null,null,null,null,null,null,null,null,null,null,null,null,null,null,null,null,null,null,null,null,null,null,null,null,null,null,null,null,null,null,null,null,null,null,null,null,null,null,null,null,null,null,null,null,null,null,null,null,null,null,null,null,null,null,"RWRLISTER ADULT WILBURY WARD MHU","RWRA4","LISTER ADULT WILBURY WARD MHU","RWRA4","LISTER ADULT WILBURY WARD MHU","RWR"]
[null,null,null,null,null,null,null,null,null,null,null,null,null,null,null,null,null,null,null,null,null,null,null,null,null,null,null,null,null,null,null,null,null,null,null,null,null,null,null,null,null,null,null,null,null,null,null,null,null,null,null,null,null,null,null,"RWRPROSPECT HOUSE","RWR45","PROSPECT HOUSE","RWR45","PROSPECT HOUSE","RWR"]
[null,null,null,null,null,null,null,null,null,null,null,null,null,null,null,null,null,null,null,null,null,null,null,null,null,null,null,null,null,null,null,null,null,null,null,null,null,null,null,null,null,null,null,null,null,null,null,null,null,null,null,null,null,null,null,"RWRSAFFRON GROUND","RWRG8","SAFFRON GROUND","RWRG8","SAFFRON GROUND","RWR"]
[null,null,null,null,null,null,null,null,null,null,null,null,null,null,null,null,null,null,null,null,null,null,null,null,null,null,null,null,null,null,null,null,null,null,null,null,null,null,null,null,null,null,null,null,null,null,null,null,null,null,null,null,null,null,null,"RWRST PAULS (HEMEL HEMPSTEAD)","RWR58","ST PAULS (HEMEL HEMPSTEAD)","RWR58","ST PAULS (HEMEL HEMPSTEAD)","RWR"]
[null,null,null,null,null,null,null,null,null,null,null,null,null,null,null,null,null,null,null,null,null,null,null,null,null,null,null,null,null,null,null,null,null,null,null,null,null,null,null,null,null,null,null,null,null,null,null,null,null,null,null,null,null,null,null,"RWRTHE STEWARTS","RWR62","THE STEWARTS","RWR62","THE STEWARTS","RWR"]
[null,null,null,null,null,null,null,null,null,null,null,null,null,null,null,null,null,null,null,null,null,null,null,null,null,null,null,null,null,null,null,null,null,null,null,null,null,null,null,null,null,null,null,null,null,null,null,null,null,null,null,null,null,null,null,"RWVDEVON DRUG SERV (EEM P/C)","RWVC1","DEVON DRUG SERV (EEM P/C)","RWVC1","DEVON DRUG SERV (EEM P/C)","RWV"]
[null,null,null,null,null,null,null,null,null,null,null,null,null,null,null,null,null,null,null,null,null,null,null,null,null,null,null,null,null,null,null,null,null,null,null,null,null,null,null,null,null,null,null,null,null,null,null,null,null,null,null,null,null,null,null,"RWVDEVON DRUG SERV (S&W) NMP","RWVN3","DEVON DRUG SERV (S&W) NMP","RWVN3","DEVON DRUG SERV (S&W) NMP","RWV"]
[null,null,null,null,null,null,null,null,null,null,null,null,null,null,null,null,null,null,null,null,null,null,null,null,null,null,null,null,null,null,null,null,null,null,null,null,null,null,null,null,null,null,null,null,null,null,null,null,null,null,null,null,null,null,null,"RWVEXETER (HEALTH)","RWV86","EXETER (HEALTH)","RWV86","EXETER (HEALTH)","RWV"]
[null,null,null,null,null,null,null,null,null,null,null,null,null,null,null,null,null,null,null,null,null,null,null,null,null,null,null,null,null,null,null,null,null,null,null,null,null,null,null,null,null,null,null,null,null,null,null,null,null,null,null,null,null,null,null,"RWVLEANDER UNIT","RWV70","LEANDER UNIT","RWV70","LEANDER UNIT","RWV"]
[null,null,null,null,null,null,null,null,null,null,null,null,null,null,null,null,null,null,null,null,null,null,null,null,null,null,null,null,null,null,null,null,null,null,null,null,null,null,null,null,null,null,null,null,null,null,null,null,null,null,null,null,null,null,null,"RWVOPMH NORTH - TORRIDGESIDE","RWVDQ","OPMH NORTH - TORRIDGESIDE","RWVDQ","OPMH NORTH - TORRIDGESIDE","RWV"]
[null,null,null,null,null,null,null,null,null,null,null,null,null,null,null,null,null,null,null,null,null,null,null,null,null,null,null,null,null,null,null,null,null,null,null,null,null,null,null,null,null,null,null,null,null,null,null,null,null,null,null,null,null,null,null,"RWVRIL & MWA TIVERTON","RWVDC","RIL & MWA TIVERTON","RWVDC","RIL & MWA TIVERTON","RWV"]
[null,null,null,null,null,null,null,null,null,null,null,null,null,null,null,null,null,null,null,null,null,null,null,null,null,null,null,null,null,null,null,null,null,null,null,null,null,null,null,null,null,null,null,null,null,null,null,null,null,null,null,null,null,null,null,"RWVTHE QUAY","RWV83","THE QUAY","RWV83","THE QUAY","RWV"]
[null,null,null,null,null,null,null,null,null,null,null,null,null,null,null,null,null,null,null,null,null,null,null,null,null,null,null,null,null,null,null,null,null,null,null,null,null,null,null,null,null,null,null,null,null,null,null,null,null,null,null,null,null,null,null,"RWVWILTSHIRE ADPR","RWV60","WILTSHIRE ADPR","RWV60","WILTSHIRE ADPR","RWV"]
[null,null,null,null,null,null,null,null,null,null,null,null,null,null,null,null,null,null,null,null,null,null,null,null,null,null,null,null,null,null,null,null,null,null,null,null,null,null,null,null,null,null,null,null,null,null,null,null,null,null,null,null,null,null,null,"RWXCHURCHILL HOSPITAL OXFORD","RWXNV","CHURCHILL HOSPITAL OXFORD","RWXNV","CHURCHILL HOSPITAL OXFORD","RWX"]
[null,null,null,null,null,null,null,null,null,null,null,null,null,null,null,null,null,null,null,null,null,null,null,null,null,null,null,null,null,null,null,null,null,null,null,null,null,null,null,null,null,null,null,null,null,null,null,null,null,null,null,null,null,null,null,"RWXDAY HOSPITAL - P7D","RWX7D","DAY HOSPITAL - P7D","RWX7D","DAY HOSPITAL - P7D","RWX"]
[null,null,null,null,null,null,null,null,null,null,null,null,null,null,null,null,null,null,null,null,null,null,null,null,null,null,null,null,null,null,null,null,null,null,null,null,null,null,null,null,null,null,null,null,null,null,null,null,null,null,null,null,null,null,null,"RWXHENRY TUDOR - P6C","RWX6C","HENRY TUDOR - P6C","RWX6C","HENRY TUDOR - P6C","RWX"]
[null,null,null,null,null,null,null,null,null,null,null,null,null,null,null,null,null,null,null,null,null,null,null,null,null,null,null,null,null,null,null,null,null,null,null,null,null,null,null,null,null,null,null,null,null,null,null,null,null,null,null,null,null,null,null,"RWXRAPID ASSESSMENT - WAMP6D","RWX6D","RAPID ASSESSMENT - WAMP6D","RWX6D","RAPID ASSESSMENT - WAMP6D","RWX"]
[null,null,null,null,null,null,null,null,null,null,null,null,null,null,null,null,null,null,null,null,null,null,null,null,null,null,null,null,null,null,null,null,null,null,null,null,null,null,null,null,null,null,null,null,null,null,null,null,null,null,null,null,null,null,null,"RWXSWALLOWFIELD PARISH HALL","RWXKN","SWALLOWFIELD PARISH HALL","RWXKN","SWALLOWFIELD PARISH HALL","RWX"]
[null,null,null,null,null,null,null,null,null,null,null,null,null,null,null,null,null,null,null,null,null,null,null,null,null,null,null,null,null,null,null,null,null,null,null,null,null,null,null,null,null,null,null,null,null,null,null,null,null,null,null,null,null,null,null,"RWXTOWNLANDS HOSPITAL","RWXLF","TOWNLANDS HOSPITAL","RWXLF","TOWNLANDS HOSPITAL","RWX"]
[null,null,null,null,null,null,null,null,null,null,null,null,null,null,null,null,null,null,null,null,null,null,null,null,null,null,null,null,null,null,null,null,null,null,null,null,null,null,null,null,null,null,null,null,null,null,null,null,null,null,null,null,null,null,null,"RWYHUDDERSFIELD ROYAL INFIRMARY","RWY01","HUDDERSFIELD ROYAL INFIRMARY","RWY01","HUDDERSFIELD ROYAL INFIRMARY","RWY"]
[null,null,null,null,null,null,null,null,null,null,null,null,null,null,null,null,null,null,null,null,null,null,null,null,null,null,null,null,null,null,null,null,null,null,null,null,null,null,null,null,null,null,null,null,null,null,null,null,null,null,null,null,null,null,null,"RX2ALEXANDRA VILLAS SITE","RX218","ALEXANDRA VILLAS SITE","RX218","ALEXANDRA VILLAS SITE","RX2"]
[null,null,null,null,null,null,null,null,null,null,null,null,null,null,null,null,null,null,null,null,null,null,null,null,null,null,null,null,null,null,null,null,null,null,null,null,null,null,null,null,null,null,null,null,null,null,null,null,null,null,null,null,null,null,null,"RX2B & H ATS WEST (RG)","RX21Y","B & H ATS WEST (RG)","RX21Y","B & H ATS WEST (RG)","RX2"]
[null,null,null,null,null,null,null,null,null,null,null,null,null,null,null,null,null,null,null,null,null,null,null,null,null,null,null,null,null,null,null,null,null,null,null,null,null,null,null,null,null,null,null,null,null,null,null,null,null,null,null,null,null,null,null,"RX2BEECHMONT","RX2D6","BEECHMONT","RX2D6","BEECHMONT","RX2"]
[null,null,null,null,null,null,null,null,null,null,null,null,null,null,null,null,null,null,null,null,null,null,null,null,null,null,null,null,null,null,null,null,null,null,null,null,null,null,null,null,null,null,null,null,null,null,null,null,null,null,null,null,null,null,null,"RX2BRIGHTON SMS","RX21T","BRIGHTON SMS","RX21T","BRIGHTON SMS","RX2"]
[null,null,null,null,null,null,null,null,null,null,null,null,null,null,null,null,null,null,null,null,null,null,null,null,null,null,null,null,null,null,null,null,null,null,null,null,null,null,null,null,null,null,null,null,null,null,null,null,null,null,null,null,null,null,null,"RX2CHASE COMMUNITY HOSPITAL","RX2YV","CHASE COMMUNITY HOSPITAL","RX2YV","CHASE COMMUNITY HOSPITAL","RX2"]
[null,null,null,null,null,null,null,null,null,null,null,null,null,null,null,null,null,null,null,null,null,null,null,null,null,null,null,null,null,null,null,null,null,null,null,null,null,null,null,null,null,null,null,null,null,null,null,null,null,null,null,null,null,null,null,"RX2CONQUEST HOSPITAL","RX2M1","CONQUEST HOSPITAL","RX2M1","CONQUEST HOSPITAL","RX2"]
[null,null,null,null,null,null,null,null,null,null,null,null,null,null,null,null,null,null,null,null,null,null,null,null,null,null,null,null,null,null,null,null,null,null,null,null,null,null,null,null,null,null,null,null,null,null,null,null,null,null,null,null,null,null,null,"RX2DAISY DCS ENFIELD","RX2XN","DAISY DCS ENFIELD","RX2XN","DAISY DCS ENFIELD","RX2"]
[null,null,null,null,null,null,null,null,null,null,null,null,null,null,null,null,null,null,null,null,null,null,null,null,null,null,null,null,null,null,null,null,null,null,null,null,null,null,null,null,null,null,null,null,null,null,null,null,null,null,null,null,null,null,null,"RX2FORENSIC BRIGHTON AND HOVE","RX24R","FORENSIC BRIGHTON AND HOVE","RX24R","FORENSIC BRIGHTON AND HOVE","RX2"]
[null,null,null,null,null,null,null,null,null,null,null,null,null,null,null,null,null,null,null,null,null,null,null,null,null,null,null,null,null,null,null,null,null,null,null,null,null,null,null,null,null,null,null,null,null,null,null,null,null,null,null,null,null,null,null,"RX2H & ROTHER SMHT (CS)","RX2AY","H & ROTHER SMHT (CS)","RX2AY","H & ROTHER SMHT (CS)","RX2"]
[null,null,null,null,null,null,null,null,null,null,null,null,null,null,null,null,null,null,null,null,null,null,null,null,null,null,null,null,null,null,null,null,null,null,null,null,null,null,null,null,null,null,null,null,null,null,null,null,null,null,null,null,null,null,null,"RX2HASTINGS & ROTHER OP (IKM)","RX23F","HASTINGS & ROTHER OP (IKM)","RX23F","HASTINGS & ROTHER OP (IKM)","RX2"]
[null,null,null,null,null,null,null,null,null,null,null,null,null,null,null,null,null,null,null,null,null,null,null,null,null,null,null,null,null,null,null,null,null,null,null,null,null,null,null,null,null,null,null,null,null,null,null,null,null,null,null,null,null,null,null,"RX2HASTINGS DEMENTIA","RX23G","HASTINGS DEMENTIA","RX23G","HASTINGS DEMENTIA","RX2"]
[null,null,null,null,null,null,null,null,null,null,null,null,null,null,null,null,null,null,null,null,null,null,null,null,null,null,null,null,null,null,null,null,null,null,null,null,null,null,null,null,null,null,null,null,null,null,null,null,null,null,null,null,null,null,null,"RX2HORSHAM HOSPITAL","RX2C8","HORSHAM HOSPITAL","RX2C8","HORSHAM HOSPITAL","RX2"]
[null,null,null,null,null,null,null,null,null,null,null,null,null,null,null,null,null,null,null,null,null,null,null,null,null,null,null,null,null,null,null,null,null,null,null,null,null,null,null,null,null,null,null,null,null,null,null,null,null,null,null,null,null,null,null,"RX2LANGLEY GREEN HOSPITAL","RX2P0","LANGLEY GREEN HOSPITAL","RX2P0","LANGLEY GREEN HOSPITAL","RX2"]
[null,null,null,null,null,null,null,null,null,null,null,null,null,null,null,null,null,null,null,null,null,null,null,null,null,null,null,null,null,null,null,null,null,null,null,null,null,null,null,null,null,null,null,null,null,null,null,null,null,null,null,null,null,null,null,"RX2MARTINS FARM","RX220","MARTINS FARM","RX220","MARTINS FARM","RX2"]
[null,null,null,null,null,null,null,null,null,null,null,null,null,null,null,null,null,null,null,null,null,null,null,null,null,null,null,null,null,null,null,null,null,null,null,null,null,null,null,null,null,null,null,null,null,null,null,null,null,null,null,null,null,null,null,"RX2MIDHURST COMMUNITY HOSPITAL","RX254","MIDHURST COMMUNITY HOSPITAL","RX254","MIDHURST COMMUNITY HOSPITAL","RX2"]
[null,null,null,null,null,null,null,null,null,null,null,null,null,null,null,null,null,null,null,null,null,null,null,null,null,null,null,null,null,null,null,null,null,null,null,null,null,null,null,null,null,null,null,null,null,null,null,null,null,null,null,null,null,null,null,"RX2OLD STEINE (YMCA)","RX2T1","OLD STEINE (YMCA)","RX2T1","OLD STEINE (YMCA)","RX2"]
[null,null,null,null,null,null,null,null,null,null,null,null,null,null,null,null,null,null,null,null,null,null,null,null,null,null,null,null,null,null,null,null,null,null,null,null,null,null,null,null,null,null,null,null,null,null,null,null,null,null,null,null,null,null,null,"RX2PRINCESS ROYAL HOSPITAL","RX233","PRINCESS ROYAL HOSPITAL","RX233","PRINCESS ROYAL HOSPITAL","RX2"]
[null,null,null,null,null,null,null,null,null,null,null,null,null,null,null,null,null,null,null,null,null,null,null,null,null,null,null,null,null,null,null,null,null,null,null,null,null,null,null,null,null,null,null,null,null,null,null,null,null,null,null,null,null,null,null,"RX2RYE MEMORIAL HOSPITAL","RX2T8","RYE MEMORIAL HOSPITAL","RX2T8","RYE MEMORIAL HOSPITAL","RX2"]
[null,null,null,null,null,null,null,null,null,null,null,null,null,null,null,null,null,null,null,null,null,null,null,null,null,null,null,null,null,null,null,null,null,null,null,null,null,null,null,null,null,null,null,null,null,null,null,null,null,null,null,null,null,null,null,"RX2SMS E'BOURNE - ST ANDREWS","RX2AK","SMS E'BOURNE - ST ANDREWS","RX2AK","SMS E'BOURNE - ST ANDREWS","RX2"]
[null,null,null,null,null,null,null,null,null,null,null,null,null,null,null,null,null,null,null,null,null,null,null,null,null,null,null,null,null,null,null,null,null,null,null,null,null,null,null,null,null,null,null,null,null,null,null,null,null,null,null,null,null,null,null,"RX2SMS HASTINGS - CORNWALLIS","RX2AA","SMS HASTINGS - CORNWALLIS","RX2AA","SMS HASTINGS - CORNWALLIS","RX2"]
[null,null,null,null,null,null,null,null,null,null,null,null,null,null,null,null,null,null,null,null,null,null,null,null,null,null,null,null,null,null,null,null,null,null,null,null,null,null,null,null,null,null,null,null,null,null,null,null,null,null,null,null,null,null,null,"RX2SUSSEX BEACON","RX2Q8","SUSSEX BEACON","RX2Q8","SUSSEX BEACON","RX2"]
[null,null,null,null,null,null,null,null,null,null,null,null,null,null,null,null,null,null,null,null,null,null,null,null,null,null,null,null,null,null,null,null,null,null,null,null,null,null,null,null,null,null,null,null,null,null,null,null,null,null,null,null,null,null,null,"RX2THE CRECHE","RX2K5","THE CRECHE","RX2K5","THE CRECHE","RX2"]
[null,null,null,null,null,null,null,null,null,null,null,null,null,null,null,null,null,null,null,null,null,null,null,null,null,null,null,null,null,null,null,null,null,null,null,null,null,null,null,null,null,null,null,null,null,null,null,null,null,null,null,null,null,null,null,"RX2THE SANCTUARY","RX2D0","THE SANCTUARY","RX2D0","THE SANCTUARY","RX2"]
[null,null,null,null,null,null,null,null,null,null,null,null,null,null,null,null,null,null,null,null,null,null,null,null,null,null,null,null,null,null,null,null,null,null,null,null,null,null,null,null,null,null,null,null,null,null,null,null,null,null,null,null,null,null,null,"RX2WEST SUSSEX DCS WEST","RX2DE","WEST SUSSEX DCS WEST","RX2DE","WEST SUSSEX DCS WEST","RX2"]
[null,null,null,null,null,null,null,null,null,null,null,null,null,null,null,null,null,null,null,null,null,null,null,null,null,null,null,null,null,null,null,null,null,null,null,null,null,null,null,null,null,null,null,null,null,null,null,null,null,null,null,null,null,null,null,"RX2WESTERN SUSSEX ATS (BQ)","RX26W","WESTERN SUSSEX ATS (BQ)","RX26W","WESTERN SUSSEX ATS (BQ)","RX2"]
[null,null,null,null,null,null,null,null,null,null,null,null,null,null,null,null,null,null,null,null,null,null,null,null,null,null,null,null,null,null,null,null,null,null,null,null,null,null,null,null,null,null,null,null,null,null,null,null,null,null,null,null,null,null,null,"RX2YASMIN BYSIDE COMFORT","RX2R8","YASMIN BYSIDE COMFORT","RX2R8","YASMIN BYSIDE COMFORT","RX2"]
[null,null,null,null,null,null,null,null,null,null,null,null,null,null,null,null,null,null,null,null,null,null,null,null,null,null,null,null,null,null,null,null,null,null,null,null,null,null,null,null,null,null,null,null,null,null,null,null,null,null,null,null,null,null,null,"RX3AYSGARTH","RX3FC","AYSGARTH","RX3FC","AYSGARTH","RX3"]
[null,null,null,null,null,null,null,null,null,null,null,null,null,null,null,null,null,null,null,null,null,null,null,null,null,null,null,null,null,null,null,null,null,null,null,null,null,null,null,null,null,null,null,null,null,null,null,null,null,null,null,null,null,null,null,"RX3BANKFIELDS COURT UNIT 1","RX3JE","BANKFIELDS COURT UNIT 1","RX3JE","BANKFIELDS COURT UNIT 1","RX3"]
[null,null,null,null,null,null,null,null,null,null,null,null,null,null,null,null,null,null,null,null,null,null,null,null,null,null,null,null,null,null,null,null,null,null,null,null,null,null,null,null,null,null,null,null,null,null,null,null,null,null,null,null,null,null,null,"RX3CHERRY TREE HOUSE COMMUNITY","RX35E","CHERRY TREE HOUSE COMMUNITY","RX35E","CHERRY TREE HOUSE COMMUNITY","RX3"]
[null,null,null,null,null,null,null,null,null,null,null,null,null,null,null,null,null,null,null,null,null,null,null,null,null,null,null,null,null,null,null,null,null,null,null,null,null,null,null,null,null,null,null,null,null,null,null,null,null,null,null,null,null,null,null,"RX3EATING DISORDERS OP","RX3WM","EATING DISORDERS OP","RX3WM","EATING DISORDERS OP","RX3"]
[null,null,null,null,null,null,null,null,null,null,null,null,null,null,null,null,null,null,null,null,null,null,null,null,null,null,null,null,null,null,null,null,null,null,null,null,null,null,null,null,null,null,null,null,null,null,null,null,null,null,null,null,null,null,null,"RX3HARROGATE IHTT","RX3TJ","HARROGATE IHTT","RX3TJ","HARROGATE IHTT","RX3"]
[null,null,null,null,null,null,null,null,null,null,null,null,null,null,null,null,null,null,null,null,null,null,null,null,null,null,null,null,null,null,null,null,null,null,null,null,null,null,null,null,null,null,null,null,null,null,null,null,null,null,null,null,null,null,null,"RX3LUSTRUM VALE MHSOP NMP","RX3VV","LUSTRUM VALE MHSOP NMP","RX3VV","LUSTRUM VALE MHSOP NMP","RX3"]
[null,null,null,null,null,null,null,null,null,null,null,null,null,null,null,null,null,null,null,null,null,null,null,null,null,null,null,null,null,null,null,null,null,null,null,null,null,null,null,null,null,null,null,null,null,null,null,null,null,null,null,null,null,null,null,"RX3MHSOP - NORTH YORKSHIRE 2","RX3RX","MHSOP - NORTH YORKSHIRE 2","RX3RX","MHSOP - NORTH YORKSHIRE 2","RX3"]
[null,null,null,null,null,null,null,null,null,null,null,null,null,null,null,null,null,null,null,null,null,null,null,null,null,null,null,null,null,null,null,null,null,null,null,null,null,null,null,null,null,null,null,null,null,null,null,null,null,null,null,null,null,null,null,"RX3NMP - MHSOP H'GATE","RX31K","NMP - MHSOP H'GATE","RX31K","NMP - MHSOP H'GATE","RX3"]
[null,null,null,null,null,null,null,null,null,null,null,null,null,null,null,null,null,null,null,null,null,null,null,null,null,null,null,null,null,null,null,null,null,null,null,null,null,null,null,null,null,null,null,null,null,null,null,null,null,null,null,null,null,null,null,"RX3OAK RISE","RX33W","OAK RISE","RX33W","OAK RISE","RX3"]
[null,null,null,null,null,null,null,null,null,null,null,null,null,null,null,null,null,null,null,null,null,null,null,null,null,null,null,null,null,null,null,null,null,null,null,null,null,null,null,null,null,null,null,null,null,null,null,null,null,null,null,null,null,null,null,"RX3OLD AGE PSYCH","RX3RA","OLD AGE PSYCH","RX3RA","OLD AGE PSYCH","RX3"]
[null,null,null,null,null,null,null,null,null,null,null,null,null,null,null,null,null,null,null,null,null,null,null,null,null,null,null,null,null,null,null,null,null,null,null,null,null,null,null,null,null,null,null,null,null,null,null,null,null,null,null,null,null,null,null,"RX3POA - DDALES APARK 1","RX317","POA - DDALES APARK 1","RX317","POA - DDALES APARK 1","RX3"]
[null,null,null,null,null,null,null,null,null,null,null,null,null,null,null,null,null,null,null,null,null,null,null,null,null,null,null,null,null,null,null,null,null,null,null,null,null,null,null,null,null,null,null,null,null,null,null,null,null,null,null,null,null,null,null,"RX3PRIMROSE LODGE","RX3AD","PRIMROSE LODGE","RX3AD","PRIMROSE LODGE","RX3"]
[null,null,null,null,null,null,null,null,null,null,null,null,null,null,null,null,null,null,null,null,null,null,null,null,null,null,null,null,null,null,null,null,null,null,null,null,null,null,null,null,null,null,null,null,null,null,null,null,null,null,null,null,null,null,null,"RX3SPRINGWOOD","RX3KW","SPRINGWOOD","RX3KW","SPRINGWOOD","RX3"]
[null,null,null,null,null,null,null,null,null,null,null,null,null,null,null,null,null,null,null,null,null,null,null,null,null,null,null,null,null,null,null,null,null,null,null,null,null,null,null,null,null,null,null,null,null,null,null,null,null,null,null,null,null,null,null,"RX3THE DALES","RX3NK","THE DALES","RX3NK","THE DALES","RX3"]
[null,null,null,null,null,null,null,null,null,null,null,null,null,null,null,null,null,null,null,null,null,null,null,null,null,null,null,null,null,null,null,null,null,null,null,null,null,null,null,null,null,null,null,null,null,null,null,null,null,null,null,null,null,null,null,"RX3UNIT 1","RX3RJ","UNIT 1","RX3RJ","UNIT 1","RX3"]
[null,null,null,null,null,null,null,null,null,null,null,null,null,null,null,null,null,null,null,null,null,null,null,null,null,null,null,null,null,null,null,null,null,null,null,null,null,null,null,null,null,null,null,null,null,null,null,null,null,null,null,null,null,null,null,"RX3WHITE HORSE VIEW ","RX34T","WHITE HORSE VIEW ","RX34T","WHITE HORSE VIEW ","RX3"]
[null,null,null,null,null,null,null,null,null,null,null,null,null,null,null,null,null,null,null,null,null,null,null,null,null,null,null,null,null,null,null,null,null,null,null,null,null,null,null,null,null,null,null,null,null,null,null,null,null,null,null,null,null,null,null,"RX4AVONRIDGE MENTAL HEALTH COMMUNITY UNIT","RX482","AVONRIDGE MENTAL HEALTH COMMUNITY UNIT","RX482","AVONRIDGE MENTAL HEALTH COMMUNITY UNIT","RX4"]
[null,null,null,null,null,null,null,null,null,null,null,null,null,null,null,null,null,null,null,null,null,null,null,null,null,null,null,null,null,null,null,null,null,null,null,null,null,null,null,null,null,null,null,null,null,null,null,null,null,null,null,null,null,null,null,"RX4BASRA MENTAL HEALTH COMMUNITY UNIT","RX483","BASRA MENTAL HEALTH COMMUNITY UNIT","RX483","BASRA MENTAL HEALTH COMMUNITY UNIT","RX4"]
[null,null,null,null,null,null,null,null,null,null,null,null,null,null,null,null,null,null,null,null,null,null,null,null,null,null,null,null,null,null,null,null,null,null,null,null,null,null,null,null,null,null,null,null,null,null,null,null,null,null,null,null,null,null,null,{"$f":"CONCATENATE(LEFT(BE3880, 3),BF3880)","v":"RX4CEDAR GRANGE MENTAL HEALTH COMMUNITY UNIT"},"RX489","CEDAR GRANGE MENTAL HEALTH COMMUNITY UNIT","RX489","CEDAR GRANGE MENTAL HEALTH COMMUNITY UNIT",{"$f":"LEFT(BG3880,3)","v":"RX4"}]
[null,null,null,null,null,null,null,null,null,null,null,null,null,null,null,null,null,null,null,null,null,null,null,null,null,null,null,null,null,null,null,null,null,null,null,null,null,null,null,null,null,null,null,null,null,null,null,null,null,null,null,null,null,null,null,"RX4COMMUNITY MENTAL HEALTH PARTNERSHIP","RX4W8","COMMUNITY MENTAL HEALTH PARTNERSHIP","RX4W8","COMMUNITY MENTAL HEALTH PARTNERSHIP","RX4"]
[null,null,null,null,null,null,null,null,null,null,null,null,null,null,null,null,null,null,null,null,null,null,null,null,null,null,null,null,null,null,null,null,null,null,null,null,null,null,null,null,null,null,null,null,null,null,null,null,null,null,null,null,null,null,null,"RX4FORENSIC UNIT NEWCASTLE","RX4EH","FORENSIC UNIT NEWCASTLE","RX4EH","FORENSIC UNIT NEWCASTLE","RX4"]
[null,null,null,null,null,null,null,null,null,null,null,null,null,null,null,null,null,null,null,null,null,null,null,null,null,null,null,null,null,null,null,null,null,null,null,null,null,null,null,null,null,null,null,null,null,null,null,null,null,null,null,null,null,null,null,"RX4HOLMLEA","RX4J8","HOLMLEA","RX4J8","HOLMLEA","RX4"]
[null,null,null,null,null,null,null,null,null,null,null,null,null,null,null,null,null,null,null,null,null,null,null,null,null,null,null,null,null,null,null,null,null,null,null,null,null,null,null,null,null,null,null,null,null,null,null,null,null,null,null,null,null,null,null,"RX4NMP - WELLFIELD","RX4P8","NMP - WELLFIELD","RX4P8","NMP - WELLFIELD","RX4"]
[null,null,null,null,null,null,null,null,null,null,null,null,null,null,null,null,null,null,null,null,null,null,null,null,null,null,null,null,null,null,null,null,null,null,null,null,null,null,null,null,null,null,null,null,null,null,null,null,null,null,null,null,null,null,null,"RX4PRUDHOE HOSPITAL","RX4DH","PRUDHOE HOSPITAL","RX4DH","PRUDHOE HOSPITAL","RX4"]
[null,null,null,null,null,null,null,null,null,null,null,null,null,null,null,null,null,null,null,null,null,null,null,null,null,null,null,null,null,null,null,null,null,null,null,null,null,null,null,null,null,null,null,null,null,null,null,null,null,null,null,null,null,null,null,"RX4ROSLIN MENTAL HEALTH COMMUNITY UNIT","RX4T0","ROSLIN MENTAL HEALTH COMMUNITY UNIT","RX4T0","ROSLIN MENTAL HEALTH COMMUNITY UNIT","RX4"]
[null,null,null,null,null,null,null,null,null,null,null,null,null,null,null,null,null,null,null,null,null,null,null,null,null,null,null,null,null,null,null,null,null,null,null,null,null,null,null,null,null,null,null,null,null,null,null,null,null,null,null,null,null,null,null,"RX4SOLINGEN","RX4V7","SOLINGEN","RX4V7","SOLINGEN","RX4"]
[null,null,null,null,null,null,null,null,null,null,null,null,null,null,null,null,null,null,null,null,null,null,null,null,null,null,null,null,null,null,null,null,null,null,null,null,null,null,null,null,null,null,null,null,null,null,null,null,null,null,null,null,null,null,null,"RX4THE GRANGE","RX4A5","THE GRANGE","RX4A5","THE GRANGE","RX4"]
[null,null,null,null,null,null,null,null,null,null,null,null,null,null,null,null,null,null,null,null,null,null,null,null,null,null,null,null,null,null,null,null,null,null,null,null,null,null,null,null,null,null,null,null,null,null,null,null,null,null,null,null,null,null,null,"RX4TRANWELL UNIT","RX442","TRANWELL UNIT","RX442","TRANWELL UNIT","RX4"]
[null,null,null,null,null,null,null,null,null,null,null,null,null,null,null,null,null,null,null,null,null,null,null,null,null,null,null,null,null,null,null,null,null,null,null,null,null,null,null,null,null,null,null,null,null,null,null,null,null,null,null,null,null,null,null,"RX4WHITBY RISE","RX435","WHITBY RISE","RX435","WHITBY RISE","RX4"]
[null,null,null,null,null,null,null,null,null,null,null,null,null,null,null,null,null,null,null,null,null,null,null,null,null,null,null,null,null,null,null,null,null,null,null,null,null,null,null,null,null,null,null,null,null,null,null,null,null,null,null,null,null,null,null,"RXAELLESMERE PORT HOSPITAL","RXAWE","ELLESMERE PORT HOSPITAL","RXAWE","ELLESMERE PORT HOSPITAL","RXA"]
[null,null,null,null,null,null,null,null,null,null,null,null,null,null,null,null,null,null,null,null,null,null,null,null,null,null,null,null,null,null,null,null,null,null,null,null,null,null,null,null,null,null,null,null,null,null,null,null,null,null,null,null,null,null,null,"RXASPRINGBANK","RXADK","SPRINGBANK","RXADK","SPRINGBANK","RXA"]
[null,null,null,null,null,null,null,null,null,null,null,null,null,null,null,null,null,null,null,null,null,null,null,null,null,null,null,null,null,null,null,null,null,null,null,null,null,null,null,null,null,null,null,null,null,null,null,null,null,null,null,null,null,null,null,"RXEDONCASTER - CYP&F 2","RXEDJ","DONCASTER - CYP&F 2","RXEDJ","DONCASTER - CYP&F 2","RXE"]
[null,null,null,null,null,null,null,null,null,null,null,null,null,null,null,null,null,null,null,null,null,null,null,null,null,null,null,null,null,null,null,null,null,null,null,null,null,null,null,null,null,null,null,null,null,null,null,null,null,null,null,null,null,null,null,"RXENTH LINCS - ICT","RXECJ","NTH LINCS - ICT","RXECJ","NTH LINCS - ICT","RXE"]
[null,null,null,null,null,null,null,null,null,null,null,null,null,null,null,null,null,null,null,null,null,null,null,null,null,null,null,null,null,null,null,null,null,null,null,null,null,null,null,null,null,null,null,null,null,null,null,null,null,null,null,null,null,null,null,"RXEROTHERHAM  EARLY INTERVENTION (SWALLOWNEST)","RXE12","ROTHERHAM  EARLY INTERVENTION (SWALLOWNEST)","RXE12","ROTHERHAM  EARLY INTERVENTION (SWALLOWNEST)","RXE"]
[null,null,null,null,null,null,null,null,null,null,null,null,null,null,null,null,null,null,null,null,null,null,null,null,null,null,null,null,null,null,null,null,null,null,null,null,null,null,null,null,null,null,null,null,null,null,null,null,null,null,null,null,null,null,null,"RXGCASTLE LODGE","RXG23","CASTLE LODGE","RXG23","CASTLE LODGE","RXG"]
[null,null,null,null,null,null,null,null,null,null,null,null,null,null,null,null,null,null,null,null,null,null,null,null,null,null,null,null,null,null,null,null,null,null,null,null,null,null,null,null,null,null,null,null,null,null,null,null,null,null,null,null,null,null,null,"RXGCNDH","RXG1F","CNDH","RXG1F","CNDH","RXG"]
[null,null,null,null,null,null,null,null,null,null,null,null,null,null,null,null,null,null,null,null,null,null,null,null,null,null,null,null,null,null,null,null,null,null,null,null,null,null,null,null,null,null,null,null,null,null,null,null,null,null,null,null,null,null,null,"RXGKERSHAW GRANGE","RXG45","KERSHAW GRANGE","RXG45","KERSHAW GRANGE","RXG"]
[null,null,null,null,null,null,null,null,null,null,null,null,null,null,null,null,null,null,null,null,null,null,null,null,null,null,null,null,null,null,null,null,null,null,null,null,null,null,null,null,null,null,null,null,null,null,null,null,null,null,null,null,null,null,null,"RXGTHE DALES","RXG41","THE DALES","RXG41","THE DALES","RXG"]
[null,null,null,null,null,null,null,null,null,null,null,null,null,null,null,null,null,null,null,null,null,null,null,null,null,null,null,null,null,null,null,null,null,null,null,null,null,null,null,null,null,null,null,null,null,null,null,null,null,null,null,null,null,null,null,"RXHSUSSEX NUFFIELD HOSPITAL","RXH19","SUSSEX NUFFIELD HOSPITAL","RXH19","SUSSEX NUFFIELD HOSPITAL","RXH"]
[null,null,null,null,null,null,null,null,null,null,null,null,null,null,null,null,null,null,null,null,null,null,null,null,null,null,null,null,null,null,null,null,null,null,null,null,null,null,null,null,null,null,null,null,null,null,null,null,null,null,null,null,null,null,null,"RXLLYTHAM HOSPITAL","RXL03","LYTHAM HOSPITAL","RXL03","LYTHAM HOSPITAL","RXL"]
[null,null,null,null,null,null,null,null,null,null,null,null,null,null,null,null,null,null,null,null,null,null,null,null,null,null,null,null,null,null,null,null,null,null,null,null,null,null,null,null,null,null,null,null,null,null,null,null,null,null,null,null,null,null,null,"RXMCHEVIN WARD","RXM82","CHEVIN WARD","RXM82","CHEVIN WARD","RXM"]
[null,null,null,null,null,null,null,null,null,null,null,null,null,null,null,null,null,null,null,null,null,null,null,null,null,null,null,null,null,null,null,null,null,null,null,null,null,null,null,null,null,null,null,null,null,null,null,null,null,null,null,null,null,null,null,"RXMCRAIGMORE","RXM03","CRAIGMORE","RXM03","CRAIGMORE","RXM"]
[null,null,null,null,null,null,null,null,null,null,null,null,null,null,null,null,null,null,null,null,null,null,null,null,null,null,null,null,null,null,null,null,null,null,null,null,null,null,null,null,null,null,null,null,null,null,null,null,null,null,null,null,null,null,null,"RXMMORTON WARD, HARTINGTON UNIT","RXM70","MORTON WARD, HARTINGTON UNIT","RXM70","MORTON WARD, HARTINGTON UNIT","RXM"]
[null,null,null,null,null,null,null,null,null,null,null,null,null,null,null,null,null,null,null,null,null,null,null,null,null,null,null,null,null,null,null,null,null,null,null,null,null,null,null,null,null,null,null,null,null,null,null,null,null,null,null,null,null,null,null,"RXMQUARN MILL","RXM91","QUARN MILL","RXM91","QUARN MILL","RXM"]
[null,null,null,null,null,null,null,null,null,null,null,null,null,null,null,null,null,null,null,null,null,null,null,null,null,null,null,null,null,null,null,null,null,null,null,null,null,null,null,null,null,null,null,null,null,null,null,null,null,null,null,null,null,null,null,"RXMWARD 2","RXM60","WARD 2","RXM60","WARD 2","RXM"]
[null,null,null,null,null,null,null,null,null,null,null,null,null,null,null,null,null,null,null,null,null,null,null,null,null,null,null,null,null,null,null,null,null,null,null,null,null,null,null,null,null,null,null,null,null,null,null,null,null,null,null,null,null,null,null,"RXNACCRINGTON VICTORIA HOSPITAL","RXN06","ACCRINGTON VICTORIA HOSPITAL","RXN06","ACCRINGTON VICTORIA HOSPITAL","RXN"]
[null,null,null,null,null,null,null,null,null,null,null,null,null,null,null,null,null,null,null,null,null,null,null,null,null,null,null,null,null,null,null,null,null,null,null,null,null,null,null,null,null,null,null,null,null,null,null,null,null,null,null,null,null,null,null,"RXPSHOTLEY BRIDGE HOSPITAL SITE","RXPCW","SHOTLEY BRIDGE HOSPITAL SITE","RXPCW","SHOTLEY BRIDGE HOSPITAL SITE","RXP"]
[null,null,null,null,null,null,null,null,null,null,null,null,null,null,null,null,null,null,null,null,null,null,null,null,null,null,null,null,null,null,null,null,null,null,null,null,null,null,null,null,null,null,null,null,null,null,null,null,null,null,null,null,null,null,null,"RXQAMERSHAM HEALTH CENTRE","RXQ81","AMERSHAM HEALTH CENTRE","RXQ81","AMERSHAM HEALTH CENTRE","RXQ"]
[null,null,null,null,null,null,null,null,null,null,null,null,null,null,null,null,null,null,null,null,null,null,null,null,null,null,null,null,null,null,null,null,null,null,null,null,null,null,null,null,null,null,null,null,null,null,null,null,null,null,null,null,null,null,null,"RXRBLACKBURN HOSPITALS","RXR01","BLACKBURN HOSPITALS","RXR01","BLACKBURN HOSPITALS","RXR"]
[null,null,null,null,null,null,null,null,null,null,null,null,null,null,null,null,null,null,null,null,null,null,null,null,null,null,null,null,null,null,null,null,null,null,null,null,null,null,null,null,null,null,null,null,null,null,null,null,null,null,null,null,null,null,null,"RXRBURNLEY HOSPITALS","RXR02","BURNLEY HOSPITALS","RXR02","BURNLEY HOSPITALS","RXR"]
[null,null,null,null,null,null,null,null,null,null,null,null,null,null,null,null,null,null,null,null,null,null,null,null,null,null,null,null,null,null,null,null,null,null,null,null,null,null,null,null,null,null,null,null,null,null,null,null,null,null,null,null,null,null,null,"RXTENDEAVOUR HOUSE","RXT19","ENDEAVOUR HOUSE","RXT19","ENDEAVOUR HOUSE","RXT"]
[null,null,null,null,null,null,null,null,null,null,null,null,null,null,null,null,null,null,null,null,null,null,null,null,null,null,null,null,null,null,null,null,null,null,null,null,null,null,null,null,null,null,null,null,null,null,null,null,null,null,null,null,null,null,null,"RXTFORMER WOMENS HOSPITAL","RXT21","FORMER WOMENS HOSPITAL","RXT21","FORMER WOMENS HOSPITAL","RXT"]
[null,null,null,null,null,null,null,null,null,null,null,null,null,null,null,null,null,null,null,null,null,null,null,null,null,null,null,null,null,null,null,null,null,null,null,null,null,null,null,null,null,null,null,null,null,null,null,null,null,null,null,null,null,null,null,"RXTJOHN BLACK DAY HOSPITAL","RXT34","JOHN BLACK DAY HOSPITAL","RXT34","JOHN BLACK DAY HOSPITAL","RXT"]
[null,null,null,null,null,null,null,null,null,null,null,null,null,null,null,null,null,null,null,null,null,null,null,null,null,null,null,null,null,null,null,null,null,null,null,null,null,null,null,null,null,null,null,null,null,null,null,null,null,null,null,null,null,null,null,"RXTMARY SEACOLE HOUSE","RXT47","MARY SEACOLE HOUSE","RXT47","MARY SEACOLE HOUSE","RXT"]
[null,null,null,null,null,null,null,null,null,null,null,null,null,null,null,null,null,null,null,null,null,null,null,null,null,null,null,null,null,null,null,null,null,null,null,null,null,null,null,null,null,null,null,null,null,null,null,null,null,null,null,null,null,null,null,"RXTNP SOLIHULL AOR SLAR","RXTWR","NP SOLIHULL AOR SLAR","RXTWR","NP SOLIHULL AOR SLAR","RXT"]
[null,null,null,null,null,null,null,null,null,null,null,null,null,null,null,null,null,null,null,null,null,null,null,null,null,null,null,null,null,null,null,null,null,null,null,null,null,null,null,null,null,null,null,null,null,null,null,null,null,null,null,null,null,null,null,"RXTNP YARDLEY AOR YDAR","RXTWQ","NP YARDLEY AOR YDAR","RXTWQ","NP YARDLEY AOR YDAR","RXT"]
[null,null,null,null,null,null,null,null,null,null,null,null,null,null,null,null,null,null,null,null,null,null,null,null,null,null,null,null,null,null,null,null,null,null,null,null,null,null,null,null,null,null,null,null,null,null,null,null,null,null,null,null,null,null,null,"RXTTALL TREES","RXTA0","TALL TREES","RXTA0","TALL TREES","RXT"]
[null,null,null,null,null,null,null,null,null,null,null,null,null,null,null,null,null,null,null,null,null,null,null,null,null,null,null,null,null,null,null,null,null,null,null,null,null,null,null,null,null,null,null,null,null,null,null,null,null,null,null,null,null,null,null,"RXTTHE BRIDGE GP","RXTNW","THE BRIDGE GP","RXTNW","THE BRIDGE GP","RXT"]
[null,null,null,null,null,null,null,null,null,null,null,null,null,null,null,null,null,null,null,null,null,null,null,null,null,null,null,null,null,null,null,null,null,null,null,null,null,null,null,null,null,null,null,null,null,null,null,null,null,null,null,null,null,null,null,"RXVLAUREATE HOUSE SERVICES","RXVJ2","LAUREATE HOUSE SERVICES","RXVJ2","LAUREATE HOUSE SERVICES","RXV"]
[null,null,null,null,null,null,null,null,null,null,null,null,null,null,null,null,null,null,null,null,null,null,null,null,null,null,null,null,null,null,null,null,null,null,null,null,null,null,null,null,null,null,null,null,null,null,null,null,null,null,null,null,null,null,null,"RXVMOORSIDE UNIT - TRAFFORD MH","RXV80","MOORSIDE UNIT - TRAFFORD MH","RXV80","MOORSIDE UNIT - TRAFFORD MH","RXV"]
[null,null,null,null,null,null,null,null,null,null,null,null,null,null,null,null,null,null,null,null,null,null,null,null,null,null,null,null,null,null,null,null,null,null,null,null,null,null,null,null,null,null,null,null,null,null,null,null,null,null,null,null,null,null,null,{"$f":"CONCATENATE(LEFT(BE4265, 3),BF4265)","v":"RXWBRIDGNORTH HOSPITAL (MATERNITY)"},"RXWMB","BRIDGNORTH HOSPITAL (MATERNITY)","RXWMB","BRIDGNORTH HOSPITAL (MATERNITY)",{"$f":"LEFT(BG4265,3)","v":"RXW"}]
[null,null,null,null,null,null,null,null,null,null,null,null,null,null,null,null,null,null,null,null,null,null,null,null,null,null,null,null,null,null,null,null,null,null,null,null,null,null,null,null,null,null,null,null,null,null,null,null,null,null,null,null,null,null,null,"RXXABRAHAM COWLEY UNIT","RXX10","ABRAHAM COWLEY UNIT","RXX10","ABRAHAM COWLEY UNIT","RXX"]
[null,null,null,null,null,null,null,null,null,null,null,null,null,null,null,null,null,null,null,null,null,null,null,null,null,null,null,null,null,null,null,null,null,null,null,null,null,null,null,null,null,null,null,null,null,null,null,null,null,null,null,null,null,null,null,"RXXCRANLEIGH HOSPITAL","RXX1T","CRANLEIGH HOSPITAL","RXX1T","CRANLEIGH HOSPITAL","RXX"]
[null,null,null,null,null,null,null,null,null,null,null,null,null,null,null,null,null,null,null,null,null,null,null,null,null,null,null,null,null,null,null,null,null,null,null,null,null,null,null,null,null,null,null,null,null,null,null,null,null,null,null,null,null,null,null,"RXXELLEN TERRY","RXXHA","ELLEN TERRY","RXXHA","ELLEN TERRY","RXX"]
[null,null,null,null,null,null,null,null,null,null,null,null,null,null,null,null,null,null,null,null,null,null,null,null,null,null,null,null,null,null,null,null,null,null,null,null,null,null,null,null,null,null,null,null,null,null,null,null,null,null,null,null,null,null,null,"RXXGREAT MEADOWS","RXXGW","GREAT MEADOWS","RXXGW","GREAT MEADOWS","RXX"]
[null,null,null,null,null,null,null,null,null,null,null,null,null,null,null,null,null,null,null,null,null,null,null,null,null,null,null,null,null,null,null,null,null,null,null,null,null,null,null,null,null,null,null,null,null,null,null,null,null,null,null,null,null,null,null,"RXXHALLIFORD WARD","RXXW6","HALLIFORD WARD","RXXW6","HALLIFORD WARD","RXX"]
[null,null,null,null,null,null,null,null,null,null,null,null,null,null,null,null,null,null,null,null,null,null,null,null,null,null,null,null,null,null,null,null,null,null,null,null,null,null,null,null,null,null,null,null,null,null,null,null,null,null,null,null,null,null,null,"RXXNURSE RXXV5","RXXV5","NURSE RXXV5","RXXV5","NURSE RXXV5","RXX"]
[null,null,null,null,null,null,null,null,null,null,null,null,null,null,null,null,null,null,null,null,null,null,null,null,null,null,null,null,null,null,null,null,null,null,null,null,null,null,null,null,null,null,null,null,null,null,null,null,null,null,null,null,null,null,null,"RXXNURSE T6 - RESPOND","RXXT6","NURSE T6 - RESPOND","RXXT6","NURSE T6 - RESPOND","RXX"]
[null,null,null,null,null,null,null,null,null,null,null,null,null,null,null,null,null,null,null,null,null,null,null,null,null,null,null,null,null,null,null,null,null,null,null,null,null,null,null,null,null,null,null,null,null,null,null,null,null,null,null,null,null,null,null,"RXXTANDRIDGE CTPLD","RXX96","TANDRIDGE CTPLD","RXX96","TANDRIDGE CTPLD","RXX"]
[null,null,null,null,null,null,null,null,null,null,null,null,null,null,null,null,null,null,null,null,null,null,null,null,null,null,null,null,null,null,null,null,null,null,null,null,null,null,null,null,null,null,null,null,null,null,null,null,null,null,null,null,null,null,null,"RXXWILLOW","RXXFY","WILLOW","RXXFY","WILLOW","RXX"]
[null,null,null,null,null,null,null,null,null,null,null,null,null,null,null,null,null,null,null,null,null,null,null,null,null,null,null,null,null,null,null,null,null,null,null,null,null,null,null,null,null,null,null,null,null,null,null,null,null,null,null,null,null,null,null,"RXYAYLESHAM COMMUNITY CENTRE","RXYA7","AYLESHAM COMMUNITY CENTRE","RXYA7","AYLESHAM COMMUNITY CENTRE","RXY"]
[null,null,null,null,null,null,null,null,null,null,null,null,null,null,null,null,null,null,null,null,null,null,null,null,null,null,null,null,null,null,null,null,null,null,null,null,null,null,null,null,null,null,null,null,null,null,null,null,null,null,null,null,null,null,null,"RXYCORNERSTONES (TUNNEL ROAD)","RXYC7","CORNERSTONES (TUNNEL ROAD)","RXYC7","CORNERSTONES (TUNNEL ROAD)","RXY"]
[null,null,null,null,null,null,null,null,null,null,null,null,null,null,null,null,null,null,null,null,null,null,null,null,null,null,null,null,null,null,null,null,null,null,null,null,null,null,null,null,null,null,null,null,null,null,null,null,null,null,null,null,null,null,null,"RXYFANT OAST","RXYF2","FANT OAST","RXYF2","FANT OAST","RXY"]
[null,null,null,null,null,null,null,null,null,null,null,null,null,null,null,null,null,null,null,null,null,null,null,null,null,null,null,null,null,null,null,null,null,null,null,null,null,null,null,null,null,null,null,null,null,null,null,null,null,null,null,null,null,null,null,"RXYFORENSIC PSYCHIATRY","RXY41","FORENSIC PSYCHIATRY","RXY41","FORENSIC PSYCHIATRY","RXY"]
[null,null,null,null,null,null,null,null,null,null,null,null,null,null,null,null,null,null,null,null,null,null,null,null,null,null,null,null,null,null,null,null,null,null,null,null,null,null,null,null,null,null,null,null,null,null,null,null,null,null,null,null,null,null,null,"RXYKINGS HILL","RXY04","KINGS HILL","RXY04","KINGS HILL","RXY"]
[null,null,null,null,null,null,null,null,null,null,null,null,null,null,null,null,null,null,null,null,null,null,null,null,null,null,null,null,null,null,null,null,null,null,null,null,null,null,null,null,null,null,null,null,null,null,null,null,null,null,null,null,null,null,null,"RXYLAUREL HOUSE","RXYL1","LAUREL HOUSE","RXYL1","LAUREL HOUSE","RXY"]
[null,null,null,null,null,null,null,null,null,null,null,null,null,null,null,null,null,null,null,null,null,null,null,null,null,null,null,null,null,null,null,null,null,null,null,null,null,null,null,null,null,null,null,null,null,null,null,null,null,null,null,null,null,null,null,"RXYNEW COURT (UNIT 2 & PART 4)","RXYN1","NEW COURT (UNIT 2 & PART 4)","RXYN1","NEW COURT (UNIT 2 & PART 4)","RXY"]
[null,null,null,null,null,null,null,null,null,null,null,null,null,null,null,null,null,null,null,null,null,null,null,null,null,null,null,null,null,null,null,null,null,null,null,null,null,null,null,null,null,null,null,null,null,null,null,null,null,null,null,null,null,null,null,"RXYOAKWOOD M.H.","RXYP8","OAKWOOD M.H.","RXYP8","OAKWOOD M.H.","RXY"]
[null,null,null,null,null,null,null,null,null,null,null,null,null,null,null,null,null,null,null,null,null,null,null,null,null,null,null,null,null,null,null,null,null,null,null,null,null,null,null,null,null,null,null,null,null,null,null,null,null,null,null,null,null,null,null,"RXYOPMH SEVENOAKS","RXY76","OPMH SEVENOAKS","RXY76","OPMH SEVENOAKS","RXY"]
[null,null,null,null,null,null,null,null,null,null,null,null,null,null,null,null,null,null,null,null,null,null,null,null,null,null,null,null,null,null,null,null,null,null,null,null,null,null,null,null,null,null,null,null,null,null,null,null,null,null,null,null,null,null,null,"RXYORCHARD HOUSE, ORCHARD STREET","RXY2W","ORCHARD HOUSE, ORCHARD STREET","RXY2W","ORCHARD HOUSE, ORCHARD STREET","RXY"]
[null,null,null,null,null,null,null,null,null,null,null,null,null,null,null,null,null,null,null,null,null,null,null,null,null,null,null,null,null,null,null,null,null,null,null,null,null,null,null,null,null,null,null,null,null,null,null,null,null,null,null,null,null,null,null,"RXYSITTINGBOURNE CMHC","RXYRJ","SITTINGBOURNE CMHC","RXYRJ","SITTINGBOURNE CMHC","RXY"]
[null,null,null,null,null,null,null,null,null,null,null,null,null,null,null,null,null,null,null,null,null,null,null,null,null,null,null,null,null,null,null,null,null,null,null,null,null,null,null,null,null,null,null,null,null,null,null,null,null,null,null,null,null,null,null,{"$f":"CONCATENATE(LEFT(BE4457, 3),BF4457)","v":"RXYST MARTINS HOSPITAL"},"RXY03","ST MARTINS HOSPITAL","RXY03","ST MARTINS HOSPITAL",{"$f":"LEFT(BG4457,3)","v":"RXY"}]
[null,null,null,null,null,null,null,null,null,null,null,null,null,null,null,null,null,null,null,null,null,null,null,null,null,null,null,null,null,null,null,null,null,null,null,null,null,null,null,null,null,null,null,null,null,null,null,null,null,null,null,null,null,null,null,"RXYTHE PAGODA","RXYTC","THE PAGODA","RXYTC","THE PAGODA","RXY"]
[null,null,null,null,null,null,null,null,null,null,null,null,null,null,null,null,null,null,null,null,null,null,null,null,null,null,null,null,null,null,null,null,null,null,null,null,null,null,null,null,null,null,null,null,null,null,null,null,null,null,null,null,null,null,null,"RXYTOWNLOCK DAY UNIT","RXY26","TOWNLOCK DAY UNIT","RXY26","TOWNLOCK DAY UNIT","RXY"]
[null,null,null,null,null,null,null,null,null,null,null,null,null,null,null,null,null,null,null,null,null,null,null,null,null,null,null,null,null,null,null,null,null,null,null,null,null,null,null,null,null,null,null,null,null,null,null,null,null,null,null,null,null,null,null,"RY1MOORGATE POINT","RY122","MOORGATE POINT","RY122","MOORGATE POINT","RY1"]
[null,null,null,null,null,null,null,null,null,null,null,null,null,null,null,null,null,null,null,null,null,null,null,null,null,null,null,null,null,null,null,null,null,null,null,null,null,null,null,null,null,null,null,null,null,null,null,null,null,null,null,null,null,null,null,"RY1NEWHALL CAMPUS (COTTAGE 2)","RY161","NEWHALL CAMPUS (COTTAGE 2)","RY161","NEWHALL CAMPUS (COTTAGE 2)","RY1"]
[null,null,null,null,null,null,null,null,null,null,null,null,null,null,null,null,null,null,null,null,null,null,null,null,null,null,null,null,null,null,null,null,null,null,null,null,null,null,null,null,null,null,null,null,null,null,null,null,null,null,null,null,null,null,null,"RY1WARD 35 COMMUNITY INTERMEDIATE CARE UNIT","RY1E1","WARD 35 COMMUNITY INTERMEDIATE CARE UNIT","RY1E1","WARD 35 COMMUNITY INTERMEDIATE CARE UNIT","RY1"]
[null,null,null,null,null,null,null,null,null,null,null,null,null,null,null,null,null,null,null,null,null,null,null,null,null,null,null,null,null,null,null,null,null,null,null,null,null,null,null,null,null,null,null,null,null,null,null,null,null,null,null,null,null,null,null,"RY2LEIGH LOCALITY BUILDING","RY2F9","LEIGH LOCALITY BUILDING","RY2F9","LEIGH LOCALITY BUILDING","RY2"]
[null,null,null,null,null,null,null,null,null,null,null,null,null,null,null,null,null,null,null,null,null,null,null,null,null,null,null,null,null,null,null,null,null,null,null,null,null,null,null,null,null,null,null,null,null,null,null,null,null,null,null,null,null,null,null,"RY2WHISTON HOSPITAL","RY26W","WHISTON HOSPITAL","RY26W","WHISTON HOSPITAL","RY2"]
[null,null,null,null,null,null,null,null,null,null,null,null,null,null,null,null,null,null,null,null,null,null,null,null,null,null,null,null,null,null,null,null,null,null,null,null,null,null,null,null,null,null,null,null,null,null,null,null,null,null,null,null,null,null,null,"RY3CRANMER HOUSE","RY387","CRANMER HOUSE","RY387","CRANMER HOUSE","RY3"]
[null,null,null,null,null,null,null,null,null,null,null,null,null,null,null,null,null,null,null,null,null,null,null,null,null,null,null,null,null,null,null,null,null,null,null,null,null,null,null,null,null,null,null,null,null,null,null,null,null,null,null,null,null,null,null,"RY3NORFOLK & NORWICH UNIVERSITY HOSPITAL","RY309","NORFOLK & NORWICH UNIVERSITY HOSPITAL","RY309","NORFOLK & NORWICH UNIVERSITY HOSPITAL","RY3"]
[null,null,null,null,null,null,null,null,null,null,null,null,null,null,null,null,null,null,null,null,null,null,null,null,null,null,null,null,null,null,null,null,null,null,null,null,null,null,null,null,null,null,null,null,null,null,null,null,null,null,null,null,null,null,null,"RY3NORWICH COMMUNITY HOSPITAL","RY312","NORWICH COMMUNITY HOSPITAL","RY312","NORWICH COMMUNITY HOSPITAL","RY3"]
[null,null,null,null,null,null,null,null,null,null,null,null,null,null,null,null,null,null,null,null,null,null,null,null,null,null,null,null,null,null,null,null,null,null,null,null,null,null,null,null,null,null,null,null,null,null,null,null,null,null,null,null,null,null,null,"RY4APSLEY ONE","RY460","APSLEY ONE","RY460","APSLEY ONE","RY4"]
[null,null,null,null,null,null,null,null,null,null,null,null,null,null,null,null,null,null,null,null,null,null,null,null,null,null,null,null,null,null,null,null,null,null,null,null,null,null,null,null,null,null,null,null,null,null,null,null,null,null,null,null,null,null,null,"RY4DANESBURY","RY407","DANESBURY","RY407","DANESBURY","RY4"]
[null,null,null,null,null,null,null,null,null,null,null,null,null,null,null,null,null,null,null,null,null,null,null,null,null,null,null,null,null,null,null,null,null,null,null,null,null,null,null,null,null,null,null,null,null,null,null,null,null,null,null,null,null,null,null,"RY4NASCOT LAWN","RY418","NASCOT LAWN","RY418","NASCOT LAWN","RY4"]
[null,null,null,null,null,null,null,null,null,null,null,null,null,null,null,null,null,null,null,null,null,null,null,null,null,null,null,null,null,null,null,null,null,null,null,null,null,null,null,null,null,null,null,null,null,null,null,null,null,null,null,null,null,null,null,"RY4ROYSTON HOSPITAL","RY408","ROYSTON HOSPITAL","RY408","ROYSTON HOSPITAL","RY4"]
[null,null,null,null,null,null,null,null,null,null,null,null,null,null,null,null,null,null,null,null,null,null,null,null,null,null,null,null,null,null,null,null,null,null,null,null,null,null,null,null,null,null,null,null,null,null,null,null,null,null,null,null,null,null,null,"RY6BURMANTOFTS HEALTH CENTRE","RY607","BURMANTOFTS HEALTH CENTRE","RY607","BURMANTOFTS HEALTH CENTRE","RY6"]
[null,null,null,null,null,null,null,null,null,null,null,null,null,null,null,null,null,null,null,null,null,null,null,null,null,null,null,null,null,null,null,null,null,null,null,null,null,null,null,null,null,null,null,null,null,null,null,null,null,null,null,null,null,null,null,"RY6CITY WISE CLINIC","RY613","CITY WISE CLINIC","RY613","CITY WISE CLINIC","RY6"]
[null,null,null,null,null,null,null,null,null,null,null,null,null,null,null,null,null,null,null,null,null,null,null,null,null,null,null,null,null,null,null,null,null,null,null,null,null,null,null,null,null,null,null,null,null,null,null,null,null,null,null,null,null,null,null,"RY6HAREHILLS CHILDRENS CENTRE","RY623","HAREHILLS CHILDRENS CENTRE","RY623","HAREHILLS CHILDRENS CENTRE","RY6"]
[null,null,null,null,null,null,null,null,null,null,null,null,null,null,null,null,null,null,null,null,null,null,null,null,null,null,null,null,null,null,null,null,null,null,null,null,null,null,null,null,null,null,null,null,null,null,null,null,null,null,null,null,null,null,null,"RY6HAWTHORN SURGERY","RY668","HAWTHORN SURGERY","RY668","HAWTHORN SURGERY","RY6"]
[null,null,null,null,null,null,null,null,null,null,null,null,null,null,null,null,null,null,null,null,null,null,null,null,null,null,null,null,null,null,null,null,null,null,null,null,null,null,null,null,null,null,null,null,null,null,null,null,null,null,null,null,null,null,null,"RY6LEEDS STUDENT MEDICAL PRACTICE","RY672","LEEDS STUDENT MEDICAL PRACTICE","RY672","LEEDS STUDENT MEDICAL PRACTICE","RY6"]
[null,null,null,null,null,null,null,null,null,null,null,null,null,null,null,null,null,null,null,null,null,null,null,null,null,null,null,null,null,null,null,null,null,null,null,null,null,null,null,null,null,null,null,null,null,null,null,null,null,null,null,null,null,null,null,"RY6MEANWOOD HEALTH CENTRE","RY633","MEANWOOD HEALTH CENTRE","RY633","MEANWOOD HEALTH CENTRE","RY6"]
[null,null,null,null,null,null,null,null,null,null,null,null,null,null,null,null,null,null,null,null,null,null,null,null,null,null,null,null,null,null,null,null,null,null,null,null,null,null,null,null,null,null,null,null,null,null,null,null,null,null,null,null,null,null,null,"RY6PARK EDGE PRACTICE","RY674","PARK EDGE PRACTICE","RY674","PARK EDGE PRACTICE","RY6"]
[null,null,null,null,null,null,null,null,null,null,null,null,null,null,null,null,null,null,null,null,null,null,null,null,null,null,null,null,null,null,null,null,null,null,null,null,null,null,null,null,null,null,null,null,null,null,null,null,null,null,null,null,null,null,null,"RY6RUTLAND LODGE MEDICAL PRACTICE","RY645","RUTLAND LODGE MEDICAL PRACTICE","RY645","RUTLAND LODGE MEDICAL PRACTICE","RY6"]
[null,null,null,null,null,null,null,null,null,null,null,null,null,null,null,null,null,null,null,null,null,null,null,null,null,null,null,null,null,null,null,null,null,null,null,null,null,null,null,null,null,null,null,null,null,null,null,null,null,null,null,null,null,null,null,"RY6THORNTON MEDICAL CENTRE","RY654","THORNTON MEDICAL CENTRE","RY654","THORNTON MEDICAL CENTRE","RY6"]
[null,null,null,null,null,null,null,null,null,null,null,null,null,null,null,null,null,null,null,null,null,null,null,null,null,null,null,null,null,null,null,null,null,null,null,null,null,null,null,null,null,null,null,null,null,null,null,null,null,null,null,null,null,null,null,"RY6WIRA HOUSE","RY658","WIRA HOUSE","RY658","WIRA HOUSE","RY6"]
[null,null,null,null,null,null,null,null,null,null,null,null,null,null,null,null,null,null,null,null,null,null,null,null,null,null,null,null,null,null,null,null,null,null,null,null,null,null,null,null,null,null,null,null,null,null,null,null,null,null,null,null,null,null,null,"RY8BOLSOVER HOSPITAL","RY8NT","BOLSOVER HOSPITAL","RY8NT","BOLSOVER HOSPITAL","RY8"]
[null,null,null,null,null,null,null,null,null,null,null,null,null,null,null,null,null,null,null,null,null,null,null,null,null,null,null,null,null,null,null,null,null,null,null,null,null,null,null,null,null,null,null,null,null,null,null,null,null,null,null,null,null,null,null,"RY8CARDIOLOGY - ILKESTON","RY8FA","CARDIOLOGY - ILKESTON","RY8FA","CARDIOLOGY - ILKESTON","RY8"]
[null,null,null,null,null,null,null,null,null,null,null,null,null,null,null,null,null,null,null,null,null,null,null,null,null,null,null,null,null,null,null,null,null,null,null,null,null,null,null,null,null,null,null,null,null,null,null,null,null,null,null,null,null,null,null,"RY8FEILDING PALMER COTTAGE HOSPITAL","RY8CP","FEILDING PALMER COTTAGE HOSPITAL","RY8CP","FEILDING PALMER COTTAGE HOSPITAL","RY8"]
[null,null,null,null,null,null,null,null,null,null,null,null,null,null,null,null,null,null,null,null,null,null,null,null,null,null,null,null,null,null,null,null,null,null,null,null,null,null,null,null,null,null,null,null,null,null,null,null,null,null,null,null,null,null,null,"RY8GASTROENTEROLOGY DPT(CCH)","RY8VN","GASTROENTEROLOGY DPT(CCH)","RY8VN","GASTROENTEROLOGY DPT(CCH)","RY8"]
[null,null,null,null,null,null,null,null,null,null,null,null,null,null,null,null,null,null,null,null,null,null,null,null,null,null,null,null,null,null,null,null,null,null,null,null,null,null,null,null,null,null,null,null,null,null,null,null,null,null,null,null,null,null,null,"RY8GYNAECOLOGY - ILKESTON","RY8FG","GYNAECOLOGY - ILKESTON","RY8FG","GYNAECOLOGY - ILKESTON","RY8"]
[null,null,null,null,null,null,null,null,null,null,null,null,null,null,null,null,null,null,null,null,null,null,null,null,null,null,null,null,null,null,null,null,null,null,null,null,null,null,null,null,null,null,null,null,null,null,null,null,null,null,null,null,null,null,null,"RY8LONG EATON HEALTH CENTRE","RY8RK","LONG EATON HEALTH CENTRE","RY8RK","LONG EATON HEALTH CENTRE","RY8"]
[null,null,null,null,null,null,null,null,null,null,null,null,null,null,null,null,null,null,null,null,null,null,null,null,null,null,null,null,null,null,null,null,null,null,null,null,null,null,null,null,null,null,null,null,null,null,null,null,null,null,null,null,null,null,null,"RY8OPMH","RY8HN","OPMH","RY8HN","OPMH","RY8"]
[null,null,null,null,null,null,null,null,null,null,null,null,null,null,null,null,null,null,null,null,null,null,null,null,null,null,null,null,null,null,null,null,null,null,null,null,null,null,null,null,null,null,null,null,null,null,null,null,null,null,null,null,null,null,null,"RY8PARK HILL","RY87A","PARK HILL","RY87A","PARK HILL","RY8"]
[null,null,null,null,null,null,null,null,null,null,null,null,null,null,null,null,null,null,null,null,null,null,null,null,null,null,null,null,null,null,null,null,null,null,null,null,null,null,null,null,null,null,null,null,null,null,null,null,null,null,null,null,null,null,null,"RY8RUTLAND OUT PATIENTS","RY8WX","RUTLAND OUT PATIENTS","RY8WX","RUTLAND OUT PATIENTS","RY8"]
[null,null,null,null,null,null,null,null,null,null,null,null,null,null,null,null,null,null,null,null,null,null,null,null,null,null,null,null,null,null,null,null,null,null,null,null,null,null,null,null,null,null,null,null,null,null,null,null,null,null,null,null,null,null,null,"RY8THE LIMES","RY8GD","THE LIMES","RY8GD","THE LIMES","RY8"]
[null,null,null,null,null,null,null,null,null,null,null,null,null,null,null,null,null,null,null,null,null,null,null,null,null,null,null,null,null,null,null,null,null,null,null,null,null,null,null,null,null,null,null,null,null,null,null,null,null,null,null,null,null,null,null,"RYGABBEY VIEW","RYGFD","ABBEY VIEW","RYGFD","ABBEY VIEW","RYG"]
[null,null,null,null,null,null,null,null,null,null,null,null,null,null,null,null,null,null,null,null,null,null,null,null,null,null,null,null,null,null,null,null,null,null,null,null,null,null,null,null,null,null,null,null,null,null,null,null,null,null,null,null,null,null,null,"RYGBROOKLANDS HOSPITAL","RYG96","BROOKLANDS HOSPITAL","RYG96","BROOKLANDS HOSPITAL","RYG"]
[null,null,null,null,null,null,null,null,null,null,null,null,null,null,null,null,null,null,null,null,null,null,null,null,null,null,null,null,null,null,null,null,null,null,null,null,null,null,null,null,null,null,null,null,null,null,null,null,null,null,null,null,null,null,null,"RYGLOXLEY BUILDING","RYG87","LOXLEY BUILDING","RYG87","LOXLEY BUILDING","RYG"]
[null,null,null,null,null,null,null,null,null,null,null,null,null,null,null,null,null,null,null,null,null,null,null,null,null,null,null,null,null,null,null,null,null,null,null,null,null,null,null,null,null,null,null,null,null,null,null,null,null,null,null,null,null,null,null,"RYGTHE MANOR HOSPITAL","RYG12","THE MANOR HOSPITAL","RYG12","THE MANOR HOSPITAL","RYG"]
[null,null,null,null,null,null,null,null,null,null,null,null,null,null,null,null,null,null,null,null,null,null,null,null,null,null,null,null,null,null,null,null,null,null,null,null,null,null,null,null,null,null,null,null,null,null,null,null,null,null,null,null,null,null,null,"RYJWESTERN EYE HOSPITAL","RYJ07","WESTERN EYE HOSPITAL","RYJ07","WESTERN EYE HOSPITAL","RYJ"]
[null,null,null,null,null,null,null,null,null,null,null,null,null,null,null,null,null,null,null,null,null,null,null,null,null,null,null,null,null,null,null,null,null,null,null,null,null,null,null,null,null,null,null,null,null,null,null,null,null,null,null,null,null,null,null,"RYKBUSHEY FIELDS HOSPITAL","RYK34","BUSHEY FIELDS HOSPITAL","RYK34","BUSHEY FIELDS HOSPITAL","RYK"]
[null,null,null,null,null,null,null,null,null,null,null,null,null,null,null,null,null,null,null,null,null,null,null,null,null,null,null,null,null,null,null,null,null,null,null,null,null,null,null,null,null,null,null,null,null,null,null,null,null,null,null,null,null,null,null,"RYKBUSHEY FIELDS HOSPITAL 4","RYKD1","BUSHEY FIELDS HOSPITAL 4","RYKD1","BUSHEY FIELDS HOSPITAL 4","RYK"]
[null,null,null,null,null,null,null,null,null,null,null,null,null,null,null,null,null,null,null,null,null,null,null,null,null,null,null,null,null,null,null,null,null,null,null,null,null,null,null,null,null,null,null,null,null,null,null,null,null,null,null,null,null,null,null,{"$f":"CONCATENATE(LEFT(BE4843, 3),BF4843)","v":"RYKCANALSIDE 4"},"RYKG5","CANALSIDE 4","RYKG5","CANALSIDE 4",{"$f":"LEFT(BG4843,3)","v":"RYK"}]
[null,null,null,null,null,null,null,null,null,null,null,null,null,null,null,null,null,null,null,null,null,null,null,null,null,null,null,null,null,null,null,null,null,null,null,null,null,null,null,null,null,null,null,null,null,null,null,null,null,null,null,null,null,null,null,"RYKSPRINGSIDE","RYK23","SPRINGSIDE","RYK23","SPRINGSIDE","RYK"]
[null,null,null,null,null,null,null,null,null,null,null,null,null,null,null,null,null,null,null,null,null,null,null,null,null,null,null,null,null,null,null,null,null,null,null,null,null,null,null,null,null,null,null,null,null,null,null,null,null,null,null,null,null,null,null,"RYQERITH AND DISTRICT HOSPITAL","RYQ11","ERITH AND DISTRICT HOSPITAL","RYQ11","ERITH AND DISTRICT HOSPITAL","RYQ"]
[null,null,null,null,null,null,null,null,null,null,null,null,null,null,null,null,null,null,null,null,null,null,null,null,null,null,null,null,null,null,null,null,null,null,null,null,null,null,null,null,null,null,null,null,null,null,null,null,null,null,null,null,null,null,null,"RYRSOUTHLANDS HOSPITAL","RYR14","SOUTHLANDS HOSPITAL","RYR14","SOUTHLANDS HOSPITAL","RYR"]
[null,null,null,null,null,null,null,null,null,null,null,null,null,null,null,null,null,null,null,null,null,null,null,null,null,null,null,null,null,null,null,null,null,null,null,null,null,null,null,null,null,null,null,null,null,null,null,null,null,null,null,null,null,null,null,"RYVLUTON & DUNSTABLE HOSP ST. MARY'S WING","RYV60","LUTON & DUNSTABLE HOSP ST. MARY'S WING","RYV60","LUTON & DUNSTABLE HOSP ST. MARY'S WING","RYV"]
[null,null,null,null,null,null,null,null,null,null,null,null,null,null,null,null,null,null,null,null,null,null,null,null,null,null,null,null,null,null,null,null,null,null,null,null,null,null,null,null,null,null,null,null,null,null,null,null,null,null,null,null,null,null,null,"RYWCIBA BUILDING","RYW84","CIBA BUILDING","RYW84","CIBA BUILDING","RYW"]
[null,null,null,null,null,null,null,null,null,null,null,null,null,null,null,null,null,null,null,null,null,null,null,null,null,null,null,null,null,null,null,null,null,null,null,null,null,null,null,null,null,null,null,null,null,null,null,null,null,null,null,null,null,null,null,"RYWHALL GREEN HEALTH","RYWY8","HALL GREEN HEALTH","RYWY8","HALL GREEN HEALTH","RYW"]
[null,null,null,null,null,null,null,null,null,null,null,null,null,null,null,null,null,null,null,null,null,null,null,null,null,null,null,null,null,null,null,null,null,null,null,null,null,null,null,null,null,null,null,null,null,null,null,null,null,null,null,null,null,null,null,"RYXCHARING CROSS HOSPITAL","RYXC1","CHARING CROSS HOSPITAL","RYXC1","CHARING CROSS HOSPITAL","RYX"]
[null,null,null,null,null,null,null,null,null,null,null,null,null,null,null,null,null,null,null,null,null,null,null,null,null,null,null,null,null,null,null,null,null,null,null,null,null,null,null,null,null,null,null,null,null,null,null,null,null,null,null,null,null,null,null,"RYXST MARY'S HOSPITAL","RYX20","ST MARY'S HOSPITAL","RYX20","ST MARY'S HOSPITAL","RYX"]
[null,null,null,null,null,null,null,null,null,null,null,null,null,null,null,null,null,null,null,null,null,null,null,null,null,null,null,null,null,null,null,null,null,null,null,null,null,null,null,null,null,null,null,null,null,null,null,null,null,null,null,null,null,null,null,"RYYFAVERSHAM COTTAGE HOSPITAL","RYYAL","FAVERSHAM COTTAGE HOSPITAL","RYYAL","FAVERSHAM COTTAGE HOSPITAL","RYY"]
[null,null,null,null,null,null,null,null,null,null,null,null,null,null,null,null,null,null,null,null,null,null,null,null,null,null,null,null,null,null,null,null,null,null,null,null,null,null,null,null,null,null,null,null,null,null,null,null,null,null,null,null,null,null,null,"RYYHANSON UNIT","RYY18","HANSON UNIT","RYY18","HANSON UNIT","RYY"]
[null,null,null,null,null,null,null,null,null,null,null,null,null,null,null,null,null,null,null,null,null,null,null,null,null,null,null,null,null,null,null,null,null,null,null,null,null,null,null,null,null,null,null,null,null,null,null,null,null,null,null,null,null,null,null,"RYYKENT & CANTERBURY HOSPITAL","RYYAR","KENT & CANTERBURY HOSPITAL","RYYAR","KENT & CANTERBURY HOSPITAL","RYY"]
[null,null,null,null,null,null,null,null,null,null,null,null,null,null,null,null,null,null,null,null,null,null,null,null,null,null,null,null,null,null,null,null,null,null,null,null,null,null,null,null,null,null,null,null,null,null,null,null,null,null,null,null,null,null,null,"RYYSEVENOAKS HOSPITAL","RYYD9","SEVENOAKS HOSPITAL","RYYD9","SEVENOAKS HOSPITAL","RYY"]
[null,null,null,null,null,null,null,null,null,null,null,null,null,null,null,null,null,null,null,null,null,null,null,null,null,null,null,null,null,null,null,null,null,null,null,null,null,null,null,null,null,null,null,null,null,null,null,null,null,null,null,null,null,null,null,"RYYUNIT FF","RYYE4","UNIT FF","RYYE4","UNIT FF","RYY"]
[null,null,null,null,null,null,null,null,null,null,null,null,null,null,null,null,null,null,null,null,null,null,null,null,null,null,null,null,null,null,null,null,null,null,null,null,null,null,null,null,null,null,null,null,null,null,null,null,null,null,null,null,null,null,null,"R0BSUNDERLAND EYE INFIRMARY","R0B0X","SUNDERLAND EYE INFIRMARY","R0B0X","SUNDERLAND EYE INFIRMARY","R0B"]
[null,null,null,null,null,null,null,null,null,null,null,null,null,null,null,null,null,null,null,null,null,null,null,null,null,null,null,null,null,null,null,null,null,null,null,null,null,null,null,null,null,null,null,null,null,null,null,null,null,null,null,null,null,null,null,"TADHORTON PARK","TAD63","HORTON PARK","TAD63","HORTON PARK","TAD"]
[null,null,null,null,null,null,null,null,null,null,null,null,null,null,null,null,null,null,null,null,null,null,null,null,null,null,null,null,null,null,null,null,null,null,null,null,null,null,null,null,null,null,null,null,null,null,null,null,null,null,null,null,null,null,null,"TAFABERDEEN PARK (RESIDENTIAL SERVICES)","TAF10","ABERDEEN PARK (RESIDENTIAL SERVICES)","TAF10","ABERDEEN PARK (RESIDENTIAL SERVICES)","TAF"]
[null,null,null,null,null,null,null,null,null,null,null,null,null,null,null,null,null,null,null,null,null,null,null,null,null,null,null,null,null,null,null,null,null,null,null,null,null,null,null,null,null,null,null,null,null,null,null,null,null,null,null,null,null,null,null,"TAFCRISIS TEAM (NORTH CAMDEN)","TAF08","CRISIS TEAM (NORTH CAMDEN)","TAF08","CRISIS TEAM (NORTH CAMDEN)","TAF"]
[null,null,null,null,null,null,null,null,null,null,null,null,null,null,null,null,null,null,null,null,null,null,null,null,null,null,null,null,null,null,null,null,null,null,null,null,null,null,null,null,null,null,null,null,null,null,null,null,null,null,null,null,null,null,null,"TAFDRAYTON PARK WOMENS SERVICE","TAF04","DRAYTON PARK WOMENS SERVICE","TAF04","DRAYTON PARK WOMENS SERVICE","TAF"]
[null,null,null,null,null,null,null,null,null,null,null,null,null,null,null,null,null,null,null,null,null,null,null,null,null,null,null,null,null,null,null,null,null,null,null,null,null,null,null,null,null,null,null,null,null,null,null,null,null,null,null,null,null,null,null,"TAFHILL HOUSE","TAF80","HILL HOUSE","TAF80","HILL HOUSE","TAF"]
[null,null,null,null,null,null,null,null,null,null,null,null,null,null,null,null,null,null,null,null,null,null,null,null,null,null,null,null,null,null,null,null,null,null,null,null,null,null,null,null,null,null,null,null,null,null,null,null,null,null,null,null,null,null,null,"TAFLAMBO DAY CENTRE","TAF49","LAMBO DAY CENTRE","TAF49","LAMBO DAY CENTRE","TAF"]
[null,null,null,null,null,null,null,null,null,null,null,null,null,null,null,null,null,null,null,null,null,null,null,null,null,null,null,null,null,null,null,null,null,null,null,null,null,null,null,null,null,null,null,null,null,null,null,null,null,null,null,null,null,null,null,"TAFQUEEN MARY'S HOUSE","TAF59","QUEEN MARY'S HOUSE","TAF59","QUEEN MARY'S HOUSE","TAF"]
[null,null,null,null,null,null,null,null,null,null,null,null,null,null,null,null,null,null,null,null,null,null,null,null,null,null,null,null,null,null,null,null,null,null,null,null,null,null,null,null,null,null,null,null,null,null,null,null,null,null,null,null,null,null,null,"TAFST PANCRAS HOSPITAL","TAF01","ST PANCRAS HOSPITAL","TAF01","ST PANCRAS HOSPITAL","TAF"]
[null,null,null,null,null,null,null,null,null,null,null,null,null,null,null,null,null,null,null,null,null,null,null,null,null,null,null,null,null,null,null,null,null,null,null,null,null,null,null,null,null,null,null,null,null,null,null,null,null,null,null,null,null,null,null,"TAHFOREST CLOSE","TAHXM","FOREST CLOSE","TAHXM","FOREST CLOSE","TAH"]
[null,null,null,null,null,null,null,null,null,null,null,null,null,null,null,null,null,null,null,null,null,null,null,null,null,null,null,null,null,null,null,null,null,null,null,null,null,null,null,null,null,null,null,null,null,null,null,null,null,null,null,null,null,null,null,"TAHMANSFIELD VIEW","TAH61","MANSFIELD VIEW","TAH61","MANSFIELD VIEW","TAH"]
[null,null,null,null,null,null,null,null,null,null,null,null,null,null,null,null,null,null,null,null,null,null,null,null,null,null,null,null,null,null,null,null,null,null,null,null,null,null,null,null,null,null,null,null,null,null,null,null,null,null,null,null,null,null,null,"TAHST GEORGE'S COMMUNITY BASE","TAHJF","ST GEORGE'S COMMUNITY BASE","TAHJF","ST GEORGE'S COMMUNITY BASE","TAH"]
[null,null,null,null,null,null,null,null,null,null,null,null,null,null,null,null,null,null,null,null,null,null,null,null,null,null,null,null,null,null,null,null,null,null,null,null,null,null,null,null,null,null,null,null,null,null,null,null,null,null,null,null,null,null,null,"TAHWAINWRIGHT CRESCENT","TAHYR","WAINWRIGHT CRESCENT","TAHYR","WAINWRIGHT CRESCENT","TAH"]
[null,null,null,null,null,null,null,null,null,null,null,null,null,null,null,null,null,null,null,null,null,null,null,null,null,null,null,null,null,null,null,null,null,null,null,null,null,null,null,null,null,null,null,null,null,null,null,null,null,null,null,null,null,null,null,"TAHWATHWOOD HOSPITAL","TAH89","WATHWOOD HOSPITAL","TAH89","WATHWOOD HOSPITAL","TAH"]
[null,null,null,null,null,null,null,null,null,null,null,null,null,null,null,null,null,null,null,null,null,null,null,null,null,null,null,null,null,null,null,null,null,null,null,null,null,null,null,null,null,null,null,null,null,null,null,null,null,null,null,null,null,null,null,"TAJCITY HOSPITAL","TAJ46","CITY HOSPITAL","TAJ46","CITY HOSPITAL","TAJ"]
[null,null,null,null,null,null,null,null,null,null,null,null,null,null,null,null,null,null,null,null,null,null,null,null,null,null,null,null,null,null,null,null,null,null,null,null,null,null,null,null,null,null,null,null,null,null,null,null,null,null,null,null,null,null,null,"TAJDAISY BANK RESIDENTIAL","TAJ55","DAISY BANK RESIDENTIAL","TAJ55","DAISY BANK RESIDENTIAL","TAJ"]
[null,null,null,null,null,null,null,null,null,null,null,null,null,null,null,null,null,null,null,null,null,null,null,null,null,null,null,null,null,null,null,null,null,null,null,null,null,null,null,null,null,null,null,null,null,null,null,null,null,null,null,null,null,null,null,"TAJEDWARD STREET HOSPITAL","TAJ07","EDWARD STREET HOSPITAL","TAJ07","EDWARD STREET HOSPITAL","TAJ"]
[null,null,null,null,null,null,null,null,null,null,null,null,null,null,null,null,null,null,null,null,null,null,null,null,null,null,null,null,null,null,null,null,null,null,null,null,null,null,null,null,null,null,null,null,null,null,null,null,null,null,null,null,null,null,null,"TAJHALLAM STREET HOSPITAL","TAJ20","HALLAM STREET HOSPITAL","TAJ20","HALLAM STREET HOSPITAL","TAJ"]
[null,null,null,null,null,null,null,null,null,null,null,null,null,null,null,null,null,null,null,null,null,null,null,null,null,null,null,null,null,null,null,null,null,null,null,null,null,null,null,null,null,null,null,null,null,null,null,null,null,null,null,null,null,null,null,"TAJHEATH LANE HOSPITAL","TAJ11","HEATH LANE HOSPITAL","TAJ11","HEATH LANE HOSPITAL","TAJ"]
[null,null,null,null,null,null,null,null,null,null,null,null,null,null,null,null,null,null,null,null,null,null,null,null,null,null,null,null,null,null,null,null,null,null,null,null,null,null,null,null,null,null,null,null,null,null,null,null,null,null,null,null,null,null,null,"TAJNEPTUNE HEALTH PARK","TAJ22","NEPTUNE HEALTH PARK","TAJ22","NEPTUNE HEALTH PARK","TAJ"]
[null,null,null,null,null,null,null,null,null,null,null,null,null,null,null,null,null,null,null,null,null,null,null,null,null,null,null,null,null,null,null,null,null,null,null,null,null,null,null,null,null,null,null,null,null,null,null,null,null,null,null,null,null,null,null,"TAJPENN HOSPITAL","TAJ52","PENN HOSPITAL","TAJ52","PENN HOSPITAL","TAJ"]
[null,null,null,null,null,null,null,null,null,null,null,null,null,null,null,null,null,null,null,null,null,null,null,null,null,null,null,null,null,null,null,null,null,null,null,null,null,null,null,null,null,null,null,null,null,null,null,null,null,null,null,null,null,null,null,"TAJPOND LANE","TAJ53","POND LANE","TAJ53","POND LANE","TAJ"]
[null,null,null,null,null,null,null,null,null,null,null,null,null,null,null,null,null,null,null,null,null,null,null,null,null,null,null,null,null,null,null,null,null,null,null,null,null,null,null,null,null,null,null,null,null,null,null,null,null,null,null,null,null,null,null,"TAJRIDGE HILL HOSPITAL","TAJ54","RIDGE HILL HOSPITAL","TAJ54","RIDGE HILL HOSPITAL","TAJ"]
[null,null,null,null,null,null,null,null,null,null,null,null,null,null,null,null,null,null,null,null,null,null,null,null,null,null,null,null,null,null,null,null,null,null,null,null,null,null,null,null,null,null,null,null,null,null,null,null,null,null,null,null,null,null,null,"TAJROWLEY REGIS HOSPITAL","TAJ10","ROWLEY REGIS HOSPITAL","TAJ10","ROWLEY REGIS HOSPITAL","TAJ"]
[null,null,null,null,null,null,null,null,null,null,null,null,null,null,null,null,null,null,null,null,null,null,null,null,null,null,null,null,null,null,null,null,null,null,null,null,null,null,null,null,null,null,null,null,null,null,null,null,null,null,null,null,null,null,null,"TAJSANDWELL DISTRICT GENERAL HOSPITAL","TAJ43","SANDWELL DISTRICT GENERAL HOSPITAL","TAJ43","SANDWELL DISTRICT GENERAL HOSPITAL","TAJ"]
[null,null,null,null,null,null,null,null,null,null,null,null,null,null,null,null,null,null,null,null,null,null,null,null,null,null,null,null,null,null,null,null,null,null,null,null,null,null,null,null,null,null,null,null,null,null,null,null,null,null,null,null,null,null,null,"TAJSUTTONS DRIVE","TAJ56","SUTTONS DRIVE","TAJ56","SUTTONS DRIVE","TAJ"]
[null,null,null,null,null,null,null,null,null,null,null,null,null,null,null,null,null,null,null,null,null,null,null,null,null,null,null,null,null,null,null,null,null,null,null,null,null,null,null,null,null,null,null,null,null,null,null,null,null,null,null,null,null,null,null,{"$f":"CONCATENATE(LEFT(BE5090, 3),BF5090)","v":"TAJTHE CREST"},"TAJ29","THE CREST","TAJ29","THE CREST","TAJ"]
[null,null,null,null,null,null,null,null,null,null,null,null,null,null,null,null,null,null,null,null,null,null,null,null,null,null,null,null,null,null,null,null,null,null,null,null,null,null,null,null,null,null,null,null,null,null,null,null,null,null,null,null,null,null,null,{"$f":"CONCATENATE(LEFT(BE5091, 3),BF5091)","v":""},null,null,null,null,{"$f":"LEFT(BG5091,3)","v":""}]
[null,null,null,null,null,null,null,null,null,null,null,null,null,null,null,null,null,null,null,null,null,null,null,null,null,null,null,null,null,null,null,null,null,null,null,null,null,null,null,null,null,null,null,null,null,null,null,null,null,null,null,null,null,null,null,"",null,null,null,null,""]
[null,null,null,null,null,null,null,null,null,null,null,null,null,null,null,null,null,null,null,null,null,null,null,null,null,null,null,null,null,null,null,null,null,null,null,null,null,null,null,null,null,null,null,null,null,null,null,null,null,null,null,null,null,null,null,"",null,null,null,null,""]
[null,null,null,null,null,null,null,null,null,null,null,null,null,null,null,null,null,null,null,null,null,null,null,null,null,null,null,null,null,null,null,null,null,null,null,null,null,null,null,null,null,null,null,null,null,null,null,null,null,null,null,null,null,null,null,"",null,null,null,null,""]
[null,null,null,null,null,null,null,null,null,null,null,null,null,null,null,null,null,null,null,null,null,null,null,null,null,null,null,null,null,null,null,null,null,null,null,null,null,null,null,null,null,null,null,null,null,null,null,null,null,null,null,null,null,null,null,"",null,null,null,null,""]
[null,null,null,null,null,null,null,null,null,null,null,null,null,null,null,null,null,null,null,null,null,null,null,null,null,null,null,null,null,null,null,null,null,null,null,null,null,null,null,null,null,null,null,null,null,null,null,null,null,null,null,null,null,null,null,"",null,null,null,null,""]
[null,null,null,null,null,null,null,null,null,null,null,null,null,null,null,null,null,null,null,null,null,null,null,null,null,null,null,null,null,null,null,null,null,null,null,null,null,null,null,null,null,null,null,null,null,null,null,null,null,null,null,null,null,null,null,"",null,null,null,null,""]
[null,null,null,null,null,null,null,null,null,null,null,null,null,null,null,null,null,null,null,null,null,null,null,null,null,null,null,null,null,null,null,null,null,null,null,null,null,null,null,null,null,null,null,null,null,null,null,null,null,null,null,null,null,null,null,"",null,null,null,null,""]
[null,null,null,null,null,null,null,null,null,null,null,null,null,null,null,null,null,null,null,null,null,null,null,null,null,null,null,null,null,null,null,null,null,null,null,null,null,null,null,null,null,null,null,null,null,null,null,null,null,null,null,null,null,null,null,"",null,null,null,null,""]
[null,null,null,null,null,null,null,null,null,null,null,null,null,null,null,null,null,null,null,null,null,null,null,null,null,null,null,null,null,null,null,null,null,null,null,null,null,null,null,null,null,null,null,null,null,null,null,null,null,null,null,null,null,null,null,"",null,null,null,null,""]
[null,null,null,null,null,null,null,null,null,null,null,null,null,null,null,null,null,null,null,null,null,null,null,null,null,null,null,null,null,null,null,null,null,null,null,null,null,null,null,null,null,null,null,null,null,null,null,null,null,null,null,null,null,null,null,"",null,null,null,null,""]
[null,null,null,null,null,null,null,null,null,null,null,null,null,null,null,null,null,null,null,null,null,null,null,null,null,null,null,null,null,null,null,null,null,null,null,null,null,null,null,null,null,null,null,null,null,null,null,null,null,null,null,null,null,null,null,"",null,null,null,null,""]
[null,null,null,null,null,null,null,null,null,null,null,null,null,null,null,null,null,null,null,null,null,null,null,null,null,null,null,null,null,null,null,null,null,null,null,null,null,null,null,null,null,null,null,null,null,null,null,null,null,null,null,null,null,null,null,"",null,null,null,null,""]
[null,null,null,null,null,null,null,null,null,null,null,null,null,null,null,null,null,null,null,null,null,null,null,null,null,null,null,null,null,null,null,null,null,null,null,null,null,null,null,null,null,null,null,null,null,null,null,null,null,null,null,null,null,null,null,"",null,null,null,null,""]
[null,null,null,null,null,null,null,null,null,null,null,null,null,null,null,null,null,null,null,null,null,null,null,null,null,null,null,null,null,null,null,null,null,null,null,null,null,null,null,null,null,null,null,null,null,null,null,null,null,null,null,null,null,null,null,"",null,null,null,null,""]
[null,null,null,null,null,null,null,null,null,null,null,null,null,null,null,null,null,null,null,null,null,null,null,null,null,null,null,null,null,null,null,null,null,null,null,null,null,null,null,null,null,null,null,null,null,null,null,null,null,null,null,null,null,null,null,"",null,null,null,null,""]
[null,null,null,null,null,null,null,null,null,null,null,null,null,null,null,null,null,null,null,null,null,null,null,null,null,null,null,null,null,null,null,null,null,null,null,null,null,null,null,null,null,null,null,null,null,null,null,null,null,null,null,null,null,null,null,"",null,null,null,null,""]
[null,null,null,null,null,null,null,null,null,null,null,null,null,null,null,null,null,null,null,null,null,null,null,null,null,null,null,null,null,null,null,null,null,null,null,null,null,null,null,null,null,null,null,null,null,null,null,null,null,null,null,null,null,null,null,"",null,null,null,null,""]
[null,null,null,null,null,null,null,null,null,null,null,null,null,null,null,null,null,null,null,null,null,null,null,null,null,null,null,null,null,null,null,null,null,null,null,null,null,null,null,null,null,null,null,null,null,null,null,null,null,null,null,null,null,null,null,"",null,null,null,null,""]
[null,null,null,null,null,null,null,null,null,null,null,null,null,null,null,null,null,null,null,null,null,null,null,null,null,null,null,null,null,null,null,null,null,null,null,null,null,null,null,null,null,null,null,null,null,null,null,null,null,null,null,null,null,null,null,"",null,null,null,null,""]
[null,null,null,null,null,null,null,null,null,null,null,null,null,null,null,null,null,null,null,null,null,null,null,null,null,null,null,null,null,null,null,null,null,null,null,null,null,null,null,null,null,null,null,null,null,null,null,null,null,null,null,null,null,null,null,"",null,null,null,null,""]
[null,null,null,null,null,null,null,null,null,null,null,null,null,null,null,null,null,null,null,null,null,null,null,null,null,null,null,null,null,null,null,null,null,null,null,null,null,null,null,null,null,null,null,null,null,null,null,null,null,null,null,null,null,null,null,"",null,null,null,null,""]
[null,null,null,null,null,null,null,null,null,null,null,null,null,null,null,null,null,null,null,null,null,null,null,null,null,null,null,null,null,null,null,null,null,null,null,null,null,null,null,null,null,null,null,null,null,null,null,null,null,null,null,null,null,null,null,"",null,null,null,null,""]
[null,null,null,null,null,null,null,null,null,null,null,null,null,null,null,null,null,null,null,null,null,null,null,null,null,null,null,null,null,null,null,null,null,null,null,null,null,null,null,null,null,null,null,null,null,null,null,null,null,null,null,null,null,null,null,"",null,null,null,null,""]
[null,null,null,null,null,null,null,null,null,null,null,null,null,null,null,null,null,null,null,null,null,null,null,null,null,null,null,null,null,null,null,null,null,null,null,null,null,null,null,null,null,null,null,null,null,null,null,null,null,null,null,null,null,null,null,"",null,null,null,null,""]
[null,null,null,null,null,null,null,null,null,null,null,null,null,null,null,null,null,null,null,null,null,null,null,null,null,null,null,null,null,null,null,null,null,null,null,null,null,null,null,null,null,null,null,null,null,null,null,null,null,null,null,null,null,null,null,"",null,null,null,null,""]
[null,null,null,null,null,null,null,null,null,null,null,null,null,null,null,null,null,null,null,null,null,null,null,null,null,null,null,null,null,null,null,null,null,null,null,null,null,null,null,null,null,null,null,null,null,null,null,null,null,null,null,null,null,null,null,"",null,null,null,null,""]
[null,null,null,null,null,null,null,null,null,null,null,null,null,null,null,null,null,null,null,null,null,null,null,null,null,null,null,null,null,null,null,null,null,null,null,null,null,null,null,null,null,null,null,null,null,null,null,null,null,null,null,null,null,null,null,"",null,null,null,null,""]
[null,null,null,null,null,null,null,null,null,null,null,null,null,null,null,null,null,null,null,null,null,null,null,null,null,null,null,null,null,null,null,null,null,null,null,null,null,null,null,null,null,null,null,null,null,null,null,null,null,null,null,null,null,null,null,"",null,null,null,null,""]
[null,null,null,null,null,null,null,null,null,null,null,null,null,null,null,null,null,null,null,null,null,null,null,null,null,null,null,null,null,null,null,null,null,null,null,null,null,null,null,null,null,null,null,null,null,null,null,null,null,null,null,null,null,null,null,"",null,null,null,null,""]
[null,null,null,null,null,null,null,null,null,null,null,null,null,null,null,null,null,null,null,null,null,null,null,null,null,null,null,null,null,null,null,null,null,null,null,null,null,null,null,null,null,null,null,null,null,null,null,null,null,null,null,null,null,null,null,"",null,null,null,null,""]
[null,null,null,null,null,null,null,null,null,null,null,null,null,null,null,null,null,null,null,null,null,null,null,null,null,null,null,null,null,null,null,null,null,null,null,null,null,null,null,null,null,null,null,null,null,null,null,null,null,null,null,null,null,null,null,"",null,null,null,null,""]
[null,null,null,null,null,null,null,null,null,null,null,null,null,null,null,null,null,null,null,null,null,null,null,null,null,null,null,null,null,null,null,null,null,null,null,null,null,null,null,null,null,null,null,null,null,null,null,null,null,null,null,null,null,null,null,"",null,null,null,null,""]
[null,null,null,null,null,null,null,null,null,null,null,null,null,null,null,null,null,null,null,null,null,null,null,null,null,null,null,null,null,null,null,null,null,null,null,null,null,null,null,null,null,null,null,null,null,null,null,null,null,null,null,null,null,null,null,"",null,null,null,null,""]
[null,null,null,null,null,null,null,null,null,null,null,null,null,null,null,null,null,null,null,null,null,null,null,null,null,null,null,null,null,null,null,null,null,null,null,null,null,null,null,null,null,null,null,null,null,null,null,null,null,null,null,null,null,null,null,"",null,null,null,null,""]
[null,null,null,null,null,null,null,null,null,null,null,null,null,null,null,null,null,null,null,null,null,null,null,null,null,null,null,null,null,null,null,null,null,null,null,null,null,null,null,null,null,null,null,null,null,null,null,null,null,null,null,null,null,null,null,"",null,null,null,null,""]
[null,null,null,null,null,null,null,null,null,null,null,null,null,null,null,null,null,null,null,null,null,null,null,null,null,null,null,null,null,null,null,null,null,null,null,null,null,null,null,null,null,null,null,null,null,null,null,null,null,null,null,null,null,null,null,"",null,null,null,null,""]
[null,null,null,null,null,null,null,null,null,null,null,null,null,null,null,null,null,null,null,null,null,null,null,null,null,null,null,null,null,null,null,null,null,null,null,null,null,null,null,null,null,null,null,null,null,null,null,null,null,null,null,null,null,null,null,"",null,null,null,null,""]
[null,null,null,null,null,null,null,null,null,null,null,null,null,null,null,null,null,null,null,null,null,null,null,null,null,null,null,null,null,null,null,null,null,null,null,null,null,null,null,null,null,null,null,null,null,null,null,null,null,null,null,null,null,null,null,"",null,null,null,null,""]
[null,null,null,null,null,null,null,null,null,null,null,null,null,null,null,null,null,null,null,null,null,null,null,null,null,null,null,null,null,null,null,null,null,null,null,null,null,null,null,null,null,null,null,null,null,null,null,null,null,null,null,null,null,null,null,"",null,null,null,null,""]
[null,null,null,null,null,null,null,null,null,null,null,null,null,null,null,null,null,null,null,null,null,null,null,null,null,null,null,null,null,null,null,null,null,null,null,null,null,null,null,null,null,null,null,null,null,null,null,null,null,null,null,null,null,null,null,"",null,null,null,null,""]
[null,null,null,null,null,null,null,null,null,null,null,null,null,null,null,null,null,null,null,null,null,null,null,null,null,null,null,null,null,null,null,null,null,null,null,null,null,null,null,null,null,null,null,null,null,null,null,null,null,null,null,null,null,null,null,"",null,null,null,null,""]
[null,null,null,null,null,null,null,null,null,null,null,null,null,null,null,null,null,null,null,null,null,null,null,null,null,null,null,null,null,null,null,null,null,null,null,null,null,null,null,null,null,null,null,null,null,null,null,null,null,null,null,null,null,null,null,"",null,null,null,null,""]
[null,null,null,null,null,null,null,null,null,null,null,null,null,null,null,null,null,null,null,null,null,null,null,null,null,null,null,null,null,null,null,null,null,null,null,null,null,null,null,null,null,null,null,null,null,null,null,null,null,null,null,null,null,null,null,"",null,null,null,null,""]
[null,null,null,null,null,null,null,null,null,null,null,null,null,null,null,null,null,null,null,null,null,null,null,null,null,null,null,null,null,null,null,null,null,null,null,null,null,null,null,null,null,null,null,null,null,null,null,null,null,null,null,null,null,null,null,"",null,null,null,null,""]
[null,null,null,null,null,null,null,null,null,null,null,null,null,null,null,null,null,null,null,null,null,null,null,null,null,null,null,null,null,null,null,null,null,null,null,null,null,null,null,null,null,null,null,null,null,null,null,null,null,null,null,null,null,null,null,"",null,null,null,null,""]
[null,null,null,null,null,null,null,null,null,null,null,null,null,null,null,null,null,null,null,null,null,null,null,null,null,null,null,null,null,null,null,null,null,null,null,null,null,null,null,null,null,null,null,null,null,null,null,null,null,null,null,null,null,null,null,"",null,null,null,null,""]
[null,null,null,null,null,null,null,null,null,null,null,null,null,null,null,null,null,null,null,null,null,null,null,null,null,null,null,null,null,null,null,null,null,null,null,null,null,null,null,null,null,null,null,null,null,null,null,null,null,null,null,null,null,null,null,"",null,null,null,null,""]
[null,null,null,null,null,null,null,null,null,null,null,null,null,null,null,null,null,null,null,null,null,null,null,null,null,null,null,null,null,null,null,null,null,null,null,null,null,null,null,null,null,null,null,null,null,null,null,null,null,null,null,null,null,null,null,"",null,null,null,null,""]
[null,null,null,null,null,null,null,null,null,null,null,null,null,null,null,null,null,null,null,null,null,null,null,null,null,null,null,null,null,null,null,null,null,null,null,null,null,null,null,null,null,null,null,null,null,null,null,null,null,null,null,null,null,null,null,"",null,null,null,null,""]
[null,null,null,null,null,null,null,null,null,null,null,null,null,null,null,null,null,null,null,null,null,null,null,null,null,null,null,null,null,null,null,null,null,null,null,null,null,null,null,null,null,null,null,null,null,null,null,null,null,null,null,null,null,null,null,"",null,null,null,null,""]
[null,null,null,null,null,null,null,null,null,null,null,null,null,null,null,null,null,null,null,null,null,null,null,null,null,null,null,null,null,null,null,null,null,null,null,null,null,null,null,null,null,null,null,null,null,null,null,null,null,null,null,null,null,null,null,"",null,null,null,null,""]
[null,null,null,null,null,null,null,null,null,null,null,null,null,null,null,null,null,null,null,null,null,null,null,null,null,null,null,null,null,null,null,null,null,null,null,null,null,null,null,null,null,null,null,null,null,null,null,null,null,null,null,null,null,null,null,"",null,null,null,null,""]
[null,null,null,null,null,null,null,null,null,null,null,null,null,null,null,null,null,null,null,null,null,null,null,null,null,null,null,null,null,null,null,null,null,null,null,null,null,null,null,null,null,null,null,null,null,null,null,null,null,null,null,null,null,null,null,"",null,null,null,null,""]
[null,null,null,null,null,null,null,null,null,null,null,null,null,null,null,null,null,null,null,null,null,null,null,null,null,null,null,null,null,null,null,null,null,null,null,null,null,null,null,null,null,null,null,null,null,null,null,null,null,null,null,null,null,null,null,"",null,null,null,null,""]
[null,null,null,null,null,null,null,null,null,null,null,null,null,null,null,null,null,null,null,null,null,null,null,null,null,null,null,null,null,null,null,null,null,null,null,null,null,null,null,null,null,null,null,null,null,null,null,null,null,null,null,null,null,null,null,"",null,null,null,null,""]
[null,null,null,null,null,null,null,null,null,null,null,null,null,null,null,null,null,null,null,null,null,null,null,null,null,null,null,null,null,null,null,null,null,null,null,null,null,null,null,null,null,null,null,null,null,null,null,null,null,null,null,null,null,null,null,"",null,null,null,null,""]
[null,null,null,null,null,null,null,null,null,null,null,null,null,null,null,null,null,null,null,null,null,null,null,null,null,null,null,null,null,null,null,null,null,null,null,null,null,null,null,null,null,null,null,null,null,null,null,null,null,null,null,null,null,null,null,"",null,null,null,null,""]
[null,null,null,null,null,null,null,null,null,null,null,null,null,null,null,null,null,null,null,null,null,null,null,null,null,null,null,null,null,null,null,null,null,null,null,null,null,null,null,null,null,null,null,null,null,null,null,null,null,null,null,null,null,null,null,"",null,null,null,null,{"$f":"LEFT(BG5149,3)","v":""}]
[null,null,null,null,null,null,null,null,null,null,null,null,null,null,null,null,null,null,null,null,null,null,null,null,null,null,null,null,null,null,null,null,null,null,null,null,null,null,null,null,null,null,null,null,null,null,null,null,null,null,null,null,null,null,null,"",null,null,null,null,""]
[null,null,null,null,null,null,null,null,null,null,null,null,null,null,null,null,null,null,null,null,null,null,null,null,null,null,null,null,null,null,null,null,null,null,null,null,null,null,null,null,null,null,null,null,null,null,null,null,null,null,null,null,null,null,null,"",null,null,null,null,""]
[null,null,null,null,null,null,null,null,null,null,null,null,null,null,null,null,null,null,null,null,null,null,null,null,null,null,null,null,null,null,null,null,null,null,null,null,null,null,null,null,null,null,null,null,null,null,null,null,null,null,null,null,null,null,null,"",null,null,null,null,""]
[null,null,null,null,null,null,null,null,null,null,null,null,null,null,null,null,null,null,null,null,null,null,null,null,null,null,null,null,null,null,null,null,null,null,null,null,null,null,null,null,null,null,null,null,null,null,null,null,null,null,null,null,null,null,null,{"$f":"CONCATENATE(LEFT(BE5153, 3),BF5153)","v":""},null,null,null,null,""]
[null,null,null,null,null,null,null,null,null,null,null,null,null,null,null,null,null,null,null,null,null,null,null,null,null,null,null,null,null,null,null,null,null,null,null,null,null,null,null,null,null,null,null,null,null,null,null,null,null,null,null,null,null,null,null,"",null,null,null,null,""]
[null,null,null,null,null,null,null,null,null,null,null,null,null,null,null,null,null,null,null,null,null,null,null,null,null,null,null,null,null,null,null,null,null,null,null,null,null,null,null,null,null,null,null,null,null,null,null,null,null,null,null,null,null,null,null,"",null,null,null,null,""]
[null,null,null,null,null,null,null,null,null,null,null,null,null,null,null,null,null,null,null,null,null,null,null,null,null,null,null,null,null,null,null,null,null,null,null,null,null,null,null,null,null,null,null,null,null,null,null,null,null,null,null,null,null,null,null,"",null,null,null,null,""]
[null,null,null,null,null,null,null,null,null,null,null,null,null,null,null,null,null,null,null,null,null,null,null,null,null,null,null,null,null,null,null,null,null,null,null,null,null,null,null,null,null,null,null,null,null,null,null,null,null,null,null,null,null,null,null,"",null,null,null,null,""]
[null,null,null,null,null,null,null,null,null,null,null,null,null,null,null,null,null,null,null,null,null,null,null,null,null,null,null,null,null,null,null,null,null,null,null,null,null,null,null,null,null,null,null,null,null,null,null,null,null,null,null,null,null,null,null,"",null,null,null,null,""]
[null,null,null,null,null,null,null,null,null,null,null,null,null,null,null,null,null,null,null,null,null,null,null,null,null,null,null,null,null,null,null,null,null,null,null,null,null,null,null,null,null,null,null,null,null,null,null,null,null,null,null,null,null,null,null,"",null,null,null,null,""]
[null,null,null,null,null,null,null,null,null,null,null,null,null,null,null,null,null,null,null,null,null,null,null,null,null,null,null,null,null,null,null,null,null,null,null,null,null,null,null,null,null,null,null,null,null,null,null,null,null,null,null,null,null,null,null,"",null,null,null,null,""]
[null,null,null,null,null,null,null,null,null,null,null,null,null,null,null,null,null,null,null,null,null,null,null,null,null,null,null,null,null,null,null,null,null,null,null,null,null,null,null,null,null,null,null,null,null,null,null,null,null,null,null,null,null,null,null,"",null,null,null,null,""]
[null,null,null,null,null,null,null,null,null,null,null,null,null,null,null,null,null,null,null,null,null,null,null,null,null,null,null,null,null,null,null,null,null,null,null,null,null,null,null,null,null,null,null,null,null,null,null,null,null,null,null,null,null,null,null,"",null,null,null,null,""]
[null,null,null,null,null,null,null,null,null,null,null,null,null,null,null,null,null,null,null,null,null,null,null,null,null,null,null,null,null,null,null,null,null,null,null,null,null,null,null,null,null,null,null,null,null,null,null,null,null,null,null,null,null,null,null,"",null,null,null,null,""]
[null,null,null,null,null,null,null,null,null,null,null,null,null,null,null,null,null,null,null,null,null,null,null,null,null,null,null,null,null,null,null,null,null,null,null,null,null,null,null,null,null,null,null,null,null,null,null,null,null,null,null,null,null,null,null,"",null,null,null,null,""]
[null,null,null,null,null,null,null,null,null,null,null,null,null,null,null,null,null,null,null,null,null,null,null,null,null,null,null,null,null,null,null,null,null,null,null,null,null,null,null,null,null,null,null,null,null,null,null,null,null,null,null,null,null,null,null,"",null,null,null,null,""]
[null,null,null,null,null,null,null,null,null,null,null,null,null,null,null,null,null,null,null,null,null,null,null,null,null,null,null,null,null,null,null,null,null,null,null,null,null,null,null,null,null,null,null,null,null,null,null,null,null,null,null,null,null,null,null,"",null,null,null,null,""]
[null,null,null,null,null,null,null,null,null,null,null,null,null,null,null,null,null,null,null,null,null,null,null,null,null,null,null,null,null,null,null,null,null,null,null,null,null,null,null,null,null,null,null,null,null,null,null,null,null,null,null,null,null,null,null,"",null,null,null,null,""]
[null,null,null,null,null,null,null,null,null,null,null,null,null,null,null,null,null,null,null,null,null,null,null,null,null,null,null,null,null,null,null,null,null,null,null,null,null,null,null,null,null,null,null,null,null,null,null,null,null,null,null,null,null,null,null,"",null,null,null,null,""]
[null,null,null,null,null,null,null,null,null,null,null,null,null,null,null,null,null,null,null,null,null,null,null,null,null,null,null,null,null,null,null,null,null,null,null,null,null,null,null,null,null,null,null,null,null,null,null,null,null,null,null,null,null,null,null,"",null,null,null,null,""]
[null,null,null,null,null,null,null,null,null,null,null,null,null,null,null,null,null,null,null,null,null,null,null,null,null,null,null,null,null,null,null,null,null,null,null,null,null,null,null,null,null,null,null,null,null,null,null,null,null,null,null,null,null,null,null,"",null,null,null,null,""]
[null,null,null,null,null,null,null,null,null,null,null,null,null,null,null,null,null,null,null,null,null,null,null,null,null,null,null,null,null,null,null,null,null,null,null,null,null,null,null,null,null,null,null,null,null,null,null,null,null,null,null,null,null,null,null,"",null,null,null,null,""]
[null,null,null,null,null,null,null,null,null,null,null,null,null,null,null,null,null,null,null,null,null,null,null,null,null,null,null,null,null,null,null,null,null,null,null,null,null,null,null,null,null,null,null,null,null,null,null,null,null,null,null,null,null,null,null,"",null,null,null,null,""]
[null,null,null,null,null,null,null,null,null,null,null,null,null,null,null,null,null,null,null,null,null,null,null,null,null,null,null,null,null,null,null,null,null,null,null,null,null,null,null,null,null,null,null,null,null,null,null,null,null,null,null,null,null,null,null,"",null,null,null,null,""]
[null,null,null,null,null,null,null,null,null,null,null,null,null,null,null,null,null,null,null,null,null,null,null,null,null,null,null,null,null,null,null,null,null,null,null,null,null,null,null,null,null,null,null,null,null,null,null,null,null,null,null,null,null,null,null,"",null,null,null,null,""]
[null,null,null,null,null,null,null,null,null,null,null,null,null,null,null,null,null,null,null,null,null,null,null,null,null,null,null,null,null,null,null,null,null,null,null,null,null,null,null,null,null,null,null,null,null,null,null,null,null,null,null,null,null,null,null,"",null,null,null,null,""]
[null,null,null,null,null,null,null,null,null,null,null,null,null,null,null,null,null,null,null,null,null,null,null,null,null,null,null,null,null,null,null,null,null,null,null,null,null,null,null,null,null,null,null,null,null,null,null,null,null,null,null,null,null,null,null,"",null,null,null,null,""]
[null,null,null,null,null,null,null,null,null,null,null,null,null,null,null,null,null,null,null,null,null,null,null,null,null,null,null,null,null,null,null,null,null,null,null,null,null,null,null,null,null,null,null,null,null,null,null,null,null,null,null,null,null,null,null,"",null,null,null,null,""]
[null,null,null,null,null,null,null,null,null,null,null,null,null,null,null,null,null,null,null,null,null,null,null,null,null,null,null,null,null,null,null,null,null,null,null,null,null,null,null,null,null,null,null,null,null,null,null,null,null,null,null,null,null,null,null,"",null,null,null,null,""]
[null,null,null,null,null,null,null,null,null,null,null,null,null,null,null,null,null,null,null,null,null,null,null,null,null,null,null,null,null,null,null,null,null,null,null,null,null,null,null,null,null,null,null,null,null,null,null,null,null,null,null,null,null,null,null,"",null,null,null,null,""]
[null,null,null,null,null,null,null,null,null,null,null,null,null,null,null,null,null,null,null,null,null,null,null,null,null,null,null,null,null,null,null,null,null,null,null,null,null,null,null,null,null,null,null,null,null,null,null,null,null,null,null,null,null,null,null,"",null,null,null,null,""]
[null,null,null,null,null,null,null,null,null,null,null,null,null,null,null,null,null,null,null,null,null,null,null,null,null,null,null,null,null,null,null,null,null,null,null,null,null,null,null,null,null,null,null,null,null,null,null,null,null,null,null,null,null,null,null,"",null,null,null,null,""]
[null,null,null,null,null,null,null,null,null,null,null,null,null,null,null,null,null,null,null,null,null,null,null,null,null,null,null,null,null,null,null,null,null,null,null,null,null,null,null,null,null,null,null,null,null,null,null,null,null,null,null,null,null,null,null,"",null,null,null,null,""]
[null,null,null,null,null,null,null,null,null,null,null,null,null,null,null,null,null,null,null,null,null,null,null,null,null,null,null,null,null,null,null,null,null,null,null,null,null,null,null,null,null,null,null,null,null,null,null,null,null,null,null,null,null,null,null,"",null,null,null,null,""]
[null,null,null,null,null,null,null,null,null,null,null,null,null,null,null,null,null,null,null,null,null,null,null,null,null,null,null,null,null,null,null,null,null,null,null,null,null,null,null,null,null,null,null,null,null,null,null,null,null,null,null,null,null,null,null,"",null,null,null,null,""]
[null,null,null,null,null,null,null,null,null,null,null,null,null,null,null,null,null,null,null,null,null,null,null,null,null,null,null,null,null,null,null,null,null,null,null,null,null,null,null,null,null,null,null,null,null,null,null,null,null,null,null,null,null,null,null,"",null,null,null,null,""]
[null,null,null,null,null,null,null,null,null,null,null,null,null,null,null,null,null,null,null,null,null,null,null,null,null,null,null,null,null,null,null,null,null,null,null,null,null,null,null,null,null,null,null,null,null,null,null,null,null,null,null,null,null,null,null,"",null,null,null,null,""]
[null,null,null,null,null,null,null,null,null,null,null,null,null,null,null,null,null,null,null,null,null,null,null,null,null,null,null,null,null,null,null,null,null,null,null,null,null,null,null,null,null,null,null,null,null,null,null,null,null,null,null,null,null,null,null,"",null,null,null,null,""]
[null,null,null,null,null,null,null,null,null,null,null,null,null,null,null,null,null,null,null,null,null,null,null,null,null,null,null,null,null,null,null,null,null,null,null,null,null,null,null,null,null,null,null,null,null,null,null,null,null,null,null,null,null,null,null,"",null,null,null,null,""]
[null,null,null,null,null,null,null,null,null,null,null,null,null,null,null,null,null,null,null,null,null,null,null,null,null,null,null,null,null,null,null,null,null,null,null,null,null,null,null,null,null,null,null,null,null,null,null,null,null,null,null,null,null,null,null,"",null,null,null,null,""]
[null,null,null,null,null,null,null,null,null,null,null,null,null,null,null,null,null,null,null,null,null,null,null,null,null,null,null,null,null,null,null,null,null,null,null,null,null,null,null,null,null,null,null,null,null,null,null,null,null,null,null,null,null,null,null,"",null,null,null,null,""]
[null,null,null,null,null,null,null,null,null,null,null,null,null,null,null,null,null,null,null,null,null,null,null,null,null,null,null,null,null,null,null,null,null,null,null,null,null,null,null,null,null,null,null,null,null,null,null,null,null,null,null,null,null,null,null,"",null,null,null,null,""]
[null,null,null,null,null,null,null,null,null,null,null,null,null,null,null,null,null,null,null,null,null,null,null,null,null,null,null,null,null,null,null,null,null,null,null,null,null,null,null,null,null,null,null,null,null,null,null,null,null,null,null,null,null,null,null,"",null,null,null,null,""]
[null,null,null,null,null,null,null,null,null,null,null,null,null,null,null,null,null,null,null,null,null,null,null,null,null,null,null,null,null,null,null,null,null,null,null,null,null,null,null,null,null,null,null,null,null,null,null,null,null,null,null,null,null,null,null,"",null,null,null,null,""]
[null,null,null,null,null,null,null,null,null,null,null,null,null,null,null,null,null,null,null,null,null,null,null,null,null,null,null,null,null,null,null,null,null,null,null,null,null,null,null,null,null,null,null,null,null,null,null,null,null,null,null,null,null,null,null,"",null,null,null,null,""]
[null,null,null,null,null,null,null,null,null,null,null,null,null,null,null,null,null,null,null,null,null,null,null,null,null,null,null,null,null,null,null,null,null,null,null,null,null,null,null,null,null,null,null,null,null,null,null,null,null,null,null,null,null,null,null,"",null,null,null,null,""]
[null,null,null,null,null,null,null,null,null,null,null,null,null,null,null,null,null,null,null,null,null,null,null,null,null,null,null,null,null,null,null,null,null,null,null,null,null,null,null,null,null,null,null,null,null,null,null,null,null,null,null,null,null,null,null,"",null,null,null,null,""]
[null,null,null,null,null,null,null,null,null,null,null,null,null,null,null,null,null,null,null,null,null,null,null,null,null,null,null,null,null,null,null,null,null,null,null,null,null,null,null,null,null,null,null,null,null,null,null,null,null,null,null,null,null,null,null,"",null,null,null,null,""]
[null,null,null,null,null,null,null,null,null,null,null,null,null,null,null,null,null,null,null,null,null,null,null,null,null,null,null,null,null,null,null,null,null,null,null,null,null,null,null,null,null,null,null,null,null,null,null,null,null,null,null,null,null,null,null,"",null,null,null,null,""]
[null,null,null,null,null,null,null,null,null,null,null,null,null,null,null,null,null,null,null,null,null,null,null,null,null,null,null,null,null,null,null,null,null,null,null,null,null,null,null,null,null,null,null,null,null,null,null,null,null,null,null,null,null,null,null,"",null,null,null,null,""]
[null,null,null,null,null,null,null,null,null,null,null,null,null,null,null,null,null,null,null,null,null,null,null,null,null,null,null,null,null,null,null,null,null,null,null,null,null,null,null,null,null,null,null,null,null,null,null,null,null,null,null,null,null,null,null,"",null,null,null,null,""]

{"sheet":"Validation","index":4,"n_rows":59,"n_cols":12,"rows_kept":59,"cut":false,"hidden":true,"merged":[]}
[]
["Requested validations","FFT IP validation code"]
[]
["ERRORS:"]
["1)    Organisation code must be selected;"]
["3)    An ODS site code must be selected for each row;"]
["4)    A ward name must be entered for each row;"]
["5)    At least one specialty must be selected (Specialty 1) for each row;"]
["6)    Specialties (Specialty 1 and Specialty 2) must be selected from drop downs;","internal?"]
["7)    Total planned hours for each row must be greater than zero;"]
["8)    Total actual hours for each row must be greater than zero;"]
["9)    There should be no gaps between each row;","?"]
["10) Duplication of a ward name within a site.","\"=IF($AA$816>0,\"Duplicate 'Ward name' (Col D), with the same specialty(s) (Col L and Col M), has been provided for at least 1 'Hospital Site'(Col C)\",\"\")\"","does not work in the other sheets!!"]
["WARNINGS:"]
["1)    One or more wards has a day nurse fill rate > 100%;"]
["2)    One or more wards has a day care staff fill rate > 100%;"]
["3)    One or more wards has a night nurse fill rate > 100%;"]
["4)    One or more wards has a night care staff fill rate > 100%;"]
["5)    One or more wards has less than 1448 actual hours (approx. 2 full time staff);"]
["6)    One or more wards has more than 30 000 actual hours (approx. 40 full time staff);"]
["7)    One or more wards has submitted actual hours but zero CHPPD patients."]
[]
[]
[]
["Other"]
[]
["no duplicate speciality codes","\"=IF(Y816>0,\"The same 'Specialty' (Col L and Col M) can not be selected twice\",\"\")\""]
["all relevant cells to be filled in","\"=IF(T816>0,\"Data not complete for all rows\",IF(W816>0,\"Data not complete for all rows\",\"\"))\""]
[]
["Fix ODS ref data"]
[]
[]
[]
[]
[]
[]
[]
[]
[]
[]
[]
[]
[]
[]
[]
[]
[null,null,"a",1,"p",null,null,null,null,null,{"$f":"CONCATENATE(C47,D47,E47,F47)","v":"a1p"},{"$f":"(IF(COUNTIF($K$47:$K$59,K47)>1,1,0))=1","v":false}]
[null,null,"b",2,"o",null,null,null,null,null,{"$f":"CONCATENATE(C48,D48,E48,F48)","v":"b2o"},{"$f":"(IF(COUNTIF($K$47:$K$59,K48)>1,1,0))=1","v":false}]
[null,null,"c",3,"i",null,null,null,null,null,"c3i",false]
[null,null,"d",4,"u",null,null,null,null,null,"d4u",false]
[null,null,"e",5,"y",null,null,null,null,null,"e5y",false]
[null,null,"f",6,"t",null,null,null,null,null,"f6t",false]
[null,null,"g",7,"r",null,null,null,null,null,"g7r",false]
[null,null,"h",8,"e",null,null,null,null,null,"h8e",false]
[null,null,"i",9,"s",null,null,null,null,null,"i9s",false]
[null,null,"j",10,"w",null,null,null,null,null,"j10w",false]
[null,null,"w",13,"w",null,null,null,null,null,"w13w",true]
[null,null,"w",13,"w",null,null,null,null,null,"w13w",true]
[null,null,"w",13,"w","q",null,null,null,null,"w13wq",false]

{"sheet":"Index","index":5,"n_rows":2802,"n_cols":15,"rows_kept":2802,"cut":false,"hidden":true,"merged":[]}
["Lookups",null,null,null,null,"Provider Orgs",null,null,null,"Concatenation","Natural Key",null,null,"Provider Orgs","AHP Activity?"]
["Columns","Row",null,null,null,"RTQ","2gether NHS Foundation Trust",null,null,"April_2017-18",10166,null,null,"RTQ","Y"]
[1,1,null,null,null,"REM","Aintree University Hospital NHS Foundation Trust",null,null,"May_2017-18",10167,null,null,"REM","N"]
[1,2,null,null,null,"RCF","Airedale NHS Foundation Trust",null,null,"June_2017-18",10168,null,null,"RCF","N"]
[1,3,null,null,null,"RBS","Alder Hey Children's NHS Foundation Trust",null,null,"July_2017-18",10169,null,null,"RBS","N"]
[1,4,null,null,null,"RTK","Ashford And St Peter's Hospitals NHS Foundation Trust",null,null,"August_2017-18",10170,null,null,"RTK","N"]
[1,5,null,null,null,"RVN","Avon and Wiltshire Mental Health Partnership NHS Trust",null,null,"September_2017-18",10171,null,null,"RVN","Y"]
[1,6,null,null,null,"RF4","Barking, Havering And Redbridge University Hospitals NHS Trust",null,null,"October_2017-18",10172,null,null,"RF4","N"]
[1,7,null,null,null,"RRP","Barnet, Enfield and Haringey Mental Health NHS Trust",null,null,"November_2017-18",10173,null,null,"RRP","Y"]
[1,8,null,null,null,"RFF","Barnsley Hospital NHS Foundation Trust",null,null,"December_2017-18",10174,null,null,"RFF","N"]
[1,9,null,null,null,"R1H","Barts Health NHS Trust",null,null,"January_2017-18",10175,null,null,"R1H","N"]
[1,10,null,null,null,"RDD","Basildon And Thurrock University Hospitals NHS Foundation Trust",null,null,"February_2017-18",10176,null,null,"RDD","N"]
[1,11,null,null,null,"RC1","Bedford Hospital NHS Trust",null,null,"March_2017-18",10177,null,null,"RC1","N"]
[1,12,null,null,null,"RWX","Berkshire Healthcare NHS Foundation Trust",null,null,null,null,null,null,"RWX","Y"]
[1,13,null,null,null,"RXT","Birmingham and Solihull Mental Health NHS Foundation Trust",null,null,null,null,null,null,"RXT","Y"]
[1,14,null,null,null,"RYW","Birmingham Community HealthCare NHS Trust",null,null,null,null,null,null,"RYW","Y"]
[1,15,null,null,null,"RQ3","Birmingham Women's and Children's Hospital NHS Foundation Trust",null,null,null,null,null,null,"RQ3","N"]
[1,16,null,null,null,"TAJ","Black Country Partnership NHS Foundation Trust",null,null,null,null,null,null,"TAJ","Y"]
[1,17,null,null,null,"RXL","Blackpool Teaching Hospitals NHS Foundation Trust",null,null,null,null,null,null,"RXL","N"]
[1,18,null,null,null,"RMC","Bolton NHS Foundation Trust",null,null,null,null,null,null,"RMC","N"]
[1,19,null,null,null,"TAD","Bradford District Care Trust",null,null,null,null,null,null,"TAD","Y"]
[1,20,null,null,null,"RAE","Bradford Teaching Hospitals NHS Foundation Trust",null,null,null,null,null,null,"RAE","N"]
[1,21,null," ",null,"RY2","Bridgewater Community Healthcare NHS Trust",null,null,null,null,null,null,"RY2","Y"]
[1,22,null,null,null,"RXH","Brighton And Sussex University Hospitals NHS Trust",null,null,null,null,null,null,"RXH","N"]
[1,23,null,null,null,"RXQ","Buckinghamshire Healthcare NHS Trust",null,null,null,null,null,null,"RXQ","N"]
[1,24,null,null,null,"RWY","Calderdale And Huddersfield NHS Foundation Trust",null,null,null,null,null,null,"RWY","N"]
[1,25,null,null,null,"RGT","Cambridge University Hospitals NHS Foundation Trust",null,null,null,null,null,null,"RGT","N"]
[1,26,null,null,null,"RT1","Cambridgeshire And Peterborough NHS Foundation Trust",null,null,null,null,null,null,"RT1","Y"]
[1,27,null,null,null,"RYV","Cambridgeshire Community Services NHS Trust",null,null,null,null,null,null,"RYV","Y"]
[1,28,null,null,null,"TAF","Camden And Islington NHS Foundation Trust",null,null,null,null,null,null,"TAF","Y"]
[1,29,null,null,null,"RV3","Central and North West London NHS Foundation Trust",null,null,null,null,null,null,"RV3","Y"]
[1,30,null,null,null,"RYX","Central London Community Healthcare NHS Trust",null,null,null,null,null,null,"RYX","Y"]
[1,31,null,null,null,"RQM","Chelsea And Westminster Hospital NHS Foundation Trust",null,null,null,null,null,null,"RQM","N"]
[1,32,null,null,null,"RXA","Cheshire and Wirral Partnership NHS Foundation Trust",null,null,null,null,null,null,"RXA","Y"]
[1,33,null,null,null,"RFS","Chesterfield Royal Hospital NHS Foundation Trust",null,null,null,null,null,null,"RFS","N"]
[1,34,null,null,null,"RLN","City Hospitals Sunderland NHS Foundation Trust",null,null,null,null,null,null,"RLN","N"]
[1,35,null,null,null,"RJ8","Cornwall Partnership NHS Foundation Trust",null,null,null,null,null,null,"RJ8","Y"]
[1,36,null,null,null,"RJR","Countess of Chester Hospital NHS Foundation Trust",null,null,null,null,null,null,"RJR","N"]
[1,37,null,null,null,"RXP","County Durham And Darlington NHS Foundation Trust",null,null,null,null,null,null,"RXP","N"]
[1,38,null,null,null,"RYG","Coventry and Warwickshire Partnership NHS Trust",null,null,null,null,null,null,"RYG","Y"]
[1,39,null,null,null,"RJ6","Croydon Health Services NHS Trust",null,null,null,null,null,null,"RJ6","N"]
[1,40,null,null,null,"RNN","Cumbria Partnership NHS Foundation Trust",null,null,null,null,null,null,"RNN","Y"]
[1,41,null,null,null,"RN7","Dartford And Gravesham NHS Trust",null,null,null,null,null,null,"RN7","N"]
[1,42,null,null,null,"RY8","Derbyshire Community Health Services NHS Trust",null,null,null,null,null,null,"RY8","Y"]
[1,43,null,null,null,"RXM","Derbyshire Healthcare NHS Foundation Trust",null,null,null,null,null,null,"RXM","Y"]
[1,44,null,null,null,"RWV","Devon Partnership NHS Trust",null,null,null,null,null,null,"RWV","Y"]
[1,45,null,null,null,"RP5","Doncaster And Bassetlaw Hospitals NHS Foundation Trust",null,null,null,null,null,null,"RP5","N"]
[1,46,null,null,null,"RBD","Dorset County Hospital NHS Foundation Trust",null,null,null,null,null,null,"RBD","N"]
[1,47,null,null,null,"RDY","Dorset HealthCare University NHS Foundation Trust",null,null,null,null,null,null,"RDY","Y"]
[1,48,null,null,null,"RYK","Dudley and Walsall Mental Health Partnership NHS Trust",null,null,null,null,null,null,"RYK","Y"]
[1,49,null,null,null,"RWH","East And North Hertfordshire NHS Trust",null,null,null,null,null,null,"RWH","N"]
[1,50,null,null,null,"RJN","East Cheshire NHS Trust",null,null,null,null,null,null,"RJN","N"]
[1,51,null,null,null,"RVV","East Kent Hospitals University NHS Foundation Trust",null,null,null,null,null,null,"RVV","N"]
[1,52,null,null,null,"RXR","East Lancashire Hospitals NHS Trust",null,null,null,null,null,null,"RXR","N"]
[1,53,null,null,null,"RWK","East London Foundation Trust ",null,null,null,null,null,null,"RWK","Y"]
[1,54,null,null,null,"RDE","East Suffolk and North Essex NHS Foundation Trust",null,null,null,null,null,null,"RDE","N"]
[1,55,null,null,null,"RXC","East Sussex Healthcare NHS Trust",null,null,null,null,null,null,"RXC","N"]
[1,56,null,null,null,"RVR","Epsom And St Helier University Hospitals NHS Trust",null,null,null,null,null,null,"RVR","N"]
[1,57,null,null,null,"R1L","Essex Partnership University NHS Foundation Trust",null,null,null,null,null,null,"R1L","Y"]
[1,58,null,null,null,"RDU","Frimley Park Hospital NHS Foundation Trust",null,null,null,null,null,null,"RDU","N"]
[1,59,null,null,null,"RR7","Gateshead Health NHS Foundation Trust",null,null,null,null,null,null,"RR7","N"]
[1,60,null,null,null,"RLT","George Eliot Hospital NHS Trust",null,null,null,null,null,null,"RLT","N"]
[1,61,null,null,null,"R1J","Gloucestershire Care Services NHS Trust",null,null,null,null,null,null,"R1J","Y"]
[1,62,null,null,null,"RTE","Gloucestershire Hospitals NHS Foundation Trust",null,null,null,null,null,null,"RTE","N"]
[1,63,null,null,null,"RP4","Great Ormond Street Hospital For Children NHS Foundation Trust",null,null,null,null,null,null,"RP4","N"]
[1,64,null,null,null,"RN3","Great Western Hospitals NHS Foundation Trust",null,null,null,null,null,null,"RN3","N"]
[1,65,null,null,null,"RXV","Greater Manchester Mental Health NHS Foundation Trust",null,null,null,null,null,null,"RXV","Y"]
[1,66,null,null,null,"RJ1","Guy's And St Thomas' NHS Foundation Trust",null,null,null,null,null,null,"RJ1","N"]
[1,67,null,null,null,"RN5","Hampshire Hospitals NHS Foundation Trust",null,null,null,null,null,null,"RN5","N"]
[1,68,null,null,null,"RCD","Harrogate And District NHS Foundation Trust",null,null,null,null,null,null,"RCD","N"]
[1,69,null,null,null,"RY4","Hertfordshire Community NHS Trust",null,null,null,null,null,null,"RY4","Y"]
[1,70,null,null,null,"RWR","Hertfordshire Partnership University NHS Foundation Trust",null,null,null,null,null,null,"RWR","Y"]
[1,71,null,null,null,"RQX","Homerton University Hospital NHS Foundation Trust",null,null,null,null,null,null,"RQX","N"]
[1,72,null,null,null,"RY9","Hounslow And Richmond Community Healthcare NHS Trust",null,null,null,null,null,null,"RY9","Y"]
[1,73,null,null,null,"RWA","Hull And East Yorkshire Hospitals NHS Trust",null,null,null,null,null,null,"RWA","N"]
[1,74,null,null,null,"RV9","Humber NHS Foundation Trust",null,null,null,null,null,null,"RV9","Y"]
[1,75,null,null,null,"RYJ","Imperial College Healthcare NHS Trust",null,null,null,null,null,null,"RYJ","N"]
[1,76,null,null,null,"R1F","Isle of Wight NHS Trust",null,null,null,null,null,null,"R1F","N"]
[1,77,null,null,null,"RGP","James Paget University Hospitals NHS Foundation Trust",null,null,null,null,null,null,"RGP","N"]
[1,78,null,null,null,"RXY","Kent And Medway NHS And Social Care Partnership Trust",null,null,null,null,null,null,"RXY","Y"]
[1,79,null,null,null,"RYY","Kent Community Health NHS Trust",null,null,null,null,null,null,"RYY","Y"]
[1,80,null,null,null,"RNQ","Kettering General Hospital NHS Foundation Trust",null,null,null,null,null,null,"RNQ","N"]
[1,81,null,null,null,"RJZ","King's College Hospital NHS Foundation Trust",null,null,null,null,null,null,"RJZ","N"]
[1,82,null,null,null,"RAX","Kingston Hospital NHS Trust",null,null,null,null,null,null,"RAX","N"]
[1,83,null,null,null,"RW5","Lancashire Care NHS Foundation trust",null,null,null,null,null,null,"RW5","Y"]
[1,84,null,null,null,"RXN","Lancashire Teaching Hospitals NHS Foundation Trust",null,null,null,null,null,null,"RXN","N"]
[1,85,null,null,null,"RGD","Leeds and York Partnership NHS Foundation Trust",null,null,null,null,null,null,"RGD","Y"]
[1,86,null,null,null,"RY6","Leeds Community Healthcare NHS Trust",null,null,null,null,null,null,"RY6","Y"]
[1,87,null,null,null,"RR8","Leeds Teaching Hospitals NHS Trust",null,null,null,null,null,null,"RR8","N"]
[1,88,null,null,null,"RT5","Leicestershire Partnership NHS Trust",null,null,null,null,null,null,"RT5","Y"]
[1,89,null,null,null,"RJ2","Lewisham and Greenwich NHS Trust",null,null,null,null,null,null,"RJ2","N"]
[1,90,null,null,null,"RY5","Lincolnshire Community Health Services NHS Trust",null,null,null,null,null,null,"RY5","Y"]
[1,91,null,null,null,"RP7","Lincolnshire Partnership NHS Foundation Trust",null,null,null,null,null,null,"RP7","Y"]
[1,92,null,null,null,"RBQ","Liverpool Heart And Chest NHS Foundation Trust",null,null,null,null,null,null,"RBQ","N"]
[1,93,null,null,null,"REP","Liverpool Women's NHS Foundation Trust",null,null,null,null,null,null,"REP","N"]
[1,94,null,null,null,"R1K","London North West Healthcare NHS Trust",null,null,null,null,null,null,"R1K","N"]
[1,95,null,null,null,"RC9","Luton And Dunstable Hospital NHS Foundation Trust",null,null,null,null,null,null,"RC9","N"]
[1,96,null,null,null,"RWF","Maidstone And Tunbridge Wells NHS Trust",null,null,null,null,null,null,"RWF","N"]
[1,97,null,null,null,"R0A","Manchester University NHS Foundation Trust",null,null,null,null,null,null,"R0A","N"]
[1,98,null,null,null,"RPA","Medway NHS Foundation Trust",null,null,null,null,null,null,"RPA","N"]
[1,99,null,null,null,"RW4","Mersey Care NHS Trust",null,null,null,null,null,null,"RW4","Y"]
[1,100,null,null,null,"RBT","Mid Cheshire Hospitals NHS Foundation Trust",null,null,null,null,null,null,"RBT","N"]
[1,101,null,null,null,"RQ8","Mid Essex Hospital Services NHS Trust",null,null,null,null,null,null,"RQ8","N"]
[1,102,null,null,null,"RXF","Mid Yorkshire Hospitals NHS Trust",null,null,null,null,null,null,"RXF","N"]
[1,103,null,null,null,"RRE","Midlands Partnership NHS Foundation Trust",null,null,null,null,null,null,"RRE","Y"]
[1,104,null,null,null,"RD8","Milton Keynes Hospital NHS Foundation Trust",null,null,null,null,null,null,"RD8","N"]
[1,105,null,null,null,"RP6","Moorfields Eye Hospital NHS Foundation Trust",null,null,null,null,null,null,"RP6","N"]
[1,106,null,null,null,"RM1","Norfolk And Norwich University Hospitals NHS Foundation Trust",null,null,null,null,null,null,"RM1","N"]
[1,107,null,null,null,"RMY","Norfolk and Suffolk NHS Foundation Trust",null,null,null,null,null,null,"RMY","Y"]
[1,108,null,null,null,"RY3","Norfolk Community Health And Care NHS Trust",null,null,null,null,null,null,"RY3","Y"]
[1,109,null,null,null,"RVJ","North Bristol NHS Trust",null,null,null,null,null,null,"RVJ","N"]
[1,110,null,null,null,"RNL","North Cumbria University Hospitals NHS Trust",null,null,null,null,null,null,"RNL","N"]
[1,111,null,null,null,"RAT","North East London NHS Foundation Trust",null,null,null,null,null,null,"RAT","Y"]
[1,112,null,null,null,"RAP","North Middlesex University Hospital NHS Trust",null,null,null,null,null,null,"RAP","N"]
[1,113,null,null,null,"RLY","North Staffordshire Combined Healthcare NHS Trust",null,null,null,null,null,null,"RLY","Y"]
[1,114,null,null,null,"RVW","North Tees And Hartlepool NHS Foundation Trust",null,null,null,null,null,null,"RVW","N"]
[1,115,null,null,null,"RGN","North West Anglia NHS Foundation Trust",null,null,null,null,null,null,"RGN","N"]
[1,116,null,null,null,"RTV","North West Boroughs Healthcare NHS Foundation Trust",null,null,null,null,null,null,"RTV","Y"]
[1,117,null,null,null,"RNS","Northampton General Hospital NHS Trust",null,null,null,null,null,null,"RNS","N"]
[1,118,null,null,null,"RP1","Northamptonshire Healthcare NHS Foundation Trust",null,null,null,null,null,null,"RP1","Y"]
[1,119,null,null,null,"RBZ","Northern Devon Healthcare NHS Trust",null,null,null,null,null,null,"RBZ","N"]
[1,120,null,null,null,"RJL","Northern Lincolnshire And Goole Hospitals NHS Foundation Trust",null,null,null,null,null,null,"RJL","N"]
[1,121,null,null,null,"RX4","Northumberland, Tyne and Wear NHS Foundation Trust",null,null,null,null,null,null,"RX4","Y"]
[1,122,null,null,null,"RTF","Northumbria Healthcare NHS Foundation Trust",null,null,null,null,null,null,"RTF","N"]
[1,123,null,null,null,"RX1","Nottingham University Hospitals NHS Trust",null,null,null,null,null,null,"RX1","N"]
[1,124,null,null,null,"RHA","Nottinghamshire Healthcare NHS Trust",null,null,null,null,null,null,"RHA","Y"]
[1,125,null,null,null,"RNU","Oxford Health NHS Foundation Trust",null,null,null,null,null,null,"RNU","Y"]
[1,126,null,null,null,"RTH","Oxford University Hospitals NHS Trust",null,null,null,null,null,null,"RTH","N"]
[1,127,null,null,null,"RPG","Oxleas NHS Foundation Trust",null,null,null,null,null,null,"RPG","Y"]
[1,128,null,null,null,"RGM","Papworth Hospital NHS Foundation Trust",null,null,null,null,null,null,"RGM","N"]
[1,129,null,null,null,"RW6","Pennine Acute Hospitals NHS Trust",null,null,null,null,null,null,"RW6","N"]
[1,130,null,null,null,"RT2","Pennine Care NHS Foundation Trust",null,null,null,null,null,null,"RT2","Y"]
[1,131,null,null,null,"RK9","Plymouth Hospitals NHS Trust",null,null,null,null,null,null,"RK9","N"]
[1,132,null,null,null,"RD3","Poole Hospital NHS Foundation Trust",null,null,null,null,null,null,"RD3","N"]
[1,133,null,null,null,"RHU","Portsmouth Hospitals NHS Trust",null,null,null,null,null,null,"RHU","N"]
[1,134,null,null,null,"RPC","Queen Victoria Hospital NHS Foundation Trust",null,null,null,null,null,null,"RPC","N"]
[1,135,null,null,null,"RXE","Rotherham Doncaster and South Humber NHS Foundation Trust",null,null,null,null,null,null,"RXE","Y"]
[1,136,null,null,null,"RHW","Royal Berkshire NHS Foundation Trust",null,null,null,null,null,null,"RHW","N"]
[1,137,null,null,null,"RT3","Royal Brompton And Harefield NHS Foundation Trust",null,null,null,null,null,null,"RT3","N"]
[1,138,null,null,null,"REF","Royal Cornwall Hospitals NHS Trust",null,null,null,null,null,null,"REF","N"]
[1,139,null,null,null,"RH8","Royal Devon And Exeter NHS Foundation Trust",null,null,null,null,null,null,"RH8","N"]
[1,140,null,null,null,"RAL","Royal Free London NHS Foundation Trust",null,null,null,null,null,null,"RAL","N"]
[1,141,null,null,null,"RQ6","Royal Liverpool And Broadgreen University Hospitals NHS Trust",null,null,null,null,null,null,"RQ6","N"]
[1,142,null,null,null,"RAN","Royal National Orthopaedic Hospital NHS Trust",null,null,null,null,null,null,"RAN","N"]
[1,143,null,null,null,"RA2","Royal Surrey County Hospital NHS Foundation Trust",null,null,null,null,null,null,"RA2","N"]
[1,144,null,null,null,"RD1","Royal United Hospital Bath NHS Trust",null,null,null,null,null,null,"RD1","N"]
[1,145,null,null,null,"RM3","Salford Royal NHS Foundation Trust",null,null,null,null,null,null,"RM3","N"]
[1,146,null,null,null,"RNZ","Salisbury NHS Foundation Trust",null,null,null,null,null,null,"RNZ","N"]
[1,147,null,null,null,"RXK","Sandwell And West Birmingham Hospitals NHS Trust",null,null,null,null,null,null,"RXK","N"]
[1,148,null,null,null,"RCU","Sheffield Children's NHS Foundation Trust",null,null,null,null,null,null,"RCU","N"]
[1,149,null,null,null,"TAH","Sheffield Health & Social Care NHS Foundation Trust",null,null,null,null,null,null,"TAH","Y"]
[1,150,null,null,null,"RHQ","Sheffield Teaching Hospitals NHS Foundation Trust",null,null,null,null,null,null,"RHQ","N"]
[1,151,null,null,null,"RK5","Sherwood Forest Hospitals NHS Foundation Trust",null,null,null,null,null,null,"RK5","N"]
[1,152,null,null,null,"RXW","Shrewsbury And Telford Hospital NHS Trust",null,null,null,null,null,null,"RXW","N"]
[1,153,null,null,null,"R1D","Shropshire Community Health NHS Trust",null,null,null,null,null,null,"R1D","Y"]
[1,154,null,null,null,"R1C","Solent NHS Trust",null,null,null,null,null,null,"R1C","Y"]
[1,155,null,null,null,"RH5","Somerset Partnership NHS Foundation Trust",null,null,null,null,null,null,"RH5","Y"]
[1,156,null,null,null,"RV5","South London And Maudsley NHS Foundation Trust",null,null,null,null,null,null,"RV5","Y"]
[1,157,null,null,null,"RTR","South Tees Hospitals NHS Foundation Trust",null,null,null,null,null,null,"RTR","N"]
[1,158,null,null,null,"R0B","South Tyneside and Sunderland NHS Foundation Trust",null,null,null,null,null,null,"RE9","N"]
[1,159,null,null,null,"RE9","South Tyneside NHS Foundation Trust",null,null,null,null,null,null,"RJC","N"]
[1,160,null,null,null,"RJC","South Warwickshire NHS Foundation Trust",null,null,null,null,null,null,"RQY","Y"]
[1,161,null,null,null,"RQY","South West London And St George's Mental Health NHS Trust",null,null,null,null,null,null,"RXG","Y"]
[1,162,null,null,null,"RXG","South West Yorkshire Partnership NHS Foundation Trust",null,null,null,null,null,null,"RAJ","N"]
[1,163,null,null,null,"RAJ","Southend University Hospital NHS Foundation Trust",null,null,null,null,null,null,"RW1","Y"]
[1,164,null,null,null,"RW1","Southern Health NHS Foundation Trust",null,null,null,null,null,null,"RVY","N"]
[1,165,null,null,null,"RVY","Southport And Ormskirk Hospital NHS Trust",null,null,null,null,null,null,"RJ7","N"]
[1,166,null,null,null,"RJ7","St George's Healthcare NHS Trust",null,null,null,null,null,null,"RBN","N"]
[1,167,null,null,null,"RBN","St Helens And Knowsley Hospitals NHS Trust",null,null,null,null,null,null,"RWJ","N"]
[1,168,null,null,null,"RWJ","Stockport NHS Foundation Trust",null,null,null,null,null,null,"RXX","Y"]
[1,169,null,null,null,"RXX","Surrey and Borders Partnership NHS Foundation Trust",null,null,null,null,null,null,"RTP","N"]
[1,170,null,null,null,"RTP","Surrey And Sussex Healthcare NHS Trust",null,null,null,null,null,null,"RDR","Y"]
[1,171,null,null,null,"RDR","Sussex Community NHS Trust",null,null,null,null,null,null,"RX2","Y"]
[1,172,null,null,null,"RX2","Sussex Partnership NHS Foundation Trust",null,null,null,null,null,null,"RMP","N"]
[1,173,null,null,null,"RMP","Tameside Hospital NHS Foundation Trust",null,null,null,null,null,null,"RBA","N"]
[1,174,null,null,null,"RBA","Taunton And Somerset NHS Foundation Trust",null,null,null,null,null,null,"RX3","Y"]
[1,175,null,null,null,"RX3","Tees, Esk and Wear Valleys NHS Foundation Trust",null,null,null,null,null,null,"RBV","N"]
[1,176,null,null,null,"RBV","The Christie NHS Foundation Trust",null,null,null,null,null,null,"REN","N"]
[1,177,null,null,null,"REN","The Clatterbridge Cancer Centre NHS Foundation Trust",null,null,null,null,null,null,"RNA","N"]
[1,178,null,null,null,"RNA","The Dudley Group NHS Foundation Trust",null,null,null,null,null,null,"RAS","N"]
[1,179,null,null,null,"RAS","The Hillingdon Hospitals NHS Foundation Trust",null,null,null,null,null,null,"RTD","N"]
[1,180,null,null,null,"RTD","The Newcastle Upon Tyne Hospitals NHS Foundation Trust",null,null,null,null,null,null,"RQW","N"]
[1,181,null,null,null,"RQW","The Princess Alexandra Hospital NHS Trust",null,null,null,null,null,null,"RCX","N"]
[1,182,null,null,null,"RCX","The Queen Elizabeth Hospital, King's Lynn, NHS Foundation Trust",null,null,null,null,null,null,"RL1","N"]
[1,183,null,null,null,"RL1","The Robert Jones And Agnes Hunt Orthopaedic Hospital NHS Foundation Trust",null,null,null,null,null,null,"RFR","N"]
[1,184,null,null,null,"RFR","The Rotherham NHS Foundation Trust",null,null,null,null,null,null,"RDZ","N"]
[1,185,null,null,null,"RDZ","The Royal Bournemouth And Christchurch Hospitals NHS Foundation Trust",null,null,null,null,null,null,"RPY","N"]
[1,186,null,null,null,"RPY","The Royal Marsden NHS Foundation Trust",null,null,null,null,null,null,"RRJ","N"]
[1,187,null,null,null,"RRJ","The Royal Orthopaedic Hospital NHS Foundation Trust",null,null,null,null,null,null,"RL4","N"]
[1,188,null,null,null,"RL4","The Royal Wolverhampton NHS Trust",null,null,null,null,null,null,"RET","N"]
[1,189,null,null,null,"RET","The Walton Centre NHS Foundation Trust",null,null,null,null,null,null,"RKE","N"]
[1,190,null,null,null,"RKE","The Whittington Hospital NHS Trust",null,null,null,null,null,null,"RA9","N"]
[1,191,null,null,null,"RA9","Torbay and South Devon NHS Foundation Trust",null,null,null,null,null,null,"RWD","N"]
[1,192,null,null,null,"RWD","United Lincolnshire Hospitals NHS Trust",null,null,null,null,null,null,"RRV","N"]
[1,193,null,null,null,"RRV","University College London Hospitals NHS Foundation Trust",null,null,null,null,null,null,"RJE","N"]
[1,194,null,null,null,"RJE","University Hospital of North Midlands NHS Trust",null,null,null,null,null,null,"RHM","N"]
[1,195,null,null,null,"RHM","University Hospital Southampton NHS Foundation Trust",null,null,null,null,null,null,"RRK","N"]
[1,196,null,null,null,"RRK","University Hospitals Birmingham NHS Foundation Trust",null,null,null,null,null,null,"RA7","N"]
[1,197,null,null,null,"RA7","University Hospitals Bristol NHS Foundation Trust",null,null,null,null,null,null,"RKB","N"]
[1,198,null,null,null,"RKB","University Hospitals Coventry And Warwickshire NHS Trust",null,null,null,null,null,null,"RTG","N"]
[1,199,null,null,null,"RTG","University Hospitals of Derby and Burton NHS Foundation Trust",null,null,null,null,null,null,"RWE","N"]
[1,200,null,null,null,"RWE","University Hospitals of Leicester NHS Trust",null,null,null,null,null,null,"RTX","N"]
[{"$f":"A3+1","v":2},1,null,null,null,"RTX","University Hospitals of Morecambe Bay NHS Foundation Trust",null,null,null,null,null,null,"RBK","N"]
[2,2,null,null,null,"RBK","Walsall Healthcare NHS Trust",null,null,null,null,null,null,"RWW","N"]
[2,3,null,null,null,"RWW","Warrington And Halton Hospitals NHS Foundation Trust",null,null,null,null,null,null,"RWG","N"]
[2,4,null,null,null,"RWG","West Hertfordshire Hospitals NHS Trust",null,null,null,null,null,null,"RKL","Y"]
[2,5,null,null,null,"RKL","West London Mental Health NHS Trust",null,null,null,null,null,null,"RGR","N"]
[2,6,null,null,null,"RGR","West Suffolk NHS Foundation Trust",null,null,null,null,null,null,"RYR","N"]
[2,7,null,null,null,"RYR","Western Sussex Hospitals NHS Trust",null,null,null,null,null,null,"RA3","N"]
[2,8,null,null,null,"RA3","Weston Area Health NHS Trust",null,null,null,null,null,null,"AXG","N"]
[2,9,null,null,null,"AXG","Wiltshire Health & Care LLP",null,null,null,null,null,null,"RBL","N"]
[2,10,null,null,null,"RBL","Wirral University Teaching Hospital NHS Foundation Trust",null,null,null,null,null,null,"RWP","N"]
[2,11,null,null,null,"RWP","Worcestershire Acute Hospitals NHS Trust",null,null,null,null,null,null,"R1A","Y"]
[2,12,null,null,null,"R1A","Worcestershire Health and Care NHS Trust",null,null,null,null,null,null,"RRF","N"]
[2,13,null,null,null,"RRF","Wrightington, Wigan And Leigh NHS Foundation Trust",null,null,null,null,null,null,"RLQ","N"]
[2,14,null,null,null,"RLQ","Wye Valley NHS Trust",null,null,null,null,null,null,"RA4","N"]
[2,15,null,null,null,"RA4","Yeovil District Hospital NHS Foundation Trust",null,null,null,null,null,null,"R0B","N"]
[2,16,null,null,null,"RCB","York Teaching Hospital NHS Foundation Trust",null,null,null,null,null,null,"RCB","N"]
[2,17]
[2,18]
[2,19]
[2,20]
[2,21]
[2,22]
[2,23]
[2,24]
[2,25]
[2,26]
[2,27]
[2,28]
[2,29]
[2,30]
[2,31]
[2,32]
[2,33]
[2,34]
[2,35]
[2,36]
[2,37]
[2,38]
[2,39]
[2,40]
[2,41]
[2,42]
[2,43]
[2,44]
[2,45]
[2,46]
[2,47]
[2,48]
[2,49]
[2,50]
[2,51]
[2,52]
[2,53]
[2,54]
[2,55]
[2,56]
[2,57]
[2,58]
[2,59]
[2,60]
[2,61]
[2,62]
[2,63]
[2,64]
[{"$f":"A67+1","v":2},65]
[2,66]
[2,67]
[2,68]
[2,69]
[2,70]
[2,71]
[2,72]
[2,73]
[2,74]
[2,75]
[2,76]
[2,77]
[2,78]
[2,79]
[2,80]
[2,81]
[2,82]
[2,83]
[2,84]
[2,85]
[2,86]
[2,87]
[2,88]
[2,89]
[2,90]
[2,91]
[2,92]
[2,93]
[2,94]
[2,95]
[2,96]
[2,97]
[2,98]
[2,99]
[2,100]
[2,101]
[2,102]
[2,103]
[2,104]
[2,105]
[2,106]
[2,107]
[2,108]
[2,109]
[2,110]
[2,111]
[2,112]
[2,113]
[2,114]
[2,115]
[2,116]
[2,117]
[2,118]
[2,119]
[2,120]
[2,121]
[2,122]
[2,123]
[2,124]
[2,125]
[2,126]
[2,127]
[2,128]
[{"$f":"A131+1","v":2},129]
[2,130]
[2,131]
[2,132]
[2,133]
[2,134]
[2,135]
[2,136]
[2,137]
[2,138]
[2,139]
[2,140]
[2,141]
[2,142]
[2,143]
[2,144]
[2,145]
[2,146]
[2,147]
[2,148]
[2,149]
[2,150]
[2,151]
[2,152]
[2,153]
[2,154]
[2,155]
[2,156]
[2,157]
[2,158]
[2,159]
[2,160]
[2,161]
[2,162]
[2,163]
[2,164]
[2,165]
[2,166]
[2,167]
[2,168]
[2,169]
[2,170]
[2,171]
[2,172]
[2,173]
[2,174]
[2,175]
[2,176]
[2,177]
[2,178]
[2,179]
[2,180]
[2,181]
[2,182]
[2,183]
[2,184]
[2,185]
[2,186]
[2,187]
[2,188]
[2,189]
[2,190]
[2,191]
[2,192]
[{"$f":"A195+1","v":2},193]
[2,194]
[2,195]
[2,196]
[2,197]
[2,198]
[2,199]
[2,200]
[3,1]
[3,2]
[3,3]
[3,4]
[3,5]
[3,6]
[3,7]
[3,8]
[3,9]
[3,10]
[3,11]
[3,12]
[3,13]
[3,14]
[3,15]
[3,16]
[3,17]
[3,18]
[3,19]
[3,20]
[3,21]
[3,22]
[3,23]
[3,24]
[3,25]
[3,26]
[3,27]
[3,28]
[3,29]
[3,30]
[3,31]
[3,32]
[3,33]
[3,34]
[3,35]
[3,36]
[3,37]
[3,38]
[3,39]
[3,40]
[3,41]
[3,42]
[3,43]
[3,44]
[3,45]
[3,46]
[3,47]
[3,48]
[3,49]
[3,50]
[3,51]
[3,52]
[3,53]
[3,54]
[3,55]
[3,56]
[{"$f":"A259+1","v":3},57]
[3,58]
[3,59]
[3,60]
[3,61]
[3,62]
[3,63]
[3,64]
[3,65]
[3,66]
[3,67]
[3,68]
[3,69]
[3,70]
[3,71]
[3,72]
[3,73]
[3,74]
[3,75]
[3,76]
[3,77]
[3,78]
[3,79]
[3,80]
[3,81]
[3,82]
[3,83]
[3,84]
[3,85]
[3,86]
[3,87]
[3,88]
[3,89]
[3,90]
[3,91]
[3,92]
[3,93]
[3,94]
[3,95]
[3,96]
[3,97]
[3,98]
[3,99]
[3,100]
[3,101]
[3,102]
[3,103]
[3,104]
[3,105]
[3,106]
[3,107]
[3,108]
[3,109]
[3,110]
[3,111]
[3,112]
[3,113]
[3,114]
[3,115]
[3,116]
[3,117]
[3,118]
[3,119]
[3,120]
[{"$f":"A323+1","v":3},121]
[3,122]
[3,123]
[3,124]
[3,125]
[3,126]
[3,127]
[3,128]
[3,129]
[3,130]
[3,131]
[3,132]
[3,133]
[3,134]
[3,135]
[3,136]
[3,137]
[3,138]
[3,139]
[3,140]
[3,141]
[3,142]
[3,143]
[3,144]
[3,145]
[3,146]
[3,147]
[3,148]
[3,149]
[3,150]
[3,151]
[3,152]
[3,153]
[3,154]
[3,155]
[3,156]
[3,157]
[3,158]
[3,159]
[3,160]
[3,161]
[3,162]
[3,163]
[3,164]
[3,165]
[3,166]
[3,167]
[3,168]
[3,169]
[3,170]
[3,171]
[3,172]
[3,173]
[3,174]
[3,175]
[3,176]
[3,177]
[3,178]
[3,179]
[3,180]
[3,181]
[3,182]
[3,183]
[3,184]
[{"$f":"A387+1","v":3},185]
[3,186]
[3,187]
[3,188]
[3,189]
[3,190]
[3,191]
[3,192]
[3,193]
[3,194]
[3,195]
[3,196]
[3,197]
[3,198]
[3,199]
[3,200]
[4,1]
[4,2]
[4,3]
[4,4]
[4,5]
[4,6]
[4,7]
[4,8]
[4,9]
[4,10]
[4,11]
[4,12]
[4,13]
[4,14]
[4,15]
[4,16]
[4,17]
[4,18]
[4,19]
[4,20]
[4,21]
[4,22]
[4,23]
[4,24]
[4,25]
[4,26]
[4,27]
[4,28]
[4,29]
[4,30]
[4,31]
[4,32]
[4,33]
[4,34]
[4,35]
[4,36]
[4,37]
[4,38]
[4,39]
[4,40]
[4,41]
[4,42]
[4,43]
[4,44]
[4,45]
[4,46]
[4,47]
[4,48]
[{"$f":"A451+1","v":4},49]
[4,50]
[4,51]
[4,52]
[4,53]
[4,54]
[4,55]
[4,56]
[4,57]
[4,58]
[4,59]
[4,60]
[4,61]
[4,62]
[4,63]
[4,64]
[4,65]
[4,66]
[4,67]
[4,68]
[4,69]
[4,70]
[4,71]
[4,72]
[4,73]
[4,74]
[4,75]
[4,76]
[4,77]
[4,78]
[4,79]
[4,80]
[4,81]
[4,82]
[4,83]
[4,84]
[4,85]
[4,86]
[4,87]
[4,88]
[4,89]
[4,90]
[4,91]
[4,92]
[4,93]
[4,94]
[4,95]
[4,96]
[4,97]
[4,98]
[4,99]
[4,100]
[4,101]
[4,102]
[4,103]
[4,104]
[4,105]
[4,106]
[4,107]
[4,108]
[4,109]
[4,110]
[4,111]
[4,112]
[{"$f":"A515+1","v":4},113]
[4,114]
[4,115]
[4,116]
[4,117]
[4,118]
[4,119]
[4,120]
[4,121]
[4,122]
[4,123]
[4,124]
[4,125]
[4,126]
[4,127]
[4,128]
[4,129]
[4,130]
[4,131]
[4,132]
[4,133]
[4,134]
[4,135]
[4,136]
[4,137]
[4,138]
[4,139]
[4,140]
[4,141]
[4,142]
[4,143]
[4,144]
[4,145]
[4,146]
[4,147]
[4,148]
[4,149]
[4,150]
[4,151]
[4,152]
[4,153]
[4,154]
[4,155]
[4,156]
[4,157]
[4,158]
[4,159]
[4,160]
[4,161]
[4,162]
[4,163]
[4,164]
[4,165]
[4,166]
[4,167]
[4,168]
[4,169]
[4,170]
[4,171]
[4,172]
[4,173]
[4,174]
[4,175]
[4,176]
[{"$f":"A579+1","v":4},177]
[4,178]
[4,179]
[4,180]
[4,181]
[4,182]
[4,183]
[4,184]
[4,185]
[4,186]
[4,187]
[4,188]
[4,189]
[4,190]
[4,191]
[4,192]
[4,193]
[4,194]
[4,195]
[4,196]
[4,197]
[4,198]
[4,199]
[4,200]
[5,1]
[5,2]
[5,3]
[5,4]
[5,5]
[5,6]
[5,7]
[5,8]
[5,9]
[5,10]
[5,11]
[5,12]
[5,13]
[5,14]
[5,15]
[5,16]
[5,17]
[5,18]
[5,19]
[5,20]
[5,21]
[5,22]
[5,23]
[5,24]
[5,25]
[5,26]
[5,27]
[5,28]
[5,29]
[5,30]
[5,31]
[5,32]
[5,33]
[5,34]
[5,35]
[5,36]
[5,37]
[5,38]
[5,39]
[5,40]
[{"$f":"A643+1","v":5},41]
[5,42]
[5,43]
[5,44]
[5,45]
[5,46]
[5,47]
[5,48]
[5,49]
[5,50]
[5,51]
[5,52]
[5,53]
[5,54]
[5,55]
[5,56]
[5,57]
[5,58]
[5,59]
[5,60]
[5,61]
[5,62]
[5,63]
[5,64]
[5,65]
[5,66]
[5,67]
[5,68]
[5,69]
[5,70]
[5,71]
[5,72]
[5,73]
[5,74]
[5,75]
[5,76]
[5,77]
[5,78]
[5,79]
[5,80]
[5,81]
[5,82]
[5,83]
[5,84]
[5,85]
[5,86]
[5,87]
[5,88]
[5,89]
[5,90]
[5,91]
[5,92]
[5,93]
[5,94]
[5,95]
[5,96]
[5,97]
[5,98]
[5,99]
[5,100]
[5,101]
[5,102]
[5,103]
[5,104]
[{"$f":"A707+1","v":5},105]
[5,106]
[5,107]
[5,108]
[5,109]
[5,110]
[5,111]
[5,112]
[5,113]
[5,114]
[5,115]
[5,116]
[5,117]
[5,118]
[5,119]
[5,120]
[5,121]
[5,122]
[5,123]
[5,124]
[5,125]
[5,126]
[5,127]
[5,128]
[5,129]
[5,130]
[5,131]
[5,132]
[5,133]
[5,134]
[5,135]
[5,136]
[5,137]
[5,138]
[5,139]
[5,140]
[5,141]
[5,142]
[5,143]
[5,144]
[5,145]
[5,146]
[5,147]
[5,148]
[5,149]
[5,150]
[5,151]
[5,152]
[5,153]
[5,154]
[5,155]
[5,156]
[5,157]
[5,158]
[5,159]
[5,160]
[5,161]
[5,162]
[5,163]
[5,164]
[5,165]
[5,166]
[5,167]
[5,168]
[{"$f":"A771+1","v":5},169]
[5,170]
[5,171]
[5,172]
[5,173]
[5,174]
[5,175]
[5,176]
[5,177]
[5,178]
[5,179]
[5,180]
[5,181]
[5,182]
[5,183]
[5,184]
[5,185]
[5,186]
[5,187]
[5,188]
[5,189]
[5,190]
[5,191]
[5,192]
[5,193]
[5,194]
[5,195]
[5,196]
[5,197]
[5,198]
[5,199]
[5,200]
[6,1]
[6,2]
[6,3]
[6,4]
[6,5]
[6,6]
[6,7]
[6,8]
[6,9]
[6,10]
[6,11]
[6,12]
[6,13]
[6,14]
[6,15]
[6,16]
[6,17]
[6,18]
[6,19]
[6,20]
[6,21]
[6,22]
[6,23]
[6,24]
[6,25]
[6,26]
[6,27]
[6,28]
[6,29]
[6,30]
[6,31]
[6,32]
[{"$f":"A835+1","v":6},33]
[6,34]
[6,35]
[6,36]
[6,37]
[6,38]
[6,39]
[6,40]
[6,41]
[6,42]
[6,43]
[6,44]
[6,45]
[6,46]
[6,47]
[6,48]
[6,49]
[6,50]
[6,51]
[6,52]
[6,53]
[6,54]
[6,55]
[6,56]
[6,57]
[6,58]
[6,59]
[6,60]
[6,61]
[6,62]
[6,63]
[6,64]
[6,65]
[6,66]
[6,67]
[6,68]
[6,69]
[6,70]
[6,71]
[6,72]
[6,73]
[6,74]
[6,75]
[6,76]
[6,77]
[6,78]
[6,79]
[6,80]
[6,81]
[6,82]
[6,83]
[6,84]
[6,85]
[6,86]
[6,87]
[6,88]
[6,89]
[6,90]
[6,91]
[6,92]
[6,93]
[6,94]
[6,95]
[6,96]
[{"$f":"A899+1","v":6},97]
[6,98]
[6,99]
[6,100]
[6,101]
[6,102]
[6,103]
[6,104]
[6,105]
[6,106]
[6,107]
[6,108]
[6,109]
[6,110]
[6,111]
[6,112]
[6,113]
[6,114]
[6,115]
[6,116]
[6,117]
[6,118]
[6,119]
[6,120]
[6,121]
[6,122]
[6,123]
[6,124]
[6,125]
[6,126]
[6,127]
[6,128]
[6,129]
[6,130]
[6,131]
[6,132]
[6,133]
[6,134]
[6,135]
[6,136]
[6,137]
[6,138]
[6,139]
[6,140]
[6,141]
[6,142]
[6,143]
[6,144]
[6,145]
[6,146]
[6,147]
[6,148]
[6,149]
[6,150]
[6,151]
[6,152]
[6,153]
[6,154]
[6,155]
[6,156]
[6,157]
[6,158]
[6,159]
[6,160]
[{"$f":"A963+1","v":6},161]
[6,162]
[6,163]
[6,164]
[6,165]
[6,166]
[6,167]
[6,168]
[6,169]
[6,170]
[6,171]
[6,172]
[6,173]
[6,174]
[6,175]
[6,176]
[6,177]
[6,178]
[6,179]
[6,180]
[6,181]
[6,182]
[6,183]
[6,184]
[6,185]
[6,186]
[6,187]
[6,188]
[6,189]
[6,190]
[6,191]
[6,192]
[6,193]
[6,194]
[6,195]
[6,196]
[6,197]
[6,198]
[6,199]
[6,200]
[7,1]
[7,2]
[7,3]
[7,4]
[7,5]
[7,6]
[7,7]
[7,8]
[7,9]
[7,10]
[7,11]
[7,12]
[7,13]
[7,14]
[7,15]
[7,16]
[7,17]
[7,18]
[7,19]
[7,20]
[7,21]
[7,22]
[7,23]
[7,24]
[{"$f":"A1027+1","v":7},25]
[7,26]
[7,27]
[7,28]
[7,29]
[7,30]
[7,31]
[7,32]
[7,33]
[7,34]
[7,35]
[7,36]
[7,37]
[7,38]
[7,39]
[7,40]
[7,41]
[7,42]
[7,43]
[7,44]
[7,45]
[7,46]
[7,47]
[7,48]
[7,49]
[7,50]
[7,51]
[7,52]
[7,53]
[7,54]
[7,55]
[7,56]
[7,57]
[7,58]
[7,59]
[7,60]
[7,61]
[7,62]
[7,63]
[7,64]
[7,65]
[7,66]
[7,67]
[7,68]
[7,69]
[7,70]
[7,71]
[7,72]
[7,73]
[7,74]
[7,75]
[7,76]
[7,77]
[7,78]
[7,79]
[7,80]
[7,81]
[7,82]
[7,83]
[7,84]
[7,85]
[7,86]
[7,87]
[7,88]
[{"$f":"A1091+1","v":7},89]
[7,90]
[7,91]
[7,92]
[7,93]
[7,94]
[7,95]
[7,96]
[7,97]
[7,98]
[7,99]
[7,100]
[7,101]
[7,102]
[7,103]
[7,104]
[7,105]
[7,106]
[7,107]
[7,108]
[7,109]
[7,110]
[7,111]
[7,112]
[7,113]
[7,114]
[7,115]
[7,116]
[7,117]
[7,118]
[7,119]
[7,120]
[7,121]
[7,122]
[7,123]
[7,124]
[7,125]
[7,126]
[7,127]
[7,128]
[7,129]
[7,130]
[7,131]
[7,132]
[7,133]
[7,134]
[7,135]
[7,136]
[7,137]
[7,138]
[7,139]
[7,140]
[7,141]
[7,142]
[7,143]
[7,144]
[7,145]
[7,146]
[7,147]
[7,148]
[7,149]
[7,150]
[7,151]
[7,152]
[{"$f":"A1155+1","v":7},153]
[7,154]
[7,155]
[7,156]
[7,157]
[7,158]
[7,159]
[7,160]
[7,161]
[7,162]
[7,163]
[7,164]
[7,165]
[7,166]
[7,167]
[7,168]
[7,169]
[7,170]
[7,171]
[7,172]
[7,173]
[7,174]
[7,175]
[7,176]
[7,177]
[7,178]
[7,179]
[7,180]
[7,181]
[7,182]
[7,183]
[7,184]
[7,185]
[7,186]
[7,187]
[7,188]
[7,189]
[7,190]
[7,191]
[7,192]
[7,193]
[7,194]
[7,195]
[7,196]
[7,197]
[7,198]
[7,199]
[7,200]
[8,1]
[8,2]
[8,3]
[8,4]
[8,5]
[8,6]
[8,7]
[8,8]
[8,9]
[8,10]
[8,11]
[8,12]
[8,13]
[8,14]
[8,15]
[8,16]
[{"$f":"A1219+1","v":8},17]
[8,18]
[8,19]
[8,20]
[8,21]
[8,22]
[8,23]
[8,24]
[8,25]
[8,26]
[8,27]
[8,28]
[8,29]
[8,30]
[8,31]
[8,32]
[8,33]
[8,34]
[8,35]
[8,36]
[8,37]
[8,38]
[8,39]
[8,40]
[8,41]
[8,42]
[8,43]
[8,44]
[8,45]
[8,46]
[8,47]
[8,48]
[8,49]
[8,50]
[8,51]
[8,52]
[8,53]
[8,54]
[8,55]
[8,56]
[8,57]
[8,58]
[8,59]
[8,60]
[8,61]
[8,62]
[8,63]
[8,64]
[8,65]
[8,66]
[8,67]
[8,68]
[8,69]
[8,70]
[8,71]
[8,72]
[8,73]
[8,74]
[8,75]
[8,76]
[8,77]
[8,78]
[8,79]
[8,80]
[{"$f":"A1283+1","v":8},81]
[8,82]
[8,83]
[8,84]
[8,85]
[8,86]
[8,87]
[8,88]
[8,89]
[8,90]
[8,91]
[8,92]
[8,93]
[8,94]
[8,95]
[8,96]
[8,97]
[8,98]
[8,99]
[8,100]
[8,101]
[8,102]
[8,103]
[8,104]
[8,105]
[8,106]
[8,107]
[8,108]
[8,109]
[8,110]
[8,111]
[8,112]
[8,113]
[8,114]
[8,115]
[8,116]
[8,117]
[8,118]
[8,119]
[8,120]
[8,121]
[8,122]
[8,123]
[8,124]
[8,125]
[8,126]
[8,127]
[8,128]
[8,129]
[8,130]
[8,131]
[8,132]
[8,133]
[8,134]
[8,135]
[8,136]
[8,137]
[8,138]
[8,139]
[8,140]
[8,141]
[8,142]
[8,143]
[8,144]
[{"$f":"A1347+1","v":8},145]
[8,146]
[8,147]
[8,148]
[8,149]
[8,150]
[8,151]
[8,152]
[8,153]
[8,154]
[8,155]
[8,156]
[8,157]
[8,158]
[8,159]
[8,160]
[8,161]
[8,162]
[8,163]
[8,164]
[8,165]
[8,166]
[8,167]
[8,168]
[8,169]
[8,170]
[8,171]
[8,172]
[8,173]
[8,174]
[8,175]
[8,176]
[8,177]
[8,178]
[8,179]
[8,180]
[8,181]
[8,182]
[8,183]
[8,184]
[8,185]
[8,186]
[8,187]
[8,188]
[8,189]
[8,190]
[8,191]
[8,192]
[8,193]
[8,194]
[8,195]
[8,196]
[8,197]
[8,198]
[8,199]
[8,200]
[9,1]
[9,2]
[9,3]
[9,4]
[9,5]
[9,6]
[9,7]
[9,8]
[{"$f":"A1411+1","v":9},9]
[9,10]
[9,11]
[9,12]
[9,13]
[9,14]
[9,15]
[9,16]
[9,17]
[9,18]
[9,19]
[9,20]
[9,21]
[9,22]
[9,23]
[9,24]
[9,25]
[9,26]
[9,27]
[9,28]
[9,29]
[9,30]
[9,31]
[9,32]
[9,33]
[9,34]
[9,35]
[9,36]
[9,37]
[9,38]
[9,39]
[9,40]
[9,41]
[9,42]
[9,43]
[9,44]
[9,45]
[9,46]
[9,47]
[9,48]
[9,49]
[9,50]
[9,51]
[9,52]
[9,53]
[9,54]
[9,55]
[9,56]
[9,57]
[9,58]
[9,59]
[9,60]
[9,61]
[9,62]
[9,63]
[9,64]
[9,65]
[9,66]
[9,67]
[9,68]
[9,69]
[9,70]
[9,71]
[9,72]
[{"$f":"A1475+1","v":9},73]
[9,74]
[9,75]
[9,76]
[9,77]
[9,78]
[9,79]
[9,80]
[9,81]
[9,82]
[9,83]
[9,84]
[9,85]
[9,86]
[9,87]
[9,88]
[9,89]
[9,90]
[9,91]
[9,92]
[9,93]
[9,94]
[9,95]
[9,96]
[9,97]
[9,98]
[9,99]
[9,100]
[9,101]
[9,102]
[9,103]
[9,104]
[9,105]
[9,106]
[9,107]
[9,108]
[9,109]
[9,110]
[9,111]
[9,112]
[9,113]
[9,114]
[9,115]
[9,116]
[9,117]
[9,118]
[9,119]
[9,120]
[9,121]
[9,122]
[9,123]
[9,124]
[9,125]
[9,126]
[9,127]
[9,128]
[9,129]
[9,130]
[9,131]
[9,132]
[9,133]
[9,134]
[9,135]
[9,136]
[{"$f":"A1539+1","v":9},137]
[9,138]
[9,139]
[9,140]
[9,141]
[9,142]
[9,143]
[9,144]
[9,145]
[9,146]
[9,147]
[9,148]
[9,149]
[9,150]
[9,151]
[9,152]
[9,153]
[9,154]
[9,155]
[9,156]
[9,157]
[9,158]
[9,159]
[9,160]
[9,161]
[9,162]
[9,163]
[9,164]
[9,165]
[9,166]
[9,167]
[9,168]
[9,169]
[9,170]
[9,171]
[9,172]
[9,173]
[9,174]
[9,175]
[9,176]
[9,177]
[9,178]
[9,179]
[9,180]
[9,181]
[9,182]
[9,183]
[9,184]
[9,185]
[9,186]
[9,187]
[9,188]
[9,189]
[9,190]
[9,191]
[9,192]
[9,193]
[9,194]
[9,195]
[9,196]
[9,197]
[9,198]
[9,199]
[9,200]
[{"$f":"A1603+1","v":10},1]
[10,2]
[10,3]
[10,4]
[10,5]
[10,6]
[10,7]
[10,8]
[10,9]
[10,10]
[10,11]
[10,12]
[10,13]
[10,14]
[10,15]
[10,16]
[10,17]
[10,18]
[10,19]
[10,20]
[10,21]
[10,22]
[10,23]
[10,24]
[10,25]
[10,26]
[10,27]
[10,28]
[10,29]
[10,30]
[10,31]
[10,32]
[10,33]
[10,34]
[10,35]
[10,36]
[10,37]
[10,38]
[10,39]
[10,40]
[10,41]
[10,42]
[10,43]
[10,44]
[10,45]
[10,46]
[10,47]
[10,48]
[10,49]
[10,50]
[10,51]
[10,52]
[10,53]
[10,54]
[10,55]
[10,56]
[10,57]
[10,58]
[10,59]
[10,60]
[10,61]
[10,62]
[10,63]
[10,64]
[{"$f":"A1667+1","v":10},65]
[10,66]
[10,67]
[10,68]
[10,69]
[10,70]
[10,71]
[10,72]
[10,73]
[10,74]
[10,75]
[10,76]
[10,77]
[10,78]
[10,79]
[10,80]
[10,81]
[10,82]
[10,83]
[10,84]
[10,85]
[10,86]
[10,87]
[10,88]
[10,89]
[10,90]
[10,91]
[10,92]
[10,93]
[10,94]
[10,95]
[10,96]
[10,97]
[10,98]
[10,99]
[10,100]
[10,101]
[10,102]
[10,103]
[10,104]
[10,105]
[10,106]
[10,107]
[10,108]
[10,109]
[10,110]
[10,111]
[10,112]
[10,113]
[10,114]
[10,115]
[10,116]
[10,117]
[10,118]
[10,119]
[10,120]
[10,121]
[10,122]
[10,123]
[10,124]
[10,125]
[10,126]
[10,127]
[10,128]
[{"$f":"A1731+1","v":10},129]
[10,130]
[10,131]
[10,132]
[10,133]
[10,134]
[10,135]
[10,136]
[10,137]
[10,138]
[10,139]
[10,140]
[10,141]
[10,142]
[10,143]
[10,144]
[10,145]
[10,146]
[10,147]
[10,148]
[10,149]
[10,150]
[10,151]
[10,152]
[10,153]
[10,154]
[10,155]
[10,156]
[10,157]
[10,158]
[10,159]
[10,160]
[10,161]
[10,162]
[10,163]
[10,164]
[10,165]
[10,166]
[10,167]
[10,168]
[10,169]
[10,170]
[10,171]
[10,172]
[10,173]
[10,174]
[10,175]
[10,176]
[10,177]
[10,178]
[10,179]
[10,180]
[10,181]
[10,182]
[10,183]
[10,184]
[10,185]
[10,186]
[10,187]
[10,188]
[10,189]
[10,190]
[10,191]
[10,192]
[{"$f":"A1795+1","v":10},193]
[10,194]
[10,195]
[10,196]
[10,197]
[10,198]
[10,199]
[10,200]
[11,1]
[11,2]
[11,3]
[11,4]
[11,5]
[11,6]
[11,7]
[11,8]
[11,9]
[11,10]
[11,11]
[11,12]
[11,13]
[11,14]
[11,15]
[11,16]
[11,17]
[11,18]
[11,19]
[11,20]
[11,21]
[11,22]
[11,23]
[11,24]
[11,25]
[11,26]
[11,27]
[11,28]
[11,29]
[11,30]
[11,31]
[11,32]
[11,33]
[11,34]
[11,35]
[11,36]
[11,37]
[11,38]
[11,39]
[11,40]
[11,41]
[11,42]
[11,43]
[11,44]
[11,45]
[11,46]
[11,47]
[11,48]
[11,49]
[11,50]
[11,51]
[11,52]
[11,53]
[11,54]
[11,55]
[11,56]
[{"$f":"A1859+1","v":11},57]
[11,58]
[11,59]
[11,60]
[11,61]
[11,62]
[11,63]
[11,64]
[11,65]
[11,66]
[11,67]
[11,68]
[11,69]
[11,70]
[11,71]
[11,72]
[11,73]
[11,74]
[11,75]
[11,76]
[11,77]
[11,78]
[11,79]
[11,80]
[11,81]
[11,82]
[11,83]
[11,84]
[11,85]
[11,86]
[11,87]
[11,88]
[11,89]
[11,90]
[11,91]
[11,92]
[11,93]
[11,94]
[11,95]
[11,96]
[11,97]
[11,98]
[11,99]
[11,100]
[11,101]
[11,102]
[11,103]
[11,104]
[11,105]
[11,106]
[11,107]
[11,108]
[11,109]
[11,110]
[11,111]
[11,112]
[11,113]
[11,114]
[11,115]
[11,116]
[11,117]
[11,118]
[11,119]
[11,120]
[{"$f":"A1923+1","v":11},121]
[11,122]
[11,123]
[11,124]
[11,125]
[11,126]
[11,127]
[11,128]
[11,129]
[11,130]
[11,131]
[11,132]
[11,133]
[11,134]
[11,135]
[11,136]
[11,137]
[11,138]
[11,139]
[11,140]
[11,141]
[11,142]
[11,143]
[11,144]
[11,145]
[11,146]
[11,147]
[11,148]
[11,149]
[11,150]
[11,151]
[11,152]
[11,153]
[11,154]
[11,155]
[11,156]
[11,157]
[11,158]
[11,159]
[11,160]
[11,161]
[11,162]
[11,163]
[11,164]
[11,165]
[11,166]
[11,167]
[11,168]
[11,169]
[11,170]
[11,171]
[11,172]
[11,173]
[11,174]
[11,175]
[11,176]
[11,177]
[11,178]
[11,179]
[11,180]
[11,181]
[11,182]
[11,183]
[11,184]
[{"$f":"A1987+1","v":11},185]
[11,186]
[11,187]
[11,188]
[11,189]
[11,190]
[11,191]
[11,192]
[11,193]
[11,194]
[11,195]
[11,196]
[11,197]
[11,198]
[11,199]
[11,200]
[12,1]
[12,2]
[12,3]
[12,4]
[12,5]
[12,6]
[12,7]
[12,8]
[12,9]
[12,10]
[12,11]
[12,12]
[12,13]
[12,14]
[12,15]
[12,16]
[12,17]
[12,18]
[12,19]
[12,20]
[12,21]
[12,22]
[12,23]
[12,24]
[12,25]
[12,26]
[12,27]
[12,28]
[12,29]
[12,30]
[12,31]
[12,32]
[12,33]
[12,34]
[12,35]
[12,36]
[12,37]
[12,38]
[12,39]
[12,40]
[12,41]
[12,42]
[12,43]
[12,44]
[12,45]
[12,46]
[12,47]
[12,48]
[{"$f":"A2051+1","v":12},49]
[12,50]
[12,51]
[12,52]
[12,53]
[12,54]
[12,55]
[12,56]
[12,57]
[12,58]
[12,59]
[12,60]
[12,61]
[12,62]
[12,63]
[12,64]
[12,65]
[12,66]
[12,67]
[12,68]
[12,69]
[12,70]
[12,71]
[12,72]
[12,73]
[12,74]
[12,75]
[12,76]
[12,77]
[12,78]
[12,79]
[12,80]
[12,81]
[12,82]
[12,83]
[12,84]
[12,85]
[12,86]
[12,87]
[12,88]
[12,89]
[12,90]
[12,91]
[12,92]
[12,93]
[12,94]
[12,95]
[12,96]
[12,97]
[12,98]
[12,99]
[12,100]
[12,101]
[12,102]
[12,103]
[12,104]
[12,105]
[12,106]
[12,107]
[12,108]
[12,109]
[12,110]
[12,111]
[12,112]
[{"$f":"A2115+1","v":12},113]
[12,114]
[12,115]
[12,116]
[12,117]
[12,118]
[12,119]
[12,120]
[12,121]
[12,122]
[12,123]
[12,124]
[12,125]
[12,126]
[12,127]
[12,128]
[12,129]
[12,130]
[12,131]
[12,132]
[12,133]
[12,134]
[12,135]
[12,136]
[12,137]
[12,138]
[12,139]
[12,140]
[12,141]
[12,142]
[12,143]
[12,144]
[12,145]
[12,146]
[12,147]
[12,148]
[12,149]
[12,150]
[12,151]
[12,152]
[12,153]
[12,154]
[12,155]
[12,156]
[12,157]
[12,158]
[12,159]
[12,160]
[12,161]
[12,162]
[12,163]
[12,164]
[12,165]
[12,166]
[12,167]
[12,168]
[12,169]
[12,170]
[12,171]
[12,172]
[12,173]
[12,174]
[12,175]
[12,176]
[{"$f":"A2179+1","v":12},177]
[12,178]
[12,179]
[12,180]
[12,181]
[12,182]
[12,183]
[12,184]
[12,185]
[12,186]
[12,187]
[12,188]
[12,189]
[12,190]
[12,191]
[12,192]
[12,193]
[12,194]
[12,195]
[12,196]
[12,197]
[12,198]
[12,199]
[12,200]
[13,1]
[13,2]
[13,3]
[13,4]
[13,5]
[13,6]
[13,7]
[13,8]
[13,9]
[13,10]
[13,11]
[13,12]
[13,13]
[13,14]
[13,15]
[13,16]
[13,17]
[13,18]
[13,19]
[13,20]
[13,21]
[13,22]
[13,23]
[13,24]
[13,25]
[13,26]
[13,27]
[13,28]
[13,29]
[13,30]
[13,31]
[13,32]
[13,33]
[13,34]
[13,35]
[13,36]
[13,37]
[13,38]
[13,39]
[13,40]
[13,41]
[13,42]
[13,43]
[13,44]
[13,45]
[13,46]
[13,47]
[13,48]
[13,49]
[13,50]
[13,51]
[13,52]
[13,53]
[13,54]
[13,55]
[13,56]
[13,57]
[13,58]
[13,59]
[13,60]
[13,61]
[13,62]
[13,63]
[13,64]
[13,65]
[13,66]
[13,67]
[13,68]
[13,69]
[13,70]
[13,71]
[13,72]
[13,73]
[13,74]
[13,75]
[13,76]
[13,77]
[13,78]
[13,79]
[13,80]
[13,81]
[13,82]
[13,83]
[13,84]
[13,85]
[13,86]
[13,87]
[13,88]
[13,89]
[13,90]
[13,91]
[13,92]
[13,93]
[13,94]
[13,95]
[13,96]
[13,97]
[13,98]
[13,99]
[13,100]
[13,101]
[13,102]
[13,103]
[13,104]
[13,105]
[13,106]
[13,107]
[13,108]
[13,109]
[13,110]
[13,111]
[13,112]
[13,113]
[13,114]
[13,115]
[13,116]
[13,117]
[13,118]
[13,119]
[13,120]
[13,121]
[13,122]
[13,123]
[13,124]
[13,125]
[13,126]
[13,127]
[13,128]
[13,129]
[13,130]
[13,131]
[13,132]
[13,133]
[13,134]
[13,135]
[13,136]
[13,137]
[13,138]
[13,139]
[13,140]
[13,141]
[13,142]
[13,143]
[13,144]
[13,145]
[13,146]
[13,147]
[13,148]
[13,149]
[13,150]
[13,151]
[13,152]
[13,153]
[13,154]
[13,155]
[13,156]
[13,157]
[13,158]
[13,159]
[13,160]
[13,161]
[13,162]
[13,163]
[13,164]
[13,165]
[13,166]
[13,167]
[13,168]
[13,169]
[13,170]
[13,171]
[13,172]
[13,173]
[13,174]
[13,175]
[13,176]
[13,177]
[13,178]
[13,179]
[13,180]
[13,181]
[13,182]
[13,183]
[13,184]
[13,185]
[13,186]
[13,187]
[13,188]
[13,189]
[13,190]
[13,191]
[13,192]
[13,193]
[13,194]
[13,195]
[13,196]
[13,197]
[13,198]
[13,199]
[13,200]
[18,1]
[18,2]
[18,3]
[18,4]
[18,5]
[18,6]
[18,7]
[18,8]
[18,9]
[18,10]
[18,11]
[18,12]
[18,13]
[18,14]
[18,15]
[18,16]
[18,17]
[18,18]
[18,19]
[18,20]
[18,21]
[18,22]
[18,23]
[18,24]
[18,25]
[18,26]
[18,27]
[18,28]
[18,29]
[18,30]
[18,31]
[18,32]
[18,33]
[18,34]
[18,35]
[18,36]
[18,37]
[18,38]
[18,39]
[18,40]
[18,41]
[18,42]
[18,43]
[18,44]
[18,45]
[18,46]
[18,47]
[18,48]
[18,49]
[18,50]
[18,51]
[18,52]
[18,53]
[18,54]
[18,55]
[18,56]
[18,57]
[18,58]
[18,59]
[18,60]
[18,61]
[18,62]
[18,63]
[18,64]
[18,65]
[18,66]
[18,67]
[18,68]
[18,69]
[18,70]
[18,71]
[18,72]
[18,73]
[18,74]
[18,75]
[18,76]
[18,77]
[18,78]
[18,79]
[18,80]
[18,81]
[18,82]
[18,83]
[18,84]
[18,85]
[18,86]
[18,87]
[18,88]
[18,89]
[18,90]
[18,91]
[18,92]
[18,93]
[18,94]
[18,95]
[18,96]
[18,97]
[18,98]
[18,99]
[18,100]
[18,101]
[18,102]
[18,103]
[18,104]
[18,105]
[18,106]
[18,107]
[18,108]
[18,109]
[18,110]
[18,111]
[18,112]
[18,113]
[18,114]
[18,115]
[18,116]
[18,117]
[18,118]
[18,119]
[18,120]
[18,121]
[18,122]
[18,123]
[18,124]
[18,125]
[18,126]
[18,127]
[18,128]
[18,129]
[18,130]
[18,131]
[18,132]
[18,133]
[18,134]
[18,135]
[18,136]
[18,137]
[18,138]
[18,139]
[18,140]
[18,141]
[18,142]
[18,143]
[18,144]
[18,145]
[18,146]
[18,147]
[18,148]
[18,149]
[18,150]
[18,151]
[18,152]
[18,153]
[18,154]
[18,155]
[18,156]
[18,157]
[18,158]
[18,159]
[18,160]
[18,161]
[18,162]
[18,163]
[18,164]
[18,165]
[18,166]
[18,167]
[18,168]
[18,169]
[18,170]
[18,171]
[18,172]
[18,173]
[18,174]
[18,175]
[18,176]
[18,177]
[18,178]
[18,179]
[18,180]
[18,181]
[18,182]
[18,183]
[18,184]
[18,185]
[18,186]
[18,187]
[18,188]
[18,189]
[18,190]
[18,191]
[18,192]
[18,193]
[18,194]
[18,195]
[18,196]
[18,197]
[18,198]
[18,199]
[18,200]

{"sheet":"Backsheet","index":6,"n_rows":201,"n_cols":30,"rows_kept":201,"cut":false,"hidden":true,"merged":[]}
["Site Code:K","Site Name","Ward","Specialty 1","Specialty 2","Day Nurse Plan:N","Day Nurse Actual:N","Day Care Plan:N","Day Care Actual:N","Night Nurse Plan:N","Night Nurse Actual:N","Night Care Plan:N","Night Care Actual:N","Registered AHP Plan:N","Registered AHP Actual:N","Non-registered AHP Plan:N","Non-registered AHP Actual:N","Day Nurse Fill Rate:N","Day Care Fill Rate:N","Night Nurse Fill Rate:N","Night Care Fill Rate:N","Registered AHP Fill Rate:N","Non-Registered AHP Fill Rate:N","Total Patients (CHPPD):N","Nurse CHPPD:N","Care CHPPD:N","Registered AHP CHPPD:N","Non-registered AHP CHPPD:N","Overall CHPPD:N","Url Staffing Url"]
[{"$f":"IF('Trust - Frontsheet'!D14=0,\"\",IF('Trust - Frontsheet'!D14=\"\",\"\",'Trust - Frontsheet'!D14))","v":"RBL14"},{"$f":"IF(ISBLANK('Trust - Frontsheet'!E14),\"\",'Trust - Frontsheet'!E14)","v":"ARROWE PARK HOSPITAL"},{"$f":"IF(ISBLANK('Trust - Frontsheet'!F14),\"\",\"'\" & 'Trust - Frontsheet'!F14 & \"'\")","v":"'10'"},{"$f":"IF(ISBLANK('Trust - Frontsheet'!G14),\"\",'Trust - Frontsheet'!G14)","v":"110 - TRAUMA & ORTHOPAEDICS"},{"$f":"IF(ISBLANK('Trust - Frontsheet'!H14),\"\",'Trust - Frontsheet'!H14)","v":""},{"$f":"'Trust - Frontsheet'!I14","v":1335},{"$f":"'Trust - Frontsheet'!J14","v":1125.5},{"$f":"'Trust - Frontsheet'!K14","v":1365},{"$f":"'Trust - Frontsheet'!L14","v":1118.6500000000001},{"$f":"'Trust - Frontsheet'!M14","v":690},{"$f":"'Trust - Frontsheet'!N14","v":690},{"$f":"'Trust - Frontsheet'!O14","v":690},{"$f":"'Trust - Frontsheet'!P14","v":713},{"$f":"'Trust - Frontsheet'!Q14","v":0},{"$f":"'Trust - Frontsheet'!R14","v":0},{"$f":"'Trust - Frontsheet'!S14","v":0},{"$f":"'Trust - Frontsheet'!T14","v":0},{"$f":"IF(OR('Trust - Frontsheet'!AA14=\"\",'Trust - Frontsheet'!AA14=\"-\"),0,('Trust - Frontsheet'!AA14))","v":0.84307116104868918},{"$f":"IF(OR('Trust - Frontsheet'!AB14=\"\",'Trust - Frontsheet'!AB14=\"-\"),0,('Trust - Frontsheet'!AB14))","v":0.81952380952380954},{"$f":"IF(OR('Trust - Frontsheet'!AC14=\"\",'Trust - Frontsheet'!AC14=\"-\"),0,('Trust - Frontsheet'!AC14))","v":1},{"$f":"IF(OR('Trust - Frontsheet'!AD14=\"\",'Trust - Frontsheet'!AD14=\"-\"),0,('Trust - Frontsheet'!AD14))","v":1.0333333333333334},{"$f":"IF(OR('Trust - Frontsheet'!AE14=\"\",'Trust - Frontsheet'!AE14=\"-\"),0,('Trust - Frontsheet'!AE14))","v":0},{"$f":"IF(OR('Trust - Frontsheet'!AF14=\"\",'Trust - Frontsheet'!AF14=\"-\"),0,('Trust - Frontsheet'!AF14))","v":0},{"$f":"'Trust - Frontsheet'!U14","v":545},{"$f":"IF(OR('Trust - Frontsheet'!V14=\"\",'Trust - Frontsheet'!V14=\"-\"),0,('Trust - Frontsheet'!V14))","v":3.3311926605504589},{"$f":"IF(OR('Trust - Frontsheet'!W14=\"\",'Trust - Frontsheet'!W14=\"-\"),0,('Trust - Frontsheet'!W14))","v":3.3608256880733949},{"$f":"IF(OR('Trust - Frontsheet'!X14=\"\",'Trust - Frontsheet'!X14=\"-\"),0,('Trust - Frontsheet'!X14))","v":0},{"$f":"IF(OR('Trust - Frontsheet'!Y14=\"\",'Trust - Frontsheet'!Y14=\"-\"),0,('Trust - Frontsheet'!Y14))","v":0},{"$f":"IF(OR('Trust - Frontsheet'!Z14=\"\",'Trust - Frontsheet'!Z14=\"-\"),0,('Trust - Frontsheet'!Z14))","v":6.6920183486238534},{"$f":"IF(A2=\"\",\"\",(IF(ISBLANK('Trust - Frontsheet'!F9),\"\",'Trust - Frontsheet'!F9)))","v":""}]
[{"$f":"IF('Trust - Frontsheet'!D15=0,\"\",IF('Trust - Frontsheet'!D15=\"\",\"\",'Trust - Frontsheet'!D15))","v":"RBL14"},{"$f":"IF(ISBLANK('Trust - Frontsheet'!E15),\"\",'Trust - Frontsheet'!E15)","v":"ARROWE PARK HOSPITAL"},{"$f":"IF(ISBLANK('Trust - Frontsheet'!F15),\"\",\"'\" & 'Trust - Frontsheet'!F15 & \"'\")","v":"'11'"},{"$f":"IF(ISBLANK('Trust - Frontsheet'!G15),\"\",'Trust - Frontsheet'!G15)","v":"110 - TRAUMA & ORTHOPAEDICS"},{"$f":"IF(ISBLANK('Trust - Frontsheet'!H15),\"\",'Trust - Frontsheet'!H15)","v":""},{"$f":"'Trust - Frontsheet'!I15","v":1717.5},{"$f":"'Trust - Frontsheet'!J15","v":1439.25},{"$f":"'Trust - Frontsheet'!K15","v":1567.5},{"$f":"'Trust - Frontsheet'!L15","v":1573.5},{"$f":"'Trust - Frontsheet'!M15","v":1035},{"$f":"'Trust - Frontsheet'!N15","v":920},{"$f":"'Trust - Frontsheet'!O15","v":1035},{"$f":"'Trust - Frontsheet'!P15","v":1299.5},{"$f":"'Trust - Frontsheet'!Q15","v":0},{"$f":"'Trust - Frontsheet'!R15","v":0},{"$f":"'Trust - Frontsheet'!S15","v":0},{"$f":"'Trust - Frontsheet'!T15","v":0},{"$f":"IF(OR('Trust - Frontsheet'!AA15=\"\",'Trust - Frontsheet'!AA15=\"-\"),0,('Trust - Frontsheet'!AA15))","v":0.83799126637554588},{"$f":"IF(OR('Trust - Frontsheet'!AB15=\"\",'Trust - Frontsheet'!AB15=\"-\"),0,('Trust - Frontsheet'!AB15))","v":1.0038277511961722},{"$f":"IF(OR('Trust - Frontsheet'!AC15=\"\",'Trust - Frontsheet'!AC15=\"-\"),0,('Trust - Frontsheet'!AC15))","v":0.88888888888888884},{"$f":"IF(OR('Trust - Frontsheet'!AD15=\"\",'Trust - Frontsheet'!AD15=\"-\"),0,('Trust - Frontsheet'!AD15))","v":1.2555555555555555},{"$f":"IF(OR('Trust - Frontsheet'!AE15=\"\",'Trust - Frontsheet'!AE15=\"-\"),0,('Trust - Frontsheet'!AE15))","v":0},{"$f":"IF(OR('Trust - Frontsheet'!AF15=\"\",'Trust - Frontsheet'!AF15=\"-\"),0,('Trust - Frontsheet'!AF15))","v":0},{"$f":"'Trust - Frontsheet'!U15","v":657},{"$f":"IF(OR('Trust - Frontsheet'!V15=\"\",'Trust - Frontsheet'!V15=\"-\"),0,('Trust - Frontsheet'!V15))","v":3.5909436834094368},{"$f":"IF(OR('Trust - Frontsheet'!W15=\"\",'Trust - Frontsheet'!W15=\"-\"),0,('Trust - Frontsheet'!W15))","v":4.3729071537290718},{"$f":"IF(OR('Trust - Frontsheet'!X15=\"\",'Trust - Frontsheet'!X15=\"-\"),0,('Trust - Frontsheet'!X15))","v":0},{"$f":"IF(OR('Trust - Frontsheet'!Y15=\"\",'Trust - Frontsheet'!Y15=\"-\"),0,('Trust - Frontsheet'!Y15))","v":0},{"$f":"IF(OR('Trust - Frontsheet'!Z15=\"\",'Trust - Frontsheet'!Z15=\"-\"),0,('Trust - Frontsheet'!Z15))","v":7.9638508371385086},{"$f":"IF(A3=\"\",\"\",(IF(ISBLANK('Trust - Frontsheet'!F9),\"\",'Trust - Frontsheet'!F9)))","v":""}]
[{"$f":"IF('Trust - Frontsheet'!D16=0,\"\",IF('Trust - Frontsheet'!D16=\"\",\"\",'Trust - Frontsheet'!D16))","v":"RBL14"},{"$f":"IF(ISBLANK('Trust - Frontsheet'!E16),\"\",'Trust - Frontsheet'!E16)","v":"ARROWE PARK HOSPITAL"},{"$f":"IF(ISBLANK('Trust - Frontsheet'!F16),\"\",\"'\" & 'Trust - Frontsheet'!F16 & \"'\")","v":"'12'"},{"$f":"IF(ISBLANK('Trust - Frontsheet'!G16),\"\",'Trust - Frontsheet'!G16)","v":"110 - TRAUMA & ORTHOPAEDICS"},{"$f":"IF(ISBLANK('Trust - Frontsheet'!H16),\"\",'Trust - Frontsheet'!H16)","v":""},{"$f":"'Trust - Frontsheet'!I16","v":1185},{"$f":"'Trust - Frontsheet'!J16","v":801.65},{"$f":"'Trust - Frontsheet'!K16","v":690},{"$f":"'Trust - Frontsheet'!L16","v":646.4},{"$f":"'Trust - Frontsheet'!M16","v":690},{"$f":"'Trust - Frontsheet'!N16","v":632.5},{"$f":"'Trust - Frontsheet'!O16","v":345},{"$f":"'Trust - Frontsheet'!P16","v":356.5},{"$f":"'Trust - Frontsheet'!Q16","v":0},{"$f":"'Trust - Frontsheet'!R16","v":0},{"$f":"'Trust - Frontsheet'!S16","v":0},{"$f":"'Trust - Frontsheet'!T16","v":0},{"$f":"IF(OR('Trust - Frontsheet'!AA16=\"\",'Trust - Frontsheet'!AA16=\"-\"),0,('Trust - Frontsheet'!AA16))","v":0.67649789029535867},{"$f":"IF(OR('Trust - Frontsheet'!AB16=\"\",'Trust - Frontsheet'!AB16=\"-\"),0,('Trust - Frontsheet'!AB16))","v":0.9368115942028985},{"$f":"IF(OR('Trust - Frontsheet'!AC16=\"\",'Trust - Frontsheet'!AC16=\"-\"),0,('Trust - Frontsheet'!AC16))","v":0.91666666666666663},{"$f":"IF(OR('Trust - Frontsheet'!AD16=\"\",'Trust - Frontsheet'!AD16=\"-\"),0,('Trust - Frontsheet'!AD16))","v":1.0333333333333334},{"$f":"IF(OR('Trust - Frontsheet'!AE16=\"\",'Trust - Frontsheet'!AE16=\"-\"),0,('Trust - Frontsheet'!AE16))","v":0},{"$f":"IF(OR('Trust - Frontsheet'!AF16=\"\",'Trust - Frontsheet'!AF16=\"-\"),0,('Trust - Frontsheet'!AF16))","v":0},{"$f":"'Trust - Frontsheet'!U16","v":378},{"$f":"IF(OR('Trust - Frontsheet'!V16=\"\",'Trust - Frontsheet'!V16=\"-\"),0,('Trust - Frontsheet'!V16))","v":3.7940476190476193},{"$f":"IF(OR('Trust - Frontsheet'!W16=\"\",'Trust - Frontsheet'!W16=\"-\"),0,('Trust - Frontsheet'!W16))","v":2.6531746031746031},{"$f":"IF(OR('Trust - Frontsheet'!X16=\"\",'Trust - Frontsheet'!X16=\"-\"),0,('Trust - Frontsheet'!X16))","v":0},{"$f":"IF(OR('Trust - Frontsheet'!Y16=\"\",'Trust - Frontsheet'!Y16=\"-\"),0,('Trust - Frontsheet'!Y16))","v":0},{"$f":"IF(OR('Trust - Frontsheet'!Z16=\"\",'Trust - Frontsheet'!Z16=\"-\"),0,('Trust - Frontsheet'!Z16))","v":6.4472222222222229},{"$f":"IF(A4=\"\",\"\",(IF(ISBLANK('Trust - Frontsheet'!F9),\"\",'Trust - Frontsheet'!F9)))","v":""}]
[{"$f":"IF('Trust - Frontsheet'!D17=0,\"\",IF('Trust - Frontsheet'!D17=\"\",\"\",'Trust - Frontsheet'!D17))","v":"RBL14"},{"$f":"IF(ISBLANK('Trust - Frontsheet'!E17),\"\",'Trust - Frontsheet'!E17)","v":"ARROWE PARK HOSPITAL"},{"$f":"IF(ISBLANK('Trust - Frontsheet'!F17),\"\",\"'\" & 'Trust - Frontsheet'!F17 & \"'\")","v":"'OPAU'"},{"$f":"IF(ISBLANK('Trust - Frontsheet'!G17),\"\",'Trust - Frontsheet'!G17)","v":"430 - GERIATRIC MEDICINE"},{"$f":"IF(ISBLANK('Trust - Frontsheet'!H17),\"\",'Trust - Frontsheet'!H17)","v":""},{"$f":"'Trust - Frontsheet'!I17","v":1660},{"$f":"'Trust - Frontsheet'!J17","v":1270.7},{"$f":"'Trust - Frontsheet'!K17","v":1380},{"$f":"'Trust - Frontsheet'!L17","v":1615},{"$f":"'Trust - Frontsheet'!M17","v":1035},{"$f":"'Trust - Frontsheet'!N17","v":701.5},{"$f":"'Trust - Frontsheet'!O17","v":1035},{"$f":"'Trust - Frontsheet'!P17","v":1219},{"$f":"'Trust - Frontsheet'!Q17","v":0},{"$f":"'Trust - Frontsheet'!R17","v":0},{"$f":"'Trust - Frontsheet'!S17","v":0},{"$f":"'Trust - Frontsheet'!T17","v":0},{"$f":"IF(OR('Trust - Frontsheet'!AA17=\"\",'Trust - Frontsheet'!AA17=\"-\"),0,('Trust - Frontsheet'!AA17))","v":0.76548192771084345},{"$f":"IF(OR('Trust - Frontsheet'!AB17=\"\",'Trust - Frontsheet'!AB17=\"-\"),0,('Trust - Frontsheet'!AB17))","v":1.1702898550724639},{"$f":"IF(OR('Trust - Frontsheet'!AC17=\"\",'Trust - Frontsheet'!AC17=\"-\"),0,('Trust - Frontsheet'!AC17))","v":0.67777777777777781},{"$f":"IF(OR('Trust - Frontsheet'!AD17=\"\",'Trust - Frontsheet'!AD17=\"-\"),0,('Trust - Frontsheet'!AD17))","v":1.1777777777777778},{"$f":"IF(OR('Trust - Frontsheet'!AE17=\"\",'Trust - Frontsheet'!AE17=\"-\"),0,('Trust - Frontsheet'!AE17))","v":0},{"$f":"IF(OR('Trust - Frontsheet'!AF17=\"\",'Trust - Frontsheet'!AF17=\"-\"),0,('Trust - Frontsheet'!AF17))","v":0},{"$f":"'Trust - Frontsheet'!U17","v":690},{"$f":"IF(OR('Trust - Frontsheet'!V17=\"\",'Trust - Frontsheet'!V17=\"-\"),0,('Trust - Frontsheet'!V17))","v":2.8582608695652176},{"$f":"IF(OR('Trust - Frontsheet'!W17=\"\",'Trust - Frontsheet'!W17=\"-\"),0,('Trust - Frontsheet'!W17))","v":4.1072463768115943},{"$f":"IF(OR('Trust - Frontsheet'!X17=\"\",'Trust - Frontsheet'!X17=\"-\"),0,('Trust - Frontsheet'!X17))","v":0},{"$f":"IF(OR('Trust - Frontsheet'!Y17=\"\",'Trust - Frontsheet'!Y17=\"-\"),0,('Trust - Frontsheet'!Y17))","v":0},{"$f":"IF(OR('Trust - Frontsheet'!Z17=\"\",'Trust - Frontsheet'!Z17=\"-\"),0,('Trust - Frontsheet'!Z17))","v":6.9655072463768111},{"$f":"IF(A5=\"\",\"\",(IF(ISBLANK('Trust - Frontsheet'!F9),\"\",'Trust - Frontsheet'!F9)))","v":""}]
[{"$f":"IF('Trust - Frontsheet'!D18=0,\"\",IF('Trust - Frontsheet'!D18=\"\",\"\",'Trust - Frontsheet'!D18))","v":"RBL14"},{"$f":"IF(ISBLANK('Trust - Frontsheet'!E18),\"\",'Trust - Frontsheet'!E18)","v":"ARROWE PARK HOSPITAL"},{"$f":"IF(ISBLANK('Trust - Frontsheet'!F18),\"\",\"'\" & 'Trust - Frontsheet'!F18 & \"'\")","v":"'17'"},{"$f":"IF(ISBLANK('Trust - Frontsheet'!G18),\"\",'Trust - Frontsheet'!G18)","v":"100 - GENERAL SURGERY"},{"$f":"IF(ISBLANK('Trust - Frontsheet'!H18),\"\",'Trust - Frontsheet'!H18)","v":""},{"$f":"'Trust - Frontsheet'!I18","v":1875},{"$f":"'Trust - Frontsheet'!J18","v":1756.5},{"$f":"'Trust - Frontsheet'!K18","v":1207.5},{"$f":"'Trust - Frontsheet'!L18","v":1202},{"$f":"'Trust - Frontsheet'!M18","v":1035},{"$f":"'Trust - Frontsheet'!N18","v":1092.5},{"$f":"'Trust - Frontsheet'!O18","v":1035},{"$f":"'Trust - Frontsheet'!P18","v":1000.5},{"$f":"'Trust - Frontsheet'!Q18","v":0},{"$f":"'Trust - Frontsheet'!R18","v":0},{"$f":"'Trust - Frontsheet'!S18","v":0},{"$f":"'Trust - Frontsheet'!T18","v":0},{"$f":"IF(OR('Trust - Frontsheet'!AA18=\"\",'Trust - Frontsheet'!AA18=\"-\"),0,('Trust - Frontsheet'!AA18))","v":0.93679999999999997},{"$f":"IF(OR('Trust - Frontsheet'!AB18=\"\",'Trust - Frontsheet'!AB18=\"-\"),0,('Trust - Frontsheet'!AB18))","v":0.99544513457556938},{"$f":"IF(OR('Trust - Frontsheet'!AC18=\"\",'Trust - Frontsheet'!AC18=\"-\"),0,('Trust - Frontsheet'!AC18))","v":1.0555555555555556},{"$f":"IF(OR('Trust - Frontsheet'!AD18=\"\",'Trust - Frontsheet'!AD18=\"-\"),0,('Trust - Frontsheet'!AD18))","v":0.96666666666666667},{"$f":"IF(OR('Trust - Frontsheet'!AE18=\"\",'Trust - Frontsheet'!AE18=\"-\"),0,('Trust - Frontsheet'!AE18))","v":0},{"$f":"IF(OR('Trust - Frontsheet'!AF18=\"\",'Trust - Frontsheet'!AF18=\"-\"),0,('Trust - Frontsheet'!AF18))","v":0},{"$f":"'Trust - Frontsheet'!U18","v":872},{"$f":"IF(OR('Trust - Frontsheet'!V18=\"\",'Trust - Frontsheet'!V18=\"-\"),0,('Trust - Frontsheet'!V18))","v":3.2672018348623855},{"$f":"IF(OR('Trust - Frontsheet'!W18=\"\",'Trust - Frontsheet'!W18=\"-\"),0,('Trust - Frontsheet'!W18))","v":2.5258027522935782},{"$f":"IF(OR('Trust - Frontsheet'!X18=\"\",'Trust - Frontsheet'!X18=\"-\"),0,('Trust - Frontsheet'!X18))","v":0},{"$f":"IF(OR('Trust - Frontsheet'!Y18=\"\",'Trust - Frontsheet'!Y18=\"-\"),0,('Trust - Frontsheet'!Y18))","v":0},{"$f":"IF(OR('Trust - Frontsheet'!Z18=\"\",'Trust - Frontsheet'!Z18=\"-\"),0,('Trust - Frontsheet'!Z18))","v":5.7930045871559637},{"$f":"IF(A6=\"\",\"\",(IF(ISBLANK('Trust - Frontsheet'!F9),\"\",'Trust - Frontsheet'!F9)))","v":""}]
[{"$f":"IF('Trust - Frontsheet'!D19=0,\"\",IF('Trust - Frontsheet'!D19=\"\",\"\",'Trust - Frontsheet'!D19))","v":"RBL14"},{"$f":"IF(ISBLANK('Trust - Frontsheet'!E19),\"\",'Trust - Frontsheet'!E19)","v":"ARROWE PARK HOSPITAL"},{"$f":"IF(ISBLANK('Trust - Frontsheet'!F19),\"\",\"'\" & 'Trust - Frontsheet'!F19 & \"'\")","v":"'18'"},{"$f":"IF(ISBLANK('Trust - Frontsheet'!G19),\"\",'Trust - Frontsheet'!G19)","v":"100 - GENERAL SURGERY"},{"$f":"IF(ISBLANK('Trust - Frontsheet'!H19),\"\",'Trust - Frontsheet'!H19)","v":""},{"$f":"'Trust - Frontsheet'!I19","v":1697},{"$f":"'Trust - Frontsheet'!J19","v":1327},{"$f":"'Trust - Frontsheet'!K19","v":1567.5},{"$f":"'Trust - Frontsheet'!L19","v":1494.5},{"$f":"'Trust - Frontsheet'!M19","v":1035},{"$f":"'Trust - Frontsheet'!N19","v":917.75},{"$f":"'Trust - Frontsheet'!O19","v":1035},{"$f":"'Trust - Frontsheet'!P19","v":1399.9},{"$f":"'Trust - Frontsheet'!Q19","v":0},{"$f":"'Trust - Frontsheet'!R19","v":0},{"$f":"'Trust - Frontsheet'!S19","v":0},{"$f":"'Trust - Frontsheet'!T19","v":0},{"$f":"IF(OR('Trust - Frontsheet'!AA19=\"\",'Trust - Frontsheet'!AA19=\"-\"),0,('Trust - Frontsheet'!AA19))","v":0.78196817913965821},{"$f":"IF(OR('Trust - Frontsheet'!AB19=\"\",'Trust - Frontsheet'!AB19=\"-\"),0,('Trust - Frontsheet'!AB19))","v":0.95342902711323763},{"$f":"IF(OR('Trust - Frontsheet'!AC19=\"\",'Trust - Frontsheet'!AC19=\"-\"),0,('Trust - Frontsheet'!AC19))","v":0.88671497584541059},{"$f":"IF(OR('Trust - Frontsheet'!AD19=\"\",'Trust - Frontsheet'!AD19=\"-\"),0,('Trust - Frontsheet'!AD19))","v":1.3525603864734301},{"$f":"IF(OR('Trust - Frontsheet'!AE19=\"\",'Trust - Frontsheet'!AE19=\"-\"),0,('Trust - Frontsheet'!AE19))","v":0},{"$f":"IF(OR('Trust - Frontsheet'!AF19=\"\",'Trust - Frontsheet'!AF19=\"-\"),0,('Trust - Frontsheet'!AF19))","v":0},{"$f":"'Trust - Frontsheet'!U19","v":818},{"$f":"IF(OR('Trust - Frontsheet'!V19=\"\",'Trust - Frontsheet'!V19=\"-\"),0,('Trust - Frontsheet'!V19))","v":2.7441931540342299},{"$f":"IF(OR('Trust - Frontsheet'!W19=\"\",'Trust - Frontsheet'!W19=\"-\"),0,('Trust - Frontsheet'!W19))","v":3.5383863080684597},{"$f":"IF(OR('Trust - Frontsheet'!X19=\"\",'Trust - Frontsheet'!X19=\"-\"),0,('Trust - Frontsheet'!X19))","v":0},{"$f":"IF(OR('Trust - Frontsheet'!Y19=\"\",'Trust - Frontsheet'!Y19=\"-\"),0,('Trust - Frontsheet'!Y19))","v":0},{"$f":"IF(OR('Trust - Frontsheet'!Z19=\"\",'Trust - Frontsheet'!Z19=\"-\"),0,('Trust - Frontsheet'!Z19))","v":6.2825794621026887},{"$f":"IF(A7=\"\",\"\",(IF(ISBLANK('Trust - Frontsheet'!F9),\"\",'Trust - Frontsheet'!F9)))","v":""}]
[{"$f":"IF('Trust - Frontsheet'!D20=0,\"\",IF('Trust - Frontsheet'!D20=\"\",\"\",'Trust - Frontsheet'!D20))","v":"RBL14"},{"$f":"IF(ISBLANK('Trust - Frontsheet'!E20),\"\",'Trust - Frontsheet'!E20)","v":"ARROWE PARK HOSPITAL"},{"$f":"IF(ISBLANK('Trust - Frontsheet'!F20),\"\",\"'\" & 'Trust - Frontsheet'!F20 & \"'\")","v":"'20'"},{"$f":"IF(ISBLANK('Trust - Frontsheet'!G20),\"\",'Trust - Frontsheet'!G20)","v":"101 - UROLOGY"},{"$f":"IF(ISBLANK('Trust - Frontsheet'!H20),\"\",'Trust - Frontsheet'!H20)","v":""},{"$f":"'Trust - Frontsheet'!I20","v":1691.75},{"$f":"'Trust - Frontsheet'!J20","v":1368},{"$f":"'Trust - Frontsheet'!K20","v":1225.5},{"$f":"'Trust - Frontsheet'!L20","v":1309.25},{"$f":"'Trust - Frontsheet'!M20","v":1035},{"$f":"'Trust - Frontsheet'!N20","v":815.5},{"$f":"'Trust - Frontsheet'!O20","v":690},{"$f":"'Trust - Frontsheet'!P20","v":1011},{"$f":"'Trust - Frontsheet'!Q20","v":0},{"$f":"'Trust - Frontsheet'!R20","v":0},{"$f":"'Trust - Frontsheet'!S20","v":0},{"$f":"'Trust - Frontsheet'!T20","v":0},{"$f":"IF(OR('Trust - Frontsheet'!AA20=\"\",'Trust - Frontsheet'!AA20=\"-\"),0,('Trust - Frontsheet'!AA20))","v":0.80863011674301755},{"$f":"IF(OR('Trust - Frontsheet'!AB20=\"\",'Trust - Frontsheet'!AB20=\"-\"),0,('Trust - Frontsheet'!AB20))","v":1.0683394532843737},{"$f":"IF(OR('Trust - Frontsheet'!AC20=\"\",'Trust - Frontsheet'!AC20=\"-\"),0,('Trust - Frontsheet'!AC20))","v":0.78792270531400965},{"$f":"IF(OR('Trust - Frontsheet'!AD20=\"\",'Trust - Frontsheet'!AD20=\"-\"),0,('Trust - Frontsheet'!AD20))","v":1.4652173913043478},{"$f":"IF(OR('Trust - Frontsheet'!AE20=\"\",'Trust - Frontsheet'!AE20=\"-\"),0,('Trust - Frontsheet'!AE20))","v":0},{"$f":"IF(OR('Trust - Frontsheet'!AF20=\"\",'Trust - Frontsheet'!AF20=\"-\"),0,('Trust - Frontsheet'!AF20))","v":0},{"$f":"'Trust - Frontsheet'!U20","v":823},{"$f":"IF(OR('Trust - Frontsheet'!V20=\"\",'Trust - Frontsheet'!V20=\"-\"),0,('Trust - Frontsheet'!V20))","v":2.6530984204131229},{"$f":"IF(OR('Trust - Frontsheet'!W20=\"\",'Trust - Frontsheet'!W20=\"-\"),0,('Trust - Frontsheet'!W20))","v":2.8192588092345079},{"$f":"IF(OR('Trust - Frontsheet'!X20=\"\",'Trust - Frontsheet'!X20=\"-\"),0,('Trust - Frontsheet'!X20))","v":0},{"$f":"IF(OR('Trust - Frontsheet'!Y20=\"\",'Trust - Frontsheet'!Y20=\"-\"),0,('Trust - Frontsheet'!Y20))","v":0},{"$f":"IF(OR('Trust - Frontsheet'!Z20=\"\",'Trust - Frontsheet'!Z20=\"-\"),0,('Trust - Frontsheet'!Z20))","v":5.4723572296476304},{"$f":"IF(A8=\"\",\"\",(IF(ISBLANK('Trust - Frontsheet'!F9),\"\",'Trust - Frontsheet'!F9)))","v":""}]
[{"$f":"IF('Trust - Frontsheet'!D21=0,\"\",IF('Trust - Frontsheet'!D21=\"\",\"\",'Trust - Frontsheet'!D21))","v":"RBL14"},{"$f":"IF(ISBLANK('Trust - Frontsheet'!E21),\"\",'Trust - Frontsheet'!E21)","v":"ARROWE PARK HOSPITAL"},{"$f":"IF(ISBLANK('Trust - Frontsheet'!F21),\"\",\"'\" & 'Trust - Frontsheet'!F21 & \"'\")","v":"'21'"},{"$f":"IF(ISBLANK('Trust - Frontsheet'!G21),\"\",'Trust - Frontsheet'!G21)","v":"430 - GERIATRIC MEDICINE"},{"$f":"IF(ISBLANK('Trust - Frontsheet'!H21),\"\",'Trust - Frontsheet'!H21)","v":""},{"$f":"'Trust - Frontsheet'!I21","v":1655},{"$f":"'Trust - Frontsheet'!J21","v":1510},{"$f":"'Trust - Frontsheet'!K21","v":1530},{"$f":"'Trust - Frontsheet'!L21","v":1610.75},{"$f":"'Trust - Frontsheet'!M21","v":1035},{"$f":"'Trust - Frontsheet'!N21","v":855},{"$f":"'Trust - Frontsheet'!O21","v":1035},{"$f":"'Trust - Frontsheet'!P21","v":1253.5},{"$f":"'Trust - Frontsheet'!Q21","v":0},{"$f":"'Trust - Frontsheet'!R21","v":0},{"$f":"'Trust - Frontsheet'!S21","v":0},{"$f":"'Trust - Frontsheet'!T21","v":0},{"$f":"IF(OR('Trust - Frontsheet'!AA21=\"\",'Trust - Frontsheet'!AA21=\"-\"),0,('Trust - Frontsheet'!AA21))","v":0.91238670694864044},{"$f":"IF(OR('Trust - Frontsheet'!AB21=\"\",'Trust - Frontsheet'!AB21=\"-\"),0,('Trust - Frontsheet'!AB21))","v":1.0527777777777778},{"$f":"IF(OR('Trust - Frontsheet'!AC21=\"\",'Trust - Frontsheet'!AC21=\"-\"),0,('Trust - Frontsheet'!AC21))","v":0.82608695652173914},{"$f":"IF(OR('Trust - Frontsheet'!AD21=\"\",'Trust - Frontsheet'!AD21=\"-\"),0,('Trust - Frontsheet'!AD21))","v":1.211111111111111},{"$f":"IF(OR('Trust - Frontsheet'!AE21=\"\",'Trust - Frontsheet'!AE21=\"-\"),0,('Trust - Frontsheet'!AE21))","v":0},{"$f":"IF(OR('Trust - Frontsheet'!AF21=\"\",'Trust - Frontsheet'!AF21=\"-\"),0,('Trust - Frontsheet'!AF21))","v":0},{"$f":"'Trust - Frontsheet'!U21","v":885},{"$f":"IF(OR('Trust - Frontsheet'!V21=\"\",'Trust - Frontsheet'!V21=\"-\"),0,('Trust - Frontsheet'!V21))","v":2.6723163841807911},{"$f":"IF(OR('Trust - Frontsheet'!W21=\"\",'Trust - Frontsheet'!W21=\"-\"),0,('Trust - Frontsheet'!W21))","v":3.2364406779661019},{"$f":"IF(OR('Trust - Frontsheet'!X21=\"\",'Trust - Frontsheet'!X21=\"-\"),0,('Trust - Frontsheet'!X21))","v":0},{"$f":"IF(OR('Trust - Frontsheet'!Y21=\"\",'Trust - Frontsheet'!Y21=\"-\"),0,('Trust - Frontsheet'!Y21))","v":0},{"$f":"IF(OR('Trust - Frontsheet'!Z21=\"\",'Trust - Frontsheet'!Z21=\"-\"),0,('Trust - Frontsheet'!Z21))","v":5.9087570621468926},{"$f":"IF(A9=\"\",\"\",(IF(ISBLANK('Trust - Frontsheet'!F9),\"\",'Trust - Frontsheet'!F9)))","v":""}]
[{"$f":"IF('Trust - Frontsheet'!D22=0,\"\",IF('Trust - Frontsheet'!D22=\"\",\"\",'Trust - Frontsheet'!D22))","v":"RBL14"},{"$f":"IF(ISBLANK('Trust - Frontsheet'!E22),\"\",'Trust - Frontsheet'!E22)","v":"ARROWE PARK HOSPITAL"},{"$f":"IF(ISBLANK('Trust - Frontsheet'!F22),\"\",\"'\" & 'Trust - Frontsheet'!F22 & \"'\")","v":"'22'"},{"$f":"IF(ISBLANK('Trust - Frontsheet'!G22),\"\",'Trust - Frontsheet'!G22)","v":"430 - GERIATRIC MEDICINE"},{"$f":"IF(ISBLANK('Trust - Frontsheet'!H22),\"\",'Trust - Frontsheet'!H22)","v":""},{"$f":"'Trust - Frontsheet'!I22","v":1655},{"$f":"'Trust - Frontsheet'!J22","v":1379.75},{"$f":"'Trust - Frontsheet'!K22","v":1380},{"$f":"'Trust - Frontsheet'!L22","v":1292.5},{"$f":"'Trust - Frontsheet'!M22","v":1035},{"$f":"'Trust - Frontsheet'!N22","v":793.5},{"$f":"'Trust - Frontsheet'!O22","v":1035},{"$f":"'Trust - Frontsheet'!P22","v":1115.5},{"$f":"'Trust - Frontsheet'!Q22","v":0},{"$f":"'Trust - Frontsheet'!R22","v":0},{"$f":"'Trust - Frontsheet'!S22","v":0},{"$f":"'Trust - Frontsheet'!T22","v":0},{"$f":"IF(OR('Trust - Frontsheet'!AA22=\"\",'Trust - Frontsheet'!AA22=\"-\"),0,('Trust - Frontsheet'!AA22))","v":0.83368580060422959},{"$f":"IF(OR('Trust - Frontsheet'!AB22=\"\",'Trust - Frontsheet'!AB22=\"-\"),0,('Trust - Frontsheet'!AB22))","v":0.93659420289855078},{"$f":"IF(OR('Trust - Frontsheet'!AC22=\"\",'Trust - Frontsheet'!AC22=\"-\"),0,('Trust - Frontsheet'!AC22))","v":0.76666666666666672},{"$f":"IF(OR('Trust - Frontsheet'!AD22=\"\",'Trust - Frontsheet'!AD22=\"-\"),0,('Trust - Frontsheet'!AD22))","v":1.0777777777777777},{"$f":"IF(OR('Trust - Frontsheet'!AE22=\"\",'Trust - Frontsheet'!AE22=\"-\"),0,('Trust - Frontsheet'!AE22))","v":0},{"$f":"IF(OR('Trust - Frontsheet'!AF22=\"\",'Trust - Frontsheet'!AF22=\"-\"),0,('Trust - Frontsheet'!AF22))","v":0},{"$f":"'Trust - Frontsheet'!U22","v":914},{"$f":"IF(OR('Trust - Frontsheet'!V22=\"\",'Trust - Frontsheet'!V22=\"-\"),0,('Trust - Frontsheet'!V22))","v":2.3777352297593},{"$f":"IF(OR('Trust - Frontsheet'!W22=\"\",'Trust - Frontsheet'!W22=\"-\"),0,('Trust - Frontsheet'!W22))","v":2.6345733041575494},{"$f":"IF(OR('Trust - Frontsheet'!X22=\"\",'Trust - Frontsheet'!X22=\"-\"),0,('Trust - Frontsheet'!X22))","v":0},{"$f":"IF(OR('Trust - Frontsheet'!Y22=\"\",'Trust - Frontsheet'!Y22=\"-\"),0,('Trust - Frontsheet'!Y22))","v":0},{"$f":"IF(OR('Trust - Frontsheet'!Z22=\"\",'Trust - Frontsheet'!Z22=\"-\"),0,('Trust - Frontsheet'!Z22))","v":5.0123085339168494},{"$f":"IF(A10=\"\",\"\",(IF(ISBLANK('Trust - Frontsheet'!F9),\"\",'Trust - Frontsheet'!F9)))","v":""}]
[{"$f":"IF('Trust - Frontsheet'!D23=0,\"\",IF('Trust - Frontsheet'!D23=\"\",\"\",'Trust - Frontsheet'!D23))","v":"RBL14"},{"$f":"IF(ISBLANK('Trust - Frontsheet'!E23),\"\",'Trust - Frontsheet'!E23)","v":"ARROWE PARK HOSPITAL"},{"$f":"IF(ISBLANK('Trust - Frontsheet'!F23),\"\",\"'\" & 'Trust - Frontsheet'!F23 & \"'\")","v":"'23'"},{"$f":"IF(ISBLANK('Trust - Frontsheet'!G23),\"\",'Trust - Frontsheet'!G23)","v":"430 - GERIATRIC MEDICINE"},{"$f":"IF(ISBLANK('Trust - Frontsheet'!H23),\"\",'Trust - Frontsheet'!H23)","v":""},{"$f":"'Trust - Frontsheet'!I23","v":1875},{"$f":"'Trust - Frontsheet'!J23","v":1541.55},{"$f":"'Trust - Frontsheet'!K23","v":1380},{"$f":"'Trust - Frontsheet'!L23","v":1436.65},{"$f":"'Trust - Frontsheet'!M23","v":1035},{"$f":"'Trust - Frontsheet'!N23","v":1000.5},{"$f":"'Trust - Frontsheet'!O23","v":1035},{"$f":"'Trust - Frontsheet'!P23","v":1092.5},{"$f":"'Trust - Frontsheet'!Q23","v":0},{"$f":"'Trust - Frontsheet'!R23","v":0},{"$f":"'Trust - Frontsheet'!S23","v":0},{"$f":"'Trust - Frontsheet'!T23","v":0},{"$f":"IF(OR('Trust - Frontsheet'!AA23=\"\",'Trust - Frontsheet'!AA23=\"-\"),0,('Trust - Frontsheet'!AA23))","v":0.82216},{"$f":"IF(OR('Trust - Frontsheet'!AB23=\"\",'Trust - Frontsheet'!AB23=\"-\"),0,('Trust - Frontsheet'!AB23))","v":1.0410507246376812},{"$f":"IF(OR('Trust - Frontsheet'!AC23=\"\",'Trust - Frontsheet'!AC23=\"-\"),0,('Trust - Frontsheet'!AC23))","v":0.96666666666666667},{"$f":"IF(OR('Trust - Frontsheet'!AD23=\"\",'Trust - Frontsheet'!AD23=\"-\"),0,('Trust - Frontsheet'!AD23))","v":1.0555555555555556},{"$f":"IF(OR('Trust - Frontsheet'!AE23=\"\",'Trust - Frontsheet'!AE23=\"-\"),0,('Trust - Frontsheet'!AE23))","v":0},{"$f":"IF(OR('Trust - Frontsheet'!AF23=\"\",'Trust - Frontsheet'!AF23=\"-\"),0,('Trust - Frontsheet'!AF23))","v":0},{"$f":"'Trust - Frontsheet'!U23","v":690},{"$f":"IF(OR('Trust - Frontsheet'!V23=\"\",'Trust - Frontsheet'!V23=\"-\"),0,('Trust - Frontsheet'!V23))","v":3.6841304347826092},{"$f":"IF(OR('Trust - Frontsheet'!W23=\"\",'Trust - Frontsheet'!W23=\"-\"),0,('Trust - Frontsheet'!W23))","v":3.6654347826086959},{"$f":"IF(OR('Trust - Frontsheet'!X23=\"\",'Trust - Frontsheet'!X23=\"-\"),0,('Trust - Frontsheet'!X23))","v":0},{"$f":"IF(OR('Trust - Frontsheet'!Y23=\"\",'Trust - Frontsheet'!Y23=\"-\"),0,('Trust - Frontsheet'!Y23))","v":0},{"$f":"IF(OR('Trust - Frontsheet'!Z23=\"\",'Trust - Frontsheet'!Z23=\"-\"),0,('Trust - Frontsheet'!Z23))","v":7.3495652173913042},{"$f":"IF(A11=\"\",\"\",(IF(ISBLANK('Trust - Frontsheet'!F9),\"\",'Trust - Frontsheet'!F9)))","v":""}]
[{"$f":"IF('Trust - Frontsheet'!D24=0,\"\",IF('Trust - Frontsheet'!D24=\"\",\"\",'Trust - Frontsheet'!D24))","v":"RBL14"},{"$f":"IF(ISBLANK('Trust - Frontsheet'!E24),\"\",'Trust - Frontsheet'!E24)","v":"ARROWE PARK HOSPITAL"},{"$f":"IF(ISBLANK('Trust - Frontsheet'!F24),\"\",\"'\" & 'Trust - Frontsheet'!F24 & \"'\")","v":"'27'"},{"$f":"IF(ISBLANK('Trust - Frontsheet'!G24),\"\",'Trust - Frontsheet'!G24)","v":"430 - GERIATRIC MEDICINE"},{"$f":"IF(ISBLANK('Trust - Frontsheet'!H24),\"\",'Trust - Frontsheet'!H24)","v":""},{"$f":"'Trust - Frontsheet'!I24","v":1655},{"$f":"'Trust - Frontsheet'!J24","v":1165.9000000000001},{"$f":"'Trust - Frontsheet'!K24","v":1380},{"$f":"'Trust - Frontsheet'!L24","v":1457.6},{"$f":"'Trust - Frontsheet'!M24","v":1035},{"$f":"'Trust - Frontsheet'!N24","v":724.5},{"$f":"'Trust - Frontsheet'!O24","v":1035},{"$f":"'Trust - Frontsheet'!P24","v":1322.5},{"$f":"'Trust - Frontsheet'!Q24","v":0},{"$f":"'Trust - Frontsheet'!R24","v":0},{"$f":"'Trust - Frontsheet'!S24","v":0},{"$f":"'Trust - Frontsheet'!T24","v":0},{"$f":"IF(OR('Trust - Frontsheet'!AA24=\"\",'Trust - Frontsheet'!AA24=\"-\"),0,('Trust - Frontsheet'!AA24))","v":0.70447129909365569},{"$f":"IF(OR('Trust - Frontsheet'!AB24=\"\",'Trust - Frontsheet'!AB24=\"-\"),0,('Trust - Frontsheet'!AB24))","v":1.056231884057971},{"$f":"IF(OR('Trust - Frontsheet'!AC24=\"\",'Trust - Frontsheet'!AC24=\"-\"),0,('Trust - Frontsheet'!AC24))","v":0.7},{"$f":"IF(OR('Trust - Frontsheet'!AD24=\"\",'Trust - Frontsheet'!AD24=\"-\"),0,('Trust - Frontsheet'!AD24))","v":1.2777777777777777},{"$f":"IF(OR('Trust - Frontsheet'!AE24=\"\",'Trust - Frontsheet'!AE24=\"-\"),0,('Trust - Frontsheet'!AE24))","v":0},{"$f":"IF(OR('Trust - Frontsheet'!AF24=\"\",'Trust - Frontsheet'!AF24=\"-\"),0,('Trust - Frontsheet'!AF24))","v":0},{"$f":"'Trust - Frontsheet'!U24","v":845},{"$f":"IF(OR('Trust - Frontsheet'!V24=\"\",'Trust - Frontsheet'!V24=\"-\"),0,('Trust - Frontsheet'!V24))","v":2.2371597633136098},{"$f":"IF(OR('Trust - Frontsheet'!W24=\"\",'Trust - Frontsheet'!W24=\"-\"),0,('Trust - Frontsheet'!W24))","v":3.2900591715976328},{"$f":"IF(OR('Trust - Frontsheet'!X24=\"\",'Trust - Frontsheet'!X24=\"-\"),0,('Trust - Frontsheet'!X24))","v":0},{"$f":"IF(OR('Trust - Frontsheet'!Y24=\"\",'Trust - Frontsheet'!Y24=\"-\"),0,('Trust - Frontsheet'!Y24))","v":0},{"$f":"IF(OR('Trust - Frontsheet'!Z24=\"\",'Trust - Frontsheet'!Z24=\"-\"),0,('Trust - Frontsheet'!Z24))","v":5.5272189349112422},{"$f":"IF(A12=\"\",\"\",(IF(ISBLANK('Trust - Frontsheet'!F9),\"\",'Trust - Frontsheet'!F9)))","v":""}]
[{"$f":"IF('Trust - Frontsheet'!D25=0,\"\",IF('Trust - Frontsheet'!D25=\"\",\"\",'Trust - Frontsheet'!D25))","v":"RBL14"},{"$f":"IF(ISBLANK('Trust - Frontsheet'!E25),\"\",'Trust - Frontsheet'!E25)","v":"ARROWE PARK HOSPITAL"},{"$f":"IF(ISBLANK('Trust - Frontsheet'!F25),\"\",\"'\" & 'Trust - Frontsheet'!F25 & \"'\")","v":"'26'"},{"$f":"IF(ISBLANK('Trust - Frontsheet'!G25),\"\",'Trust - Frontsheet'!G25)","v":"300 - GENERAL MEDICINE"},{"$f":"IF(ISBLANK('Trust - Frontsheet'!H25),\"\",'Trust - Frontsheet'!H25)","v":""},{"$f":"'Trust - Frontsheet'!I25","v":1660},{"$f":"'Trust - Frontsheet'!J25","v":1504},{"$f":"'Trust - Frontsheet'!K25","v":1380},{"$f":"'Trust - Frontsheet'!L25","v":1532.5},{"$f":"'Trust - Frontsheet'!M25","v":1035},{"$f":"'Trust - Frontsheet'!N25","v":1000.5},{"$f":"'Trust - Frontsheet'!O25","v":1035},{"$f":"'Trust - Frontsheet'!P25","v":1161.5},{"$f":"'Trust - Frontsheet'!Q25","v":0},{"$f":"'Trust - Frontsheet'!R25","v":0},{"$f":"'Trust - Frontsheet'!S25","v":0},{"$f":"'Trust - Frontsheet'!T25","v":0},{"$f":"IF(OR('Trust - Frontsheet'!AA25=\"\",'Trust - Frontsheet'!AA25=\"-\"),0,('Trust - Frontsheet'!AA25))","v":0.90602409638554215},{"$f":"IF(OR('Trust - Frontsheet'!AB25=\"\",'Trust - Frontsheet'!AB25=\"-\"),0,('Trust - Frontsheet'!AB25))","v":1.1105072463768115},{"$f":"IF(OR('Trust - Frontsheet'!AC25=\"\",'Trust - Frontsheet'!AC25=\"-\"),0,('Trust - Frontsheet'!AC25))","v":0.96666666666666667},{"$f":"IF(OR('Trust - Frontsheet'!AD25=\"\",'Trust - Frontsheet'!AD25=\"-\"),0,('Trust - Frontsheet'!AD25))","v":1.1222222222222222},{"$f":"IF(OR('Trust - Frontsheet'!AE25=\"\",'Trust - Frontsheet'!AE25=\"-\"),0,('Trust - Frontsheet'!AE25))","v":0},{"$f":"IF(OR('Trust - Frontsheet'!AF25=\"\",'Trust - Frontsheet'!AF25=\"-\"),0,('Trust - Frontsheet'!AF25))","v":0},{"$f":"'Trust - Frontsheet'!U25","v":827},{"$f":"IF(OR('Trust - Frontsheet'!V25=\"\",'Trust - Frontsheet'!V25=\"-\"),0,('Trust - Frontsheet'!V25))","v":3.0284159613059249},{"$f":"IF(OR('Trust - Frontsheet'!W25=\"\",'Trust - Frontsheet'!W25=\"-\"),0,('Trust - Frontsheet'!W25))","v":3.257557436517533},{"$f":"IF(OR('Trust - Frontsheet'!X25=\"\",'Trust - Frontsheet'!X25=\"-\"),0,('Trust - Frontsheet'!X25))","v":0},{"$f":"IF(OR('Trust - Frontsheet'!Y25=\"\",'Trust - Frontsheet'!Y25=\"-\"),0,('Trust - Frontsheet'!Y25))","v":0},{"$f":"IF(OR('Trust - Frontsheet'!Z25=\"\",'Trust - Frontsheet'!Z25=\"-\"),0,('Trust - Frontsheet'!Z25))","v":6.285973397823458},{"$f":"IF(A13=\"\",\"\",(IF(ISBLANK('Trust - Frontsheet'!F9),\"\",'Trust - Frontsheet'!F9)))","v":""}]
[{"$f":"IF('Trust - Frontsheet'!D26=0,\"\",IF('Trust - Frontsheet'!D26=\"\",\"\",'Trust - Frontsheet'!D26))","v":"RBL14"},{"$f":"IF(ISBLANK('Trust - Frontsheet'!E26),\"\",'Trust - Frontsheet'!E26)","v":"ARROWE PARK HOSPITAL"},{"$f":"IF(ISBLANK('Trust - Frontsheet'!F26),\"\",\"'\" & 'Trust - Frontsheet'!F26 & \"'\")","v":"'30'"},{"$f":"IF(ISBLANK('Trust - Frontsheet'!G26),\"\",'Trust - Frontsheet'!G26)","v":"303 - CLINICAL HAEMATOLOGY"},{"$f":"IF(ISBLANK('Trust - Frontsheet'!H26),\"\",'Trust - Frontsheet'!H26)","v":""},{"$f":"'Trust - Frontsheet'!I26","v":1530},{"$f":"'Trust - Frontsheet'!J26","v":1370},{"$f":"'Trust - Frontsheet'!K26","v":1035},{"$f":"'Trust - Frontsheet'!L26","v":966},{"$f":"'Trust - Frontsheet'!M26","v":1035},{"$f":"'Trust - Frontsheet'!N26","v":759},{"$f":"'Trust - Frontsheet'!O26","v":690},{"$f":"'Trust - Frontsheet'!P26","v":678.5},{"$f":"'Trust - Frontsheet'!Q26","v":0},{"$f":"'Trust - Frontsheet'!R26","v":0},{"$f":"'Trust - Frontsheet'!S26","v":0},{"$f":"'Trust - Frontsheet'!T26","v":0},{"$f":"IF(OR('Trust - Frontsheet'!AA26=\"\",'Trust - Frontsheet'!AA26=\"-\"),0,('Trust - Frontsheet'!AA26))","v":0.89542483660130723},{"$f":"IF(OR('Trust - Frontsheet'!AB26=\"\",'Trust - Frontsheet'!AB26=\"-\"),0,('Trust - Frontsheet'!AB26))","v":0.93333333333333335},{"$f":"IF(OR('Trust - Frontsheet'!AC26=\"\",'Trust - Frontsheet'!AC26=\"-\"),0,('Trust - Frontsheet'!AC26))","v":0.73333333333333328},{"$f":"IF(OR('Trust - Frontsheet'!AD26=\"\",'Trust - Frontsheet'!AD26=\"-\"),0,('Trust - Frontsheet'!AD26))","v":0.98333333333333328},{"$f":"IF(OR('Trust - Frontsheet'!AE26=\"\",'Trust - Frontsheet'!AE26=\"-\"),0,('Trust - Frontsheet'!AE26))","v":0},{"$f":"IF(OR('Trust - Frontsheet'!AF26=\"\",'Trust - Frontsheet'!AF26=\"-\"),0,('Trust - Frontsheet'!AF26))","v":0},{"$f":"'Trust - Frontsheet'!U26","v":633},{"$f":"IF(OR('Trust - Frontsheet'!V26=\"\",'Trust - Frontsheet'!V26=\"-\"),0,('Trust - Frontsheet'!V26))","v":3.3633491311216428},{"$f":"IF(OR('Trust - Frontsheet'!W26=\"\",'Trust - Frontsheet'!W26=\"-\"),0,('Trust - Frontsheet'!W26))","v":2.5979462875197474},{"$f":"IF(OR('Trust - Frontsheet'!X26=\"\",'Trust - Frontsheet'!X26=\"-\"),0,('Trust - Frontsheet'!X26))","v":0},{"$f":"IF(OR('Trust - Frontsheet'!Y26=\"\",'Trust - Frontsheet'!Y26=\"-\"),0,('Trust - Frontsheet'!Y26))","v":0},{"$f":"IF(OR('Trust - Frontsheet'!Z26=\"\",'Trust - Frontsheet'!Z26=\"-\"),0,('Trust - Frontsheet'!Z26))","v":5.9612954186413898},{"$f":"IF(A14=\"\",\"\",(IF(ISBLANK('Trust - Frontsheet'!F9),\"\",'Trust - Frontsheet'!F9)))","v":""}]
[{"$f":"IF('Trust - Frontsheet'!D27=0,\"\",IF('Trust - Frontsheet'!D27=\"\",\"\",'Trust - Frontsheet'!D27))","v":"RBL14"},{"$f":"IF(ISBLANK('Trust - Frontsheet'!E27),\"\",'Trust - Frontsheet'!E27)","v":"ARROWE PARK HOSPITAL"},{"$f":"IF(ISBLANK('Trust - Frontsheet'!F27),\"\",\"'\" & 'Trust - Frontsheet'!F27 & \"'\")","v":"'32'"},{"$f":"IF(ISBLANK('Trust - Frontsheet'!G27),\"\",'Trust - Frontsheet'!G27)","v":"320 - CARDIOLOGY"},{"$f":"IF(ISBLANK('Trust - Frontsheet'!H27),\"\",'Trust - Frontsheet'!H27)","v":""},{"$f":"'Trust - Frontsheet'!I27","v":1875},{"$f":"'Trust - Frontsheet'!J27","v":1543},{"$f":"'Trust - Frontsheet'!K27","v":1380},{"$f":"'Trust - Frontsheet'!L27","v":1324},{"$f":"'Trust - Frontsheet'!M27","v":1035},{"$f":"'Trust - Frontsheet'!N27","v":977.5},{"$f":"'Trust - Frontsheet'!O27","v":1380},{"$f":"'Trust - Frontsheet'!P27","v":1000.5},{"$f":"'Trust - Frontsheet'!Q27","v":0},{"$f":"'Trust - Frontsheet'!R27","v":0},{"$f":"'Trust - Frontsheet'!S27","v":0},{"$f":"'Trust - Frontsheet'!T27","v":0},{"$f":"IF(OR('Trust - Frontsheet'!AA27=\"\",'Trust - Frontsheet'!AA27=\"-\"),0,('Trust - Frontsheet'!AA27))","v":0.82293333333333329},{"$f":"IF(OR('Trust - Frontsheet'!AB27=\"\",'Trust - Frontsheet'!AB27=\"-\"),0,('Trust - Frontsheet'!AB27))","v":0.95942028985507244},{"$f":"IF(OR('Trust - Frontsheet'!AC27=\"\",'Trust - Frontsheet'!AC27=\"-\"),0,('Trust - Frontsheet'!AC27))","v":0.94444444444444442},{"$f":"IF(OR('Trust - Frontsheet'!AD27=\"\",'Trust - Frontsheet'!AD27=\"-\"),0,('Trust - Frontsheet'!AD27))","v":0.72499999999999998},{"$f":"IF(OR('Trust - Frontsheet'!AE27=\"\",'Trust - Frontsheet'!AE27=\"-\"),0,('Trust - Frontsheet'!AE27))","v":0},{"$f":"IF(OR('Trust - Frontsheet'!AF27=\"\",'Trust - Frontsheet'!AF27=\"-\"),0,('Trust - Frontsheet'!AF27))","v":0},{"$f":"'Trust - Frontsheet'!U27","v":842},{"$f":"IF(OR('Trust - Frontsheet'!V27=\"\",'Trust - Frontsheet'!V27=\"-\"),0,('Trust - Frontsheet'!V27))","v":2.9934679334916865},{"$f":"IF(OR('Trust - Frontsheet'!W27=\"\",'Trust - Frontsheet'!W27=\"-\"),0,('Trust - Frontsheet'!W27))","v":2.7606888361045132},{"$f":"IF(OR('Trust - Frontsheet'!X27=\"\",'Trust - Frontsheet'!X27=\"-\"),0,('Trust - Frontsheet'!X27))","v":0},{"$f":"IF(OR('Trust - Frontsheet'!Y27=\"\",'Trust - Frontsheet'!Y27=\"-\"),0,('Trust - Frontsheet'!Y27))","v":0},{"$f":"IF(OR('Trust - Frontsheet'!Z27=\"\",'Trust - Frontsheet'!Z27=\"-\"),0,('Trust - Frontsheet'!Z27))","v":5.7541567695961993},{"$f":"IF(A15=\"\",\"\",(IF(ISBLANK('Trust - Frontsheet'!F9),\"\",'Trust - Frontsheet'!F9)))","v":""}]
[{"$f":"IF('Trust - Frontsheet'!D28=0,\"\",IF('Trust - Frontsheet'!D28=\"\",\"\",'Trust - Frontsheet'!D28))","v":"RBL14"},{"$f":"IF(ISBLANK('Trust - Frontsheet'!E28),\"\",'Trust - Frontsheet'!E28)","v":"ARROWE PARK HOSPITAL"},{"$f":"IF(ISBLANK('Trust - Frontsheet'!F28),\"\",\"'\" & 'Trust - Frontsheet'!F28 & \"'\")","v":"'33'"},{"$f":"IF(ISBLANK('Trust - Frontsheet'!G28),\"\",'Trust - Frontsheet'!G28)","v":"300 - GENERAL MEDICINE"},{"$f":"IF(ISBLANK('Trust - Frontsheet'!H28),\"\",'Trust - Frontsheet'!H28)","v":""},{"$f":"'Trust - Frontsheet'!I28","v":1185},{"$f":"'Trust - Frontsheet'!J28","v":1070.4000000000001},{"$f":"'Trust - Frontsheet'!K28","v":1380},{"$f":"'Trust - Frontsheet'!L28","v":1345.5},{"$f":"'Trust - Frontsheet'!M28","v":1035},{"$f":"'Trust - Frontsheet'!N28","v":898.1},{"$f":"'Trust - Frontsheet'!O28","v":1035},{"$f":"'Trust - Frontsheet'!P28","v":1001.5},{"$f":"'Trust - Frontsheet'!Q28","v":0},{"$f":"'Trust - Frontsheet'!R28","v":0},{"$f":"'Trust - Frontsheet'!S28","v":0},{"$f":"'Trust - Frontsheet'!T28","v":0},{"$f":"IF(OR('Trust - Frontsheet'!AA28=\"\",'Trust - Frontsheet'!AA28=\"-\"),0,('Trust - Frontsheet'!AA28))","v":0.90329113924050641},{"$f":"IF(OR('Trust - Frontsheet'!AB28=\"\",'Trust - Frontsheet'!AB28=\"-\"),0,('Trust - Frontsheet'!AB28))","v":0.97499999999999998},{"$f":"IF(OR('Trust - Frontsheet'!AC28=\"\",'Trust - Frontsheet'!AC28=\"-\"),0,('Trust - Frontsheet'!AC28))","v":0.86772946859903388},{"$f":"IF(OR('Trust - Frontsheet'!AD28=\"\",'Trust - Frontsheet'!AD28=\"-\"),0,('Trust - Frontsheet'!AD28))","v":0.96763285024154588},{"$f":"IF(OR('Trust - Frontsheet'!AE28=\"\",'Trust - Frontsheet'!AE28=\"-\"),0,('Trust - Frontsheet'!AE28))","v":0},{"$f":"IF(OR('Trust - Frontsheet'!AF28=\"\",'Trust - Frontsheet'!AF28=\"-\"),0,('Trust - Frontsheet'!AF28))","v":0},{"$f":"'Trust - Frontsheet'!U28","v":759},{"$f":"IF(OR('Trust - Frontsheet'!V28=\"\",'Trust - Frontsheet'!V28=\"-\"),0,('Trust - Frontsheet'!V28))","v":2.5935441370223979},{"$f":"IF(OR('Trust - Frontsheet'!W28=\"\",'Trust - Frontsheet'!W28=\"-\"),0,('Trust - Frontsheet'!W28))","v":3.0922266139657446},{"$f":"IF(OR('Trust - Frontsheet'!X28=\"\",'Trust - Frontsheet'!X28=\"-\"),0,('Trust - Frontsheet'!X28))","v":0},{"$f":"IF(OR('Trust - Frontsheet'!Y28=\"\",'Trust - Frontsheet'!Y28=\"-\"),0,('Trust - Frontsheet'!Y28))","v":0},{"$f":"IF(OR('Trust - Frontsheet'!Z28=\"\",'Trust - Frontsheet'!Z28=\"-\"),0,('Trust - Frontsheet'!Z28))","v":5.6857707509881426},{"$f":"IF(A16=\"\",\"\",(IF(ISBLANK('Trust - Frontsheet'!F9),\"\",'Trust - Frontsheet'!F9)))","v":""}]
[{"$f":"IF('Trust - Frontsheet'!D29=0,\"\",IF('Trust - Frontsheet'!D29=\"\",\"\",'Trust - Frontsheet'!D29))","v":"RBL14"},{"$f":"IF(ISBLANK('Trust - Frontsheet'!E29),\"\",'Trust - Frontsheet'!E29)","v":"ARROWE PARK HOSPITAL"},{"$f":"IF(ISBLANK('Trust - Frontsheet'!F29),\"\",\"'\" & 'Trust - Frontsheet'!F29 & \"'\")","v":"'36'"},{"$f":"IF(ISBLANK('Trust - Frontsheet'!G29),\"\",'Trust - Frontsheet'!G29)","v":"301 - GASTROENTEROLOGY"},{"$f":"IF(ISBLANK('Trust - Frontsheet'!H29),\"\",'Trust - Frontsheet'!H29)","v":""},{"$f":"'Trust - Frontsheet'!I29","v":2062.5},{"$f":"'Trust - Frontsheet'!J29","v":1898.75},{"$f":"'Trust - Frontsheet'!K29","v":1567.5},{"$f":"'Trust - Frontsheet'!L29","v":1512.75},{"$f":"'Trust - Frontsheet'!M29","v":1380},{"$f":"'Trust - Frontsheet'!N29","v":1143},{"$f":"'Trust - Frontsheet'!O29","v":1380},{"$f":"'Trust - Frontsheet'!P29","v":1582},{"$f":"'Trust - Frontsheet'!Q29","v":0},{"$f":"'Trust - Frontsheet'!R29","v":0},{"$f":"'Trust - Frontsheet'!S29","v":0},{"$f":"'Trust - Frontsheet'!T29","v":0},{"$f":"IF(OR('Trust - Frontsheet'!AA29=\"\",'Trust - Frontsheet'!AA29=\"-\"),0,('Trust - Frontsheet'!AA29))","v":0.92060606060606065},{"$f":"IF(OR('Trust - Frontsheet'!AB29=\"\",'Trust - Frontsheet'!AB29=\"-\"),0,('Trust - Frontsheet'!AB29))","v":0.96507177033492819},{"$f":"IF(OR('Trust - Frontsheet'!AC29=\"\",'Trust - Frontsheet'!AC29=\"-\"),0,('Trust - Frontsheet'!AC29))","v":0.82826086956521738},{"$f":"IF(OR('Trust - Frontsheet'!AD29=\"\",'Trust - Frontsheet'!AD29=\"-\"),0,('Trust - Frontsheet'!AD29))","v":1.1463768115942028},{"$f":"IF(OR('Trust - Frontsheet'!AE29=\"\",'Trust - Frontsheet'!AE29=\"-\"),0,('Trust - Frontsheet'!AE29))","v":0},{"$f":"IF(OR('Trust - Frontsheet'!AF29=\"\",'Trust - Frontsheet'!AF29=\"-\"),0,('Trust - Frontsheet'!AF29))","v":0},{"$f":"'Trust - Frontsheet'!U29","v":1112},{"$f":"IF(OR('Trust - Frontsheet'!V29=\"\",'Trust - Frontsheet'!V29=\"-\"),0,('Trust - Frontsheet'!V29))","v":2.735386690647482},{"$f":"IF(OR('Trust - Frontsheet'!W29=\"\",'Trust - Frontsheet'!W29=\"-\"),0,('Trust - Frontsheet'!W29))","v":2.7830485611510793},{"$f":"IF(OR('Trust - Frontsheet'!X29=\"\",'Trust - Frontsheet'!X29=\"-\"),0,('Trust - Frontsheet'!X29))","v":0},{"$f":"IF(OR('Trust - Frontsheet'!Y29=\"\",'Trust - Frontsheet'!Y29=\"-\"),0,('Trust - Frontsheet'!Y29))","v":0},{"$f":"IF(OR('Trust - Frontsheet'!Z29=\"\",'Trust - Frontsheet'!Z29=\"-\"),0,('Trust - Frontsheet'!Z29))","v":5.5184352517985609},{"$f":"IF(A17=\"\",\"\",(IF(ISBLANK('Trust - Frontsheet'!F9),\"\",'Trust - Frontsheet'!F9)))","v":""}]
[{"$f":"IF('Trust - Frontsheet'!D30=0,\"\",IF('Trust - Frontsheet'!D30=\"\",\"\",'Trust - Frontsheet'!D30))","v":"RBL14"},{"$f":"IF(ISBLANK('Trust - Frontsheet'!E30),\"\",'Trust - Frontsheet'!E30)","v":"ARROWE PARK HOSPITAL"},{"$f":"IF(ISBLANK('Trust - Frontsheet'!F30),\"\",\"'\" & 'Trust - Frontsheet'!F30 & \"'\")","v":"'38'"},{"$f":"IF(ISBLANK('Trust - Frontsheet'!G30),\"\",'Trust - Frontsheet'!G30)","v":"340 - RESPIRATORY MEDICINE"},{"$f":"IF(ISBLANK('Trust - Frontsheet'!H30),\"\",'Trust - Frontsheet'!H30)","v":""},{"$f":"'Trust - Frontsheet'!I30","v":2062.5},{"$f":"'Trust - Frontsheet'!J30","v":1712.25},{"$f":"'Trust - Frontsheet'!K30","v":1567.5},{"$f":"'Trust - Frontsheet'!L30","v":1518.5},{"$f":"'Trust - Frontsheet'!M30","v":1380},{"$f":"'Trust - Frontsheet'!N30","v":1207.5},{"$f":"'Trust - Frontsheet'!O30","v":1380},{"$f":"'Trust - Frontsheet'!P30","v":1380},{"$f":"'Trust - Frontsheet'!Q30","v":0},{"$f":"'Trust - Frontsheet'!R30","v":0},{"$f":"'Trust - Frontsheet'!S30","v":0},{"$f":"'Trust - Frontsheet'!T30","v":0},{"$f":"IF(OR('Trust - Frontsheet'!AA30=\"\",'Trust - Frontsheet'!AA30=\"-\"),0,('Trust - Frontsheet'!AA30))","v":0.83018181818181813},{"$f":"IF(OR('Trust - Frontsheet'!AB30=\"\",'Trust - Frontsheet'!AB30=\"-\"),0,('Trust - Frontsheet'!AB30))","v":0.96874003189792668},{"$f":"IF(OR('Trust - Frontsheet'!AC30=\"\",'Trust - Frontsheet'!AC30=\"-\"),0,('Trust - Frontsheet'!AC30))","v":0.875},{"$f":"IF(OR('Trust - Frontsheet'!AD30=\"\",'Trust - Frontsheet'!AD30=\"-\"),0,('Trust - Frontsheet'!AD30))","v":1},{"$f":"IF(OR('Trust - Frontsheet'!AE30=\"\",'Trust - Frontsheet'!AE30=\"-\"),0,('Trust - Frontsheet'!AE30))","v":0},{"$f":"IF(OR('Trust - Frontsheet'!AF30=\"\",'Trust - Frontsheet'!AF30=\"-\"),0,('Trust - Frontsheet'!AF30))","v":0},{"$f":"'Trust - Frontsheet'!U30","v":773},{"$f":"IF(OR('Trust - Frontsheet'!V30=\"\",'Trust - Frontsheet'!V30=\"-\"),0,('Trust - Frontsheet'!V30))","v":3.7771668822768434},{"$f":"IF(OR('Trust - Frontsheet'!W30=\"\",'Trust - Frontsheet'!W30=\"-\"),0,('Trust - Frontsheet'!W30))","v":3.7496765847347997},{"$f":"IF(OR('Trust - Frontsheet'!X30=\"\",'Trust - Frontsheet'!X30=\"-\"),0,('Trust - Frontsheet'!X30))","v":0},{"$f":"IF(OR('Trust - Frontsheet'!Y30=\"\",'Trust - Frontsheet'!Y30=\"-\"),0,('Trust - Frontsheet'!Y30))","v":0},{"$f":"IF(OR('Trust - Frontsheet'!Z30=\"\",'Trust - Frontsheet'!Z30=\"-\"),0,('Trust - Frontsheet'!Z30))","v":7.5268434670116431},{"$f":"IF(A18=\"\",\"\",(IF(ISBLANK('Trust - Frontsheet'!F9),\"\",'Trust - Frontsheet'!F9)))","v":""}]
[{"$f":"IF('Trust - Frontsheet'!D31=0,\"\",IF('Trust - Frontsheet'!D31=\"\",\"\",'Trust - Frontsheet'!D31))","v":"RBL14"},{"$f":"IF(ISBLANK('Trust - Frontsheet'!E31),\"\",'Trust - Frontsheet'!E31)","v":"ARROWE PARK HOSPITAL"},{"$f":"IF(ISBLANK('Trust - Frontsheet'!F31),\"\",\"'\" & 'Trust - Frontsheet'!F31 & \"'\")","v":"'53'"},{"$f":"IF(ISBLANK('Trust - Frontsheet'!G31),\"\",'Trust - Frontsheet'!G31)","v":"501 - OBSTETRICS"},{"$f":"IF(ISBLANK('Trust - Frontsheet'!H31),\"\",'Trust - Frontsheet'!H31)","v":""},{"$f":"'Trust - Frontsheet'!I31","v":1380},{"$f":"'Trust - Frontsheet'!J31","v":1293},{"$f":"'Trust - Frontsheet'!K31","v":1380},{"$f":"'Trust - Frontsheet'!L31","v":1257.5},{"$f":"'Trust - Frontsheet'!M31","v":1035},{"$f":"'Trust - Frontsheet'!N31","v":1018.5},{"$f":"'Trust - Frontsheet'!O31","v":1380},{"$f":"'Trust - Frontsheet'!P31","v":977.5},{"$f":"'Trust - Frontsheet'!Q31","v":0},{"$f":"'Trust - Frontsheet'!R31","v":0},{"$f":"'Trust - Frontsheet'!S31","v":0},{"$f":"'Trust - Frontsheet'!T31","v":0},{"$f":"IF(OR('Trust - Frontsheet'!AA31=\"\",'Trust - Frontsheet'!AA31=\"-\"),0,('Trust - Frontsheet'!AA31))","v":0.93695652173913047},{"$f":"IF(OR('Trust - Frontsheet'!AB31=\"\",'Trust - Frontsheet'!AB31=\"-\"),0,('Trust - Frontsheet'!AB31))","v":0.91123188405797106},{"$f":"IF(OR('Trust - Frontsheet'!AC31=\"\",'Trust - Frontsheet'!AC31=\"-\"),0,('Trust - Frontsheet'!AC31))","v":0.98405797101449277},{"$f":"IF(OR('Trust - Frontsheet'!AD31=\"\",'Trust - Frontsheet'!AD31=\"-\"),0,('Trust - Frontsheet'!AD31))","v":0.70833333333333337},{"$f":"IF(OR('Trust - Frontsheet'!AE31=\"\",'Trust - Frontsheet'!AE31=\"-\"),0,('Trust - Frontsheet'!AE31))","v":0},{"$f":"IF(OR('Trust - Frontsheet'!AF31=\"\",'Trust - Frontsheet'!AF31=\"-\"),0,('Trust - Frontsheet'!AF31))","v":0},{"$f":"'Trust - Frontsheet'!U31","v":668},{"$f":"IF(OR('Trust - Frontsheet'!V31=\"\",'Trust - Frontsheet'!V31=\"-\"),0,('Trust - Frontsheet'!V31))","v":3.4603293413173652},{"$f":"IF(OR('Trust - Frontsheet'!W31=\"\",'Trust - Frontsheet'!W31=\"-\"),0,('Trust - Frontsheet'!W31))","v":3.3458083832335328},{"$f":"IF(OR('Trust - Frontsheet'!X31=\"\",'Trust - Frontsheet'!X31=\"-\"),0,('Trust - Frontsheet'!X31))","v":0},{"$f":"IF(OR('Trust - Frontsheet'!Y31=\"\",'Trust - Frontsheet'!Y31=\"-\"),0,('Trust - Frontsheet'!Y31))","v":0},{"$f":"IF(OR('Trust - Frontsheet'!Z31=\"\",'Trust - Frontsheet'!Z31=\"-\"),0,('Trust - Frontsheet'!Z31))","v":6.806137724550898},{"$f":"IF(A19=\"\",\"\",(IF(ISBLANK('Trust - Frontsheet'!F9),\"\",'Trust - Frontsheet'!F9)))","v":""}]
[{"$f":"IF('Trust - Frontsheet'!D32=0,\"\",IF('Trust - Frontsheet'!D32=\"\",\"\",'Trust - Frontsheet'!D32))","v":"RBL14"},{"$f":"IF(ISBLANK('Trust - Frontsheet'!E32),\"\",'Trust - Frontsheet'!E32)","v":"ARROWE PARK HOSPITAL"},{"$f":"IF(ISBLANK('Trust - Frontsheet'!F32),\"\",\"'\" & 'Trust - Frontsheet'!F32 & \"'\")","v":"'54'"},{"$f":"IF(ISBLANK('Trust - Frontsheet'!G32),\"\",'Trust - Frontsheet'!G32)","v":"502 - GYNAECOLOGY"},{"$f":"IF(ISBLANK('Trust - Frontsheet'!H32),\"\",'Trust - Frontsheet'!H32)","v":""},{"$f":"'Trust - Frontsheet'!I32","v":832.5},{"$f":"'Trust - Frontsheet'!J32","v":847.5},{"$f":"'Trust - Frontsheet'!K32","v":690},{"$f":"'Trust - Frontsheet'!L32","v":701.5},{"$f":"'Trust - Frontsheet'!M32","v":690},{"$f":"'Trust - Frontsheet'!N32","v":690},{"$f":"'Trust - Frontsheet'!O32","v":345},{"$f":"'Trust - Frontsheet'!P32","v":690},{"$f":"'Trust - Frontsheet'!Q32","v":0},{"$f":"'Trust - Frontsheet'!R32","v":0},{"$f":"'Trust - Frontsheet'!S32","v":0},{"$f":"'Trust - Frontsheet'!T32","v":0},{"$f":"IF(OR('Trust - Frontsheet'!AA32=\"\",'Trust - Frontsheet'!AA32=\"-\"),0,('Trust - Frontsheet'!AA32))","v":1.0180180180180181},{"$f":"IF(OR('Trust - Frontsheet'!AB32=\"\",'Trust - Frontsheet'!AB32=\"-\"),0,('Trust - Frontsheet'!AB32))","v":1.0166666666666666},{"$f":"IF(OR('Trust - Frontsheet'!AC32=\"\",'Trust - Frontsheet'!AC32=\"-\"),0,('Trust - Frontsheet'!AC32))","v":1},{"$f":"IF(OR('Trust - Frontsheet'!AD32=\"\",'Trust - Frontsheet'!AD32=\"-\"),0,('Trust - Frontsheet'!AD32))","v":2},{"$f":"IF(OR('Trust - Frontsheet'!AE32=\"\",'Trust - Frontsheet'!AE32=\"-\"),0,('Trust - Frontsheet'!AE32))","v":0},{"$f":"IF(OR('Trust - Frontsheet'!AF32=\"\",'Trust - Frontsheet'!AF32=\"-\"),0,('Trust - Frontsheet'!AF32))","v":0},{"$f":"'Trust - Frontsheet'!U32","v":394},{"$f":"IF(OR('Trust - Frontsheet'!V32=\"\",'Trust - Frontsheet'!V32=\"-\"),0,('Trust - Frontsheet'!V32))","v":3.9022842639593907},{"$f":"IF(OR('Trust - Frontsheet'!W32=\"\",'Trust - Frontsheet'!W32=\"-\"),0,('Trust - Frontsheet'!W32))","v":3.531725888324873},{"$f":"IF(OR('Trust - Frontsheet'!X32=\"\",'Trust - Frontsheet'!X32=\"-\"),0,('Trust - Frontsheet'!X32))","v":0},{"$f":"IF(OR('Trust - Frontsheet'!Y32=\"\",'Trust - Frontsheet'!Y32=\"-\"),0,('Trust - Frontsheet'!Y32))","v":0},{"$f":"IF(OR('Trust - Frontsheet'!Z32=\"\",'Trust - Frontsheet'!Z32=\"-\"),0,('Trust - Frontsheet'!Z32))","v":7.4340101522842641},{"$f":"IF(A20=\"\",\"\",(IF(ISBLANK('Trust - Frontsheet'!F9),\"\",'Trust - Frontsheet'!F9)))","v":""}]
[{"$f":"IF('Trust - Frontsheet'!D33=0,\"\",IF('Trust - Frontsheet'!D33=\"\",\"\",'Trust - Frontsheet'!D33))","v":"RBL14"},{"$f":"IF(ISBLANK('Trust - Frontsheet'!E33),\"\",'Trust - Frontsheet'!E33)","v":"ARROWE PARK HOSPITAL"},{"$f":"IF(ISBLANK('Trust - Frontsheet'!F33),\"\",\"'\" & 'Trust - Frontsheet'!F33 & \"'\")","v":"'AMU'"},{"$f":"IF(ISBLANK('Trust - Frontsheet'!G33),\"\",'Trust - Frontsheet'!G33)","v":"300 - GENERAL MEDICINE"},{"$f":"IF(ISBLANK('Trust - Frontsheet'!H33),\"\",'Trust - Frontsheet'!H33)","v":""},{"$f":"'Trust - Frontsheet'!I33","v":1834},{"$f":"'Trust - Frontsheet'!J33","v":1665.5},{"$f":"'Trust - Frontsheet'!K33","v":1380},{"$f":"'Trust - Frontsheet'!L33","v":1357},{"$f":"'Trust - Frontsheet'!M33","v":1380},{"$f":"'Trust - Frontsheet'!N33","v":1201},{"$f":"'Trust - Frontsheet'!O33","v":1380},{"$f":"'Trust - Frontsheet'!P33","v":1403},{"$f":"'Trust - Frontsheet'!Q33","v":0},{"$f":"'Trust - Frontsheet'!R33","v":0},{"$f":"'Trust - Frontsheet'!S33","v":0},{"$f":"'Trust - Frontsheet'!T33","v":0},{"$f":"IF(OR('Trust - Frontsheet'!AA33=\"\",'Trust - Frontsheet'!AA33=\"-\"),0,('Trust - Frontsheet'!AA33))","v":0.9081243184296619},{"$f":"IF(OR('Trust - Frontsheet'!AB33=\"\",'Trust - Frontsheet'!AB33=\"-\"),0,('Trust - Frontsheet'!AB33))","v":0.98333333333333328},{"$f":"IF(OR('Trust - Frontsheet'!AC33=\"\",'Trust - Frontsheet'!AC33=\"-\"),0,('Trust - Frontsheet'!AC33))","v":0.87028985507246381},{"$f":"IF(OR('Trust - Frontsheet'!AD33=\"\",'Trust - Frontsheet'!AD33=\"-\"),0,('Trust - Frontsheet'!AD33))","v":1.0166666666666666},{"$f":"IF(OR('Trust - Frontsheet'!AE33=\"\",'Trust - Frontsheet'!AE33=\"-\"),0,('Trust - Frontsheet'!AE33))","v":0},{"$f":"IF(OR('Trust - Frontsheet'!AF33=\"\",'Trust - Frontsheet'!AF33=\"-\"),0,('Trust - Frontsheet'!AF33))","v":0},{"$f":"'Trust - Frontsheet'!U33","v":611},{"$f":"IF(OR('Trust - Frontsheet'!V33=\"\",'Trust - Frontsheet'!V33=\"-\"),0,('Trust - Frontsheet'!V33))","v":4.6914893617021276},{"$f":"IF(OR('Trust - Frontsheet'!W33=\"\",'Trust - Frontsheet'!W33=\"-\"),0,('Trust - Frontsheet'!W33))","v":4.5171849427168578},{"$f":"IF(OR('Trust - Frontsheet'!X33=\"\",'Trust - Frontsheet'!X33=\"-\"),0,('Trust - Frontsheet'!X33))","v":0},{"$f":"IF(OR('Trust - Frontsheet'!Y33=\"\",'Trust - Frontsheet'!Y33=\"-\"),0,('Trust - Frontsheet'!Y33))","v":0},{"$f":"IF(OR('Trust - Frontsheet'!Z33=\"\",'Trust - Frontsheet'!Z33=\"-\"),0,('Trust - Frontsheet'!Z33))","v":9.2086743044189845},{"$f":"IF(A21=\"\",\"\",(IF(ISBLANK('Trust - Frontsheet'!F9),\"\",'Trust - Frontsheet'!F9)))","v":""}]
[{"$f":"IF('Trust - Frontsheet'!D34=0,\"\",IF('Trust - Frontsheet'!D34=\"\",\"\",'Trust - Frontsheet'!D34))","v":"RBL14"},{"$f":"IF(ISBLANK('Trust - Frontsheet'!E34),\"\",'Trust - Frontsheet'!E34)","v":"ARROWE PARK HOSPITAL"},{"$f":"IF(ISBLANK('Trust - Frontsheet'!F34),\"\",\"'\" & 'Trust - Frontsheet'!F34 & \"'\")","v":"'MSSW'"},{"$f":"IF(ISBLANK('Trust - Frontsheet'!G34),\"\",'Trust - Frontsheet'!G34)","v":"300 - GENERAL MEDICINE"},{"$f":"IF(ISBLANK('Trust - Frontsheet'!H34),\"\",'Trust - Frontsheet'!H34)","v":""},{"$f":"'Trust - Frontsheet'!I34","v":1380},{"$f":"'Trust - Frontsheet'!J34","v":715},{"$f":"'Trust - Frontsheet'!K34","v":1035},{"$f":"'Trust - Frontsheet'!L34","v":772.5},{"$f":"'Trust - Frontsheet'!M34","v":690},{"$f":"'Trust - Frontsheet'!N34","v":690},{"$f":"'Trust - Frontsheet'!O34","v":1035},{"$f":"'Trust - Frontsheet'!P34","v":851},{"$f":"'Trust - Frontsheet'!Q34","v":0},{"$f":"'Trust - Frontsheet'!R34","v":0},{"$f":"'Trust - Frontsheet'!S34","v":0},{"$f":"'Trust - Frontsheet'!T34","v":0},{"$f":"IF(OR('Trust - Frontsheet'!AA34=\"\",'Trust - Frontsheet'!AA34=\"-\"),0,('Trust - Frontsheet'!AA34))","v":0.51811594202898548},{"$f":"IF(OR('Trust - Frontsheet'!AB34=\"\",'Trust - Frontsheet'!AB34=\"-\"),0,('Trust - Frontsheet'!AB34))","v":0.74637681159420288},{"$f":"IF(OR('Trust - Frontsheet'!AC34=\"\",'Trust - Frontsheet'!AC34=\"-\"),0,('Trust - Frontsheet'!AC34))","v":1},{"$f":"IF(OR('Trust - Frontsheet'!AD34=\"\",'Trust - Frontsheet'!AD34=\"-\"),0,('Trust - Frontsheet'!AD34))","v":0.82222222222222219},{"$f":"IF(OR('Trust - Frontsheet'!AE34=\"\",'Trust - Frontsheet'!AE34=\"-\"),0,('Trust - Frontsheet'!AE34))","v":0},{"$f":"IF(OR('Trust - Frontsheet'!AF34=\"\",'Trust - Frontsheet'!AF34=\"-\"),0,('Trust - Frontsheet'!AF34))","v":0},{"$f":"'Trust - Frontsheet'!U34","v":545},{"$f":"IF(OR('Trust - Frontsheet'!V34=\"\",'Trust - Frontsheet'!V34=\"-\"),0,('Trust - Frontsheet'!V34))","v":2.5779816513761467},{"$f":"IF(OR('Trust - Frontsheet'!W34=\"\",'Trust - Frontsheet'!W34=\"-\"),0,('Trust - Frontsheet'!W34))","v":2.9788990825688075},{"$f":"IF(OR('Trust - Frontsheet'!X34=\"\",'Trust - Frontsheet'!X34=\"-\"),0,('Trust - Frontsheet'!X34))","v":0},{"$f":"IF(OR('Trust - Frontsheet'!Y34=\"\",'Trust - Frontsheet'!Y34=\"-\"),0,('Trust - Frontsheet'!Y34))","v":0},{"$f":"IF(OR('Trust - Frontsheet'!Z34=\"\",'Trust - Frontsheet'!Z34=\"-\"),0,('Trust - Frontsheet'!Z34))","v":5.5568807339449542},{"$f":"IF(A22=\"\",\"\",(IF(ISBLANK('Trust - Frontsheet'!F9),\"\",'Trust - Frontsheet'!F9)))","v":""}]
[{"$f":"IF('Trust - Frontsheet'!D35=0,\"\",IF('Trust - Frontsheet'!D35=\"\",\"\",'Trust - Frontsheet'!D35))","v":"RBL14"},{"$f":"IF(ISBLANK('Trust - Frontsheet'!E35),\"\",'Trust - Frontsheet'!E35)","v":"ARROWE PARK HOSPITAL"},{"$f":"IF(ISBLANK('Trust - Frontsheet'!F35),\"\",\"'\" & 'Trust - Frontsheet'!F35 & \"'\")","v":"'EDRU'"},{"$f":"IF(ISBLANK('Trust - Frontsheet'!G35),\"\",'Trust - Frontsheet'!G35)","v":"300 - GENERAL MEDICINE"},{"$f":"IF(ISBLANK('Trust - Frontsheet'!H35),\"\",'Trust - Frontsheet'!H35)","v":""},{"$f":"'Trust - Frontsheet'!I35","v":766},{"$f":"'Trust - Frontsheet'!J35","v":690},{"$f":"'Trust - Frontsheet'!K35","v":345},{"$f":"'Trust - Frontsheet'!L35","v":345},{"$f":"'Trust - Frontsheet'!M35","v":532.5},{"$f":"'Trust - Frontsheet'!N35","v":532.5},{"$f":"'Trust - Frontsheet'!O35","v":345},{"$f":"'Trust - Frontsheet'!P35","v":345},{"$f":"'Trust - Frontsheet'!Q35","v":0},{"$f":"'Trust - Frontsheet'!R35","v":0},{"$f":"'Trust - Frontsheet'!S35","v":0},{"$f":"'Trust - Frontsheet'!T35","v":0},{"$f":"IF(OR('Trust - Frontsheet'!AA35=\"\",'Trust - Frontsheet'!AA35=\"-\"),0,('Trust - Frontsheet'!AA35))","v":0.90078328981723232},{"$f":"IF(OR('Trust - Frontsheet'!AB35=\"\",'Trust - Frontsheet'!AB35=\"-\"),0,('Trust - Frontsheet'!AB35))","v":1},{"$f":"IF(OR('Trust - Frontsheet'!AC35=\"\",'Trust - Frontsheet'!AC35=\"-\"),0,('Trust - Frontsheet'!AC35))","v":1},{"$f":"IF(OR('Trust - Frontsheet'!AD35=\"\",'Trust - Frontsheet'!AD35=\"-\"),0,('Trust - Frontsheet'!AD35))","v":1},{"$f":"IF(OR('Trust - Frontsheet'!AE35=\"\",'Trust - Frontsheet'!AE35=\"-\"),0,('Trust - Frontsheet'!AE35))","v":0},{"$f":"IF(OR('Trust - Frontsheet'!AF35=\"\",'Trust - Frontsheet'!AF35=\"-\"),0,('Trust - Frontsheet'!AF35))","v":0},{"$f":"'Trust - Frontsheet'!U35","v":228},{"$f":"IF(OR('Trust - Frontsheet'!V35=\"\",'Trust - Frontsheet'!V35=\"-\"),0,('Trust - Frontsheet'!V35))","v":5.3618421052631575},{"$f":"IF(OR('Trust - Frontsheet'!W35=\"\",'Trust - Frontsheet'!W35=\"-\"),0,('Trust - Frontsheet'!W35))","v":3.0263157894736841},{"$f":"IF(OR('Trust - Frontsheet'!X35=\"\",'Trust - Frontsheet'!X35=\"-\"),0,('Trust - Frontsheet'!X35))","v":0},{"$f":"IF(OR('Trust - Frontsheet'!Y35=\"\",'Trust - Frontsheet'!Y35=\"-\"),0,('Trust - Frontsheet'!Y35))","v":0},{"$f":"IF(OR('Trust - Frontsheet'!Z35=\"\",'Trust - Frontsheet'!Z35=\"-\"),0,('Trust - Frontsheet'!Z35))","v":8.3881578947368425},{"$f":"IF(A23=\"\",\"\",(IF(ISBLANK('Trust - Frontsheet'!F9),\"\",'Trust - Frontsheet'!F9)))","v":""}]
[{"$f":"IF('Trust - Frontsheet'!D36=0,\"\",IF('Trust - Frontsheet'!D36=\"\",\"\",'Trust - Frontsheet'!D36))","v":"RBL14"},{"$f":"IF(ISBLANK('Trust - Frontsheet'!E36),\"\",'Trust - Frontsheet'!E36)","v":"ARROWE PARK HOSPITAL"},{"$f":"IF(ISBLANK('Trust - Frontsheet'!F36),\"\",\"'\" & 'Trust - Frontsheet'!F36 & \"'\")","v":"'ESAU'"},{"$f":"IF(ISBLANK('Trust - Frontsheet'!G36),\"\",'Trust - Frontsheet'!G36)","v":"100 - GENERAL SURGERY"},{"$f":"IF(ISBLANK('Trust - Frontsheet'!H36),\"\",'Trust - Frontsheet'!H36)","v":""},{"$f":"'Trust - Frontsheet'!I36","v":2070},{"$f":"'Trust - Frontsheet'!J36","v":1857.5},{"$f":"'Trust - Frontsheet'!K36","v":1380},{"$f":"'Trust - Frontsheet'!L36","v":1226.1500000000001},{"$f":"'Trust - Frontsheet'!M36","v":1725},{"$f":"'Trust - Frontsheet'!N36","v":1464.2},{"$f":"'Trust - Frontsheet'!O36","v":1380},{"$f":"'Trust - Frontsheet'!P36","v":1311},{"$f":"'Trust - Frontsheet'!Q36","v":0},{"$f":"'Trust - Frontsheet'!R36","v":0},{"$f":"'Trust - Frontsheet'!S36","v":0},{"$f":"'Trust - Frontsheet'!T36","v":0},{"$f":"IF(OR('Trust - Frontsheet'!AA36=\"\",'Trust - Frontsheet'!AA36=\"-\"),0,('Trust - Frontsheet'!AA36))","v":0.89734299516908211},{"$f":"IF(OR('Trust - Frontsheet'!AB36=\"\",'Trust - Frontsheet'!AB36=\"-\"),0,('Trust - Frontsheet'!AB36))","v":0.88851449275362326},{"$f":"IF(OR('Trust - Frontsheet'!AC36=\"\",'Trust - Frontsheet'!AC36=\"-\"),0,('Trust - Frontsheet'!AC36))","v":0.84881159420289853},{"$f":"IF(OR('Trust - Frontsheet'!AD36=\"\",'Trust - Frontsheet'!AD36=\"-\"),0,('Trust - Frontsheet'!AD36))","v":0.95},{"$f":"IF(OR('Trust - Frontsheet'!AE36=\"\",'Trust - Frontsheet'!AE36=\"-\"),0,('Trust - Frontsheet'!AE36))","v":0},{"$f":"IF(OR('Trust - Frontsheet'!AF36=\"\",'Trust - Frontsheet'!AF36=\"-\"),0,('Trust - Frontsheet'!AF36))","v":0},{"$f":"'Trust - Frontsheet'!U36","v":345},{"$f":"IF(OR('Trust - Frontsheet'!V36=\"\",'Trust - Frontsheet'!V36=\"-\"),0,('Trust - Frontsheet'!V36))","v":9.6281159420289857},{"$f":"IF(OR('Trust - Frontsheet'!W36=\"\",'Trust - Frontsheet'!W36=\"-\"),0,('Trust - Frontsheet'!W36))","v":7.3540579710144929},{"$f":"IF(OR('Trust - Frontsheet'!X36=\"\",'Trust - Frontsheet'!X36=\"-\"),0,('Trust - Frontsheet'!X36))","v":0},{"$f":"IF(OR('Trust - Frontsheet'!Y36=\"\",'Trust - Frontsheet'!Y36=\"-\"),0,('Trust - Frontsheet'!Y36))","v":0},{"$f":"IF(OR('Trust - Frontsheet'!Z36=\"\",'Trust - Frontsheet'!Z36=\"-\"),0,('Trust - Frontsheet'!Z36))","v":16.982173913043479},{"$f":"IF(A24=\"\",\"\",(IF(ISBLANK('Trust - Frontsheet'!F9),\"\",'Trust - Frontsheet'!F9)))","v":""}]
[{"$f":"IF('Trust - Frontsheet'!D37=0,\"\",IF('Trust - Frontsheet'!D37=\"\",\"\",'Trust - Frontsheet'!D37))","v":"RBL14"},{"$f":"IF(ISBLANK('Trust - Frontsheet'!E37),\"\",'Trust - Frontsheet'!E37)","v":"ARROWE PARK HOSPITAL"},{"$f":"IF(ISBLANK('Trust - Frontsheet'!F37),\"\",\"'\" & 'Trust - Frontsheet'!F37 & \"'\")","v":"'ITU'"},{"$f":"IF(ISBLANK('Trust - Frontsheet'!G37),\"\",'Trust - Frontsheet'!G37)","v":"192 - CRITICAL CARE MEDICINE"},{"$f":"IF(ISBLANK('Trust - Frontsheet'!H37),\"\",'Trust - Frontsheet'!H37)","v":""},{"$f":"'Trust - Frontsheet'!I37","v":4025},{"$f":"'Trust - Frontsheet'!J37","v":3001.8},{"$f":"'Trust - Frontsheet'!K37","v":345},{"$f":"'Trust - Frontsheet'!L37","v":283.25},{"$f":"'Trust - Frontsheet'!M37","v":3795},{"$f":"'Trust - Frontsheet'!N37","v":2932.5},{"$f":"'Trust - Frontsheet'!O37","v":345},{"$f":"'Trust - Frontsheet'!P37","v":299},{"$f":"'Trust - Frontsheet'!Q37","v":0},{"$f":"'Trust - Frontsheet'!R37","v":0},{"$f":"'Trust - Frontsheet'!S37","v":0},{"$f":"'Trust - Frontsheet'!T37","v":0},{"$f":"IF(OR('Trust - Frontsheet'!AA37=\"\",'Trust - Frontsheet'!AA37=\"-\"),0,('Trust - Frontsheet'!AA37))","v":0.74578881987577639},{"$f":"IF(OR('Trust - Frontsheet'!AB37=\"\",'Trust - Frontsheet'!AB37=\"-\"),0,('Trust - Frontsheet'!AB37))","v":0.82101449275362315},{"$f":"IF(OR('Trust - Frontsheet'!AC37=\"\",'Trust - Frontsheet'!AC37=\"-\"),0,('Trust - Frontsheet'!AC37))","v":0.77272727272727271},{"$f":"IF(OR('Trust - Frontsheet'!AD37=\"\",'Trust - Frontsheet'!AD37=\"-\"),0,('Trust - Frontsheet'!AD37))","v":0.8666666666666667},{"$f":"IF(OR('Trust - Frontsheet'!AE37=\"\",'Trust - Frontsheet'!AE37=\"-\"),0,('Trust - Frontsheet'!AE37))","v":0},{"$f":"IF(OR('Trust - Frontsheet'!AF37=\"\",'Trust - Frontsheet'!AF37=\"-\"),0,('Trust - Frontsheet'!AF37))","v":0},{"$f":"'Trust - Frontsheet'!U37","v":211},{"$f":"IF(OR('Trust - Frontsheet'!V37=\"\",'Trust - Frontsheet'!V37=\"-\"),0,('Trust - Frontsheet'!V37))","v":28.124644549763033},{"$f":"IF(OR('Trust - Frontsheet'!W37=\"\",'Trust - Frontsheet'!W37=\"-\"),0,('Trust - Frontsheet'!W37))","v":2.7594786729857819},{"$f":"IF(OR('Trust - Frontsheet'!X37=\"\",'Trust - Frontsheet'!X37=\"-\"),0,('Trust - Frontsheet'!X37))","v":0},{"$f":"IF(OR('Trust - Frontsheet'!Y37=\"\",'Trust - Frontsheet'!Y37=\"-\"),0,('Trust - Frontsheet'!Y37))","v":0},{"$f":"IF(OR('Trust - Frontsheet'!Z37=\"\",'Trust - Frontsheet'!Z37=\"-\"),0,('Trust - Frontsheet'!Z37))","v":30.884123222748816},{"$f":"IF(A25=\"\",\"\",(IF(ISBLANK('Trust - Frontsheet'!F9),\"\",'Trust - Frontsheet'!F9)))","v":""}]
[{"$f":"IF('Trust - Frontsheet'!D38=0,\"\",IF('Trust - Frontsheet'!D38=\"\",\"\",'Trust - Frontsheet'!D38))","v":"RBL14"},{"$f":"IF(ISBLANK('Trust - Frontsheet'!E38),\"\",'Trust - Frontsheet'!E38)","v":"ARROWE PARK HOSPITAL"},{"$f":"IF(ISBLANK('Trust - Frontsheet'!F38),\"\",\"'\" & 'Trust - Frontsheet'!F38 & \"'\")","v":"'HDU'"},{"$f":"IF(ISBLANK('Trust - Frontsheet'!G38),\"\",'Trust - Frontsheet'!G38)","v":"192 - CRITICAL CARE MEDICINE"},{"$f":"IF(ISBLANK('Trust - Frontsheet'!H38),\"\",'Trust - Frontsheet'!H38)","v":""},{"$f":"'Trust - Frontsheet'!I38","v":1380},{"$f":"'Trust - Frontsheet'!J38","v":1322.5},{"$f":"'Trust - Frontsheet'!K38","v":345},{"$f":"'Trust - Frontsheet'!L38","v":256},{"$f":"'Trust - Frontsheet'!M38","v":1380},{"$f":"'Trust - Frontsheet'!N38","v":1299.5},{"$f":"'Trust - Frontsheet'!O38","v":345},{"$f":"'Trust - Frontsheet'!P38","v":310.5},{"$f":"'Trust - Frontsheet'!Q38","v":0},{"$f":"'Trust - Frontsheet'!R38","v":0},{"$f":"'Trust - Frontsheet'!S38","v":0},{"$f":"'Trust - Frontsheet'!T38","v":0},{"$f":"IF(OR('Trust - Frontsheet'!AA38=\"\",'Trust - Frontsheet'!AA38=\"-\"),0,('Trust - Frontsheet'!AA38))","v":0.95833333333333337},{"$f":"IF(OR('Trust - Frontsheet'!AB38=\"\",'Trust - Frontsheet'!AB38=\"-\"),0,('Trust - Frontsheet'!AB38))","v":0.74202898550724639},{"$f":"IF(OR('Trust - Frontsheet'!AC38=\"\",'Trust - Frontsheet'!AC38=\"-\"),0,('Trust - Frontsheet'!AC38))","v":0.94166666666666665},{"$f":"IF(OR('Trust - Frontsheet'!AD38=\"\",'Trust - Frontsheet'!AD38=\"-\"),0,('Trust - Frontsheet'!AD38))","v":0.9},{"$f":"IF(OR('Trust - Frontsheet'!AE38=\"\",'Trust - Frontsheet'!AE38=\"-\"),0,('Trust - Frontsheet'!AE38))","v":0},{"$f":"IF(OR('Trust - Frontsheet'!AF38=\"\",'Trust - Frontsheet'!AF38=\"-\"),0,('Trust - Frontsheet'!AF38))","v":0},{"$f":"'Trust - Frontsheet'!U38","v":141},{"$f":"IF(OR('Trust - Frontsheet'!V38=\"\",'Trust - Frontsheet'!V38=\"-\"),0,('Trust - Frontsheet'!V38))","v":18.595744680851062},{"$f":"IF(OR('Trust - Frontsheet'!W38=\"\",'Trust - Frontsheet'!W38=\"-\"),0,('Trust - Frontsheet'!W38))","v":4.0177304964539005},{"$f":"IF(OR('Trust - Frontsheet'!X38=\"\",'Trust - Frontsheet'!X38=\"-\"),0,('Trust - Frontsheet'!X38))","v":0},{"$f":"IF(OR('Trust - Frontsheet'!Y38=\"\",'Trust - Frontsheet'!Y38=\"-\"),0,('Trust - Frontsheet'!Y38))","v":0},{"$f":"IF(OR('Trust - Frontsheet'!Z38=\"\",'Trust - Frontsheet'!Z38=\"-\"),0,('Trust - Frontsheet'!Z38))","v":22.613475177304963},{"$f":"IF(A26=\"\",\"\",(IF(ISBLANK('Trust - Frontsheet'!F9),\"\",'Trust - Frontsheet'!F9)))","v":""}]
[{"$f":"IF('Trust - Frontsheet'!D39=0,\"\",IF('Trust - Frontsheet'!D39=\"\",\"\",'Trust - Frontsheet'!D39))","v":"RBL14"},{"$f":"IF(ISBLANK('Trust - Frontsheet'!E39),\"\",'Trust - Frontsheet'!E39)","v":"ARROWE PARK HOSPITAL"},{"$f":"IF(ISBLANK('Trust - Frontsheet'!F39),\"\",\"'\" & 'Trust - Frontsheet'!F39 & \"'\")","v":"'Delivery suite'"},{"$f":"IF(ISBLANK('Trust - Frontsheet'!G39),\"\",'Trust - Frontsheet'!G39)","v":"501 - OBSTETRICS"},{"$f":"IF(ISBLANK('Trust - Frontsheet'!H39),\"\",'Trust - Frontsheet'!H39)","v":""},{"$f":"'Trust - Frontsheet'!I39","v":2415},{"$f":"'Trust - Frontsheet'!J39","v":2288.5},{"$f":"'Trust - Frontsheet'!K39","v":345},{"$f":"'Trust - Frontsheet'!L39","v":345},{"$f":"'Trust - Frontsheet'!M39","v":2415},{"$f":"'Trust - Frontsheet'!N39","v":2208},{"$f":"'Trust - Frontsheet'!O39","v":345},{"$f":"'Trust - Frontsheet'!P39","v":345},{"$f":"'Trust - Frontsheet'!Q39","v":0},{"$f":"'Trust - Frontsheet'!R39","v":0},{"$f":"'Trust - Frontsheet'!S39","v":0},{"$f":"'Trust - Frontsheet'!T39","v":0},{"$f":"IF(OR('Trust - Frontsheet'!AA39=\"\",'Trust - Frontsheet'!AA39=\"-\"),0,('Trust - Frontsheet'!AA39))","v":0.94761904761904758},{"$f":"IF(OR('Trust - Frontsheet'!AB39=\"\",'Trust - Frontsheet'!AB39=\"-\"),0,('Trust - Frontsheet'!AB39))","v":1},{"$f":"IF(OR('Trust - Frontsheet'!AC39=\"\",'Trust - Frontsheet'!AC39=\"-\"),0,('Trust - Frontsheet'!AC39))","v":0.91428571428571426},{"$f":"IF(OR('Trust - Frontsheet'!AD39=\"\",'Trust - Frontsheet'!AD39=\"-\"),0,('Trust - Frontsheet'!AD39))","v":1},{"$f":"IF(OR('Trust - Frontsheet'!AE39=\"\",'Trust - Frontsheet'!AE39=\"-\"),0,('Trust - Frontsheet'!AE39))","v":0},{"$f":"IF(OR('Trust - Frontsheet'!AF39=\"\",'Trust - Frontsheet'!AF39=\"-\"),0,('Trust - Frontsheet'!AF39))","v":0},{"$f":"'Trust - Frontsheet'!U39","v":135},{"$f":"IF(OR('Trust - Frontsheet'!V39=\"\",'Trust - Frontsheet'!V39=\"-\"),0,('Trust - Frontsheet'!V39))","v":33.30740740740741},{"$f":"IF(OR('Trust - Frontsheet'!W39=\"\",'Trust - Frontsheet'!W39=\"-\"),0,('Trust - Frontsheet'!W39))","v":5.1111111111111107},{"$f":"IF(OR('Trust - Frontsheet'!X39=\"\",'Trust - Frontsheet'!X39=\"-\"),0,('Trust - Frontsheet'!X39))","v":0},{"$f":"IF(OR('Trust - Frontsheet'!Y39=\"\",'Trust - Frontsheet'!Y39=\"-\"),0,('Trust - Frontsheet'!Y39))","v":0},{"$f":"IF(OR('Trust - Frontsheet'!Z39=\"\",'Trust - Frontsheet'!Z39=\"-\"),0,('Trust - Frontsheet'!Z39))","v":38.418518518518518},{"$f":"IF(A27=\"\",\"\",(IF(ISBLANK('Trust - Frontsheet'!F9),\"\",'Trust - Frontsheet'!F9)))","v":""}]
[{"$f":"IF('Trust - Frontsheet'!D40=0,\"\",IF('Trust - Frontsheet'!D40=\"\",\"\",'Trust - Frontsheet'!D40))","v":"RBL14"},{"$f":"IF(ISBLANK('Trust - Frontsheet'!E40),\"\",'Trust - Frontsheet'!E40)","v":"ARROWE PARK HOSPITAL"},{"$f":"IF(ISBLANK('Trust - Frontsheet'!F40),\"\",\"'\" & 'Trust - Frontsheet'!F40 & \"'\")","v":"'Neonatal'"},{"$f":"IF(ISBLANK('Trust - Frontsheet'!G40),\"\",'Trust - Frontsheet'!G40)","v":"420 - PAEDIATRICS"},{"$f":"IF(ISBLANK('Trust - Frontsheet'!H40),\"\",'Trust - Frontsheet'!H40)","v":""},{"$f":"'Trust - Frontsheet'!I40","v":2760},{"$f":"'Trust - Frontsheet'!J40","v":2478.5},{"$f":"'Trust - Frontsheet'!K40","v":345},{"$f":"'Trust - Frontsheet'!L40","v":241.5},{"$f":"'Trust - Frontsheet'!M40","v":2760},{"$f":"'Trust - Frontsheet'!N40","v":2416},{"$f":"'Trust - Frontsheet'!O40","v":345},{"$f":"'Trust - Frontsheet'!P40","v":276},{"$f":"'Trust - Frontsheet'!Q40","v":0},{"$f":"'Trust - Frontsheet'!R40","v":0},{"$f":"'Trust - Frontsheet'!S40","v":0},{"$f":"'Trust - Frontsheet'!T40","v":0},{"$f":"IF(OR('Trust - Frontsheet'!AA40=\"\",'Trust - Frontsheet'!AA40=\"-\"),0,('Trust - Frontsheet'!AA40))","v":0.89800724637681162},{"$f":"IF(OR('Trust - Frontsheet'!AB40=\"\",'Trust - Frontsheet'!AB40=\"-\"),0,('Trust - Frontsheet'!AB40))","v":0.7},{"$f":"IF(OR('Trust - Frontsheet'!AC40=\"\",'Trust - Frontsheet'!AC40=\"-\"),0,('Trust - Frontsheet'!AC40))","v":0.87536231884057969},{"$f":"IF(OR('Trust - Frontsheet'!AD40=\"\",'Trust - Frontsheet'!AD40=\"-\"),0,('Trust - Frontsheet'!AD40))","v":0.8},{"$f":"IF(OR('Trust - Frontsheet'!AE40=\"\",'Trust - Frontsheet'!AE40=\"-\"),0,('Trust - Frontsheet'!AE40))","v":0},{"$f":"IF(OR('Trust - Frontsheet'!AF40=\"\",'Trust - Frontsheet'!AF40=\"-\"),0,('Trust - Frontsheet'!AF40))","v":0},{"$f":"'Trust - Frontsheet'!U40","v":422},{"$f":"IF(OR('Trust - Frontsheet'!V40=\"\",'Trust - Frontsheet'!V40=\"-\"),0,('Trust - Frontsheet'!V40))","v":11.598341232227488},{"$f":"IF(OR('Trust - Frontsheet'!W40=\"\",'Trust - Frontsheet'!W40=\"-\"),0,('Trust - Frontsheet'!W40))","v":1.2263033175355451},{"$f":"IF(OR('Trust - Frontsheet'!X40=\"\",'Trust - Frontsheet'!X40=\"-\"),0,('Trust - Frontsheet'!X40))","v":0},{"$f":"IF(OR('Trust - Frontsheet'!Y40=\"\",'Trust - Frontsheet'!Y40=\"-\"),0,('Trust - Frontsheet'!Y40))","v":0},{"$f":"IF(OR('Trust - Frontsheet'!Z40=\"\",'Trust - Frontsheet'!Z40=\"-\"),0,('Trust - Frontsheet'!Z40))","v":12.824644549763033},{"$f":"IF(A28=\"\",\"\",(IF(ISBLANK('Trust - Frontsheet'!F9),\"\",'Trust - Frontsheet'!F9)))","v":""}]
[{"$f":"IF('Trust - Frontsheet'!D41=0,\"\",IF('Trust - Frontsheet'!D41=\"\",\"\",'Trust - Frontsheet'!D41))","v":"RBL14"},{"$f":"IF(ISBLANK('Trust - Frontsheet'!E41),\"\",'Trust - Frontsheet'!E41)","v":"ARROWE PARK HOSPITAL"},{"$f":"IF(ISBLANK('Trust - Frontsheet'!F41),\"\",\"'\" & 'Trust - Frontsheet'!F41 & \"'\")","v":"'Children's'"},{"$f":"IF(ISBLANK('Trust - Frontsheet'!G41),\"\",'Trust - Frontsheet'!G41)","v":"420 - PAEDIATRICS"},{"$f":"IF(ISBLANK('Trust - Frontsheet'!H41),\"\",'Trust - Frontsheet'!H41)","v":""},{"$f":"'Trust - Frontsheet'!I41","v":1610},{"$f":"'Trust - Frontsheet'!J41","v":1621.5},{"$f":"'Trust - Frontsheet'!K41","v":345},{"$f":"'Trust - Frontsheet'!L41","v":362},{"$f":"'Trust - Frontsheet'!M41","v":1380},{"$f":"'Trust - Frontsheet'!N41","v":1545.5},{"$f":"'Trust - Frontsheet'!O41","v":345},{"$f":"'Trust - Frontsheet'!P41","v":287.5},{"$f":"'Trust - Frontsheet'!Q41","v":0},{"$f":"'Trust - Frontsheet'!R41","v":0},{"$f":"'Trust - Frontsheet'!S41","v":0},{"$f":"'Trust - Frontsheet'!T41","v":0},{"$f":"IF(OR('Trust - Frontsheet'!AA41=\"\",'Trust - Frontsheet'!AA41=\"-\"),0,('Trust - Frontsheet'!AA41))","v":1.0071428571428571},{"$f":"IF(OR('Trust - Frontsheet'!AB41=\"\",'Trust - Frontsheet'!AB41=\"-\"),0,('Trust - Frontsheet'!AB41))","v":1.0492753623188407},{"$f":"IF(OR('Trust - Frontsheet'!AC41=\"\",'Trust - Frontsheet'!AC41=\"-\"),0,('Trust - Frontsheet'!AC41))","v":1.1199275362318841},{"$f":"IF(OR('Trust - Frontsheet'!AD41=\"\",'Trust - Frontsheet'!AD41=\"-\"),0,('Trust - Frontsheet'!AD41))","v":0.83333333333333337},{"$f":"IF(OR('Trust - Frontsheet'!AE41=\"\",'Trust - Frontsheet'!AE41=\"-\"),0,('Trust - Frontsheet'!AE41))","v":0},{"$f":"IF(OR('Trust - Frontsheet'!AF41=\"\",'Trust - Frontsheet'!AF41=\"-\"),0,('Trust - Frontsheet'!AF41))","v":0},{"$f":"'Trust - Frontsheet'!U41","v":275},{"$f":"IF(OR('Trust - Frontsheet'!V41=\"\",'Trust - Frontsheet'!V41=\"-\"),0,('Trust - Frontsheet'!V41))","v":11.516363636363636},{"$f":"IF(OR('Trust - Frontsheet'!W41=\"\",'Trust - Frontsheet'!W41=\"-\"),0,('Trust - Frontsheet'!W41))","v":2.3618181818181818},{"$f":"IF(OR('Trust - Frontsheet'!X41=\"\",'Trust - Frontsheet'!X41=\"-\"),0,('Trust - Frontsheet'!X41))","v":0},{"$f":"IF(OR('Trust - Frontsheet'!Y41=\"\",'Trust - Frontsheet'!Y41=\"-\"),0,('Trust - Frontsheet'!Y41))","v":0},{"$f":"IF(OR('Trust - Frontsheet'!Z41=\"\",'Trust - Frontsheet'!Z41=\"-\"),0,('Trust - Frontsheet'!Z41))","v":13.878181818181819},{"$f":"IF(A29=\"\",\"\",(IF(ISBLANK('Trust - Frontsheet'!F9),\"\",'Trust - Frontsheet'!F9)))","v":""}]
[{"$f":"IF('Trust - Frontsheet'!D42=0,\"\",IF('Trust - Frontsheet'!D42=\"\",\"\",'Trust - Frontsheet'!D42))","v":"RBL20"},{"$f":"IF(ISBLANK('Trust - Frontsheet'!E42),\"\",'Trust - Frontsheet'!E42)","v":"CLATTERBRIDGE HOSPITAL"},{"$f":"IF(ISBLANK('Trust - Frontsheet'!F42),\"\",\"'\" & 'Trust - Frontsheet'!F42 & \"'\")","v":"'M2 Ortho'"},{"$f":"IF(ISBLANK('Trust - Frontsheet'!G42),\"\",'Trust - Frontsheet'!G42)","v":"430 - GERIATRIC MEDICINE"},{"$f":"IF(ISBLANK('Trust - Frontsheet'!H42),\"\",'Trust - Frontsheet'!H42)","v":""},{"$f":"'Trust - Frontsheet'!I42","v":1372.5},{"$f":"'Trust - Frontsheet'!J42","v":914.25},{"$f":"'Trust - Frontsheet'!K42","v":877.5},{"$f":"'Trust - Frontsheet'!L42","v":869.4},{"$f":"'Trust - Frontsheet'!M42","v":690},{"$f":"'Trust - Frontsheet'!N42","v":632.5},{"$f":"'Trust - Frontsheet'!O42","v":345},{"$f":"'Trust - Frontsheet'!P42","v":241.5},{"$f":"'Trust - Frontsheet'!Q42","v":0},{"$f":"'Trust - Frontsheet'!R42","v":0},{"$f":"'Trust - Frontsheet'!S42","v":0},{"$f":"'Trust - Frontsheet'!T42","v":0},{"$f":"IF(OR('Trust - Frontsheet'!AA42=\"\",'Trust - Frontsheet'!AA42=\"-\"),0,('Trust - Frontsheet'!AA42))","v":0.66612021857923498},{"$f":"IF(OR('Trust - Frontsheet'!AB42=\"\",'Trust - Frontsheet'!AB42=\"-\"),0,('Trust - Frontsheet'!AB42))","v":0.99076923076923074},{"$f":"IF(OR('Trust - Frontsheet'!AC42=\"\",'Trust - Frontsheet'!AC42=\"-\"),0,('Trust - Frontsheet'!AC42))","v":0.91666666666666663},{"$f":"IF(OR('Trust - Frontsheet'!AD42=\"\",'Trust - Frontsheet'!AD42=\"-\"),0,('Trust - Frontsheet'!AD42))","v":0.7},{"$f":"IF(OR('Trust - Frontsheet'!AE42=\"\",'Trust - Frontsheet'!AE42=\"-\"),0,('Trust - Frontsheet'!AE42))","v":0},{"$f":"IF(OR('Trust - Frontsheet'!AF42=\"\",'Trust - Frontsheet'!AF42=\"-\"),0,('Trust - Frontsheet'!AF42))","v":0},{"$f":"'Trust - Frontsheet'!U42","v":194},{"$f":"IF(OR('Trust - Frontsheet'!V42=\"\",'Trust - Frontsheet'!V42=\"-\"),0,('Trust - Frontsheet'!V42))","v":7.9729381443298966},{"$f":"IF(OR('Trust - Frontsheet'!W42=\"\",'Trust - Frontsheet'!W42=\"-\"),0,('Trust - Frontsheet'!W42))","v":5.7262886597938145},{"$f":"IF(OR('Trust - Frontsheet'!X42=\"\",'Trust - Frontsheet'!X42=\"-\"),0,('Trust - Frontsheet'!X42))","v":0},{"$f":"IF(OR('Trust - Frontsheet'!Y42=\"\",'Trust - Frontsheet'!Y42=\"-\"),0,('Trust - Frontsheet'!Y42))","v":0},{"$f":"IF(OR('Trust - Frontsheet'!Z42=\"\",'Trust - Frontsheet'!Z42=\"-\"),0,('Trust - Frontsheet'!Z42))","v":13.699226804123711},{"$f":"IF(A30=\"\",\"\",(IF(ISBLANK('Trust - Frontsheet'!F9),\"\",'Trust - Frontsheet'!F9)))","v":""}]
[{"$f":"IF('Trust - Frontsheet'!D43=0,\"\",IF('Trust - Frontsheet'!D43=\"\",\"\",'Trust - Frontsheet'!D43))","v":"RBL20"},{"$f":"IF(ISBLANK('Trust - Frontsheet'!E43),\"\",'Trust - Frontsheet'!E43)","v":"CLATTERBRIDGE HOSPITAL"},{"$f":"IF(ISBLANK('Trust - Frontsheet'!F43),\"\",\"'\" & 'Trust - Frontsheet'!F43 & \"'\")","v":"'M2 Surg'"},{"$f":"IF(ISBLANK('Trust - Frontsheet'!G43),\"\",'Trust - Frontsheet'!G43)","v":"100 - GENERAL SURGERY"},{"$f":"IF(ISBLANK('Trust - Frontsheet'!H43),\"\",'Trust - Frontsheet'!H43)","v":""},{"$f":"'Trust - Frontsheet'!I43","v":184},{"$f":"'Trust - Frontsheet'!J43","v":138},{"$f":"'Trust - Frontsheet'!K43","v":172.5},{"$f":"'Trust - Frontsheet'!L43","v":138},{"$f":"'Trust - Frontsheet'!M43","v":184},{"$f":"'Trust - Frontsheet'!N43","v":138},{"$f":"'Trust - Frontsheet'!O43","v":184},{"$f":"'Trust - Frontsheet'!P43","v":138},{"$f":"'Trust - Frontsheet'!Q43","v":0},{"$f":"'Trust - Frontsheet'!R43","v":0},{"$f":"'Trust - Frontsheet'!S43","v":0},{"$f":"'Trust - Frontsheet'!T43","v":0},{"$f":"IF(OR('Trust - Frontsheet'!AA43=\"\",'Trust - Frontsheet'!AA43=\"-\"),0,('Trust - Frontsheet'!AA43))","v":0.75},{"$f":"IF(OR('Trust - Frontsheet'!AB43=\"\",'Trust - Frontsheet'!AB43=\"-\"),0,('Trust - Frontsheet'!AB43))","v":0.8},{"$f":"IF(OR('Trust - Frontsheet'!AC43=\"\",'Trust - Frontsheet'!AC43=\"-\"),0,('Trust - Frontsheet'!AC43))","v":0.75},{"$f":"IF(OR('Trust - Frontsheet'!AD43=\"\",'Trust - Frontsheet'!AD43=\"-\"),0,('Trust - Frontsheet'!AD43))","v":0.75},{"$f":"IF(OR('Trust - Frontsheet'!AE43=\"\",'Trust - Frontsheet'!AE43=\"-\"),0,('Trust - Frontsheet'!AE43))","v":0},{"$f":"IF(OR('Trust - Frontsheet'!AF43=\"\",'Trust - Frontsheet'!AF43=\"-\"),0,('Trust - Frontsheet'!AF43))","v":0},{"$f":"'Trust - Frontsheet'!U43","v":38},{"$f":"IF(OR('Trust - Frontsheet'!V43=\"\",'Trust - Frontsheet'!V43=\"-\"),0,('Trust - Frontsheet'!V43))","v":7.2631578947368425},{"$f":"IF(OR('Trust - Frontsheet'!W43=\"\",'Trust - Frontsheet'!W43=\"-\"),0,('Trust - Frontsheet'!W43))","v":7.2631578947368425},{"$f":"IF(OR('Trust - Frontsheet'!X43=\"\",'Trust - Frontsheet'!X43=\"-\"),0,('Trust - Frontsheet'!X43))","v":0},{"$f":"IF(OR('Trust - Frontsheet'!Y43=\"\",'Trust - Frontsheet'!Y43=\"-\"),0,('Trust - Frontsheet'!Y43))","v":0},{"$f":"IF(OR('Trust - Frontsheet'!Z43=\"\",'Trust - Frontsheet'!Z43=\"-\"),0,('Trust - Frontsheet'!Z43))","v":14.526315789473685},{"$f":"IF(A31=\"\",\"\",(IF(ISBLANK('Trust - Frontsheet'!F9),\"\",'Trust - Frontsheet'!F9)))","v":""}]
[{"$f":"IF('Trust - Frontsheet'!D44=0,\"\",IF('Trust - Frontsheet'!D44=\"\",\"\",'Trust - Frontsheet'!D44))","v":"RBL20"},{"$f":"IF(ISBLANK('Trust - Frontsheet'!E44),\"\",'Trust - Frontsheet'!E44)","v":"CLATTERBRIDGE HOSPITAL"},{"$f":"IF(ISBLANK('Trust - Frontsheet'!F44),\"\",\"'\" & 'Trust - Frontsheet'!F44 & \"'\")","v":"'CRC'"},{"$f":"IF(ISBLANK('Trust - Frontsheet'!G44),\"\",'Trust - Frontsheet'!G44)","v":"314 - REHABILITATION"},{"$f":"IF(ISBLANK('Trust - Frontsheet'!H44),\"\",'Trust - Frontsheet'!H44)","v":""},{"$f":"'Trust - Frontsheet'!I44","v":1380},{"$f":"'Trust - Frontsheet'!J44","v":1206.8},{"$f":"'Trust - Frontsheet'!K44","v":1867.5},{"$f":"'Trust - Frontsheet'!L44","v":1807.6},{"$f":"'Trust - Frontsheet'!M44","v":690},{"$f":"'Trust - Frontsheet'!N44","v":690},{"$f":"'Trust - Frontsheet'!O44","v":1035},{"$f":"'Trust - Frontsheet'!P44","v":1035},{"$f":"'Trust - Frontsheet'!Q44","v":0},{"$f":"'Trust - Frontsheet'!R44","v":0},{"$f":"'Trust - Frontsheet'!S44","v":0},{"$f":"'Trust - Frontsheet'!T44","v":0},{"$f":"IF(OR('Trust - Frontsheet'!AA44=\"\",'Trust - Frontsheet'!AA44=\"-\"),0,('Trust - Frontsheet'!AA44))","v":0.87449275362318835},{"$f":"IF(OR('Trust - Frontsheet'!AB44=\"\",'Trust - Frontsheet'!AB44=\"-\"),0,('Trust - Frontsheet'!AB44))","v":0.96792503346720205},{"$f":"IF(OR('Trust - Frontsheet'!AC44=\"\",'Trust - Frontsheet'!AC44=\"-\"),0,('Trust - Frontsheet'!AC44))","v":1},{"$f":"IF(OR('Trust - Frontsheet'!AD44=\"\",'Trust - Frontsheet'!AD44=\"-\"),0,('Trust - Frontsheet'!AD44))","v":1},{"$f":"IF(OR('Trust - Frontsheet'!AE44=\"\",'Trust - Frontsheet'!AE44=\"-\"),0,('Trust - Frontsheet'!AE44))","v":0},{"$f":"IF(OR('Trust - Frontsheet'!AF44=\"\",'Trust - Frontsheet'!AF44=\"-\"),0,('Trust - Frontsheet'!AF44))","v":0},{"$f":"'Trust - Frontsheet'!U44","v":827},{"$f":"IF(OR('Trust - Frontsheet'!V44=\"\",'Trust - Frontsheet'!V44=\"-\"),0,('Trust - Frontsheet'!V44))","v":2.2935912938331318},{"$f":"IF(OR('Trust - Frontsheet'!W44=\"\",'Trust - Frontsheet'!W44=\"-\"),0,('Trust - Frontsheet'!W44))","v":3.4372430471584039},{"$f":"IF(OR('Trust - Frontsheet'!X44=\"\",'Trust - Frontsheet'!X44=\"-\"),0,('Trust - Frontsheet'!X44))","v":0},{"$f":"IF(OR('Trust - Frontsheet'!Y44=\"\",'Trust - Frontsheet'!Y44=\"-\"),0,('Trust - Frontsheet'!Y44))","v":0},{"$f":"IF(OR('Trust - Frontsheet'!Z44=\"\",'Trust - Frontsheet'!Z44=\"-\"),0,('Trust - Frontsheet'!Z44))","v":5.7308343409915352},{"$f":"IF(A32=\"\",\"\",(IF(ISBLANK('Trust - Frontsheet'!F9),\"\",'Trust - Frontsheet'!F9)))","v":""}]
[{"$f":"IF('Trust - Frontsheet'!D45=0,\"\",IF('Trust - Frontsheet'!D45=\"\",\"\",'Trust - Frontsheet'!D45))","v":"RBL20"},{"$f":"IF(ISBLANK('Trust - Frontsheet'!E45),\"\",'Trust - Frontsheet'!E45)","v":"CLATTERBRIDGE HOSPITAL"},{"$f":"IF(ISBLANK('Trust - Frontsheet'!F45),\"\",\"'\" & 'Trust - Frontsheet'!F45 & \"'\")","v":"'M1 rehab M1 MO'"},{"$f":"IF(ISBLANK('Trust - Frontsheet'!G45),\"\",'Trust - Frontsheet'!G45)","v":"314 - REHABILITATION"},{"$f":"IF(ISBLANK('Trust - Frontsheet'!H45),\"\",'Trust - Frontsheet'!H45)","v":""},{"$f":"'Trust - Frontsheet'!I45","v":1530},{"$f":"'Trust - Frontsheet'!J45","v":1295},{"$f":"'Trust - Frontsheet'!K45","v":1564.5},{"$f":"'Trust - Frontsheet'!L45","v":1789.75},{"$f":"'Trust - Frontsheet'!M45","v":1035},{"$f":"'Trust - Frontsheet'!N45","v":966},{"$f":"'Trust - Frontsheet'!O45","v":1035},{"$f":"'Trust - Frontsheet'!P45","v":1035},{"$f":"'Trust - Frontsheet'!Q45","v":0},{"$f":"'Trust - Frontsheet'!R45","v":0},{"$f":"'Trust - Frontsheet'!S45","v":0},{"$f":"'Trust - Frontsheet'!T45","v":0},{"$f":"IF(OR('Trust - Frontsheet'!AA45=\"\",'Trust - Frontsheet'!AA45=\"-\"),0,('Trust - Frontsheet'!AA45))","v":0.84640522875816993},{"$f":"IF(OR('Trust - Frontsheet'!AB45=\"\",'Trust - Frontsheet'!AB45=\"-\"),0,('Trust - Frontsheet'!AB45))","v":1.143975711089805},{"$f":"IF(OR('Trust - Frontsheet'!AC45=\"\",'Trust - Frontsheet'!AC45=\"-\"),0,('Trust - Frontsheet'!AC45))","v":0.93333333333333335},{"$f":"IF(OR('Trust - Frontsheet'!AD45=\"\",'Trust - Frontsheet'!AD45=\"-\"),0,('Trust - Frontsheet'!AD45))","v":1},{"$f":"IF(OR('Trust - Frontsheet'!AE45=\"\",'Trust - Frontsheet'!AE45=\"-\"),0,('Trust - Frontsheet'!AE45))","v":0},{"$f":"IF(OR('Trust - Frontsheet'!AF45=\"\",'Trust - Frontsheet'!AF45=\"-\"),0,('Trust - Frontsheet'!AF45))","v":0},{"$f":"'Trust - Frontsheet'!U45","v":1101},{"$f":"IF(OR('Trust - Frontsheet'!V45=\"\",'Trust - Frontsheet'!V45=\"-\"),0,('Trust - Frontsheet'!V45))","v":2.0535876475930972},{"$f":"IF(OR('Trust - Frontsheet'!W45=\"\",'Trust - Frontsheet'!W45=\"-\"),0,('Trust - Frontsheet'!W45))","v":2.5656221616712078},{"$f":"IF(OR('Trust - Frontsheet'!X45=\"\",'Trust - Frontsheet'!X45=\"-\"),0,('Trust - Frontsheet'!X45))","v":0},{"$f":"IF(OR('Trust - Frontsheet'!Y45=\"\",'Trust - Frontsheet'!Y45=\"-\"),0,('Trust - Frontsheet'!Y45))","v":0},{"$f":"IF(OR('Trust - Frontsheet'!Z45=\"\",'Trust - Frontsheet'!Z45=\"-\"),0,('Trust - Frontsheet'!Z45))","v":4.619209809264305},{"$f":"IF(A33=\"\",\"\",(IF(ISBLANK('Trust - Frontsheet'!F9),\"\",'Trust - Frontsheet'!F9)))","v":""}]
[{"$f":"IF('Trust - Frontsheet'!D46=0,\"\",IF('Trust - Frontsheet'!D46=\"\",\"\",'Trust - Frontsheet'!D46))","v":"RBL20"},{"$f":"IF(ISBLANK('Trust - Frontsheet'!E46),\"\",'Trust - Frontsheet'!E46)","v":"CLATTERBRIDGE HOSPITAL"},{"$f":"IF(ISBLANK('Trust - Frontsheet'!F46),\"\",\"'\" & 'Trust - Frontsheet'!F46 & \"'\")","v":"'Dermataology'"},{"$f":"IF(ISBLANK('Trust - Frontsheet'!G46),\"\",'Trust - Frontsheet'!G46)","v":"330 - DERMATOLOGY"},{"$f":"IF(ISBLANK('Trust - Frontsheet'!H46),\"\",'Trust - Frontsheet'!H46)","v":""},{"$f":"'Trust - Frontsheet'!I46","v":460},{"$f":"'Trust - Frontsheet'!J46","v":460},{"$f":"'Trust - Frontsheet'!K46","v":460},{"$f":"'Trust - Frontsheet'!L46","v":460},{"$f":"'Trust - Frontsheet'!M46","v":230},{"$f":"'Trust - Frontsheet'!N46","v":230},{"$f":"'Trust - Frontsheet'!O46","v":230},{"$f":"'Trust - Frontsheet'!P46","v":230},{"$f":"'Trust - Frontsheet'!Q46","v":0},{"$f":"'Trust - Frontsheet'!R46","v":0},{"$f":"'Trust - Frontsheet'!S46","v":0},{"$f":"'Trust - Frontsheet'!T46","v":0},{"$f":"IF(OR('Trust - Frontsheet'!AA46=\"\",'Trust - Frontsheet'!AA46=\"-\"),0,('Trust - Frontsheet'!AA46))","v":1},{"$f":"IF(OR('Trust - Frontsheet'!AB46=\"\",'Trust - Frontsheet'!AB46=\"-\"),0,('Trust - Frontsheet'!AB46))","v":1},{"$f":"IF(OR('Trust - Frontsheet'!AC46=\"\",'Trust - Frontsheet'!AC46=\"-\"),0,('Trust - Frontsheet'!AC46))","v":1},{"$f":"IF(OR('Trust - Frontsheet'!AD46=\"\",'Trust - Frontsheet'!AD46=\"-\"),0,('Trust - Frontsheet'!AD46))","v":1},{"$f":"IF(OR('Trust - Frontsheet'!AE46=\"\",'Trust - Frontsheet'!AE46=\"-\"),0,('Trust - Frontsheet'!AE46))","v":0},{"$f":"IF(OR('Trust - Frontsheet'!AF46=\"\",'Trust - Frontsheet'!AF46=\"-\"),0,('Trust - Frontsheet'!AF46))","v":0},{"$f":"'Trust - Frontsheet'!U46","v":122},{"$f":"IF(OR('Trust - Frontsheet'!V46=\"\",'Trust - Frontsheet'!V46=\"-\"),0,('Trust - Frontsheet'!V46))","v":5.6557377049180326},{"$f":"IF(OR('Trust - Frontsheet'!W46=\"\",'Trust - Frontsheet'!W46=\"-\"),0,('Trust - Frontsheet'!W46))","v":5.6557377049180326},{"$f":"IF(OR('Trust - Frontsheet'!X46=\"\",'Trust - Frontsheet'!X46=\"-\"),0,('Trust - Frontsheet'!X46))","v":0},{"$f":"IF(OR('Trust - Frontsheet'!Y46=\"\",'Trust - Frontsheet'!Y46=\"-\"),0,('Trust - Frontsheet'!Y46))","v":0},{"$f":"IF(OR('Trust - Frontsheet'!Z46=\"\",'Trust - Frontsheet'!Z46=\"-\"),0,('Trust - Frontsheet'!Z46))","v":11.311475409836065},{"$f":"IF(A34=\"\",\"\",(IF(ISBLANK('Trust - Frontsheet'!F9),\"\",'Trust - Frontsheet'!F9)))","v":""}]
[{"$f":"IF('Trust - Frontsheet'!D47=0,\"\",IF('Trust - Frontsheet'!D47=\"\",\"\",'Trust - Frontsheet'!D47))","v":"RBL14"},{"$f":"IF(ISBLANK('Trust - Frontsheet'!E47),\"\",'Trust - Frontsheet'!E47)","v":"ARROWE PARK HOSPITAL"},{"$f":"IF(ISBLANK('Trust - Frontsheet'!F47),\"\",\"'\" & 'Trust - Frontsheet'!F47 & \"'\")","v":"'25'"},{"$f":"IF(ISBLANK('Trust - Frontsheet'!G47),\"\",'Trust - Frontsheet'!G47)","v":"350 - INFECTIOUS DISEASES"},{"$f":"IF(ISBLANK('Trust - Frontsheet'!H47),\"\",'Trust - Frontsheet'!H47)","v":""},{"$f":"'Trust - Frontsheet'!I47","v":1372.5},{"$f":"'Trust - Frontsheet'!J47","v":926.5},{"$f":"'Trust - Frontsheet'!K47","v":2070},{"$f":"'Trust - Frontsheet'!L47","v":1687.9},{"$f":"'Trust - Frontsheet'!M47","v":1035},{"$f":"'Trust - Frontsheet'!N47","v":701.5},{"$f":"'Trust - Frontsheet'!O47","v":1380},{"$f":"'Trust - Frontsheet'!P47","v":1184},{"$f":"'Trust - Frontsheet'!Q47","v":0},{"$f":"'Trust - Frontsheet'!R47","v":0},{"$f":"'Trust - Frontsheet'!S47","v":0},{"$f":"'Trust - Frontsheet'!T47","v":0},{"$f":"IF(OR('Trust - Frontsheet'!AA47=\"\",'Trust - Frontsheet'!AA47=\"-\"),0,('Trust - Frontsheet'!AA47))","v":0.67504553734061934},{"$f":"IF(OR('Trust - Frontsheet'!AB47=\"\",'Trust - Frontsheet'!AB47=\"-\"),0,('Trust - Frontsheet'!AB47))","v":0.81541062801932374},{"$f":"IF(OR('Trust - Frontsheet'!AC47=\"\",'Trust - Frontsheet'!AC47=\"-\"),0,('Trust - Frontsheet'!AC47))","v":0.67777777777777781},{"$f":"IF(OR('Trust - Frontsheet'!AD47=\"\",'Trust - Frontsheet'!AD47=\"-\"),0,('Trust - Frontsheet'!AD47))","v":0.85797101449275359},{"$f":"IF(OR('Trust - Frontsheet'!AE47=\"\",'Trust - Frontsheet'!AE47=\"-\"),0,('Trust - Frontsheet'!AE47))","v":0},{"$f":"IF(OR('Trust - Frontsheet'!AF47=\"\",'Trust - Frontsheet'!AF47=\"-\"),0,('Trust - Frontsheet'!AF47))","v":0},{"$f":"'Trust - Frontsheet'!U47","v":627},{"$f":"IF(OR('Trust - Frontsheet'!V47=\"\",'Trust - Frontsheet'!V47=\"-\"),0,('Trust - Frontsheet'!V47))","v":2.5964912280701755},{"$f":"IF(OR('Trust - Frontsheet'!W47=\"\",'Trust - Frontsheet'!W47=\"-\"),0,('Trust - Frontsheet'!W47))","v":4.5803827751196176},{"$f":"IF(OR('Trust - Frontsheet'!X47=\"\",'Trust - Frontsheet'!X47=\"-\"),0,('Trust - Frontsheet'!X47))","v":0},{"$f":"IF(OR('Trust - Frontsheet'!Y47=\"\",'Trust - Frontsheet'!Y47=\"-\"),0,('Trust - Frontsheet'!Y47))","v":0},{"$f":"IF(OR('Trust - Frontsheet'!Z47=\"\",'Trust - Frontsheet'!Z47=\"-\"),0,('Trust - Frontsheet'!Z47))","v":7.1768740031897922},{"$f":"IF(A35=\"\",\"\",(IF(ISBLANK('Trust - Frontsheet'!F9),\"\",'Trust - Frontsheet'!F9)))","v":""}]
[{"$f":"IF('Trust - Frontsheet'!D48=0,\"\",IF('Trust - Frontsheet'!D48=\"\",\"\",'Trust - Frontsheet'!D48))","v":"RBL14"},{"$f":"IF(ISBLANK('Trust - Frontsheet'!E48),\"\",'Trust - Frontsheet'!E48)","v":"ARROWE PARK HOSPITAL"},{"$f":"IF(ISBLANK('Trust - Frontsheet'!F48),\"\",\"'\" & 'Trust - Frontsheet'!F48 & \"'\")","v":"'CCU'"},{"$f":"IF(ISBLANK('Trust - Frontsheet'!G48),\"\",'Trust - Frontsheet'!G48)","v":"320 - CARDIOLOGY"},{"$f":"IF(ISBLANK('Trust - Frontsheet'!H48),\"\",'Trust - Frontsheet'!H48)","v":""},{"$f":"'Trust - Frontsheet'!I48","v":690},{"$f":"'Trust - Frontsheet'!J48","v":690},{"$f":"'Trust - Frontsheet'!K48","v":345},{"$f":"'Trust - Frontsheet'!L48","v":333.5},{"$f":"'Trust - Frontsheet'!M48","v":690},{"$f":"'Trust - Frontsheet'!N48","v":690},{"$f":"'Trust - Frontsheet'!O48","v":345},{"$f":"'Trust - Frontsheet'!P48","v":333.5},{"$f":"'Trust - Frontsheet'!Q48","v":0},{"$f":"'Trust - Frontsheet'!R48","v":0},{"$f":"'Trust - Frontsheet'!S48","v":0},{"$f":"'Trust - Frontsheet'!T48","v":0},{"$f":"IF(OR('Trust - Frontsheet'!AA48=\"\",'Trust - Frontsheet'!AA48=\"-\"),0,('Trust - Frontsheet'!AA48))","v":1},{"$f":"IF(OR('Trust - Frontsheet'!AB48=\"\",'Trust - Frontsheet'!AB48=\"-\"),0,('Trust - Frontsheet'!AB48))","v":0.96666666666666667},{"$f":"IF(OR('Trust - Frontsheet'!AC48=\"\",'Trust - Frontsheet'!AC48=\"-\"),0,('Trust - Frontsheet'!AC48))","v":1},{"$f":"IF(OR('Trust - Frontsheet'!AD48=\"\",'Trust - Frontsheet'!AD48=\"-\"),0,('Trust - Frontsheet'!AD48))","v":0.96666666666666667},{"$f":"IF(OR('Trust - Frontsheet'!AE48=\"\",'Trust - Frontsheet'!AE48=\"-\"),0,('Trust - Frontsheet'!AE48))","v":0},{"$f":"IF(OR('Trust - Frontsheet'!AF48=\"\",'Trust - Frontsheet'!AF48=\"-\"),0,('Trust - Frontsheet'!AF48))","v":0},{"$f":"'Trust - Frontsheet'!U48","v":168},{"$f":"IF(OR('Trust - Frontsheet'!V48=\"\",'Trust - Frontsheet'!V48=\"-\"),0,('Trust - Frontsheet'!V48))","v":8.2142857142857135},{"$f":"IF(OR('Trust - Frontsheet'!W48=\"\",'Trust - Frontsheet'!W48=\"-\"),0,('Trust - Frontsheet'!W48))","v":3.9702380952380953},{"$f":"IF(OR('Trust - Frontsheet'!X48=\"\",'Trust - Frontsheet'!X48=\"-\"),0,('Trust - Frontsheet'!X48))","v":0},{"$f":"IF(OR('Trust - Frontsheet'!Y48=\"\",'Trust - Frontsheet'!Y48=\"-\"),0,('Trust - Frontsheet'!Y48))","v":0},{"$f":"IF(OR('Trust - Frontsheet'!Z48=\"\",'Trust - Frontsheet'!Z48=\"-\"),0,('Trust - Frontsheet'!Z48))","v":12.18452380952381},{"$f":"IF(A36=\"\",\"\",(IF(ISBLANK('Trust - Frontsheet'!F9),\"\",'Trust - Frontsheet'!F9)))","v":""}]
[{"$f":"IF('Trust - Frontsheet'!D49=0,\"\",IF('Trust - Frontsheet'!D49=\"\",\"\",'Trust - Frontsheet'!D49))","v":"RBL14"},{"$f":"IF(ISBLANK('Trust - Frontsheet'!E49),\"\",'Trust - Frontsheet'!E49)","v":"ARROWE PARK HOSPITAL"},{"$f":"IF(ISBLANK('Trust - Frontsheet'!F49),\"\",\"'\" & 'Trust - Frontsheet'!F49 & \"'\")","v":"'37'"},{"$f":"IF(ISBLANK('Trust - Frontsheet'!G49),\"\",'Trust - Frontsheet'!G49)","v":"300 - GENERAL MEDICINE"},{"$f":"IF(ISBLANK('Trust - Frontsheet'!H49),\"\",'Trust - Frontsheet'!H49)","v":""},{"$f":"'Trust - Frontsheet'!I49","v":345},{"$f":"'Trust - Frontsheet'!J49","v":345},{"$f":"'Trust - Frontsheet'!K49","v":345},{"$f":"'Trust - Frontsheet'!L49","v":345},{"$f":"'Trust - Frontsheet'!M49","v":345},{"$f":"'Trust - Frontsheet'!N49","v":345},{"$f":"'Trust - Frontsheet'!O49","v":345},{"$f":"'Trust - Frontsheet'!P49","v":345},{"$f":"'Trust - Frontsheet'!Q49","v":0},{"$f":"'Trust - Frontsheet'!R49","v":0},{"$f":"'Trust - Frontsheet'!S49","v":0},{"$f":"'Trust - Frontsheet'!T49","v":0},{"$f":"IF(OR('Trust - Frontsheet'!AA49=\"\",'Trust - Frontsheet'!AA49=\"-\"),0,('Trust - Frontsheet'!AA49))","v":1},{"$f":"IF(OR('Trust - Frontsheet'!AB49=\"\",'Trust - Frontsheet'!AB49=\"-\"),0,('Trust - Frontsheet'!AB49))","v":1},{"$f":"IF(OR('Trust - Frontsheet'!AC49=\"\",'Trust - Frontsheet'!AC49=\"-\"),0,('Trust - Frontsheet'!AC49))","v":1},{"$f":"IF(OR('Trust - Frontsheet'!AD49=\"\",'Trust - Frontsheet'!AD49=\"-\"),0,('Trust - Frontsheet'!AD49))","v":1},{"$f":"IF(OR('Trust - Frontsheet'!AE49=\"\",'Trust - Frontsheet'!AE49=\"-\"),0,('Trust - Frontsheet'!AE49))","v":0},{"$f":"IF(OR('Trust - Frontsheet'!AF49=\"\",'Trust - Frontsheet'!AF49=\"-\"),0,('Trust - Frontsheet'!AF49))","v":0},{"$f":"'Trust - Frontsheet'!U49","v":256},{"$f":"IF(OR('Trust - Frontsheet'!V49=\"\",'Trust - Frontsheet'!V49=\"-\"),0,('Trust - Frontsheet'!V49))","v":2.6953125},{"$f":"IF(OR('Trust - Frontsheet'!W49=\"\",'Trust - Frontsheet'!W49=\"-\"),0,('Trust - Frontsheet'!W49))","v":2.6953125},{"$f":"IF(OR('Trust - Frontsheet'!X49=\"\",'Trust - Frontsheet'!X49=\"-\"),0,('Trust - Frontsheet'!X49))","v":0},{"$f":"IF(OR('Trust - Frontsheet'!Y49=\"\",'Trust - Frontsheet'!Y49=\"-\"),0,('Trust - Frontsheet'!Y49))","v":0},{"$f":"IF(OR('Trust - Frontsheet'!Z49=\"\",'Trust - Frontsheet'!Z49=\"-\"),0,('Trust - Frontsheet'!Z49))","v":5.390625},{"$f":"IF(A37=\"\",\"\",(IF(ISBLANK('Trust - Frontsheet'!F9),\"\",'Trust - Frontsheet'!F9)))","v":""}]
[{"$f":"IF('Trust - Frontsheet'!D50=0,\"\",IF('Trust - Frontsheet'!D50=\"\",\"\",'Trust - Frontsheet'!D50))","v":"RBL14"},{"$f":"IF(ISBLANK('Trust - Frontsheet'!E50),\"\",'Trust - Frontsheet'!E50)","v":"ARROWE PARK HOSPITAL"},{"$f":"IF(ISBLANK('Trust - Frontsheet'!F50),\"\",\"'\" & 'Trust - Frontsheet'!F50 & \"'\")","v":"'24 IPC'"},{"$f":"IF(ISBLANK('Trust - Frontsheet'!G50),\"\",'Trust - Frontsheet'!G50)","v":"350 - INFECTIOUS DISEASES"},{"$f":"IF(ISBLANK('Trust - Frontsheet'!H50),\"\",'Trust - Frontsheet'!H50)","v":""},{"$f":"'Trust - Frontsheet'!I50","v":1372.5},{"$f":"'Trust - Frontsheet'!J50","v":1010.75},{"$f":"'Trust - Frontsheet'!K50","v":1380},{"$f":"'Trust - Frontsheet'!L50","v":1062.25},{"$f":"'Trust - Frontsheet'!M50","v":690},{"$f":"'Trust - Frontsheet'!N50","v":749.5},{"$f":"'Trust - Frontsheet'!O50","v":1035},{"$f":"'Trust - Frontsheet'!P50","v":1104},{"$f":"'Trust - Frontsheet'!Q50","v":0},{"$f":"'Trust - Frontsheet'!R50","v":0},{"$f":"'Trust - Frontsheet'!S50","v":0},{"$f":"'Trust - Frontsheet'!T50","v":0},{"$f":"IF(OR('Trust - Frontsheet'!AA50=\"\",'Trust - Frontsheet'!AA50=\"-\"),0,('Trust - Frontsheet'!AA50))","v":0.73642987249544622},{"$f":"IF(OR('Trust - Frontsheet'!AB50=\"\",'Trust - Frontsheet'!AB50=\"-\"),0,('Trust - Frontsheet'!AB50))","v":0.76974637681159419},{"$f":"IF(OR('Trust - Frontsheet'!AC50=\"\",'Trust - Frontsheet'!AC50=\"-\"),0,('Trust - Frontsheet'!AC50))","v":1.086231884057971},{"$f":"IF(OR('Trust - Frontsheet'!AD50=\"\",'Trust - Frontsheet'!AD50=\"-\"),0,('Trust - Frontsheet'!AD50))","v":1.0666666666666667},{"$f":"IF(OR('Trust - Frontsheet'!AE50=\"\",'Trust - Frontsheet'!AE50=\"-\"),0,('Trust - Frontsheet'!AE50))","v":0},{"$f":"IF(OR('Trust - Frontsheet'!AF50=\"\",'Trust - Frontsheet'!AF50=\"-\"),0,('Trust - Frontsheet'!AF50))","v":0},{"$f":"'Trust - Frontsheet'!U50","v":672},{"$f":"IF(OR('Trust - Frontsheet'!V50=\"\",'Trust - Frontsheet'!V50=\"-\"),0,('Trust - Frontsheet'!V50))","v":2.6194196428571428},{"$f":"IF(OR('Trust - Frontsheet'!W50=\"\",'Trust - Frontsheet'!W50=\"-\"),0,('Trust - Frontsheet'!W50))","v":3.2235863095238093},{"$f":"IF(OR('Trust - Frontsheet'!X50=\"\",'Trust - Frontsheet'!X50=\"-\"),0,('Trust - Frontsheet'!X50))","v":0},{"$f":"IF(OR('Trust - Frontsheet'!Y50=\"\",'Trust - Frontsheet'!Y50=\"-\"),0,('Trust - Frontsheet'!Y50))","v":0},{"$f":"IF(OR('Trust - Frontsheet'!Z50=\"\",'Trust - Frontsheet'!Z50=\"-\"),0,('Trust - Frontsheet'!Z50))","v":5.8430059523809526},{"$f":"IF(A38=\"\",\"\",(IF(ISBLANK('Trust - Frontsheet'!F9),\"\",'Trust - Frontsheet'!F9)))","v":""}]
[{"$f":"IF('Trust - Frontsheet'!D51=0,\"\",IF('Trust - Frontsheet'!D51=\"\",\"\",'Trust - Frontsheet'!D51))","v":"RBL14"},{"$f":"IF(ISBLANK('Trust - Frontsheet'!E51),\"\",'Trust - Frontsheet'!E51)","v":"ARROWE PARK HOSPITAL"},{"$f":"IF(ISBLANK('Trust - Frontsheet'!F51),\"\",\"'\" & 'Trust - Frontsheet'!F51 & \"'\")","v":"'WAFFU'"},{"$f":"IF(ISBLANK('Trust - Frontsheet'!G51),\"\",'Trust - Frontsheet'!G51)","v":"110 - TRAUMA & ORTHOPAEDICS"},{"$f":"IF(ISBLANK('Trust - Frontsheet'!H51),\"\",'Trust - Frontsheet'!H51)","v":""},{"$f":"'Trust - Frontsheet'!I51","v":690},{"$f":"'Trust - Frontsheet'!J51","v":560.4},{"$f":"'Trust - Frontsheet'!K51","v":690},{"$f":"'Trust - Frontsheet'!L51","v":777.45},{"$f":"'Trust - Frontsheet'!M51","v":690},{"$f":"'Trust - Frontsheet'!N51","v":345},{"$f":"'Trust - Frontsheet'!O51","v":345},{"$f":"'Trust - Frontsheet'!P51","v":724.5},{"$f":"'Trust - Frontsheet'!Q51","v":0},{"$f":"'Trust - Frontsheet'!R51","v":0},{"$f":"'Trust - Frontsheet'!S51","v":0},{"$f":"'Trust - Frontsheet'!T51","v":0},{"$f":"IF(OR('Trust - Frontsheet'!AA51=\"\",'Trust - Frontsheet'!AA51=\"-\"),0,('Trust - Frontsheet'!AA51))","v":0.81217391304347819},{"$f":"IF(OR('Trust - Frontsheet'!AB51=\"\",'Trust - Frontsheet'!AB51=\"-\"),0,('Trust - Frontsheet'!AB51))","v":1.1267391304347827},{"$f":"IF(OR('Trust - Frontsheet'!AC51=\"\",'Trust - Frontsheet'!AC51=\"-\"),0,('Trust - Frontsheet'!AC51))","v":0.5},{"$f":"IF(OR('Trust - Frontsheet'!AD51=\"\",'Trust - Frontsheet'!AD51=\"-\"),0,('Trust - Frontsheet'!AD51))","v":2.1},{"$f":"IF(OR('Trust - Frontsheet'!AE51=\"\",'Trust - Frontsheet'!AE51=\"-\"),0,('Trust - Frontsheet'!AE51))","v":0},{"$f":"IF(OR('Trust - Frontsheet'!AF51=\"\",'Trust - Frontsheet'!AF51=\"-\"),0,('Trust - Frontsheet'!AF51))","v":0},{"$f":"'Trust - Frontsheet'!U51","v":194},{"$f":"IF(OR('Trust - Frontsheet'!V51=\"\",'Trust - Frontsheet'!V51=\"-\"),0,('Trust - Frontsheet'!V51))","v":4.6670103092783508},{"$f":"IF(OR('Trust - Frontsheet'!W51=\"\",'Trust - Frontsheet'!W51=\"-\"),0,('Trust - Frontsheet'!W51))","v":7.742010309278351},{"$f":"IF(OR('Trust - Frontsheet'!X51=\"\",'Trust - Frontsheet'!X51=\"-\"),0,('Trust - Frontsheet'!X51))","v":0},{"$f":"IF(OR('Trust - Frontsheet'!Y51=\"\",'Trust - Frontsheet'!Y51=\"-\"),0,('Trust - Frontsheet'!Y51))","v":0},{"$f":"IF(OR('Trust - Frontsheet'!Z51=\"\",'Trust - Frontsheet'!Z51=\"-\"),0,('Trust - Frontsheet'!Z51))","v":12.409020618556701},{"$f":"IF(A39=\"\",\"\",(IF(ISBLANK('Trust - Frontsheet'!F9),\"\",'Trust - Frontsheet'!F9)))","v":""}]
[{"$f":"IF('Trust - Frontsheet'!D52=0,\"\",IF('Trust - Frontsheet'!D52=\"\",\"\",'Trust - Frontsheet'!D52))","v":""},{"$f":"IF(ISBLANK('Trust - Frontsheet'!E52),\"\",'Trust - Frontsheet'!E52)","v":""},{"$f":"IF(ISBLANK('Trust - Frontsheet'!F52),\"\",\"'\" & 'Trust - Frontsheet'!F52 & \"'\")","v":""},{"$f":"IF(ISBLANK('Trust - Frontsheet'!G52),\"\",'Trust - Frontsheet'!G52)","v":""},{"$f":"IF(ISBLANK('Trust - Frontsheet'!H52),\"\",'Trust - Frontsheet'!H52)","v":""},{"$f":"'Trust - Frontsheet'!I52","v":0},{"$f":"'Trust - Frontsheet'!J52","v":0},{"$f":"'Trust - Frontsheet'!K52","v":0},{"$f":"'Trust - Frontsheet'!L52","v":0},{"$f":"'Trust - Frontsheet'!M52","v":0},{"$f":"'Trust - Frontsheet'!N52","v":0},{"$f":"'Trust - Frontsheet'!O52","v":0},{"$f":"'Trust - Frontsheet'!P52","v":0},{"$f":"'Trust - Frontsheet'!Q52","v":0},{"$f":"'Trust - Frontsheet'!R52","v":0},{"$f":"'Trust - Frontsheet'!S52","v":0},{"$f":"'Trust - Frontsheet'!T52","v":0},{"$f":"IF(OR('Trust - Frontsheet'!AA52=\"\",'Trust - Frontsheet'!AA52=\"-\"),0,('Trust - Frontsheet'!AA52))","v":0},{"$f":"IF(OR('Trust - Frontsheet'!AB52=\"\",'Trust - Frontsheet'!AB52=\"-\"),0,('Trust - Frontsheet'!AB52))","v":0},{"$f":"IF(OR('Trust - Frontsheet'!AC52=\"\",'Trust - Frontsheet'!AC52=\"-\"),0,('Trust - Frontsheet'!AC52))","v":0},{"$f":"IF(OR('Trust - Frontsheet'!AD52=\"\",'Trust - Frontsheet'!AD52=\"-\"),0,('Trust - Frontsheet'!AD52))","v":0},{"$f":"IF(OR('Trust - Frontsheet'!AE52=\"\",'Trust - Frontsheet'!AE52=\"-\"),0,('Trust - Frontsheet'!AE52))","v":0},{"$f":"IF(OR('Trust - Frontsheet'!AF52=\"\",'Trust - Frontsheet'!AF52=\"-\"),0,('Trust - Frontsheet'!AF52))","v":0},{"$f":"'Trust - Frontsheet'!U52","v":0},{"$f":"IF(OR('Trust - Frontsheet'!V52=\"\",'Trust - Frontsheet'!V52=\"-\"),0,('Trust - Frontsheet'!V52))","v":0},{"$f":"IF(OR('Trust - Frontsheet'!W52=\"\",'Trust - Frontsheet'!W52=\"-\"),0,('Trust - Frontsheet'!W52))","v":0},{"$f":"IF(OR('Trust - Frontsheet'!X52=\"\",'Trust - Frontsheet'!X52=\"-\"),0,('Trust - Frontsheet'!X52))","v":0},{"$f":"IF(OR('Trust - Frontsheet'!Y52=\"\",'Trust - Frontsheet'!Y52=\"-\"),0,('Trust - Frontsheet'!Y52))","v":0},{"$f":"IF(OR('Trust - Frontsheet'!Z52=\"\",'Trust - Frontsheet'!Z52=\"-\"),0,('Trust - Frontsheet'!Z52))","v":0},{"$f":"IF(A40=\"\",\"\",(IF(ISBLANK('Trust - Frontsheet'!F9),\"\",'Trust - Frontsheet'!F9)))","v":""}]
[{"$f":"IF('Trust - Frontsheet'!D53=0,\"\",IF('Trust - Frontsheet'!D53=\"\",\"\",'Trust - Frontsheet'!D53))","v":""},{"$f":"IF(ISBLANK('Trust - Frontsheet'!E53),\"\",'Trust - Frontsheet'!E53)","v":""},{"$f":"IF(ISBLANK('Trust - Frontsheet'!F53),\"\",\"'\" & 'Trust - Frontsheet'!F53 & \"'\")","v":""},{"$f":"IF(ISBLANK('Trust - Frontsheet'!G53),\"\",'Trust - Frontsheet'!G53)","v":""},{"$f":"IF(ISBLANK('Trust - Frontsheet'!H53),\"\",'Trust - Frontsheet'!H53)","v":""},{"$f":"'Trust - Frontsheet'!I53","v":0},{"$f":"'Trust - Frontsheet'!J53","v":0},{"$f":"'Trust - Frontsheet'!K53","v":0},{"$f":"'Trust - Frontsheet'!L53","v":0},{"$f":"'Trust - Frontsheet'!M53","v":0},{"$f":"'Trust - Frontsheet'!N53","v":0},{"$f":"'Trust - Frontsheet'!O53","v":0},{"$f":"'Trust - Frontsheet'!P53","v":0},{"$f":"'Trust - Frontsheet'!Q53","v":0},{"$f":"'Trust - Frontsheet'!R53","v":0},{"$f":"'Trust - Frontsheet'!S53","v":0},{"$f":"'Trust - Frontsheet'!T53","v":0},{"$f":"IF(OR('Trust - Frontsheet'!AA53=\"\",'Trust - Frontsheet'!AA53=\"-\"),0,('Trust - Frontsheet'!AA53))","v":0},{"$f":"IF(OR('Trust - Frontsheet'!AB53=\"\",'Trust - Frontsheet'!AB53=\"-\"),0,('Trust - Frontsheet'!AB53))","v":0},{"$f":"IF(OR('Trust - Frontsheet'!AC53=\"\",'Trust - Frontsheet'!AC53=\"-\"),0,('Trust - Frontsheet'!AC53))","v":0},{"$f":"IF(OR('Trust - Frontsheet'!AD53=\"\",'Trust - Frontsheet'!AD53=\"-\"),0,('Trust - Frontsheet'!AD53))","v":0},{"$f":"IF(OR('Trust - Frontsheet'!AE53=\"\",'Trust - Frontsheet'!AE53=\"-\"),0,('Trust - Frontsheet'!AE53))","v":0},{"$f":"IF(OR('Trust - Frontsheet'!AF53=\"\",'Trust - Frontsheet'!AF53=\"-\"),0,('Trust - Frontsheet'!AF53))","v":0},{"$f":"'Trust - Frontsheet'!U53","v":0},{"$f":"IF(OR('Trust - Frontsheet'!V53=\"\",'Trust - Frontsheet'!V53=\"-\"),0,('Trust - Frontsheet'!V53))","v":0},{"$f":"IF(OR('Trust - Frontsheet'!W53=\"\",'Trust - Frontsheet'!W53=\"-\"),0,('Trust - Frontsheet'!W53))","v":0},{"$f":"IF(OR('Trust - Frontsheet'!X53=\"\",'Trust - Frontsheet'!X53=\"-\"),0,('Trust - Frontsheet'!X53))","v":0},{"$f":"IF(OR('Trust - Frontsheet'!Y53=\"\",'Trust - Frontsheet'!Y53=\"-\"),0,('Trust - Frontsheet'!Y53))","v":0},{"$f":"IF(OR('Trust - Frontsheet'!Z53=\"\",'Trust - Frontsheet'!Z53=\"-\"),0,('Trust - Frontsheet'!Z53))","v":0},{"$f":"IF(A41=\"\",\"\",(IF(ISBLANK('Trust - Frontsheet'!F9),\"\",'Trust - Frontsheet'!F9)))","v":""}]
[{"$f":"IF('Trust - Frontsheet'!D54=0,\"\",IF('Trust - Frontsheet'!D54=\"\",\"\",'Trust - Frontsheet'!D54))","v":""},{"$f":"IF(ISBLANK('Trust - Frontsheet'!E54),\"\",'Trust - Frontsheet'!E54)","v":""},{"$f":"IF(ISBLANK('Trust - Frontsheet'!F54),\"\",\"'\" & 'Trust - Frontsheet'!F54 & \"'\")","v":""},{"$f":"IF(ISBLANK('Trust - Frontsheet'!G54),\"\",'Trust - Frontsheet'!G54)","v":""},{"$f":"IF(ISBLANK('Trust - Frontsheet'!H54),\"\",'Trust - Frontsheet'!H54)","v":""},{"$f":"'Trust - Frontsheet'!I54","v":0},{"$f":"'Trust - Frontsheet'!J54","v":0},{"$f":"'Trust - Frontsheet'!K54","v":0},{"$f":"'Trust - Frontsheet'!L54","v":0},{"$f":"'Trust - Frontsheet'!M54","v":0},{"$f":"'Trust - Frontsheet'!N54","v":0},{"$f":"'Trust - Frontsheet'!O54","v":0},{"$f":"'Trust - Frontsheet'!P54","v":0},{"$f":"'Trust - Frontsheet'!Q54","v":0},{"$f":"'Trust - Frontsheet'!R54","v":0},{"$f":"'Trust - Frontsheet'!S54","v":0},{"$f":"'Trust - Frontsheet'!T54","v":0},{"$f":"IF(OR('Trust - Frontsheet'!AA54=\"\",'Trust - Frontsheet'!AA54=\"-\"),0,('Trust - Frontsheet'!AA54))","v":0},{"$f":"IF(OR('Trust - Frontsheet'!AB54=\"\",'Trust - Frontsheet'!AB54=\"-\"),0,('Trust - Frontsheet'!AB54))","v":0},{"$f":"IF(OR('Trust - Frontsheet'!AC54=\"\",'Trust - Frontsheet'!AC54=\"-\"),0,('Trust - Frontsheet'!AC54))","v":0},{"$f":"IF(OR('Trust - Frontsheet'!AD54=\"\",'Trust - Frontsheet'!AD54=\"-\"),0,('Trust - Frontsheet'!AD54))","v":0},{"$f":"IF(OR('Trust - Frontsheet'!AE54=\"\",'Trust - Frontsheet'!AE54=\"-\"),0,('Trust - Frontsheet'!AE54))","v":0},{"$f":"IF(OR('Trust - Frontsheet'!AF54=\"\",'Trust - Frontsheet'!AF54=\"-\"),0,('Trust - Frontsheet'!AF54))","v":0},{"$f":"'Trust - Frontsheet'!U54","v":0},{"$f":"IF(OR('Trust - Frontsheet'!V54=\"\",'Trust - Frontsheet'!V54=\"-\"),0,('Trust - Frontsheet'!V54))","v":0},{"$f":"IF(OR('Trust - Frontsheet'!W54=\"\",'Trust - Frontsheet'!W54=\"-\"),0,('Trust - Frontsheet'!W54))","v":0},{"$f":"IF(OR('Trust - Frontsheet'!X54=\"\",'Trust - Frontsheet'!X54=\"-\"),0,('Trust - Frontsheet'!X54))","v":0},{"$f":"IF(OR('Trust - Frontsheet'!Y54=\"\",'Trust - Frontsheet'!Y54=\"-\"),0,('Trust - Frontsheet'!Y54))","v":0},{"$f":"IF(OR('Trust - Frontsheet'!Z54=\"\",'Trust - Frontsheet'!Z54=\"-\"),0,('Trust - Frontsheet'!Z54))","v":0},{"$f":"IF(A42=\"\",\"\",(IF(ISBLANK('Trust - Frontsheet'!F9),\"\",'Trust - Frontsheet'!F9)))","v":""}]
[{"$f":"IF('Trust - Frontsheet'!D55=0,\"\",IF('Trust - Frontsheet'!D55=\"\",\"\",'Trust - Frontsheet'!D55))","v":""},{"$f":"IF(ISBLANK('Trust - Frontsheet'!E55),\"\",'Trust - Frontsheet'!E55)","v":""},{"$f":"IF(ISBLANK('Trust - Frontsheet'!F55),\"\",\"'\" & 'Trust - Frontsheet'!F55 & \"'\")","v":""},{"$f":"IF(ISBLANK('Trust - Frontsheet'!G55),\"\",'Trust - Frontsheet'!G55)","v":""},{"$f":"IF(ISBLANK('Trust - Frontsheet'!H55),\"\",'Trust - Frontsheet'!H55)","v":""},{"$f":"'Trust - Frontsheet'!I55","v":0},{"$f":"'Trust - Frontsheet'!J55","v":0},{"$f":"'Trust - Frontsheet'!K55","v":0},{"$f":"'Trust - Frontsheet'!L55","v":0},{"$f":"'Trust - Frontsheet'!M55","v":0},{"$f":"'Trust - Frontsheet'!N55","v":0},{"$f":"'Trust - Frontsheet'!O55","v":0},{"$f":"'Trust - Frontsheet'!P55","v":0},{"$f":"'Trust - Frontsheet'!Q55","v":0},{"$f":"'Trust - Frontsheet'!R55","v":0},{"$f":"'Trust - Frontsheet'!S55","v":0},{"$f":"'Trust - Frontsheet'!T55","v":0},{"$f":"IF(OR('Trust - Frontsheet'!AA55=\"\",'Trust - Frontsheet'!AA55=\"-\"),0,('Trust - Frontsheet'!AA55))","v":0},{"$f":"IF(OR('Trust - Frontsheet'!AB55=\"\",'Trust - Frontsheet'!AB55=\"-\"),0,('Trust - Frontsheet'!AB55))","v":0},{"$f":"IF(OR('Trust - Frontsheet'!AC55=\"\",'Trust - Frontsheet'!AC55=\"-\"),0,('Trust - Frontsheet'!AC55))","v":0},{"$f":"IF(OR('Trust - Frontsheet'!AD55=\"\",'Trust - Frontsheet'!AD55=\"-\"),0,('Trust - Frontsheet'!AD55))","v":0},{"$f":"IF(OR('Trust - Frontsheet'!AE55=\"\",'Trust - Frontsheet'!AE55=\"-\"),0,('Trust - Frontsheet'!AE55))","v":0},{"$f":"IF(OR('Trust - Frontsheet'!AF55=\"\",'Trust - Frontsheet'!AF55=\"-\"),0,('Trust - Frontsheet'!AF55))","v":0},{"$f":"'Trust - Frontsheet'!U55","v":0},{"$f":"IF(OR('Trust - Frontsheet'!V55=\"\",'Trust - Frontsheet'!V55=\"-\"),0,('Trust - Frontsheet'!V55))","v":0},{"$f":"IF(OR('Trust - Frontsheet'!W55=\"\",'Trust - Frontsheet'!W55=\"-\"),0,('Trust - Frontsheet'!W55))","v":0},{"$f":"IF(OR('Trust - Frontsheet'!X55=\"\",'Trust - Frontsheet'!X55=\"-\"),0,('Trust - Frontsheet'!X55))","v":0},{"$f":"IF(OR('Trust - Frontsheet'!Y55=\"\",'Trust - Frontsheet'!Y55=\"-\"),0,('Trust - Frontsheet'!Y55))","v":0},{"$f":"IF(OR('Trust - Frontsheet'!Z55=\"\",'Trust - Frontsheet'!Z55=\"-\"),0,('Trust - Frontsheet'!Z55))","v":0},{"$f":"IF(A43=\"\",\"\",(IF(ISBLANK('Trust - Frontsheet'!F9),\"\",'Trust - Frontsheet'!F9)))","v":""}]
[{"$f":"IF('Trust - Frontsheet'!D56=0,\"\",IF('Trust - Frontsheet'!D56=\"\",\"\",'Trust - Frontsheet'!D56))","v":""},{"$f":"IF(ISBLANK('Trust - Frontsheet'!E56),\"\",'Trust - Frontsheet'!E56)","v":""},{"$f":"IF(ISBLANK('Trust - Frontsheet'!F56),\"\",\"'\" & 'Trust - Frontsheet'!F56 & \"'\")","v":""},{"$f":"IF(ISBLANK('Trust - Frontsheet'!G56),\"\",'Trust - Frontsheet'!G56)","v":""},{"$f":"IF(ISBLANK('Trust - Frontsheet'!H56),\"\",'Trust - Frontsheet'!H56)","v":""},{"$f":"'Trust - Frontsheet'!I56","v":0},{"$f":"'Trust - Frontsheet'!J56","v":0},{"$f":"'Trust - Frontsheet'!K56","v":0},{"$f":"'Trust - Frontsheet'!L56","v":0},{"$f":"'Trust - Frontsheet'!M56","v":0},{"$f":"'Trust - Frontsheet'!N56","v":0},{"$f":"'Trust - Frontsheet'!O56","v":0},{"$f":"'Trust - Frontsheet'!P56","v":0},{"$f":"'Trust - Frontsheet'!Q56","v":0},{"$f":"'Trust - Frontsheet'!R56","v":0},{"$f":"'Trust - Frontsheet'!S56","v":0},{"$f":"'Trust - Frontsheet'!T56","v":0},{"$f":"IF(OR('Trust - Frontsheet'!AA56=\"\",'Trust - Frontsheet'!AA56=\"-\"),0,('Trust - Frontsheet'!AA56))","v":0},{"$f":"IF(OR('Trust - Frontsheet'!AB56=\"\",'Trust - Frontsheet'!AB56=\"-\"),0,('Trust - Frontsheet'!AB56))","v":0},{"$f":"IF(OR('Trust - Frontsheet'!AC56=\"\",'Trust - Frontsheet'!AC56=\"-\"),0,('Trust - Frontsheet'!AC56))","v":0},{"$f":"IF(OR('Trust - Frontsheet'!AD56=\"\",'Trust - Frontsheet'!AD56=\"-\"),0,('Trust - Frontsheet'!AD56))","v":0},{"$f":"IF(OR('Trust - Frontsheet'!AE56=\"\",'Trust - Frontsheet'!AE56=\"-\"),0,('Trust - Frontsheet'!AE56))","v":0},{"$f":"IF(OR('Trust - Frontsheet'!AF56=\"\",'Trust - Frontsheet'!AF56=\"-\"),0,('Trust - Frontsheet'!AF56))","v":0},{"$f":"'Trust - Frontsheet'!U56","v":0},{"$f":"IF(OR('Trust - Frontsheet'!V56=\"\",'Trust - Frontsheet'!V56=\"-\"),0,('Trust - Frontsheet'!V56))","v":0},{"$f":"IF(OR('Trust - Frontsheet'!W56=\"\",'Trust - Frontsheet'!W56=\"-\"),0,('Trust - Frontsheet'!W56))","v":0},{"$f":"IF(OR('Trust - Frontsheet'!X56=\"\",'Trust - Frontsheet'!X56=\"-\"),0,('Trust - Frontsheet'!X56))","v":0},{"$f":"IF(OR('Trust - Frontsheet'!Y56=\"\",'Trust - Frontsheet'!Y56=\"-\"),0,('Trust - Frontsheet'!Y56))","v":0},{"$f":"IF(OR('Trust - Frontsheet'!Z56=\"\",'Trust - Frontsheet'!Z56=\"-\"),0,('Trust - Frontsheet'!Z56))","v":0},{"$f":"IF(A44=\"\",\"\",(IF(ISBLANK('Trust - Frontsheet'!F9),\"\",'Trust - Frontsheet'!F9)))","v":""}]
[{"$f":"IF('Trust - Frontsheet'!D57=0,\"\",IF('Trust - Frontsheet'!D57=\"\",\"\",'Trust - Frontsheet'!D57))","v":""},{"$f":"IF(ISBLANK('Trust - Frontsheet'!E57),\"\",'Trust - Frontsheet'!E57)","v":""},{"$f":"IF(ISBLANK('Trust - Frontsheet'!F57),\"\",\"'\" & 'Trust - Frontsheet'!F57 & \"'\")","v":""},{"$f":"IF(ISBLANK('Trust - Frontsheet'!G57),\"\",'Trust - Frontsheet'!G57)","v":""},{"$f":"IF(ISBLANK('Trust - Frontsheet'!H57),\"\",'Trust - Frontsheet'!H57)","v":""},{"$f":"'Trust - Frontsheet'!I57","v":0},{"$f":"'Trust - Frontsheet'!J57","v":0},{"$f":"'Trust - Frontsheet'!K57","v":0},{"$f":"'Trust - Frontsheet'!L57","v":0},{"$f":"'Trust - Frontsheet'!M57","v":0},{"$f":"'Trust - Frontsheet'!N57","v":0},{"$f":"'Trust - Frontsheet'!O57","v":0},{"$f":"'Trust - Frontsheet'!P57","v":0},{"$f":"'Trust - Frontsheet'!Q57","v":0},{"$f":"'Trust - Frontsheet'!R57","v":0},{"$f":"'Trust - Frontsheet'!S57","v":0},{"$f":"'Trust - Frontsheet'!T57","v":0},{"$f":"IF(OR('Trust - Frontsheet'!AA57=\"\",'Trust - Frontsheet'!AA57=\"-\"),0,('Trust - Frontsheet'!AA57))","v":0},{"$f":"IF(OR('Trust - Frontsheet'!AB57=\"\",'Trust - Frontsheet'!AB57=\"-\"),0,('Trust - Frontsheet'!AB57))","v":0},{"$f":"IF(OR('Trust - Frontsheet'!AC57=\"\",'Trust - Frontsheet'!AC57=\"-\"),0,('Trust - Frontsheet'!AC57))","v":0},{"$f":"IF(OR('Trust - Frontsheet'!AD57=\"\",'Trust - Frontsheet'!AD57=\"-\"),0,('Trust - Frontsheet'!AD57))","v":0},{"$f":"IF(OR('Trust - Frontsheet'!AE57=\"\",'Trust - Frontsheet'!AE57=\"-\"),0,('Trust - Frontsheet'!AE57))","v":0},{"$f":"IF(OR('Trust - Frontsheet'!AF57=\"\",'Trust - Frontsheet'!AF57=\"-\"),0,('Trust - Frontsheet'!AF57))","v":0},{"$f":"'Trust - Frontsheet'!U57","v":0},{"$f":"IF(OR('Trust - Frontsheet'!V57=\"\",'Trust - Frontsheet'!V57=\"-\"),0,('Trust - Frontsheet'!V57))","v":0},{"$f":"IF(OR('Trust - Frontsheet'!W57=\"\",'Trust - Frontsheet'!W57=\"-\"),0,('Trust - Frontsheet'!W57))","v":0},{"$f":"IF(OR('Trust - Frontsheet'!X57=\"\",'Trust - Frontsheet'!X57=\"-\"),0,('Trust - Frontsheet'!X57))","v":0},{"$f":"IF(OR('Trust - Frontsheet'!Y57=\"\",'Trust - Frontsheet'!Y57=\"-\"),0,('Trust - Frontsheet'!Y57))","v":0},{"$f":"IF(OR('Trust - Frontsheet'!Z57=\"\",'Trust - Frontsheet'!Z57=\"-\"),0,('Trust - Frontsheet'!Z57))","v":0},{"$f":"IF(A45=\"\",\"\",(IF(ISBLANK('Trust - Frontsheet'!F9),\"\",'Trust - Frontsheet'!F9)))","v":""}]
[{"$f":"IF('Trust - Frontsheet'!D58=0,\"\",IF('Trust - Frontsheet'!D58=\"\",\"\",'Trust - Frontsheet'!D58))","v":""},{"$f":"IF(ISBLANK('Trust - Frontsheet'!E58),\"\",'Trust - Frontsheet'!E58)","v":""},{"$f":"IF(ISBLANK('Trust - Frontsheet'!F58),\"\",\"'\" & 'Trust - Frontsheet'!F58 & \"'\")","v":""},{"$f":"IF(ISBLANK('Trust - Frontsheet'!G58),\"\",'Trust - Frontsheet'!G58)","v":""},{"$f":"IF(ISBLANK('Trust - Frontsheet'!H58),\"\",'Trust - Frontsheet'!H58)","v":""},{"$f":"'Trust - Frontsheet'!I58","v":0},{"$f":"'Trust - Frontsheet'!J58","v":0},{"$f":"'Trust - Frontsheet'!K58","v":0},{"$f":"'Trust - Frontsheet'!L58","v":0},{"$f":"'Trust - Frontsheet'!M58","v":0},{"$f":"'Trust - Frontsheet'!N58","v":0},{"$f":"'Trust - Frontsheet'!O58","v":0},{"$f":"'Trust - Frontsheet'!P58","v":0},{"$f":"'Trust - Frontsheet'!Q58","v":0},{"$f":"'Trust - Frontsheet'!R58","v":0},{"$f":"'Trust - Frontsheet'!S58","v":0},{"$f":"'Trust - Frontsheet'!T58","v":0},{"$f":"IF(OR('Trust - Frontsheet'!AA58=\"\",'Trust - Frontsheet'!AA58=\"-\"),0,('Trust - Frontsheet'!AA58))","v":0},{"$f":"IF(OR('Trust - Frontsheet'!AB58=\"\",'Trust - Frontsheet'!AB58=\"-\"),0,('Trust - Frontsheet'!AB58))","v":0},{"$f":"IF(OR('Trust - Frontsheet'!AC58=\"\",'Trust - Frontsheet'!AC58=\"-\"),0,('Trust - Frontsheet'!AC58))","v":0},{"$f":"IF(OR('Trust - Frontsheet'!AD58=\"\",'Trust - Frontsheet'!AD58=\"-\"),0,('Trust - Frontsheet'!AD58))","v":0},{"$f":"IF(OR('Trust - Frontsheet'!AE58=\"\",'Trust - Frontsheet'!AE58=\"-\"),0,('Trust - Frontsheet'!AE58))","v":0},{"$f":"IF(OR('Trust - Frontsheet'!AF58=\"\",'Trust - Frontsheet'!AF58=\"-\"),0,('Trust - Frontsheet'!AF58))","v":0},{"$f":"'Trust - Frontsheet'!U58","v":0},{"$f":"IF(OR('Trust - Frontsheet'!V58=\"\",'Trust - Frontsheet'!V58=\"-\"),0,('Trust - Frontsheet'!V58))","v":0},{"$f":"IF(OR('Trust - Frontsheet'!W58=\"\",'Trust - Frontsheet'!W58=\"-\"),0,('Trust - Frontsheet'!W58))","v":0},{"$f":"IF(OR('Trust - Frontsheet'!X58=\"\",'Trust - Frontsheet'!X58=\"-\"),0,('Trust - Frontsheet'!X58))","v":0},{"$f":"IF(OR('Trust - Frontsheet'!Y58=\"\",'Trust - Frontsheet'!Y58=\"-\"),0,('Trust - Frontsheet'!Y58))","v":0},{"$f":"IF(OR('Trust - Frontsheet'!Z58=\"\",'Trust - Frontsheet'!Z58=\"-\"),0,('Trust - Frontsheet'!Z58))","v":0},{"$f":"IF(A46=\"\",\"\",(IF(ISBLANK('Trust - Frontsheet'!F9),\"\",'Trust - Frontsheet'!F9)))","v":""}]
[{"$f":"IF('Trust - Frontsheet'!D59=0,\"\",IF('Trust - Frontsheet'!D59=\"\",\"\",'Trust - Frontsheet'!D59))","v":""},{"$f":"IF(ISBLANK('Trust - Frontsheet'!E59),\"\",'Trust - Frontsheet'!E59)","v":""},{"$f":"IF(ISBLANK('Trust - Frontsheet'!F59),\"\",\"'\" & 'Trust - Frontsheet'!F59 & \"'\")","v":""},{"$f":"IF(ISBLANK('Trust - Frontsheet'!G59),\"\",'Trust - Frontsheet'!G59)","v":""},{"$f":"IF(ISBLANK('Trust - Frontsheet'!H59),\"\",'Trust - Frontsheet'!H59)","v":""},{"$f":"'Trust - Frontsheet'!I59","v":0},{"$f":"'Trust - Frontsheet'!J59","v":0},{"$f":"'Trust - Frontsheet'!K59","v":0},{"$f":"'Trust - Frontsheet'!L59","v":0},{"$f":"'Trust - Frontsheet'!M59","v":0},{"$f":"'Trust - Frontsheet'!N59","v":0},{"$f":"'Trust - Frontsheet'!O59","v":0},{"$f":"'Trust - Frontsheet'!P59","v":0},{"$f":"'Trust - Frontsheet'!Q59","v":0},{"$f":"'Trust - Frontsheet'!R59","v":0},{"$f":"'Trust - Frontsheet'!S59","v":0},{"$f":"'Trust - Frontsheet'!T59","v":0},{"$f":"IF(OR('Trust - Frontsheet'!AA59=\"\",'Trust - Frontsheet'!AA59=\"-\"),0,('Trust - Frontsheet'!AA59))","v":0},{"$f":"IF(OR('Trust - Frontsheet'!AB59=\"\",'Trust - Frontsheet'!AB59=\"-\"),0,('Trust - Frontsheet'!AB59))","v":0},{"$f":"IF(OR('Trust - Frontsheet'!AC59=\"\",'Trust - Frontsheet'!AC59=\"-\"),0,('Trust - Frontsheet'!AC59))","v":0},{"$f":"IF(OR('Trust - Frontsheet'!AD59=\"\",'Trust - Frontsheet'!AD59=\"-\"),0,('Trust - Frontsheet'!AD59))","v":0},{"$f":"IF(OR('Trust - Frontsheet'!AE59=\"\",'Trust - Frontsheet'!AE59=\"-\"),0,('Trust - Frontsheet'!AE59))","v":0},{"$f":"IF(OR('Trust - Frontsheet'!AF59=\"\",'Trust - Frontsheet'!AF59=\"-\"),0,('Trust - Frontsheet'!AF59))","v":0},{"$f":"'Trust - Frontsheet'!U59","v":0},{"$f":"IF(OR('Trust - Frontsheet'!V59=\"\",'Trust - Frontsheet'!V59=\"-\"),0,('Trust - Frontsheet'!V59))","v":0},{"$f":"IF(OR('Trust - Frontsheet'!W59=\"\",'Trust - Frontsheet'!W59=\"-\"),0,('Trust - Frontsheet'!W59))","v":0},{"$f":"IF(OR('Trust - Frontsheet'!X59=\"\",'Trust - Frontsheet'!X59=\"-\"),0,('Trust - Frontsheet'!X59))","v":0},{"$f":"IF(OR('Trust - Frontsheet'!Y59=\"\",'Trust - Frontsheet'!Y59=\"-\"),0,('Trust - Frontsheet'!Y59))","v":0},{"$f":"IF(OR('Trust - Frontsheet'!Z59=\"\",'Trust - Frontsheet'!Z59=\"-\"),0,('Trust - Frontsheet'!Z59))","v":0},{"$f":"IF(A47=\"\",\"\",(IF(ISBLANK('Trust - Frontsheet'!F9),\"\",'Trust - Frontsheet'!F9)))","v":""}]
[{"$f":"IF('Trust - Frontsheet'!D60=0,\"\",IF('Trust - Frontsheet'!D60=\"\",\"\",'Trust - Frontsheet'!D60))","v":""},{"$f":"IF(ISBLANK('Trust - Frontsheet'!E60),\"\",'Trust - Frontsheet'!E60)","v":""},{"$f":"IF(ISBLANK('Trust - Frontsheet'!F60),\"\",\"'\" & 'Trust - Frontsheet'!F60 & \"'\")","v":""},{"$f":"IF(ISBLANK('Trust - Frontsheet'!G60),\"\",'Trust - Frontsheet'!G60)","v":""},{"$f":"IF(ISBLANK('Trust - Frontsheet'!H60),\"\",'Trust - Frontsheet'!H60)","v":""},{"$f":"'Trust - Frontsheet'!I60","v":0},{"$f":"'Trust - Frontsheet'!J60","v":0},{"$f":"'Trust - Frontsheet'!K60","v":0},{"$f":"'Trust - Frontsheet'!L60","v":0},{"$f":"'Trust - Frontsheet'!M60","v":0},{"$f":"'Trust - Frontsheet'!N60","v":0},{"$f":"'Trust - Frontsheet'!O60","v":0},{"$f":"'Trust - Frontsheet'!P60","v":0},{"$f":"'Trust - Frontsheet'!Q60","v":0},{"$f":"'Trust - Frontsheet'!R60","v":0},{"$f":"'Trust - Frontsheet'!S60","v":0},{"$f":"'Trust - Frontsheet'!T60","v":0},{"$f":"IF(OR('Trust - Frontsheet'!AA60=\"\",'Trust - Frontsheet'!AA60=\"-\"),0,('Trust - Frontsheet'!AA60))","v":0},{"$f":"IF(OR('Trust - Frontsheet'!AB60=\"\",'Trust - Frontsheet'!AB60=\"-\"),0,('Trust - Frontsheet'!AB60))","v":0},{"$f":"IF(OR('Trust - Frontsheet'!AC60=\"\",'Trust - Frontsheet'!AC60=\"-\"),0,('Trust - Frontsheet'!AC60))","v":0},{"$f":"IF(OR('Trust - Frontsheet'!AD60=\"\",'Trust - Frontsheet'!AD60=\"-\"),0,('Trust - Frontsheet'!AD60))","v":0},{"$f":"IF(OR('Trust - Frontsheet'!AE60=\"\",'Trust - Frontsheet'!AE60=\"-\"),0,('Trust - Frontsheet'!AE60))","v":0},{"$f":"IF(OR('Trust - Frontsheet'!AF60=\"\",'Trust - Frontsheet'!AF60=\"-\"),0,('Trust - Frontsheet'!AF60))","v":0},{"$f":"'Trust - Frontsheet'!U60","v":0},{"$f":"IF(OR('Trust - Frontsheet'!V60=\"\",'Trust - Frontsheet'!V60=\"-\"),0,('Trust - Frontsheet'!V60))","v":0},{"$f":"IF(OR('Trust - Frontsheet'!W60=\"\",'Trust - Frontsheet'!W60=\"-\"),0,('Trust - Frontsheet'!W60))","v":0},{"$f":"IF(OR('Trust - Frontsheet'!X60=\"\",'Trust - Frontsheet'!X60=\"-\"),0,('Trust - Frontsheet'!X60))","v":0},{"$f":"IF(OR('Trust - Frontsheet'!Y60=\"\",'Trust - Frontsheet'!Y60=\"-\"),0,('Trust - Frontsheet'!Y60))","v":0},{"$f":"IF(OR('Trust - Frontsheet'!Z60=\"\",'Trust - Frontsheet'!Z60=\"-\"),0,('Trust - Frontsheet'!Z60))","v":0},{"$f":"IF(A48=\"\",\"\",(IF(ISBLANK('Trust - Frontsheet'!F9),\"\",'Trust - Frontsheet'!F9)))","v":""}]
[{"$f":"IF('Trust - Frontsheet'!D61=0,\"\",IF('Trust - Frontsheet'!D61=\"\",\"\",'Trust - Frontsheet'!D61))","v":""},{"$f":"IF(ISBLANK('Trust - Frontsheet'!E61),\"\",'Trust - Frontsheet'!E61)","v":""},{"$f":"IF(ISBLANK('Trust - Frontsheet'!F61),\"\",\"'\" & 'Trust - Frontsheet'!F61 & \"'\")","v":""},{"$f":"IF(ISBLANK('Trust - Frontsheet'!G61),\"\",'Trust - Frontsheet'!G61)","v":""},{"$f":"IF(ISBLANK('Trust - Frontsheet'!H61),\"\",'Trust - Frontsheet'!H61)","v":""},{"$f":"'Trust - Frontsheet'!I61","v":0},{"$f":"'Trust - Frontsheet'!J61","v":0},{"$f":"'Trust - Frontsheet'!K61","v":0},{"$f":"'Trust - Frontsheet'!L61","v":0},{"$f":"'Trust - Frontsheet'!M61","v":0},{"$f":"'Trust - Frontsheet'!N61","v":0},{"$f":"'Trust - Frontsheet'!O61","v":0},{"$f":"'Trust - Frontsheet'!P61","v":0},{"$f":"'Trust - Frontsheet'!Q61","v":0},{"$f":"'Trust - Frontsheet'!R61","v":0},{"$f":"'Trust - Frontsheet'!S61","v":0},{"$f":"'Trust - Frontsheet'!T61","v":0},{"$f":"IF(OR('Trust - Frontsheet'!AA61=\"\",'Trust - Frontsheet'!AA61=\"-\"),0,('Trust - Frontsheet'!AA61))","v":0},{"$f":"IF(OR('Trust - Frontsheet'!AB61=\"\",'Trust - Frontsheet'!AB61=\"-\"),0,('Trust - Frontsheet'!AB61))","v":0},{"$f":"IF(OR('Trust - Frontsheet'!AC61=\"\",'Trust - Frontsheet'!AC61=\"-\"),0,('Trust - Frontsheet'!AC61))","v":0},{"$f":"IF(OR('Trust - Frontsheet'!AD61=\"\",'Trust - Frontsheet'!AD61=\"-\"),0,('Trust - Frontsheet'!AD61))","v":0},{"$f":"IF(OR('Trust - Frontsheet'!AE61=\"\",'Trust - Frontsheet'!AE61=\"-\"),0,('Trust - Frontsheet'!AE61))","v":0},{"$f":"IF(OR('Trust - Frontsheet'!AF61=\"\",'Trust - Frontsheet'!AF61=\"-\"),0,('Trust - Frontsheet'!AF61))","v":0},{"$f":"'Trust - Frontsheet'!U61","v":0},{"$f":"IF(OR('Trust - Frontsheet'!V61=\"\",'Trust - Frontsheet'!V61=\"-\"),0,('Trust - Frontsheet'!V61))","v":0},{"$f":"IF(OR('Trust - Frontsheet'!W61=\"\",'Trust - Frontsheet'!W61=\"-\"),0,('Trust - Frontsheet'!W61))","v":0},{"$f":"IF(OR('Trust - Frontsheet'!X61=\"\",'Trust - Frontsheet'!X61=\"-\"),0,('Trust - Frontsheet'!X61))","v":0},{"$f":"IF(OR('Trust - Frontsheet'!Y61=\"\",'Trust - Frontsheet'!Y61=\"-\"),0,('Trust - Frontsheet'!Y61))","v":0},{"$f":"IF(OR('Trust - Frontsheet'!Z61=\"\",'Trust - Frontsheet'!Z61=\"-\"),0,('Trust - Frontsheet'!Z61))","v":0},{"$f":"IF(A49=\"\",\"\",(IF(ISBLANK('Trust - Frontsheet'!F9),\"\",'Trust - Frontsheet'!F9)))","v":""}]
[{"$f":"IF('Trust - Frontsheet'!D62=0,\"\",IF('Trust - Frontsheet'!D62=\"\",\"\",'Trust - Frontsheet'!D62))","v":""},{"$f":"IF(ISBLANK('Trust - Frontsheet'!E62),\"\",'Trust - Frontsheet'!E62)","v":""},{"$f":"IF(ISBLANK('Trust - Frontsheet'!F62),\"\",\"'\" & 'Trust - Frontsheet'!F62 & \"'\")","v":""},{"$f":"IF(ISBLANK('Trust - Frontsheet'!G62),\"\",'Trust - Frontsheet'!G62)","v":""},{"$f":"IF(ISBLANK('Trust - Frontsheet'!H62),\"\",'Trust - Frontsheet'!H62)","v":""},{"$f":"'Trust - Frontsheet'!I62","v":0},{"$f":"'Trust - Frontsheet'!J62","v":0},{"$f":"'Trust - Frontsheet'!K62","v":0},{"$f":"'Trust - Frontsheet'!L62","v":0},{"$f":"'Trust - Frontsheet'!M62","v":0},{"$f":"'Trust - Frontsheet'!N62","v":0},{"$f":"'Trust - Frontsheet'!O62","v":0},{"$f":"'Trust - Frontsheet'!P62","v":0},{"$f":"'Trust - Frontsheet'!Q62","v":0},{"$f":"'Trust - Frontsheet'!R62","v":0},{"$f":"'Trust - Frontsheet'!S62","v":0},{"$f":"'Trust - Frontsheet'!T62","v":0},{"$f":"IF(OR('Trust - Frontsheet'!AA62=\"\",'Trust - Frontsheet'!AA62=\"-\"),0,('Trust - Frontsheet'!AA62))","v":0},{"$f":"IF(OR('Trust - Frontsheet'!AB62=\"\",'Trust - Frontsheet'!AB62=\"-\"),0,('Trust - Frontsheet'!AB62))","v":0},{"$f":"IF(OR('Trust - Frontsheet'!AC62=\"\",'Trust - Frontsheet'!AC62=\"-\"),0,('Trust - Frontsheet'!AC62))","v":0},{"$f":"IF(OR('Trust - Frontsheet'!AD62=\"\",'Trust - Frontsheet'!AD62=\"-\"),0,('Trust - Frontsheet'!AD62))","v":0},{"$f":"IF(OR('Trust - Frontsheet'!AE62=\"\",'Trust - Frontsheet'!AE62=\"-\"),0,('Trust - Frontsheet'!AE62))","v":0},{"$f":"IF(OR('Trust - Frontsheet'!AF62=\"\",'Trust - Frontsheet'!AF62=\"-\"),0,('Trust - Frontsheet'!AF62))","v":0},{"$f":"'Trust - Frontsheet'!U62","v":0},{"$f":"IF(OR('Trust - Frontsheet'!V62=\"\",'Trust - Frontsheet'!V62=\"-\"),0,('Trust - Frontsheet'!V62))","v":0},{"$f":"IF(OR('Trust - Frontsheet'!W62=\"\",'Trust - Frontsheet'!W62=\"-\"),0,('Trust - Frontsheet'!W62))","v":0},{"$f":"IF(OR('Trust - Frontsheet'!X62=\"\",'Trust - Frontsheet'!X62=\"-\"),0,('Trust - Frontsheet'!X62))","v":0},{"$f":"IF(OR('Trust - Frontsheet'!Y62=\"\",'Trust - Frontsheet'!Y62=\"-\"),0,('Trust - Frontsheet'!Y62))","v":0},{"$f":"IF(OR('Trust - Frontsheet'!Z62=\"\",'Trust - Frontsheet'!Z62=\"-\"),0,('Trust - Frontsheet'!Z62))","v":0},{"$f":"IF(A50=\"\",\"\",(IF(ISBLANK('Trust - Frontsheet'!F9),\"\",'Trust - Frontsheet'!F9)))","v":""}]
[{"$f":"IF('Trust - Frontsheet'!D63=0,\"\",IF('Trust - Frontsheet'!D63=\"\",\"\",'Trust - Frontsheet'!D63))","v":""},{"$f":"IF(ISBLANK('Trust - Frontsheet'!E63),\"\",'Trust - Frontsheet'!E63)","v":""},{"$f":"IF(ISBLANK('Trust - Frontsheet'!F63),\"\",\"'\" & 'Trust - Frontsheet'!F63 & \"'\")","v":""},{"$f":"IF(ISBLANK('Trust - Frontsheet'!G63),\"\",'Trust - Frontsheet'!G63)","v":""},{"$f":"IF(ISBLANK('Trust - Frontsheet'!H63),\"\",'Trust - Frontsheet'!H63)","v":""},{"$f":"'Trust - Frontsheet'!I63","v":0},{"$f":"'Trust - Frontsheet'!J63","v":0},{"$f":"'Trust - Frontsheet'!K63","v":0},{"$f":"'Trust - Frontsheet'!L63","v":0},{"$f":"'Trust - Frontsheet'!M63","v":0},{"$f":"'Trust - Frontsheet'!N63","v":0},{"$f":"'Trust - Frontsheet'!O63","v":0},{"$f":"'Trust - Frontsheet'!P63","v":0},{"$f":"'Trust - Frontsheet'!Q63","v":0},{"$f":"'Trust - Frontsheet'!R63","v":0},{"$f":"'Trust - Frontsheet'!S63","v":0},{"$f":"'Trust - Frontsheet'!T63","v":0},{"$f":"IF(OR('Trust - Frontsheet'!AA63=\"\",'Trust - Frontsheet'!AA63=\"-\"),0,('Trust - Frontsheet'!AA63))","v":0},{"$f":"IF(OR('Trust - Frontsheet'!AB63=\"\",'Trust - Frontsheet'!AB63=\"-\"),0,('Trust - Frontsheet'!AB63))","v":0},{"$f":"IF(OR('Trust - Frontsheet'!AC63=\"\",'Trust - Frontsheet'!AC63=\"-\"),0,('Trust - Frontsheet'!AC63))","v":0},{"$f":"IF(OR('Trust - Frontsheet'!AD63=\"\",'Trust - Frontsheet'!AD63=\"-\"),0,('Trust - Frontsheet'!AD63))","v":0},{"$f":"IF(OR('Trust - Frontsheet'!AE63=\"\",'Trust - Frontsheet'!AE63=\"-\"),0,('Trust - Frontsheet'!AE63))","v":0},{"$f":"IF(OR('Trust - Frontsheet'!AF63=\"\",'Trust - Frontsheet'!AF63=\"-\"),0,('Trust - Frontsheet'!AF63))","v":0},{"$f":"'Trust - Frontsheet'!U63","v":0},{"$f":"IF(OR('Trust - Frontsheet'!V63=\"\",'Trust - Frontsheet'!V63=\"-\"),0,('Trust - Frontsheet'!V63))","v":0},{"$f":"IF(OR('Trust - Frontsheet'!W63=\"\",'Trust - Frontsheet'!W63=\"-\"),0,('Trust - Frontsheet'!W63))","v":0},{"$f":"IF(OR('Trust - Frontsheet'!X63=\"\",'Trust - Frontsheet'!X63=\"-\"),0,('Trust - Frontsheet'!X63))","v":0},{"$f":"IF(OR('Trust - Frontsheet'!Y63=\"\",'Trust - Frontsheet'!Y63=\"-\"),0,('Trust - Frontsheet'!Y63))","v":0},{"$f":"IF(OR('Trust - Frontsheet'!Z63=\"\",'Trust - Frontsheet'!Z63=\"-\"),0,('Trust - Frontsheet'!Z63))","v":0},{"$f":"IF(A51=\"\",\"\",(IF(ISBLANK('Trust - Frontsheet'!F9),\"\",'Trust - Frontsheet'!F9)))","v":""}]
[{"$f":"IF('Trust - Frontsheet'!D64=0,\"\",IF('Trust - Frontsheet'!D64=\"\",\"\",'Trust - Frontsheet'!D64))","v":""},{"$f":"IF(ISBLANK('Trust - Frontsheet'!E64),\"\",'Trust - Frontsheet'!E64)","v":""},{"$f":"IF(ISBLANK('Trust - Frontsheet'!F64),\"\",\"'\" & 'Trust - Frontsheet'!F64 & \"'\")","v":""},{"$f":"IF(ISBLANK('Trust - Frontsheet'!G64),\"\",'Trust - Frontsheet'!G64)","v":""},{"$f":"IF(ISBLANK('Trust - Frontsheet'!H64),\"\",'Trust - Frontsheet'!H64)","v":""},{"$f":"'Trust - Frontsheet'!I64","v":0},{"$f":"'Trust - Frontsheet'!J64","v":0},{"$f":"'Trust - Frontsheet'!K64","v":0},{"$f":"'Trust - Frontsheet'!L64","v":0},{"$f":"'Trust - Frontsheet'!M64","v":0},{"$f":"'Trust - Frontsheet'!N64","v":0},{"$f":"'Trust - Frontsheet'!O64","v":0},{"$f":"'Trust - Frontsheet'!P64","v":0},{"$f":"'Trust - Frontsheet'!Q64","v":0},{"$f":"'Trust - Frontsheet'!R64","v":0},{"$f":"'Trust - Frontsheet'!S64","v":0},{"$f":"'Trust - Frontsheet'!T64","v":0},{"$f":"IF(OR('Trust - Frontsheet'!AA64=\"\",'Trust - Frontsheet'!AA64=\"-\"),0,('Trust - Frontsheet'!AA64))","v":0},{"$f":"IF(OR('Trust - Frontsheet'!AB64=\"\",'Trust - Frontsheet'!AB64=\"-\"),0,('Trust - Frontsheet'!AB64))","v":0},{"$f":"IF(OR('Trust - Frontsheet'!AC64=\"\",'Trust - Frontsheet'!AC64=\"-\"),0,('Trust - Frontsheet'!AC64))","v":0},{"$f":"IF(OR('Trust - Frontsheet'!AD64=\"\",'Trust - Frontsheet'!AD64=\"-\"),0,('Trust - Frontsheet'!AD64))","v":0},{"$f":"IF(OR('Trust - Frontsheet'!AE64=\"\",'Trust - Frontsheet'!AE64=\"-\"),0,('Trust - Frontsheet'!AE64))","v":0},{"$f":"IF(OR('Trust - Frontsheet'!AF64=\"\",'Trust - Frontsheet'!AF64=\"-\"),0,('Trust - Frontsheet'!AF64))","v":0},{"$f":"'Trust - Frontsheet'!U64","v":0},{"$f":"IF(OR('Trust - Frontsheet'!V64=\"\",'Trust - Frontsheet'!V64=\"-\"),0,('Trust - Frontsheet'!V64))","v":0},{"$f":"IF(OR('Trust - Frontsheet'!W64=\"\",'Trust - Frontsheet'!W64=\"-\"),0,('Trust - Frontsheet'!W64))","v":0},{"$f":"IF(OR('Trust - Frontsheet'!X64=\"\",'Trust - Frontsheet'!X64=\"-\"),0,('Trust - Frontsheet'!X64))","v":0},{"$f":"IF(OR('Trust - Frontsheet'!Y64=\"\",'Trust - Frontsheet'!Y64=\"-\"),0,('Trust - Frontsheet'!Y64))","v":0},{"$f":"IF(OR('Trust - Frontsheet'!Z64=\"\",'Trust - Frontsheet'!Z64=\"-\"),0,('Trust - Frontsheet'!Z64))","v":0},{"$f":"IF(A52=\"\",\"\",(IF(ISBLANK('Trust - Frontsheet'!F9),\"\",'Trust - Frontsheet'!F9)))","v":""}]
[{"$f":"IF('Trust - Frontsheet'!D65=0,\"\",IF('Trust - Frontsheet'!D65=\"\",\"\",'Trust - Frontsheet'!D65))","v":""},{"$f":"IF(ISBLANK('Trust - Frontsheet'!E65),\"\",'Trust - Frontsheet'!E65)","v":""},{"$f":"IF(ISBLANK('Trust - Frontsheet'!F65),\"\",\"'\" & 'Trust - Frontsheet'!F65 & \"'\")","v":""},{"$f":"IF(ISBLANK('Trust - Frontsheet'!G65),\"\",'Trust - Frontsheet'!G65)","v":""},{"$f":"IF(ISBLANK('Trust - Frontsheet'!H65),\"\",'Trust - Frontsheet'!H65)","v":""},{"$f":"'Trust - Frontsheet'!I65","v":0},{"$f":"'Trust - Frontsheet'!J65","v":0},{"$f":"'Trust - Frontsheet'!K65","v":0},{"$f":"'Trust - Frontsheet'!L65","v":0},{"$f":"'Trust - Frontsheet'!M65","v":0},{"$f":"'Trust - Frontsheet'!N65","v":0},{"$f":"'Trust - Frontsheet'!O65","v":0},{"$f":"'Trust - Frontsheet'!P65","v":0},{"$f":"'Trust - Frontsheet'!Q65","v":0},{"$f":"'Trust - Frontsheet'!R65","v":0},{"$f":"'Trust - Frontsheet'!S65","v":0},{"$f":"'Trust - Frontsheet'!T65","v":0},{"$f":"IF(OR('Trust - Frontsheet'!AA65=\"\",'Trust - Frontsheet'!AA65=\"-\"),0,('Trust - Frontsheet'!AA65))","v":0},{"$f":"IF(OR('Trust - Frontsheet'!AB65=\"\",'Trust - Frontsheet'!AB65=\"-\"),0,('Trust - Frontsheet'!AB65))","v":0},{"$f":"IF(OR('Trust - Frontsheet'!AC65=\"\",'Trust - Frontsheet'!AC65=\"-\"),0,('Trust - Frontsheet'!AC65))","v":0},{"$f":"IF(OR('Trust - Frontsheet'!AD65=\"\",'Trust - Frontsheet'!AD65=\"-\"),0,('Trust - Frontsheet'!AD65))","v":0},{"$f":"IF(OR('Trust - Frontsheet'!AE65=\"\",'Trust - Frontsheet'!AE65=\"-\"),0,('Trust - Frontsheet'!AE65))","v":0},{"$f":"IF(OR('Trust - Frontsheet'!AF65=\"\",'Trust - Frontsheet'!AF65=\"-\"),0,('Trust - Frontsheet'!AF65))","v":0},{"$f":"'Trust - Frontsheet'!U65","v":0},{"$f":"IF(OR('Trust - Frontsheet'!V65=\"\",'Trust - Frontsheet'!V65=\"-\"),0,('Trust - Frontsheet'!V65))","v":0},{"$f":"IF(OR('Trust - Frontsheet'!W65=\"\",'Trust - Frontsheet'!W65=\"-\"),0,('Trust - Frontsheet'!W65))","v":0},{"$f":"IF(OR('Trust - Frontsheet'!X65=\"\",'Trust - Frontsheet'!X65=\"-\"),0,('Trust - Frontsheet'!X65))","v":0},{"$f":"IF(OR('Trust - Frontsheet'!Y65=\"\",'Trust - Frontsheet'!Y65=\"-\"),0,('Trust - Frontsheet'!Y65))","v":0},{"$f":"IF(OR('Trust - Frontsheet'!Z65=\"\",'Trust - Frontsheet'!Z65=\"-\"),0,('Trust - Frontsheet'!Z65))","v":0},{"$f":"IF(A53=\"\",\"\",(IF(ISBLANK('Trust - Frontsheet'!F9),\"\",'Trust - Frontsheet'!F9)))","v":""}]
[{"$f":"IF('Trust - Frontsheet'!D66=0,\"\",IF('Trust - Frontsheet'!D66=\"\",\"\",'Trust - Frontsheet'!D66))","v":""},{"$f":"IF(ISBLANK('Trust - Frontsheet'!E66),\"\",'Trust - Frontsheet'!E66)","v":""},{"$f":"IF(ISBLANK('Trust - Frontsheet'!F66),\"\",\"'\" & 'Trust - Frontsheet'!F66 & \"'\")","v":""},{"$f":"IF(ISBLANK('Trust - Frontsheet'!G66),\"\",'Trust - Frontsheet'!G66)","v":""},{"$f":"IF(ISBLANK('Trust - Frontsheet'!H66),\"\",'Trust - Frontsheet'!H66)","v":""},{"$f":"'Trust - Frontsheet'!I66","v":0},{"$f":"'Trust - Frontsheet'!J66","v":0},{"$f":"'Trust - Frontsheet'!K66","v":0},{"$f":"'Trust - Frontsheet'!L66","v":0},{"$f":"'Trust - Frontsheet'!M66","v":0},{"$f":"'Trust - Frontsheet'!N66","v":0},{"$f":"'Trust - Frontsheet'!O66","v":0},{"$f":"'Trust - Frontsheet'!P66","v":0},{"$f":"'Trust - Frontsheet'!Q66","v":0},{"$f":"'Trust - Frontsheet'!R66","v":0},{"$f":"'Trust - Frontsheet'!S66","v":0},{"$f":"'Trust - Frontsheet'!T66","v":0},{"$f":"IF(OR('Trust - Frontsheet'!AA66=\"\",'Trust - Frontsheet'!AA66=\"-\"),0,('Trust - Frontsheet'!AA66))","v":0},{"$f":"IF(OR('Trust - Frontsheet'!AB66=\"\",'Trust - Frontsheet'!AB66=\"-\"),0,('Trust - Frontsheet'!AB66))","v":0},{"$f":"IF(OR('Trust - Frontsheet'!AC66=\"\",'Trust - Frontsheet'!AC66=\"-\"),0,('Trust - Frontsheet'!AC66))","v":0},{"$f":"IF(OR('Trust - Frontsheet'!AD66=\"\",'Trust - Frontsheet'!AD66=\"-\"),0,('Trust - Frontsheet'!AD66))","v":0},{"$f":"IF(OR('Trust - Frontsheet'!AE66=\"\",'Trust - Frontsheet'!AE66=\"-\"),0,('Trust - Frontsheet'!AE66))","v":0},{"$f":"IF(OR('Trust - Frontsheet'!AF66=\"\",'Trust - Frontsheet'!AF66=\"-\"),0,('Trust - Frontsheet'!AF66))","v":0},{"$f":"'Trust - Frontsheet'!U66","v":0},{"$f":"IF(OR('Trust - Frontsheet'!V66=\"\",'Trust - Frontsheet'!V66=\"-\"),0,('Trust - Frontsheet'!V66))","v":0},{"$f":"IF(OR('Trust - Frontsheet'!W66=\"\",'Trust - Frontsheet'!W66=\"-\"),0,('Trust - Frontsheet'!W66))","v":0},{"$f":"IF(OR('Trust - Frontsheet'!X66=\"\",'Trust - Frontsheet'!X66=\"-\"),0,('Trust - Frontsheet'!X66))","v":0},{"$f":"IF(OR('Trust - Frontsheet'!Y66=\"\",'Trust - Frontsheet'!Y66=\"-\"),0,('Trust - Frontsheet'!Y66))","v":0},{"$f":"IF(OR('Trust - Frontsheet'!Z66=\"\",'Trust - Frontsheet'!Z66=\"-\"),0,('Trust - Frontsheet'!Z66))","v":0},{"$f":"IF(A54=\"\",\"\",(IF(ISBLANK('Trust - Frontsheet'!F9),\"\",'Trust - Frontsheet'!F9)))","v":""}]
[{"$f":"IF('Trust - Frontsheet'!D67=0,\"\",IF('Trust - Frontsheet'!D67=\"\",\"\",'Trust - Frontsheet'!D67))","v":""},{"$f":"IF(ISBLANK('Trust - Frontsheet'!E67),\"\",'Trust - Frontsheet'!E67)","v":""},{"$f":"IF(ISBLANK('Trust - Frontsheet'!F67),\"\",\"'\" & 'Trust - Frontsheet'!F67 & \"'\")","v":""},{"$f":"IF(ISBLANK('Trust - Frontsheet'!G67),\"\",'Trust - Frontsheet'!G67)","v":""},{"$f":"IF(ISBLANK('Trust - Frontsheet'!H67),\"\",'Trust - Frontsheet'!H67)","v":""},{"$f":"'Trust - Frontsheet'!I67","v":0},{"$f":"'Trust - Frontsheet'!J67","v":0},{"$f":"'Trust - Frontsheet'!K67","v":0},{"$f":"'Trust - Frontsheet'!L67","v":0},{"$f":"'Trust - Frontsheet'!M67","v":0},{"$f":"'Trust - Frontsheet'!N67","v":0},{"$f":"'Trust - Frontsheet'!O67","v":0},{"$f":"'Trust - Frontsheet'!P67","v":0},{"$f":"'Trust - Frontsheet'!Q67","v":0},{"$f":"'Trust - Frontsheet'!R67","v":0},{"$f":"'Trust - Frontsheet'!S67","v":0},{"$f":"'Trust - Frontsheet'!T67","v":0},{"$f":"IF(OR('Trust - Frontsheet'!AA67=\"\",'Trust - Frontsheet'!AA67=\"-\"),0,('Trust - Frontsheet'!AA67))","v":0},{"$f":"IF(OR('Trust - Frontsheet'!AB67=\"\",'Trust - Frontsheet'!AB67=\"-\"),0,('Trust - Frontsheet'!AB67))","v":0},{"$f":"IF(OR('Trust - Frontsheet'!AC67=\"\",'Trust - Frontsheet'!AC67=\"-\"),0,('Trust - Frontsheet'!AC67))","v":0},{"$f":"IF(OR('Trust - Frontsheet'!AD67=\"\",'Trust - Frontsheet'!AD67=\"-\"),0,('Trust - Frontsheet'!AD67))","v":0},{"$f":"IF(OR('Trust - Frontsheet'!AE67=\"\",'Trust - Frontsheet'!AE67=\"-\"),0,('Trust - Frontsheet'!AE67))","v":0},{"$f":"IF(OR('Trust - Frontsheet'!AF67=\"\",'Trust - Frontsheet'!AF67=\"-\"),0,('Trust - Frontsheet'!AF67))","v":0},{"$f":"'Trust - Frontsheet'!U67","v":0},{"$f":"IF(OR('Trust - Frontsheet'!V67=\"\",'Trust - Frontsheet'!V67=\"-\"),0,('Trust - Frontsheet'!V67))","v":0},{"$f":"IF(OR('Trust - Frontsheet'!W67=\"\",'Trust - Frontsheet'!W67=\"-\"),0,('Trust - Frontsheet'!W67))","v":0},{"$f":"IF(OR('Trust - Frontsheet'!X67=\"\",'Trust - Frontsheet'!X67=\"-\"),0,('Trust - Frontsheet'!X67))","v":0},{"$f":"IF(OR('Trust - Frontsheet'!Y67=\"\",'Trust - Frontsheet'!Y67=\"-\"),0,('Trust - Frontsheet'!Y67))","v":0},{"$f":"IF(OR('Trust - Frontsheet'!Z67=\"\",'Trust - Frontsheet'!Z67=\"-\"),0,('Trust - Frontsheet'!Z67))","v":0},{"$f":"IF(A55=\"\",\"\",(IF(ISBLANK('Trust - Frontsheet'!F9),\"\",'Trust - Frontsheet'!F9)))","v":""}]
[{"$f":"IF('Trust - Frontsheet'!D68=0,\"\",IF('Trust - Frontsheet'!D68=\"\",\"\",'Trust - Frontsheet'!D68))","v":""},{"$f":"IF(ISBLANK('Trust - Frontsheet'!E68),\"\",'Trust - Frontsheet'!E68)","v":""},{"$f":"IF(ISBLANK('Trust - Frontsheet'!F68),\"\",\"'\" & 'Trust - Frontsheet'!F68 & \"'\")","v":""},{"$f":"IF(ISBLANK('Trust - Frontsheet'!G68),\"\",'Trust - Frontsheet'!G68)","v":""},{"$f":"IF(ISBLANK('Trust - Frontsheet'!H68),\"\",'Trust - Frontsheet'!H68)","v":""},{"$f":"'Trust - Frontsheet'!I68","v":0},{"$f":"'Trust - Frontsheet'!J68","v":0},{"$f":"'Trust - Frontsheet'!K68","v":0},{"$f":"'Trust - Frontsheet'!L68","v":0},{"$f":"'Trust - Frontsheet'!M68","v":0},{"$f":"'Trust - Frontsheet'!N68","v":0},{"$f":"'Trust - Frontsheet'!O68","v":0},{"$f":"'Trust - Frontsheet'!P68","v":0},{"$f":"'Trust - Frontsheet'!Q68","v":0},{"$f":"'Trust - Frontsheet'!R68","v":0},{"$f":"'Trust - Frontsheet'!S68","v":0},{"$f":"'Trust - Frontsheet'!T68","v":0},{"$f":"IF(OR('Trust - Frontsheet'!AA68=\"\",'Trust - Frontsheet'!AA68=\"-\"),0,('Trust - Frontsheet'!AA68))","v":0},{"$f":"IF(OR('Trust - Frontsheet'!AB68=\"\",'Trust - Frontsheet'!AB68=\"-\"),0,('Trust - Frontsheet'!AB68))","v":0},{"$f":"IF(OR('Trust - Frontsheet'!AC68=\"\",'Trust - Frontsheet'!AC68=\"-\"),0,('Trust - Frontsheet'!AC68))","v":0},{"$f":"IF(OR('Trust - Frontsheet'!AD68=\"\",'Trust - Frontsheet'!AD68=\"-\"),0,('Trust - Frontsheet'!AD68))","v":0},{"$f":"IF(OR('Trust - Frontsheet'!AE68=\"\",'Trust - Frontsheet'!AE68=\"-\"),0,('Trust - Frontsheet'!AE68))","v":0},{"$f":"IF(OR('Trust - Frontsheet'!AF68=\"\",'Trust - Frontsheet'!AF68=\"-\"),0,('Trust - Frontsheet'!AF68))","v":0},{"$f":"'Trust - Frontsheet'!U68","v":0},{"$f":"IF(OR('Trust - Frontsheet'!V68=\"\",'Trust - Frontsheet'!V68=\"-\"),0,('Trust - Frontsheet'!V68))","v":0},{"$f":"IF(OR('Trust - Frontsheet'!W68=\"\",'Trust - Frontsheet'!W68=\"-\"),0,('Trust - Frontsheet'!W68))","v":0},{"$f":"IF(OR('Trust - Frontsheet'!X68=\"\",'Trust - Frontsheet'!X68=\"-\"),0,('Trust - Frontsheet'!X68))","v":0},{"$f":"IF(OR('Trust - Frontsheet'!Y68=\"\",'Trust - Frontsheet'!Y68=\"-\"),0,('Trust - Frontsheet'!Y68))","v":0},{"$f":"IF(OR('Trust - Frontsheet'!Z68=\"\",'Trust - Frontsheet'!Z68=\"-\"),0,('Trust - Frontsheet'!Z68))","v":0},{"$f":"IF(A56=\"\",\"\",(IF(ISBLANK('Trust - Frontsheet'!F9),\"\",'Trust - Frontsheet'!F9)))","v":""}]
[{"$f":"IF('Trust - Frontsheet'!D69=0,\"\",IF('Trust - Frontsheet'!D69=\"\",\"\",'Trust - Frontsheet'!D69))","v":""},{"$f":"IF(ISBLANK('Trust - Frontsheet'!E69),\"\",'Trust - Frontsheet'!E69)","v":""},{"$f":"IF(ISBLANK('Trust - Frontsheet'!F69),\"\",\"'\" & 'Trust - Frontsheet'!F69 & \"'\")","v":""},{"$f":"IF(ISBLANK('Trust - Frontsheet'!G69),\"\",'Trust - Frontsheet'!G69)","v":""},{"$f":"IF(ISBLANK('Trust - Frontsheet'!H69),\"\",'Trust - Frontsheet'!H69)","v":""},{"$f":"'Trust - Frontsheet'!I69","v":0},{"$f":"'Trust - Frontsheet'!J69","v":0},{"$f":"'Trust - Frontsheet'!K69","v":0},{"$f":"'Trust - Frontsheet'!L69","v":0},{"$f":"'Trust - Frontsheet'!M69","v":0},{"$f":"'Trust - Frontsheet'!N69","v":0},{"$f":"'Trust - Frontsheet'!O69","v":0},{"$f":"'Trust - Frontsheet'!P69","v":0},{"$f":"'Trust - Frontsheet'!Q69","v":0},{"$f":"'Trust - Frontsheet'!R69","v":0},{"$f":"'Trust - Frontsheet'!S69","v":0},{"$f":"'Trust - Frontsheet'!T69","v":0},{"$f":"IF(OR('Trust - Frontsheet'!AA69=\"\",'Trust - Frontsheet'!AA69=\"-\"),0,('Trust - Frontsheet'!AA69))","v":0},{"$f":"IF(OR('Trust - Frontsheet'!AB69=\"\",'Trust - Frontsheet'!AB69=\"-\"),0,('Trust - Frontsheet'!AB69))","v":0},{"$f":"IF(OR('Trust - Frontsheet'!AC69=\"\",'Trust - Frontsheet'!AC69=\"-\"),0,('Trust - Frontsheet'!AC69))","v":0},{"$f":"IF(OR('Trust - Frontsheet'!AD69=\"\",'Trust - Frontsheet'!AD69=\"-\"),0,('Trust - Frontsheet'!AD69))","v":0},{"$f":"IF(OR('Trust - Frontsheet'!AE69=\"\",'Trust - Frontsheet'!AE69=\"-\"),0,('Trust - Frontsheet'!AE69))","v":0},{"$f":"IF(OR('Trust - Frontsheet'!AF69=\"\",'Trust - Frontsheet'!AF69=\"-\"),0,('Trust - Frontsheet'!AF69))","v":0},{"$f":"'Trust - Frontsheet'!U69","v":0},{"$f":"IF(OR('Trust - Frontsheet'!V69=\"\",'Trust - Frontsheet'!V69=\"-\"),0,('Trust - Frontsheet'!V69))","v":0},{"$f":"IF(OR('Trust - Frontsheet'!W69=\"\",'Trust - Frontsheet'!W69=\"-\"),0,('Trust - Frontsheet'!W69))","v":0},{"$f":"IF(OR('Trust - Frontsheet'!X69=\"\",'Trust - Frontsheet'!X69=\"-\"),0,('Trust - Frontsheet'!X69))","v":0},{"$f":"IF(OR('Trust - Frontsheet'!Y69=\"\",'Trust - Frontsheet'!Y69=\"-\"),0,('Trust - Frontsheet'!Y69))","v":0},{"$f":"IF(OR('Trust - Frontsheet'!Z69=\"\",'Trust - Frontsheet'!Z69=\"-\"),0,('Trust - Frontsheet'!Z69))","v":0},{"$f":"IF(A57=\"\",\"\",(IF(ISBLANK('Trust - Frontsheet'!F9),\"\",'Trust - Frontsheet'!F9)))","v":""}]
[{"$f":"IF('Trust - Frontsheet'!D70=0,\"\",IF('Trust - Frontsheet'!D70=\"\",\"\",'Trust - Frontsheet'!D70))","v":""},{"$f":"IF(ISBLANK('Trust - Frontsheet'!E70),\"\",'Trust - Frontsheet'!E70)","v":""},{"$f":"IF(ISBLANK('Trust - Frontsheet'!F70),\"\",\"'\" & 'Trust - Frontsheet'!F70 & \"'\")","v":""},{"$f":"IF(ISBLANK('Trust - Frontsheet'!G70),\"\",'Trust - Frontsheet'!G70)","v":""},{"$f":"IF(ISBLANK('Trust - Frontsheet'!H70),\"\",'Trust - Frontsheet'!H70)","v":""},{"$f":"'Trust - Frontsheet'!I70","v":0},{"$f":"'Trust - Frontsheet'!J70","v":0},{"$f":"'Trust - Frontsheet'!K70","v":0},{"$f":"'Trust - Frontsheet'!L70","v":0},{"$f":"'Trust - Frontsheet'!M70","v":0},{"$f":"'Trust - Frontsheet'!N70","v":0},{"$f":"'Trust - Frontsheet'!O70","v":0},{"$f":"'Trust - Frontsheet'!P70","v":0},{"$f":"'Trust - Frontsheet'!Q70","v":0},{"$f":"'Trust - Frontsheet'!R70","v":0},{"$f":"'Trust - Frontsheet'!S70","v":0},{"$f":"'Trust - Frontsheet'!T70","v":0},{"$f":"IF(OR('Trust - Frontsheet'!AA70=\"\",'Trust - Frontsheet'!AA70=\"-\"),0,('Trust - Frontsheet'!AA70))","v":0},{"$f":"IF(OR('Trust - Frontsheet'!AB70=\"\",'Trust - Frontsheet'!AB70=\"-\"),0,('Trust - Frontsheet'!AB70))","v":0},{"$f":"IF(OR('Trust - Frontsheet'!AC70=\"\",'Trust - Frontsheet'!AC70=\"-\"),0,('Trust - Frontsheet'!AC70))","v":0},{"$f":"IF(OR('Trust - Frontsheet'!AD70=\"\",'Trust - Frontsheet'!AD70=\"-\"),0,('Trust - Frontsheet'!AD70))","v":0},{"$f":"IF(OR('Trust - Frontsheet'!AE70=\"\",'Trust - Frontsheet'!AE70=\"-\"),0,('Trust - Frontsheet'!AE70))","v":0},{"$f":"IF(OR('Trust - Frontsheet'!AF70=\"\",'Trust - Frontsheet'!AF70=\"-\"),0,('Trust - Frontsheet'!AF70))","v":0},{"$f":"'Trust - Frontsheet'!U70","v":0},{"$f":"IF(OR('Trust - Frontsheet'!V70=\"\",'Trust - Frontsheet'!V70=\"-\"),0,('Trust - Frontsheet'!V70))","v":0},{"$f":"IF(OR('Trust - Frontsheet'!W70=\"\",'Trust - Frontsheet'!W70=\"-\"),0,('Trust - Frontsheet'!W70))","v":0},{"$f":"IF(OR('Trust - Frontsheet'!X70=\"\",'Trust - Frontsheet'!X70=\"-\"),0,('Trust - Frontsheet'!X70))","v":0},{"$f":"IF(OR('Trust - Frontsheet'!Y70=\"\",'Trust - Frontsheet'!Y70=\"-\"),0,('Trust - Frontsheet'!Y70))","v":0},{"$f":"IF(OR('Trust - Frontsheet'!Z70=\"\",'Trust - Frontsheet'!Z70=\"-\"),0,('Trust - Frontsheet'!Z70))","v":0},{"$f":"IF(A58=\"\",\"\",(IF(ISBLANK('Trust - Frontsheet'!F9),\"\",'Trust - Frontsheet'!F9)))","v":""}]
[{"$f":"IF('Trust - Frontsheet'!D71=0,\"\",IF('Trust - Frontsheet'!D71=\"\",\"\",'Trust - Frontsheet'!D71))","v":""},{"$f":"IF(ISBLANK('Trust - Frontsheet'!E71),\"\",'Trust - Frontsheet'!E71)","v":""},{"$f":"IF(ISBLANK('Trust - Frontsheet'!F71),\"\",\"'\" & 'Trust - Frontsheet'!F71 & \"'\")","v":""},{"$f":"IF(ISBLANK('Trust - Frontsheet'!G71),\"\",'Trust - Frontsheet'!G71)","v":""},{"$f":"IF(ISBLANK('Trust - Frontsheet'!H71),\"\",'Trust - Frontsheet'!H71)","v":""},{"$f":"'Trust - Frontsheet'!I71","v":0},{"$f":"'Trust - Frontsheet'!J71","v":0},{"$f":"'Trust - Frontsheet'!K71","v":0},{"$f":"'Trust - Frontsheet'!L71","v":0},{"$f":"'Trust - Frontsheet'!M71","v":0},{"$f":"'Trust - Frontsheet'!N71","v":0},{"$f":"'Trust - Frontsheet'!O71","v":0},{"$f":"'Trust - Frontsheet'!P71","v":0},{"$f":"'Trust - Frontsheet'!Q71","v":0},{"$f":"'Trust - Frontsheet'!R71","v":0},{"$f":"'Trust - Frontsheet'!S71","v":0},{"$f":"'Trust - Frontsheet'!T71","v":0},{"$f":"IF(OR('Trust - Frontsheet'!AA71=\"\",'Trust - Frontsheet'!AA71=\"-\"),0,('Trust - Frontsheet'!AA71))","v":0},{"$f":"IF(OR('Trust - Frontsheet'!AB71=\"\",'Trust - Frontsheet'!AB71=\"-\"),0,('Trust - Frontsheet'!AB71))","v":0},{"$f":"IF(OR('Trust - Frontsheet'!AC71=\"\",'Trust - Frontsheet'!AC71=\"-\"),0,('Trust - Frontsheet'!AC71))","v":0},{"$f":"IF(OR('Trust - Frontsheet'!AD71=\"\",'Trust - Frontsheet'!AD71=\"-\"),0,('Trust - Frontsheet'!AD71))","v":0},{"$f":"IF(OR('Trust - Frontsheet'!AE71=\"\",'Trust - Frontsheet'!AE71=\"-\"),0,('Trust - Frontsheet'!AE71))","v":0},{"$f":"IF(OR('Trust - Frontsheet'!AF71=\"\",'Trust - Frontsheet'!AF71=\"-\"),0,('Trust - Frontsheet'!AF71))","v":0},{"$f":"'Trust - Frontsheet'!U71","v":0},{"$f":"IF(OR('Trust - Frontsheet'!V71=\"\",'Trust - Frontsheet'!V71=\"-\"),0,('Trust - Frontsheet'!V71))","v":0},{"$f":"IF(OR('Trust - Frontsheet'!W71=\"\",'Trust - Frontsheet'!W71=\"-\"),0,('Trust - Frontsheet'!W71))","v":0},{"$f":"IF(OR('Trust - Frontsheet'!X71=\"\",'Trust - Frontsheet'!X71=\"-\"),0,('Trust - Frontsheet'!X71))","v":0},{"$f":"IF(OR('Trust - Frontsheet'!Y71=\"\",'Trust - Frontsheet'!Y71=\"-\"),0,('Trust - Frontsheet'!Y71))","v":0},{"$f":"IF(OR('Trust - Frontsheet'!Z71=\"\",'Trust - Frontsheet'!Z71=\"-\"),0,('Trust - Frontsheet'!Z71))","v":0},{"$f":"IF(A59=\"\",\"\",(IF(ISBLANK('Trust - Frontsheet'!F9),\"\",'Trust - Frontsheet'!F9)))","v":""}]
[{"$f":"IF('Trust - Frontsheet'!D72=0,\"\",IF('Trust - Frontsheet'!D72=\"\",\"\",'Trust - Frontsheet'!D72))","v":""},{"$f":"IF(ISBLANK('Trust - Frontsheet'!E72),\"\",'Trust - Frontsheet'!E72)","v":""},{"$f":"IF(ISBLANK('Trust - Frontsheet'!F72),\"\",\"'\" & 'Trust - Frontsheet'!F72 & \"'\")","v":""},{"$f":"IF(ISBLANK('Trust - Frontsheet'!G72),\"\",'Trust - Frontsheet'!G72)","v":""},{"$f":"IF(ISBLANK('Trust - Frontsheet'!H72),\"\",'Trust - Frontsheet'!H72)","v":""},{"$f":"'Trust - Frontsheet'!I72","v":0},{"$f":"'Trust - Frontsheet'!J72","v":0},{"$f":"'Trust - Frontsheet'!K72","v":0},{"$f":"'Trust - Frontsheet'!L72","v":0},{"$f":"'Trust - Frontsheet'!M72","v":0},{"$f":"'Trust - Frontsheet'!N72","v":0},{"$f":"'Trust - Frontsheet'!O72","v":0},{"$f":"'Trust - Frontsheet'!P72","v":0},{"$f":"'Trust - Frontsheet'!Q72","v":0},{"$f":"'Trust - Frontsheet'!R72","v":0},{"$f":"'Trust - Frontsheet'!S72","v":0},{"$f":"'Trust - Frontsheet'!T72","v":0},{"$f":"IF(OR('Trust - Frontsheet'!AA72=\"\",'Trust - Frontsheet'!AA72=\"-\"),0,('Trust - Frontsheet'!AA72))","v":0},{"$f":"IF(OR('Trust - Frontsheet'!AB72=\"\",'Trust - Frontsheet'!AB72=\"-\"),0,('Trust - Frontsheet'!AB72))","v":0},{"$f":"IF(OR('Trust - Frontsheet'!AC72=\"\",'Trust - Frontsheet'!AC72=\"-\"),0,('Trust - Frontsheet'!AC72))","v":0},{"$f":"IF(OR('Trust - Frontsheet'!AD72=\"\",'Trust - Frontsheet'!AD72=\"-\"),0,('Trust - Frontsheet'!AD72))","v":0},{"$f":"IF(OR('Trust - Frontsheet'!AE72=\"\",'Trust - Frontsheet'!AE72=\"-\"),0,('Trust - Frontsheet'!AE72))","v":0},{"$f":"IF(OR('Trust - Frontsheet'!AF72=\"\",'Trust - Frontsheet'!AF72=\"-\"),0,('Trust - Frontsheet'!AF72))","v":0},{"$f":"'Trust - Frontsheet'!U72","v":0},{"$f":"IF(OR('Trust - Frontsheet'!V72=\"\",'Trust - Frontsheet'!V72=\"-\"),0,('Trust - Frontsheet'!V72))","v":0},{"$f":"IF(OR('Trust - Frontsheet'!W72=\"\",'Trust - Frontsheet'!W72=\"-\"),0,('Trust - Frontsheet'!W72))","v":0},{"$f":"IF(OR('Trust - Frontsheet'!X72=\"\",'Trust - Frontsheet'!X72=\"-\"),0,('Trust - Frontsheet'!X72))","v":0},{"$f":"IF(OR('Trust - Frontsheet'!Y72=\"\",'Trust - Frontsheet'!Y72=\"-\"),0,('Trust - Frontsheet'!Y72))","v":0},{"$f":"IF(OR('Trust - Frontsheet'!Z72=\"\",'Trust - Frontsheet'!Z72=\"-\"),0,('Trust - Frontsheet'!Z72))","v":0},{"$f":"IF(A60=\"\",\"\",(IF(ISBLANK('Trust - Frontsheet'!F9),\"\",'Trust - Frontsheet'!F9)))","v":""}]
[{"$f":"IF('Trust - Frontsheet'!D73=0,\"\",IF('Trust - Frontsheet'!D73=\"\",\"\",'Trust - Frontsheet'!D73))","v":""},{"$f":"IF(ISBLANK('Trust - Frontsheet'!E73),\"\",'Trust - Frontsheet'!E73)","v":""},{"$f":"IF(ISBLANK('Trust - Frontsheet'!F73),\"\",\"'\" & 'Trust - Frontsheet'!F73 & \"'\")","v":""},{"$f":"IF(ISBLANK('Trust - Frontsheet'!G73),\"\",'Trust - Frontsheet'!G73)","v":""},{"$f":"IF(ISBLANK('Trust - Frontsheet'!H73),\"\",'Trust - Frontsheet'!H73)","v":""},{"$f":"'Trust - Frontsheet'!I73","v":0},{"$f":"'Trust - Frontsheet'!J73","v":0},{"$f":"'Trust - Frontsheet'!K73","v":0},{"$f":"'Trust - Frontsheet'!L73","v":0},{"$f":"'Trust - Frontsheet'!M73","v":0},{"$f":"'Trust - Frontsheet'!N73","v":0},{"$f":"'Trust - Frontsheet'!O73","v":0},{"$f":"'Trust - Frontsheet'!P73","v":0},{"$f":"'Trust - Frontsheet'!Q73","v":0},{"$f":"'Trust - Frontsheet'!R73","v":0},{"$f":"'Trust - Frontsheet'!S73","v":0},{"$f":"'Trust - Frontsheet'!T73","v":0},{"$f":"IF(OR('Trust - Frontsheet'!AA73=\"\",'Trust - Frontsheet'!AA73=\"-\"),0,('Trust - Frontsheet'!AA73))","v":0},{"$f":"IF(OR('Trust - Frontsheet'!AB73=\"\",'Trust - Frontsheet'!AB73=\"-\"),0,('Trust - Frontsheet'!AB73))","v":0},{"$f":"IF(OR('Trust - Frontsheet'!AC73=\"\",'Trust - Frontsheet'!AC73=\"-\"),0,('Trust - Frontsheet'!AC73))","v":0},{"$f":"IF(OR('Trust - Frontsheet'!AD73=\"\",'Trust - Frontsheet'!AD73=\"-\"),0,('Trust - Frontsheet'!AD73))","v":0},{"$f":"IF(OR('Trust - Frontsheet'!AE73=\"\",'Trust - Frontsheet'!AE73=\"-\"),0,('Trust - Frontsheet'!AE73))","v":0},{"$f":"IF(OR('Trust - Frontsheet'!AF73=\"\",'Trust - Frontsheet'!AF73=\"-\"),0,('Trust - Frontsheet'!AF73))","v":0},{"$f":"'Trust - Frontsheet'!U73","v":0},{"$f":"IF(OR('Trust - Frontsheet'!V73=\"\",'Trust - Frontsheet'!V73=\"-\"),0,('Trust - Frontsheet'!V73))","v":0},{"$f":"IF(OR('Trust - Frontsheet'!W73=\"\",'Trust - Frontsheet'!W73=\"-\"),0,('Trust - Frontsheet'!W73))","v":0},{"$f":"IF(OR('Trust - Frontsheet'!X73=\"\",'Trust - Frontsheet'!X73=\"-\"),0,('Trust - Frontsheet'!X73))","v":0},{"$f":"IF(OR('Trust - Frontsheet'!Y73=\"\",'Trust - Frontsheet'!Y73=\"-\"),0,('Trust - Frontsheet'!Y73))","v":0},{"$f":"IF(OR('Trust - Frontsheet'!Z73=\"\",'Trust - Frontsheet'!Z73=\"-\"),0,('Trust - Frontsheet'!Z73))","v":0},{"$f":"IF(A61=\"\",\"\",(IF(ISBLANK('Trust - Frontsheet'!F9),\"\",'Trust - Frontsheet'!F9)))","v":""}]
[{"$f":"IF('Trust - Frontsheet'!D74=0,\"\",IF('Trust - Frontsheet'!D74=\"\",\"\",'Trust - Frontsheet'!D74))","v":""},{"$f":"IF(ISBLANK('Trust - Frontsheet'!E74),\"\",'Trust - Frontsheet'!E74)","v":""},{"$f":"IF(ISBLANK('Trust - Frontsheet'!F74),\"\",\"'\" & 'Trust - Frontsheet'!F74 & \"'\")","v":""},{"$f":"IF(ISBLANK('Trust - Frontsheet'!G74),\"\",'Trust - Frontsheet'!G74)","v":""},{"$f":"IF(ISBLANK('Trust - Frontsheet'!H74),\"\",'Trust - Frontsheet'!H74)","v":""},{"$f":"'Trust - Frontsheet'!I74","v":0},{"$f":"'Trust - Frontsheet'!J74","v":0},{"$f":"'Trust - Frontsheet'!K74","v":0},{"$f":"'Trust - Frontsheet'!L74","v":0},{"$f":"'Trust - Frontsheet'!M74","v":0},{"$f":"'Trust - Frontsheet'!N74","v":0},{"$f":"'Trust - Frontsheet'!O74","v":0},{"$f":"'Trust - Frontsheet'!P74","v":0},{"$f":"'Trust - Frontsheet'!Q74","v":0},{"$f":"'Trust - Frontsheet'!R74","v":0},{"$f":"'Trust - Frontsheet'!S74","v":0},{"$f":"'Trust - Frontsheet'!T74","v":0},{"$f":"IF(OR('Trust - Frontsheet'!AA74=\"\",'Trust - Frontsheet'!AA74=\"-\"),0,('Trust - Frontsheet'!AA74))","v":0},{"$f":"IF(OR('Trust - Frontsheet'!AB74=\"\",'Trust - Frontsheet'!AB74=\"-\"),0,('Trust - Frontsheet'!AB74))","v":0},{"$f":"IF(OR('Trust - Frontsheet'!AC74=\"\",'Trust - Frontsheet'!AC74=\"-\"),0,('Trust - Frontsheet'!AC74))","v":0},{"$f":"IF(OR('Trust - Frontsheet'!AD74=\"\",'Trust - Frontsheet'!AD74=\"-\"),0,('Trust - Frontsheet'!AD74))","v":0},{"$f":"IF(OR('Trust - Frontsheet'!AE74=\"\",'Trust - Frontsheet'!AE74=\"-\"),0,('Trust - Frontsheet'!AE74))","v":0},{"$f":"IF(OR('Trust - Frontsheet'!AF74=\"\",'Trust - Frontsheet'!AF74=\"-\"),0,('Trust - Frontsheet'!AF74))","v":0},{"$f":"'Trust - Frontsheet'!U74","v":0},{"$f":"IF(OR('Trust - Frontsheet'!V74=\"\",'Trust - Frontsheet'!V74=\"-\"),0,('Trust - Frontsheet'!V74))","v":0},{"$f":"IF(OR('Trust - Frontsheet'!W74=\"\",'Trust - Frontsheet'!W74=\"-\"),0,('Trust - Frontsheet'!W74))","v":0},{"$f":"IF(OR('Trust - Frontsheet'!X74=\"\",'Trust - Frontsheet'!X74=\"-\"),0,('Trust - Frontsheet'!X74))","v":0},{"$f":"IF(OR('Trust - Frontsheet'!Y74=\"\",'Trust - Frontsheet'!Y74=\"-\"),0,('Trust - Frontsheet'!Y74))","v":0},{"$f":"IF(OR('Trust - Frontsheet'!Z74=\"\",'Trust - Frontsheet'!Z74=\"-\"),0,('Trust - Frontsheet'!Z74))","v":0},{"$f":"IF(A62=\"\",\"\",(IF(ISBLANK('Trust - Frontsheet'!F9),\"\",'Trust - Frontsheet'!F9)))","v":""}]
[{"$f":"IF('Trust - Frontsheet'!D75=0,\"\",IF('Trust - Frontsheet'!D75=\"\",\"\",'Trust - Frontsheet'!D75))","v":""},{"$f":"IF(ISBLANK('Trust - Frontsheet'!E75),\"\",'Trust - Frontsheet'!E75)","v":""},{"$f":"IF(ISBLANK('Trust - Frontsheet'!F75),\"\",\"'\" & 'Trust - Frontsheet'!F75 & \"'\")","v":""},{"$f":"IF(ISBLANK('Trust - Frontsheet'!G75),\"\",'Trust - Frontsheet'!G75)","v":""},{"$f":"IF(ISBLANK('Trust - Frontsheet'!H75),\"\",'Trust - Frontsheet'!H75)","v":""},{"$f":"'Trust - Frontsheet'!I75","v":0},{"$f":"'Trust - Frontsheet'!J75","v":0},{"$f":"'Trust - Frontsheet'!K75","v":0},{"$f":"'Trust - Frontsheet'!L75","v":0},{"$f":"'Trust - Frontsheet'!M75","v":0},{"$f":"'Trust - Frontsheet'!N75","v":0},{"$f":"'Trust - Frontsheet'!O75","v":0},{"$f":"'Trust - Frontsheet'!P75","v":0},{"$f":"'Trust - Frontsheet'!Q75","v":0},{"$f":"'Trust - Frontsheet'!R75","v":0},{"$f":"'Trust - Frontsheet'!S75","v":0},{"$f":"'Trust - Frontsheet'!T75","v":0},{"$f":"IF(OR('Trust - Frontsheet'!AA75=\"\",'Trust - Frontsheet'!AA75=\"-\"),0,('Trust - Frontsheet'!AA75))","v":0},{"$f":"IF(OR('Trust - Frontsheet'!AB75=\"\",'Trust - Frontsheet'!AB75=\"-\"),0,('Trust - Frontsheet'!AB75))","v":0},{"$f":"IF(OR('Trust - Frontsheet'!AC75=\"\",'Trust - Frontsheet'!AC75=\"-\"),0,('Trust - Frontsheet'!AC75))","v":0},{"$f":"IF(OR('Trust - Frontsheet'!AD75=\"\",'Trust - Frontsheet'!AD75=\"-\"),0,('Trust - Frontsheet'!AD75))","v":0},{"$f":"IF(OR('Trust - Frontsheet'!AE75=\"\",'Trust - Frontsheet'!AE75=\"-\"),0,('Trust - Frontsheet'!AE75))","v":0},{"$f":"IF(OR('Trust - Frontsheet'!AF75=\"\",'Trust - Frontsheet'!AF75=\"-\"),0,('Trust - Frontsheet'!AF75))","v":0},{"$f":"'Trust - Frontsheet'!U75","v":0},{"$f":"IF(OR('Trust - Frontsheet'!V75=\"\",'Trust - Frontsheet'!V75=\"-\"),0,('Trust - Frontsheet'!V75))","v":0},{"$f":"IF(OR('Trust - Frontsheet'!W75=\"\",'Trust - Frontsheet'!W75=\"-\"),0,('Trust - Frontsheet'!W75))","v":0},{"$f":"IF(OR('Trust - Frontsheet'!X75=\"\",'Trust - Frontsheet'!X75=\"-\"),0,('Trust - Frontsheet'!X75))","v":0},{"$f":"IF(OR('Trust - Frontsheet'!Y75=\"\",'Trust - Frontsheet'!Y75=\"-\"),0,('Trust - Frontsheet'!Y75))","v":0},{"$f":"IF(OR('Trust - Frontsheet'!Z75=\"\",'Trust - Frontsheet'!Z75=\"-\"),0,('Trust - Frontsheet'!Z75))","v":0},{"$f":"IF(A63=\"\",\"\",(IF(ISBLANK('Trust - Frontsheet'!F9),\"\",'Trust - Frontsheet'!F9)))","v":""}]
[{"$f":"IF('Trust - Frontsheet'!D76=0,\"\",IF('Trust - Frontsheet'!D76=\"\",\"\",'Trust - Frontsheet'!D76))","v":""},{"$f":"IF(ISBLANK('Trust - Frontsheet'!E76),\"\",'Trust - Frontsheet'!E76)","v":""},{"$f":"IF(ISBLANK('Trust - Frontsheet'!F76),\"\",\"'\" & 'Trust - Frontsheet'!F76 & \"'\")","v":""},{"$f":"IF(ISBLANK('Trust - Frontsheet'!G76),\"\",'Trust - Frontsheet'!G76)","v":""},{"$f":"IF(ISBLANK('Trust - Frontsheet'!H76),\"\",'Trust - Frontsheet'!H76)","v":""},{"$f":"'Trust - Frontsheet'!I76","v":0},{"$f":"'Trust - Frontsheet'!J76","v":0},{"$f":"'Trust - Frontsheet'!K76","v":0},{"$f":"'Trust - Frontsheet'!L76","v":0},{"$f":"'Trust - Frontsheet'!M76","v":0},{"$f":"'Trust - Frontsheet'!N76","v":0},{"$f":"'Trust - Frontsheet'!O76","v":0},{"$f":"'Trust - Frontsheet'!P76","v":0},{"$f":"'Trust - Frontsheet'!Q76","v":0},{"$f":"'Trust - Frontsheet'!R76","v":0},{"$f":"'Trust - Frontsheet'!S76","v":0},{"$f":"'Trust - Frontsheet'!T76","v":0},{"$f":"IF(OR('Trust - Frontsheet'!AA76=\"\",'Trust - Frontsheet'!AA76=\"-\"),0,('Trust - Frontsheet'!AA76))","v":0},{"$f":"IF(OR('Trust - Frontsheet'!AB76=\"\",'Trust - Frontsheet'!AB76=\"-\"),0,('Trust - Frontsheet'!AB76))","v":0},{"$f":"IF(OR('Trust - Frontsheet'!AC76=\"\",'Trust - Frontsheet'!AC76=\"-\"),0,('Trust - Frontsheet'!AC76))","v":0},{"$f":"IF(OR('Trust - Frontsheet'!AD76=\"\",'Trust - Frontsheet'!AD76=\"-\"),0,('Trust - Frontsheet'!AD76))","v":0},{"$f":"IF(OR('Trust - Frontsheet'!AE76=\"\",'Trust - Frontsheet'!AE76=\"-\"),0,('Trust - Frontsheet'!AE76))","v":0},{"$f":"IF(OR('Trust - Frontsheet'!AF76=\"\",'Trust - Frontsheet'!AF76=\"-\"),0,('Trust - Frontsheet'!AF76))","v":0},{"$f":"'Trust - Frontsheet'!U76","v":0},{"$f":"IF(OR('Trust - Frontsheet'!V76=\"\",'Trust - Frontsheet'!V76=\"-\"),0,('Trust - Frontsheet'!V76))","v":0},{"$f":"IF(OR('Trust - Frontsheet'!W76=\"\",'Trust - Frontsheet'!W76=\"-\"),0,('Trust - Frontsheet'!W76))","v":0},{"$f":"IF(OR('Trust - Frontsheet'!X76=\"\",'Trust - Frontsheet'!X76=\"-\"),0,('Trust - Frontsheet'!X76))","v":0},{"$f":"IF(OR('Trust - Frontsheet'!Y76=\"\",'Trust - Frontsheet'!Y76=\"-\"),0,('Trust - Frontsheet'!Y76))","v":0},{"$f":"IF(OR('Trust - Frontsheet'!Z76=\"\",'Trust - Frontsheet'!Z76=\"-\"),0,('Trust - Frontsheet'!Z76))","v":0},{"$f":"IF(A64=\"\",\"\",(IF(ISBLANK('Trust - Frontsheet'!F9),\"\",'Trust - Frontsheet'!F9)))","v":""}]
[{"$f":"IF('Trust - Frontsheet'!D77=0,\"\",IF('Trust - Frontsheet'!D77=\"\",\"\",'Trust - Frontsheet'!D77))","v":""},{"$f":"IF(ISBLANK('Trust - Frontsheet'!E77),\"\",'Trust - Frontsheet'!E77)","v":""},{"$f":"IF(ISBLANK('Trust - Frontsheet'!F77),\"\",\"'\" & 'Trust - Frontsheet'!F77 & \"'\")","v":""},{"$f":"IF(ISBLANK('Trust - Frontsheet'!G77),\"\",'Trust - Frontsheet'!G77)","v":""},{"$f":"IF(ISBLANK('Trust - Frontsheet'!H77),\"\",'Trust - Frontsheet'!H77)","v":""},{"$f":"'Trust - Frontsheet'!I77","v":0},{"$f":"'Trust - Frontsheet'!J77","v":0},{"$f":"'Trust - Frontsheet'!K77","v":0},{"$f":"'Trust - Frontsheet'!L77","v":0},{"$f":"'Trust - Frontsheet'!M77","v":0},{"$f":"'Trust - Frontsheet'!N77","v":0},{"$f":"'Trust - Frontsheet'!O77","v":0},{"$f":"'Trust - Frontsheet'!P77","v":0},{"$f":"'Trust - Frontsheet'!Q77","v":0},{"$f":"'Trust - Frontsheet'!R77","v":0},{"$f":"'Trust - Frontsheet'!S77","v":0},{"$f":"'Trust - Frontsheet'!T77","v":0},{"$f":"IF(OR('Trust - Frontsheet'!AA77=\"\",'Trust - Frontsheet'!AA77=\"-\"),0,('Trust - Frontsheet'!AA77))","v":0},{"$f":"IF(OR('Trust - Frontsheet'!AB77=\"\",'Trust - Frontsheet'!AB77=\"-\"),0,('Trust - Frontsheet'!AB77))","v":0},{"$f":"IF(OR('Trust - Frontsheet'!AC77=\"\",'Trust - Frontsheet'!AC77=\"-\"),0,('Trust - Frontsheet'!AC77))","v":0},{"$f":"IF(OR('Trust - Frontsheet'!AD77=\"\",'Trust - Frontsheet'!AD77=\"-\"),0,('Trust - Frontsheet'!AD77))","v":0},{"$f":"IF(OR('Trust - Frontsheet'!AE77=\"\",'Trust - Frontsheet'!AE77=\"-\"),0,('Trust - Frontsheet'!AE77))","v":0},{"$f":"IF(OR('Trust - Frontsheet'!AF77=\"\",'Trust - Frontsheet'!AF77=\"-\"),0,('Trust - Frontsheet'!AF77))","v":0},{"$f":"'Trust - Frontsheet'!U77","v":0},{"$f":"IF(OR('Trust - Frontsheet'!V77=\"\",'Trust - Frontsheet'!V77=\"-\"),0,('Trust - Frontsheet'!V77))","v":0},{"$f":"IF(OR('Trust - Frontsheet'!W77=\"\",'Trust - Frontsheet'!W77=\"-\"),0,('Trust - Frontsheet'!W77))","v":0},{"$f":"IF(OR('Trust - Frontsheet'!X77=\"\",'Trust - Frontsheet'!X77=\"-\"),0,('Trust - Frontsheet'!X77))","v":0},{"$f":"IF(OR('Trust - Frontsheet'!Y77=\"\",'Trust - Frontsheet'!Y77=\"-\"),0,('Trust - Frontsheet'!Y77))","v":0},{"$f":"IF(OR('Trust - Frontsheet'!Z77=\"\",'Trust - Frontsheet'!Z77=\"-\"),0,('Trust - Frontsheet'!Z77))","v":0},{"$f":"IF(A65=\"\",\"\",(IF(ISBLANK('Trust - Frontsheet'!F9),\"\",'Trust - Frontsheet'!F9)))","v":""}]
[{"$f":"IF('Trust - Frontsheet'!D78=0,\"\",IF('Trust - Frontsheet'!D78=\"\",\"\",'Trust - Frontsheet'!D78))","v":""},{"$f":"IF(ISBLANK('Trust - Frontsheet'!E78),\"\",'Trust - Frontsheet'!E78)","v":""},{"$f":"IF(ISBLANK('Trust - Frontsheet'!F78),\"\",\"'\" & 'Trust - Frontsheet'!F78 & \"'\")","v":""},{"$f":"IF(ISBLANK('Trust - Frontsheet'!G78),\"\",'Trust - Frontsheet'!G78)","v":""},{"$f":"IF(ISBLANK('Trust - Frontsheet'!H78),\"\",'Trust - Frontsheet'!H78)","v":""},{"$f":"'Trust - Frontsheet'!I78","v":0},{"$f":"'Trust - Frontsheet'!J78","v":0},{"$f":"'Trust - Frontsheet'!K78","v":0},{"$f":"'Trust - Frontsheet'!L78","v":0},{"$f":"'Trust - Frontsheet'!M78","v":0},{"$f":"'Trust - Frontsheet'!N78","v":0},{"$f":"'Trust - Frontsheet'!O78","v":0},{"$f":"'Trust - Frontsheet'!P78","v":0},{"$f":"'Trust - Frontsheet'!Q78","v":0},{"$f":"'Trust - Frontsheet'!R78","v":0},{"$f":"'Trust - Frontsheet'!S78","v":0},{"$f":"'Trust - Frontsheet'!T78","v":0},{"$f":"IF(OR('Trust - Frontsheet'!AA78=\"\",'Trust - Frontsheet'!AA78=\"-\"),0,('Trust - Frontsheet'!AA78))","v":0},{"$f":"IF(OR('Trust - Frontsheet'!AB78=\"\",'Trust - Frontsheet'!AB78=\"-\"),0,('Trust - Frontsheet'!AB78))","v":0},{"$f":"IF(OR('Trust - Frontsheet'!AC78=\"\",'Trust - Frontsheet'!AC78=\"-\"),0,('Trust - Frontsheet'!AC78))","v":0},{"$f":"IF(OR('Trust - Frontsheet'!AD78=\"\",'Trust - Frontsheet'!AD78=\"-\"),0,('Trust - Frontsheet'!AD78))","v":0},{"$f":"IF(OR('Trust - Frontsheet'!AE78=\"\",'Trust - Frontsheet'!AE78=\"-\"),0,('Trust - Frontsheet'!AE78))","v":0},{"$f":"IF(OR('Trust - Frontsheet'!AF78=\"\",'Trust - Frontsheet'!AF78=\"-\"),0,('Trust - Frontsheet'!AF78))","v":0},{"$f":"'Trust - Frontsheet'!U78","v":0},{"$f":"IF(OR('Trust - Frontsheet'!V78=\"\",'Trust - Frontsheet'!V78=\"-\"),0,('Trust - Frontsheet'!V78))","v":0},{"$f":"IF(OR('Trust - Frontsheet'!W78=\"\",'Trust - Frontsheet'!W78=\"-\"),0,('Trust - Frontsheet'!W78))","v":0},{"$f":"IF(OR('Trust - Frontsheet'!X78=\"\",'Trust - Frontsheet'!X78=\"-\"),0,('Trust - Frontsheet'!X78))","v":0},{"$f":"IF(OR('Trust - Frontsheet'!Y78=\"\",'Trust - Frontsheet'!Y78=\"-\"),0,('Trust - Frontsheet'!Y78))","v":0},{"$f":"IF(OR('Trust - Frontsheet'!Z78=\"\",'Trust - Frontsheet'!Z78=\"-\"),0,('Trust - Frontsheet'!Z78))","v":0},{"$f":"IF(A66=\"\",\"\",(IF(ISBLANK('Trust - Frontsheet'!F9),\"\",'Trust - Frontsheet'!F9)))","v":""}]
[{"$f":"IF('Trust - Frontsheet'!D79=0,\"\",IF('Trust - Frontsheet'!D79=\"\",\"\",'Trust - Frontsheet'!D79))","v":""},{"$f":"IF(ISBLANK('Trust - Frontsheet'!E79),\"\",'Trust - Frontsheet'!E79)","v":""},{"$f":"IF(ISBLANK('Trust - Frontsheet'!F79),\"\",\"'\" & 'Trust - Frontsheet'!F79 & \"'\")","v":""},{"$f":"IF(ISBLANK('Trust - Frontsheet'!G79),\"\",'Trust - Frontsheet'!G79)","v":""},{"$f":"IF(ISBLANK('Trust - Frontsheet'!H79),\"\",'Trust - Frontsheet'!H79)","v":""},{"$f":"'Trust - Frontsheet'!I79","v":0},{"$f":"'Trust - Frontsheet'!J79","v":0},{"$f":"'Trust - Frontsheet'!K79","v":0},{"$f":"'Trust - Frontsheet'!L79","v":0},{"$f":"'Trust - Frontsheet'!M79","v":0},{"$f":"'Trust - Frontsheet'!N79","v":0},{"$f":"'Trust - Frontsheet'!O79","v":0},{"$f":"'Trust - Frontsheet'!P79","v":0},{"$f":"'Trust - Frontsheet'!Q79","v":0},{"$f":"'Trust - Frontsheet'!R79","v":0},{"$f":"'Trust - Frontsheet'!S79","v":0},{"$f":"'Trust - Frontsheet'!T79","v":0},{"$f":"IF(OR('Trust - Frontsheet'!AA79=\"\",'Trust - Frontsheet'!AA79=\"-\"),0,('Trust - Frontsheet'!AA79))","v":0},{"$f":"IF(OR('Trust - Frontsheet'!AB79=\"\",'Trust - Frontsheet'!AB79=\"-\"),0,('Trust - Frontsheet'!AB79))","v":0},{"$f":"IF(OR('Trust - Frontsheet'!AC79=\"\",'Trust - Frontsheet'!AC79=\"-\"),0,('Trust - Frontsheet'!AC79))","v":0},{"$f":"IF(OR('Trust - Frontsheet'!AD79=\"\",'Trust - Frontsheet'!AD79=\"-\"),0,('Trust - Frontsheet'!AD79))","v":0},{"$f":"IF(OR('Trust - Frontsheet'!AE79=\"\",'Trust - Frontsheet'!AE79=\"-\"),0,('Trust - Frontsheet'!AE79))","v":0},{"$f":"IF(OR('Trust - Frontsheet'!AF79=\"\",'Trust - Frontsheet'!AF79=\"-\"),0,('Trust - Frontsheet'!AF79))","v":0},{"$f":"'Trust - Frontsheet'!U79","v":0},{"$f":"IF(OR('Trust - Frontsheet'!V79=\"\",'Trust - Frontsheet'!V79=\"-\"),0,('Trust - Frontsheet'!V79))","v":0},{"$f":"IF(OR('Trust - Frontsheet'!W79=\"\",'Trust - Frontsheet'!W79=\"-\"),0,('Trust - Frontsheet'!W79))","v":0},{"$f":"IF(OR('Trust - Frontsheet'!X79=\"\",'Trust - Frontsheet'!X79=\"-\"),0,('Trust - Frontsheet'!X79))","v":0},{"$f":"IF(OR('Trust - Frontsheet'!Y79=\"\",'Trust - Frontsheet'!Y79=\"-\"),0,('Trust - Frontsheet'!Y79))","v":0},{"$f":"IF(OR('Trust - Frontsheet'!Z79=\"\",'Trust - Frontsheet'!Z79=\"-\"),0,('Trust - Frontsheet'!Z79))","v":0},{"$f":"IF(A67=\"\",\"\",(IF(ISBLANK('Trust - Frontsheet'!F9),\"\",'Trust - Frontsheet'!F9)))","v":""}]
[{"$f":"IF('Trust - Frontsheet'!D80=0,\"\",IF('Trust - Frontsheet'!D80=\"\",\"\",'Trust - Frontsheet'!D80))","v":""},{"$f":"IF(ISBLANK('Trust - Frontsheet'!E80),\"\",'Trust - Frontsheet'!E80)","v":""},{"$f":"IF(ISBLANK('Trust - Frontsheet'!F80),\"\",\"'\" & 'Trust - Frontsheet'!F80 & \"'\")","v":""},{"$f":"IF(ISBLANK('Trust - Frontsheet'!G80),\"\",'Trust - Frontsheet'!G80)","v":""},{"$f":"IF(ISBLANK('Trust - Frontsheet'!H80),\"\",'Trust - Frontsheet'!H80)","v":""},{"$f":"'Trust - Frontsheet'!I80","v":0},{"$f":"'Trust - Frontsheet'!J80","v":0},{"$f":"'Trust - Frontsheet'!K80","v":0},{"$f":"'Trust - Frontsheet'!L80","v":0},{"$f":"'Trust - Frontsheet'!M80","v":0},{"$f":"'Trust - Frontsheet'!N80","v":0},{"$f":"'Trust - Frontsheet'!O80","v":0},{"$f":"'Trust - Frontsheet'!P80","v":0},{"$f":"'Trust - Frontsheet'!Q80","v":0},{"$f":"'Trust - Frontsheet'!R80","v":0},{"$f":"'Trust - Frontsheet'!S80","v":0},{"$f":"'Trust - Frontsheet'!T80","v":0},{"$f":"IF(OR('Trust - Frontsheet'!AA80=\"\",'Trust - Frontsheet'!AA80=\"-\"),0,('Trust - Frontsheet'!AA80))","v":0},{"$f":"IF(OR('Trust - Frontsheet'!AB80=\"\",'Trust - Frontsheet'!AB80=\"-\"),0,('Trust - Frontsheet'!AB80))","v":0},{"$f":"IF(OR('Trust - Frontsheet'!AC80=\"\",'Trust - Frontsheet'!AC80=\"-\"),0,('Trust - Frontsheet'!AC80))","v":0},{"$f":"IF(OR('Trust - Frontsheet'!AD80=\"\",'Trust - Frontsheet'!AD80=\"-\"),0,('Trust - Frontsheet'!AD80))","v":0},{"$f":"IF(OR('Trust - Frontsheet'!AE80=\"\",'Trust - Frontsheet'!AE80=\"-\"),0,('Trust - Frontsheet'!AE80))","v":0},{"$f":"IF(OR('Trust - Frontsheet'!AF80=\"\",'Trust - Frontsheet'!AF80=\"-\"),0,('Trust - Frontsheet'!AF80))","v":0},{"$f":"'Trust - Frontsheet'!U80","v":0},{"$f":"IF(OR('Trust - Frontsheet'!V80=\"\",'Trust - Frontsheet'!V80=\"-\"),0,('Trust - Frontsheet'!V80))","v":0},{"$f":"IF(OR('Trust - Frontsheet'!W80=\"\",'Trust - Frontsheet'!W80=\"-\"),0,('Trust - Frontsheet'!W80))","v":0},{"$f":"IF(OR('Trust - Frontsheet'!X80=\"\",'Trust - Frontsheet'!X80=\"-\"),0,('Trust - Frontsheet'!X80))","v":0},{"$f":"IF(OR('Trust - Frontsheet'!Y80=\"\",'Trust - Frontsheet'!Y80=\"-\"),0,('Trust - Frontsheet'!Y80))","v":0},{"$f":"IF(OR('Trust - Frontsheet'!Z80=\"\",'Trust - Frontsheet'!Z80=\"-\"),0,('Trust - Frontsheet'!Z80))","v":0},{"$f":"IF(A68=\"\",\"\",(IF(ISBLANK('Trust - Frontsheet'!F9),\"\",'Trust - Frontsheet'!F9)))","v":""}]
[{"$f":"IF('Trust - Frontsheet'!D81=0,\"\",IF('Trust - Frontsheet'!D81=\"\",\"\",'Trust - Frontsheet'!D81))","v":""},{"$f":"IF(ISBLANK('Trust - Frontsheet'!E81),\"\",'Trust - Frontsheet'!E81)","v":""},{"$f":"IF(ISBLANK('Trust - Frontsheet'!F81),\"\",\"'\" & 'Trust - Frontsheet'!F81 & \"'\")","v":""},{"$f":"IF(ISBLANK('Trust - Frontsheet'!G81),\"\",'Trust - Frontsheet'!G81)","v":""},{"$f":"IF(ISBLANK('Trust - Frontsheet'!H81),\"\",'Trust - Frontsheet'!H81)","v":""},{"$f":"'Trust - Frontsheet'!I81","v":0},{"$f":"'Trust - Frontsheet'!J81","v":0},{"$f":"'Trust - Frontsheet'!K81","v":0},{"$f":"'Trust - Frontsheet'!L81","v":0},{"$f":"'Trust - Frontsheet'!M81","v":0},{"$f":"'Trust - Frontsheet'!N81","v":0},{"$f":"'Trust - Frontsheet'!O81","v":0},{"$f":"'Trust - Frontsheet'!P81","v":0},{"$f":"'Trust - Frontsheet'!Q81","v":0},{"$f":"'Trust - Frontsheet'!R81","v":0},{"$f":"'Trust - Frontsheet'!S81","v":0},{"$f":"'Trust - Frontsheet'!T81","v":0},{"$f":"IF(OR('Trust - Frontsheet'!AA81=\"\",'Trust - Frontsheet'!AA81=\"-\"),0,('Trust - Frontsheet'!AA81))","v":0},{"$f":"IF(OR('Trust - Frontsheet'!AB81=\"\",'Trust - Frontsheet'!AB81=\"-\"),0,('Trust - Frontsheet'!AB81))","v":0},{"$f":"IF(OR('Trust - Frontsheet'!AC81=\"\",'Trust - Frontsheet'!AC81=\"-\"),0,('Trust - Frontsheet'!AC81))","v":0},{"$f":"IF(OR('Trust - Frontsheet'!AD81=\"\",'Trust - Frontsheet'!AD81=\"-\"),0,('Trust - Frontsheet'!AD81))","v":0},{"$f":"IF(OR('Trust - Frontsheet'!AE81=\"\",'Trust - Frontsheet'!AE81=\"-\"),0,('Trust - Frontsheet'!AE81))","v":0},{"$f":"IF(OR('Trust - Frontsheet'!AF81=\"\",'Trust - Frontsheet'!AF81=\"-\"),0,('Trust - Frontsheet'!AF81))","v":0},{"$f":"'Trust - Frontsheet'!U81","v":0},{"$f":"IF(OR('Trust - Frontsheet'!V81=\"\",'Trust - Frontsheet'!V81=\"-\"),0,('Trust - Frontsheet'!V81))","v":0},{"$f":"IF(OR('Trust - Frontsheet'!W81=\"\",'Trust - Frontsheet'!W81=\"-\"),0,('Trust - Frontsheet'!W81))","v":0},{"$f":"IF(OR('Trust - Frontsheet'!X81=\"\",'Trust - Frontsheet'!X81=\"-\"),0,('Trust - Frontsheet'!X81))","v":0},{"$f":"IF(OR('Trust - Frontsheet'!Y81=\"\",'Trust - Frontsheet'!Y81=\"-\"),0,('Trust - Frontsheet'!Y81))","v":0},{"$f":"IF(OR('Trust - Frontsheet'!Z81=\"\",'Trust - Frontsheet'!Z81=\"-\"),0,('Trust - Frontsheet'!Z81))","v":0},{"$f":"IF(A69=\"\",\"\",(IF(ISBLANK('Trust - Frontsheet'!F9),\"\",'Trust - Frontsheet'!F9)))","v":""}]
[{"$f":"IF('Trust - Frontsheet'!D82=0,\"\",IF('Trust - Frontsheet'!D82=\"\",\"\",'Trust - Frontsheet'!D82))","v":""},{"$f":"IF(ISBLANK('Trust - Frontsheet'!E82),\"\",'Trust - Frontsheet'!E82)","v":""},{"$f":"IF(ISBLANK('Trust - Frontsheet'!F82),\"\",\"'\" & 'Trust - Frontsheet'!F82 & \"'\")","v":""},{"$f":"IF(ISBLANK('Trust - Frontsheet'!G82),\"\",'Trust - Frontsheet'!G82)","v":""},{"$f":"IF(ISBLANK('Trust - Frontsheet'!H82),\"\",'Trust - Frontsheet'!H82)","v":""},{"$f":"'Trust - Frontsheet'!I82","v":0},{"$f":"'Trust - Frontsheet'!J82","v":0},{"$f":"'Trust - Frontsheet'!K82","v":0},{"$f":"'Trust - Frontsheet'!L82","v":0},{"$f":"'Trust - Frontsheet'!M82","v":0},{"$f":"'Trust - Frontsheet'!N82","v":0},{"$f":"'Trust - Frontsheet'!O82","v":0},{"$f":"'Trust - Frontsheet'!P82","v":0},{"$f":"'Trust - Frontsheet'!Q82","v":0},{"$f":"'Trust - Frontsheet'!R82","v":0},{"$f":"'Trust - Frontsheet'!S82","v":0},{"$f":"'Trust - Frontsheet'!T82","v":0},{"$f":"IF(OR('Trust - Frontsheet'!AA82=\"\",'Trust - Frontsheet'!AA82=\"-\"),0,('Trust - Frontsheet'!AA82))","v":0},{"$f":"IF(OR('Trust - Frontsheet'!AB82=\"\",'Trust - Frontsheet'!AB82=\"-\"),0,('Trust - Frontsheet'!AB82))","v":0},{"$f":"IF(OR('Trust - Frontsheet'!AC82=\"\",'Trust - Frontsheet'!AC82=\"-\"),0,('Trust - Frontsheet'!AC82))","v":0},{"$f":"IF(OR('Trust - Frontsheet'!AD82=\"\",'Trust - Frontsheet'!AD82=\"-\"),0,('Trust - Frontsheet'!AD82))","v":0},{"$f":"IF(OR('Trust - Frontsheet'!AE82=\"\",'Trust - Frontsheet'!AE82=\"-\"),0,('Trust - Frontsheet'!AE82))","v":0},{"$f":"IF(OR('Trust - Frontsheet'!AF82=\"\",'Trust - Frontsheet'!AF82=\"-\"),0,('Trust - Frontsheet'!AF82))","v":0},{"$f":"'Trust - Frontsheet'!U82","v":0},{"$f":"IF(OR('Trust - Frontsheet'!V82=\"\",'Trust - Frontsheet'!V82=\"-\"),0,('Trust - Frontsheet'!V82))","v":0},{"$f":"IF(OR('Trust - Frontsheet'!W82=\"\",'Trust - Frontsheet'!W82=\"-\"),0,('Trust - Frontsheet'!W82))","v":0},{"$f":"IF(OR('Trust - Frontsheet'!X82=\"\",'Trust - Frontsheet'!X82=\"-\"),0,('Trust - Frontsheet'!X82))","v":0},{"$f":"IF(OR('Trust - Frontsheet'!Y82=\"\",'Trust - Frontsheet'!Y82=\"-\"),0,('Trust - Frontsheet'!Y82))","v":0},{"$f":"IF(OR('Trust - Frontsheet'!Z82=\"\",'Trust - Frontsheet'!Z82=\"-\"),0,('Trust - Frontsheet'!Z82))","v":0},{"$f":"IF(A70=\"\",\"\",(IF(ISBLANK('Trust - Frontsheet'!F9),\"\",'Trust - Frontsheet'!F9)))","v":""}]
[{"$f":"IF('Trust - Frontsheet'!D83=0,\"\",IF('Trust - Frontsheet'!D83=\"\",\"\",'Trust - Frontsheet'!D83))","v":""},{"$f":"IF(ISBLANK('Trust - Frontsheet'!E83),\"\",'Trust - Frontsheet'!E83)","v":""},{"$f":"IF(ISBLANK('Trust - Frontsheet'!F83),\"\",\"'\" & 'Trust - Frontsheet'!F83 & \"'\")","v":""},{"$f":"IF(ISBLANK('Trust - Frontsheet'!G83),\"\",'Trust - Frontsheet'!G83)","v":""},{"$f":"IF(ISBLANK('Trust - Frontsheet'!H83),\"\",'Trust - Frontsheet'!H83)","v":""},{"$f":"'Trust - Frontsheet'!I83","v":0},{"$f":"'Trust - Frontsheet'!J83","v":0},{"$f":"'Trust - Frontsheet'!K83","v":0},{"$f":"'Trust - Frontsheet'!L83","v":0},{"$f":"'Trust - Frontsheet'!M83","v":0},{"$f":"'Trust - Frontsheet'!N83","v":0},{"$f":"'Trust - Frontsheet'!O83","v":0},{"$f":"'Trust - Frontsheet'!P83","v":0},{"$f":"'Trust - Frontsheet'!Q83","v":0},{"$f":"'Trust - Frontsheet'!R83","v":0},{"$f":"'Trust - Frontsheet'!S83","v":0},{"$f":"'Trust - Frontsheet'!T83","v":0},{"$f":"IF(OR('Trust - Frontsheet'!AA83=\"\",'Trust - Frontsheet'!AA83=\"-\"),0,('Trust - Frontsheet'!AA83))","v":0},{"$f":"IF(OR('Trust - Frontsheet'!AB83=\"\",'Trust - Frontsheet'!AB83=\"-\"),0,('Trust - Frontsheet'!AB83))","v":0},{"$f":"IF(OR('Trust - Frontsheet'!AC83=\"\",'Trust - Frontsheet'!AC83=\"-\"),0,('Trust - Frontsheet'!AC83))","v":0},{"$f":"IF(OR('Trust - Frontsheet'!AD83=\"\",'Trust - Frontsheet'!AD83=\"-\"),0,('Trust - Frontsheet'!AD83))","v":0},{"$f":"IF(OR('Trust - Frontsheet'!AE83=\"\",'Trust - Frontsheet'!AE83=\"-\"),0,('Trust - Frontsheet'!AE83))","v":0},{"$f":"IF(OR('Trust - Frontsheet'!AF83=\"\",'Trust - Frontsheet'!AF83=\"-\"),0,('Trust - Frontsheet'!AF83))","v":0},{"$f":"'Trust - Frontsheet'!U83","v":0},{"$f":"IF(OR('Trust - Frontsheet'!V83=\"\",'Trust - Frontsheet'!V83=\"-\"),0,('Trust - Frontsheet'!V83))","v":0},{"$f":"IF(OR('Trust - Frontsheet'!W83=\"\",'Trust - Frontsheet'!W83=\"-\"),0,('Trust - Frontsheet'!W83))","v":0},{"$f":"IF(OR('Trust - Frontsheet'!X83=\"\",'Trust - Frontsheet'!X83=\"-\"),0,('Trust - Frontsheet'!X83))","v":0},{"$f":"IF(OR('Trust - Frontsheet'!Y83=\"\",'Trust - Frontsheet'!Y83=\"-\"),0,('Trust - Frontsheet'!Y83))","v":0},{"$f":"IF(OR('Trust - Frontsheet'!Z83=\"\",'Trust - Frontsheet'!Z83=\"-\"),0,('Trust - Frontsheet'!Z83))","v":0},{"$f":"IF(A71=\"\",\"\",(IF(ISBLANK('Trust - Frontsheet'!F9),\"\",'Trust - Frontsheet'!F9)))","v":""}]
[{"$f":"IF('Trust - Frontsheet'!D84=0,\"\",IF('Trust - Frontsheet'!D84=\"\",\"\",'Trust - Frontsheet'!D84))","v":""},{"$f":"IF(ISBLANK('Trust - Frontsheet'!E84),\"\",'Trust - Frontsheet'!E84)","v":""},{"$f":"IF(ISBLANK('Trust - Frontsheet'!F84),\"\",\"'\" & 'Trust - Frontsheet'!F84 & \"'\")","v":""},{"$f":"IF(ISBLANK('Trust - Frontsheet'!G84),\"\",'Trust - Frontsheet'!G84)","v":""},{"$f":"IF(ISBLANK('Trust - Frontsheet'!H84),\"\",'Trust - Frontsheet'!H84)","v":""},{"$f":"'Trust - Frontsheet'!I84","v":0},{"$f":"'Trust - Frontsheet'!J84","v":0},{"$f":"'Trust - Frontsheet'!K84","v":0},{"$f":"'Trust - Frontsheet'!L84","v":0},{"$f":"'Trust - Frontsheet'!M84","v":0},{"$f":"'Trust - Frontsheet'!N84","v":0},{"$f":"'Trust - Frontsheet'!O84","v":0},{"$f":"'Trust - Frontsheet'!P84","v":0},{"$f":"'Trust - Frontsheet'!Q84","v":0},{"$f":"'Trust - Frontsheet'!R84","v":0},{"$f":"'Trust - Frontsheet'!S84","v":0},{"$f":"'Trust - Frontsheet'!T84","v":0},{"$f":"IF(OR('Trust - Frontsheet'!AA84=\"\",'Trust - Frontsheet'!AA84=\"-\"),0,('Trust - Frontsheet'!AA84))","v":0},{"$f":"IF(OR('Trust - Frontsheet'!AB84=\"\",'Trust - Frontsheet'!AB84=\"-\"),0,('Trust - Frontsheet'!AB84))","v":0},{"$f":"IF(OR('Trust - Frontsheet'!AC84=\"\",'Trust - Frontsheet'!AC84=\"-\"),0,('Trust - Frontsheet'!AC84))","v":0},{"$f":"IF(OR('Trust - Frontsheet'!AD84=\"\",'Trust - Frontsheet'!AD84=\"-\"),0,('Trust - Frontsheet'!AD84))","v":0},{"$f":"IF(OR('Trust - Frontsheet'!AE84=\"\",'Trust - Frontsheet'!AE84=\"-\"),0,('Trust - Frontsheet'!AE84))","v":0},{"$f":"IF(OR('Trust - Frontsheet'!AF84=\"\",'Trust - Frontsheet'!AF84=\"-\"),0,('Trust - Frontsheet'!AF84))","v":0},{"$f":"'Trust - Frontsheet'!U84","v":0},{"$f":"IF(OR('Trust - Frontsheet'!V84=\"\",'Trust - Frontsheet'!V84=\"-\"),0,('Trust - Frontsheet'!V84))","v":0},{"$f":"IF(OR('Trust - Frontsheet'!W84=\"\",'Trust - Frontsheet'!W84=\"-\"),0,('Trust - Frontsheet'!W84))","v":0},{"$f":"IF(OR('Trust - Frontsheet'!X84=\"\",'Trust - Frontsheet'!X84=\"-\"),0,('Trust - Frontsheet'!X84))","v":0},{"$f":"IF(OR('Trust - Frontsheet'!Y84=\"\",'Trust - Frontsheet'!Y84=\"-\"),0,('Trust - Frontsheet'!Y84))","v":0},{"$f":"IF(OR('Trust - Frontsheet'!Z84=\"\",'Trust - Frontsheet'!Z84=\"-\"),0,('Trust - Frontsheet'!Z84))","v":0},{"$f":"IF(A72=\"\",\"\",(IF(ISBLANK('Trust - Frontsheet'!F9),\"\",'Trust - Frontsheet'!F9)))","v":""}]
[{"$f":"IF('Trust - Frontsheet'!D85=0,\"\",IF('Trust - Frontsheet'!D85=\"\",\"\",'Trust - Frontsheet'!D85))","v":""},{"$f":"IF(ISBLANK('Trust - Frontsheet'!E85),\"\",'Trust - Frontsheet'!E85)","v":""},{"$f":"IF(ISBLANK('Trust - Frontsheet'!F85),\"\",\"'\" & 'Trust - Frontsheet'!F85 & \"'\")","v":""},{"$f":"IF(ISBLANK('Trust - Frontsheet'!G85),\"\",'Trust - Frontsheet'!G85)","v":""},{"$f":"IF(ISBLANK('Trust - Frontsheet'!H85),\"\",'Trust - Frontsheet'!H85)","v":""},{"$f":"'Trust - Frontsheet'!I85","v":0},{"$f":"'Trust - Frontsheet'!J85","v":0},{"$f":"'Trust - Frontsheet'!K85","v":0},{"$f":"'Trust - Frontsheet'!L85","v":0},{"$f":"'Trust - Frontsheet'!M85","v":0},{"$f":"'Trust - Frontsheet'!N85","v":0},{"$f":"'Trust - Frontsheet'!O85","v":0},{"$f":"'Trust - Frontsheet'!P85","v":0},{"$f":"'Trust - Frontsheet'!Q85","v":0},{"$f":"'Trust - Frontsheet'!R85","v":0},{"$f":"'Trust - Frontsheet'!S85","v":0},{"$f":"'Trust - Frontsheet'!T85","v":0},{"$f":"IF(OR('Trust - Frontsheet'!AA85=\"\",'Trust - Frontsheet'!AA85=\"-\"),0,('Trust - Frontsheet'!AA85))","v":0},{"$f":"IF(OR('Trust - Frontsheet'!AB85=\"\",'Trust - Frontsheet'!AB85=\"-\"),0,('Trust - Frontsheet'!AB85))","v":0},{"$f":"IF(OR('Trust - Frontsheet'!AC85=\"\",'Trust - Frontsheet'!AC85=\"-\"),0,('Trust - Frontsheet'!AC85))","v":0},{"$f":"IF(OR('Trust - Frontsheet'!AD85=\"\",'Trust - Frontsheet'!AD85=\"-\"),0,('Trust - Frontsheet'!AD85))","v":0},{"$f":"IF(OR('Trust - Frontsheet'!AE85=\"\",'Trust - Frontsheet'!AE85=\"-\"),0,('Trust - Frontsheet'!AE85))","v":0},{"$f":"IF(OR('Trust - Frontsheet'!AF85=\"\",'Trust - Frontsheet'!AF85=\"-\"),0,('Trust - Frontsheet'!AF85))","v":0},{"$f":"'Trust - Frontsheet'!U85","v":0},{"$f":"IF(OR('Trust - Frontsheet'!V85=\"\",'Trust - Frontsheet'!V85=\"-\"),0,('Trust - Frontsheet'!V85))","v":0},{"$f":"IF(OR('Trust - Frontsheet'!W85=\"\",'Trust - Frontsheet'!W85=\"-\"),0,('Trust - Frontsheet'!W85))","v":0},{"$f":"IF(OR('Trust - Frontsheet'!X85=\"\",'Trust - Frontsheet'!X85=\"-\"),0,('Trust - Frontsheet'!X85))","v":0},{"$f":"IF(OR('Trust - Frontsheet'!Y85=\"\",'Trust - Frontsheet'!Y85=\"-\"),0,('Trust - Frontsheet'!Y85))","v":0},{"$f":"IF(OR('Trust - Frontsheet'!Z85=\"\",'Trust - Frontsheet'!Z85=\"-\"),0,('Trust - Frontsheet'!Z85))","v":0},{"$f":"IF(A73=\"\",\"\",(IF(ISBLANK('Trust - Frontsheet'!F9),\"\",'Trust - Frontsheet'!F9)))","v":""}]
[{"$f":"IF('Trust - Frontsheet'!D86=0,\"\",IF('Trust - Frontsheet'!D86=\"\",\"\",'Trust - Frontsheet'!D86))","v":""},{"$f":"IF(ISBLANK('Trust - Frontsheet'!E86),\"\",'Trust - Frontsheet'!E86)","v":""},{"$f":"IF(ISBLANK('Trust - Frontsheet'!F86),\"\",\"'\" & 'Trust - Frontsheet'!F86 & \"'\")","v":""},{"$f":"IF(ISBLANK('Trust - Frontsheet'!G86),\"\",'Trust - Frontsheet'!G86)","v":""},{"$f":"IF(ISBLANK('Trust - Frontsheet'!H86),\"\",'Trust - Frontsheet'!H86)","v":""},{"$f":"'Trust - Frontsheet'!I86","v":0},{"$f":"'Trust - Frontsheet'!J86","v":0},{"$f":"'Trust - Frontsheet'!K86","v":0},{"$f":"'Trust - Frontsheet'!L86","v":0},{"$f":"'Trust - Frontsheet'!M86","v":0},{"$f":"'Trust - Frontsheet'!N86","v":0},{"$f":"'Trust - Frontsheet'!O86","v":0},{"$f":"'Trust - Frontsheet'!P86","v":0},{"$f":"'Trust - Frontsheet'!Q86","v":0},{"$f":"'Trust - Frontsheet'!R86","v":0},{"$f":"'Trust - Frontsheet'!S86","v":0},{"$f":"'Trust - Frontsheet'!T86","v":0},{"$f":"IF(OR('Trust - Frontsheet'!AA86=\"\",'Trust - Frontsheet'!AA86=\"-\"),0,('Trust - Frontsheet'!AA86))","v":0},{"$f":"IF(OR('Trust - Frontsheet'!AB86=\"\",'Trust - Frontsheet'!AB86=\"-\"),0,('Trust - Frontsheet'!AB86))","v":0},{"$f":"IF(OR('Trust - Frontsheet'!AC86=\"\",'Trust - Frontsheet'!AC86=\"-\"),0,('Trust - Frontsheet'!AC86))","v":0},{"$f":"IF(OR('Trust - Frontsheet'!AD86=\"\",'Trust - Frontsheet'!AD86=\"-\"),0,('Trust - Frontsheet'!AD86))","v":0},{"$f":"IF(OR('Trust - Frontsheet'!AE86=\"\",'Trust - Frontsheet'!AE86=\"-\"),0,('Trust - Frontsheet'!AE86))","v":0},{"$f":"IF(OR('Trust - Frontsheet'!AF86=\"\",'Trust - Frontsheet'!AF86=\"-\"),0,('Trust - Frontsheet'!AF86))","v":0},{"$f":"'Trust - Frontsheet'!U86","v":0},{"$f":"IF(OR('Trust - Frontsheet'!V86=\"\",'Trust - Frontsheet'!V86=\"-\"),0,('Trust - Frontsheet'!V86))","v":0},{"$f":"IF(OR('Trust - Frontsheet'!W86=\"\",'Trust - Frontsheet'!W86=\"-\"),0,('Trust - Frontsheet'!W86))","v":0},{"$f":"IF(OR('Trust - Frontsheet'!X86=\"\",'Trust - Frontsheet'!X86=\"-\"),0,('Trust - Frontsheet'!X86))","v":0},{"$f":"IF(OR('Trust - Frontsheet'!Y86=\"\",'Trust - Frontsheet'!Y86=\"-\"),0,('Trust - Frontsheet'!Y86))","v":0},{"$f":"IF(OR('Trust - Frontsheet'!Z86=\"\",'Trust - Frontsheet'!Z86=\"-\"),0,('Trust - Frontsheet'!Z86))","v":0},{"$f":"IF(A74=\"\",\"\",(IF(ISBLANK('Trust - Frontsheet'!F9),\"\",'Trust - Frontsheet'!F9)))","v":""}]
[{"$f":"IF('Trust - Frontsheet'!D87=0,\"\",IF('Trust - Frontsheet'!D87=\"\",\"\",'Trust - Frontsheet'!D87))","v":""},{"$f":"IF(ISBLANK('Trust - Frontsheet'!E87),\"\",'Trust - Frontsheet'!E87)","v":""},{"$f":"IF(ISBLANK('Trust - Frontsheet'!F87),\"\",\"'\" & 'Trust - Frontsheet'!F87 & \"'\")","v":""},{"$f":"IF(ISBLANK('Trust - Frontsheet'!G87),\"\",'Trust - Frontsheet'!G87)","v":""},{"$f":"IF(ISBLANK('Trust - Frontsheet'!H87),\"\",'Trust - Frontsheet'!H87)","v":""},{"$f":"'Trust - Frontsheet'!I87","v":0},{"$f":"'Trust - Frontsheet'!J87","v":0},{"$f":"'Trust - Frontsheet'!K87","v":0},{"$f":"'Trust - Frontsheet'!L87","v":0},{"$f":"'Trust - Frontsheet'!M87","v":0},{"$f":"'Trust - Frontsheet'!N87","v":0},{"$f":"'Trust - Frontsheet'!O87","v":0},{"$f":"'Trust - Frontsheet'!P87","v":0},{"$f":"'Trust - Frontsheet'!Q87","v":0},{"$f":"'Trust - Frontsheet'!R87","v":0},{"$f":"'Trust - Frontsheet'!S87","v":0},{"$f":"'Trust - Frontsheet'!T87","v":0},{"$f":"IF(OR('Trust - Frontsheet'!AA87=\"\",'Trust - Frontsheet'!AA87=\"-\"),0,('Trust - Frontsheet'!AA87))","v":0},{"$f":"IF(OR('Trust - Frontsheet'!AB87=\"\",'Trust - Frontsheet'!AB87=\"-\"),0,('Trust - Frontsheet'!AB87))","v":0},{"$f":"IF(OR('Trust - Frontsheet'!AC87=\"\",'Trust - Frontsheet'!AC87=\"-\"),0,('Trust - Frontsheet'!AC87))","v":0},{"$f":"IF(OR('Trust - Frontsheet'!AD87=\"\",'Trust - Frontsheet'!AD87=\"-\"),0,('Trust - Frontsheet'!AD87))","v":0},{"$f":"IF(OR('Trust - Frontsheet'!AE87=\"\",'Trust - Frontsheet'!AE87=\"-\"),0,('Trust - Frontsheet'!AE87))","v":0},{"$f":"IF(OR('Trust - Frontsheet'!AF87=\"\",'Trust - Frontsheet'!AF87=\"-\"),0,('Trust - Frontsheet'!AF87))","v":0},{"$f":"'Trust - Frontsheet'!U87","v":0},{"$f":"IF(OR('Trust - Frontsheet'!V87=\"\",'Trust - Frontsheet'!V87=\"-\"),0,('Trust - Frontsheet'!V87))","v":0},{"$f":"IF(OR('Trust - Frontsheet'!W87=\"\",'Trust - Frontsheet'!W87=\"-\"),0,('Trust - Frontsheet'!W87))","v":0},{"$f":"IF(OR('Trust - Frontsheet'!X87=\"\",'Trust - Frontsheet'!X87=\"-\"),0,('Trust - Frontsheet'!X87))","v":0},{"$f":"IF(OR('Trust - Frontsheet'!Y87=\"\",'Trust - Frontsheet'!Y87=\"-\"),0,('Trust - Frontsheet'!Y87))","v":0},{"$f":"IF(OR('Trust - Frontsheet'!Z87=\"\",'Trust - Frontsheet'!Z87=\"-\"),0,('Trust - Frontsheet'!Z87))","v":0},{"$f":"IF(A75=\"\",\"\",(IF(ISBLANK('Trust - Frontsheet'!F9),\"\",'Trust - Frontsheet'!F9)))","v":""}]
[{"$f":"IF('Trust - Frontsheet'!D88=0,\"\",IF('Trust - Frontsheet'!D88=\"\",\"\",'Trust - Frontsheet'!D88))","v":""},{"$f":"IF(ISBLANK('Trust - Frontsheet'!E88),\"\",'Trust - Frontsheet'!E88)","v":""},{"$f":"IF(ISBLANK('Trust - Frontsheet'!F88),\"\",\"'\" & 'Trust - Frontsheet'!F88 & \"'\")","v":""},{"$f":"IF(ISBLANK('Trust - Frontsheet'!G88),\"\",'Trust - Frontsheet'!G88)","v":""},{"$f":"IF(ISBLANK('Trust - Frontsheet'!H88),\"\",'Trust - Frontsheet'!H88)","v":""},{"$f":"'Trust - Frontsheet'!I88","v":0},{"$f":"'Trust - Frontsheet'!J88","v":0},{"$f":"'Trust - Frontsheet'!K88","v":0},{"$f":"'Trust - Frontsheet'!L88","v":0},{"$f":"'Trust - Frontsheet'!M88","v":0},{"$f":"'Trust - Frontsheet'!N88","v":0},{"$f":"'Trust - Frontsheet'!O88","v":0},{"$f":"'Trust - Frontsheet'!P88","v":0},{"$f":"'Trust - Frontsheet'!Q88","v":0},{"$f":"'Trust - Frontsheet'!R88","v":0},{"$f":"'Trust - Frontsheet'!S88","v":0},{"$f":"'Trust - Frontsheet'!T88","v":0},{"$f":"IF(OR('Trust - Frontsheet'!AA88=\"\",'Trust - Frontsheet'!AA88=\"-\"),0,('Trust - Frontsheet'!AA88))","v":0},{"$f":"IF(OR('Trust - Frontsheet'!AB88=\"\",'Trust - Frontsheet'!AB88=\"-\"),0,('Trust - Frontsheet'!AB88))","v":0},{"$f":"IF(OR('Trust - Frontsheet'!AC88=\"\",'Trust - Frontsheet'!AC88=\"-\"),0,('Trust - Frontsheet'!AC88))","v":0},{"$f":"IF(OR('Trust - Frontsheet'!AD88=\"\",'Trust - Frontsheet'!AD88=\"-\"),0,('Trust - Frontsheet'!AD88))","v":0},{"$f":"IF(OR('Trust - Frontsheet'!AE88=\"\",'Trust - Frontsheet'!AE88=\"-\"),0,('Trust - Frontsheet'!AE88))","v":0},{"$f":"IF(OR('Trust - Frontsheet'!AF88=\"\",'Trust - Frontsheet'!AF88=\"-\"),0,('Trust - Frontsheet'!AF88))","v":0},{"$f":"'Trust - Frontsheet'!U88","v":0},{"$f":"IF(OR('Trust - Frontsheet'!V88=\"\",'Trust - Frontsheet'!V88=\"-\"),0,('Trust - Frontsheet'!V88))","v":0},{"$f":"IF(OR('Trust - Frontsheet'!W88=\"\",'Trust - Frontsheet'!W88=\"-\"),0,('Trust - Frontsheet'!W88))","v":0},{"$f":"IF(OR('Trust - Frontsheet'!X88=\"\",'Trust - Frontsheet'!X88=\"-\"),0,('Trust - Frontsheet'!X88))","v":0},{"$f":"IF(OR('Trust - Frontsheet'!Y88=\"\",'Trust - Frontsheet'!Y88=\"-\"),0,('Trust - Frontsheet'!Y88))","v":0},{"$f":"IF(OR('Trust - Frontsheet'!Z88=\"\",'Trust - Frontsheet'!Z88=\"-\"),0,('Trust - Frontsheet'!Z88))","v":0},{"$f":"IF(A76=\"\",\"\",(IF(ISBLANK('Trust - Frontsheet'!F9),\"\",'Trust - Frontsheet'!F9)))","v":""}]
[{"$f":"IF('Trust - Frontsheet'!D89=0,\"\",IF('Trust - Frontsheet'!D89=\"\",\"\",'Trust - Frontsheet'!D89))","v":""},{"$f":"IF(ISBLANK('Trust - Frontsheet'!E89),\"\",'Trust - Frontsheet'!E89)","v":""},{"$f":"IF(ISBLANK('Trust - Frontsheet'!F89),\"\",\"'\" & 'Trust - Frontsheet'!F89 & \"'\")","v":""},{"$f":"IF(ISBLANK('Trust - Frontsheet'!G89),\"\",'Trust - Frontsheet'!G89)","v":""},{"$f":"IF(ISBLANK('Trust - Frontsheet'!H89),\"\",'Trust - Frontsheet'!H89)","v":""},{"$f":"'Trust - Frontsheet'!I89","v":0},{"$f":"'Trust - Frontsheet'!J89","v":0},{"$f":"'Trust - Frontsheet'!K89","v":0},{"$f":"'Trust - Frontsheet'!L89","v":0},{"$f":"'Trust - Frontsheet'!M89","v":0},{"$f":"'Trust - Frontsheet'!N89","v":0},{"$f":"'Trust - Frontsheet'!O89","v":0},{"$f":"'Trust - Frontsheet'!P89","v":0},{"$f":"'Trust - Frontsheet'!Q89","v":0},{"$f":"'Trust - Frontsheet'!R89","v":0},{"$f":"'Trust - Frontsheet'!S89","v":0},{"$f":"'Trust - Frontsheet'!T89","v":0},{"$f":"IF(OR('Trust - Frontsheet'!AA89=\"\",'Trust - Frontsheet'!AA89=\"-\"),0,('Trust - Frontsheet'!AA89))","v":0},{"$f":"IF(OR('Trust - Frontsheet'!AB89=\"\",'Trust - Frontsheet'!AB89=\"-\"),0,('Trust - Frontsheet'!AB89))","v":0},{"$f":"IF(OR('Trust - Frontsheet'!AC89=\"\",'Trust - Frontsheet'!AC89=\"-\"),0,('Trust - Frontsheet'!AC89))","v":0},{"$f":"IF(OR('Trust - Frontsheet'!AD89=\"\",'Trust - Frontsheet'!AD89=\"-\"),0,('Trust - Frontsheet'!AD89))","v":0},{"$f":"IF(OR('Trust - Frontsheet'!AE89=\"\",'Trust - Frontsheet'!AE89=\"-\"),0,('Trust - Frontsheet'!AE89))","v":0},{"$f":"IF(OR('Trust - Frontsheet'!AF89=\"\",'Trust - Frontsheet'!AF89=\"-\"),0,('Trust - Frontsheet'!AF89))","v":0},{"$f":"'Trust - Frontsheet'!U89","v":0},{"$f":"IF(OR('Trust - Frontsheet'!V89=\"\",'Trust - Frontsheet'!V89=\"-\"),0,('Trust - Frontsheet'!V89))","v":0},{"$f":"IF(OR('Trust - Frontsheet'!W89=\"\",'Trust - Frontsheet'!W89=\"-\"),0,('Trust - Frontsheet'!W89))","v":0},{"$f":"IF(OR('Trust - Frontsheet'!X89=\"\",'Trust - Frontsheet'!X89=\"-\"),0,('Trust - Frontsheet'!X89))","v":0},{"$f":"IF(OR('Trust - Frontsheet'!Y89=\"\",'Trust - Frontsheet'!Y89=\"-\"),0,('Trust - Frontsheet'!Y89))","v":0},{"$f":"IF(OR('Trust - Frontsheet'!Z89=\"\",'Trust - Frontsheet'!Z89=\"-\"),0,('Trust - Frontsheet'!Z89))","v":0},{"$f":"IF(A77=\"\",\"\",(IF(ISBLANK('Trust - Frontsheet'!F9),\"\",'Trust - Frontsheet'!F9)))","v":""}]
[{"$f":"IF('Trust - Frontsheet'!D90=0,\"\",IF('Trust - Frontsheet'!D90=\"\",\"\",'Trust - Frontsheet'!D90))","v":""},{"$f":"IF(ISBLANK('Trust - Frontsheet'!E90),\"\",'Trust - Frontsheet'!E90)","v":""},{"$f":"IF(ISBLANK('Trust - Frontsheet'!F90),\"\",\"'\" & 'Trust - Frontsheet'!F90 & \"'\")","v":""},{"$f":"IF(ISBLANK('Trust - Frontsheet'!G90),\"\",'Trust - Frontsheet'!G90)","v":""},{"$f":"IF(ISBLANK('Trust - Frontsheet'!H90),\"\",'Trust - Frontsheet'!H90)","v":""},{"$f":"'Trust - Frontsheet'!I90","v":0},{"$f":"'Trust - Frontsheet'!J90","v":0},{"$f":"'Trust - Frontsheet'!K90","v":0},{"$f":"'Trust - Frontsheet'!L90","v":0},{"$f":"'Trust - Frontsheet'!M90","v":0},{"$f":"'Trust - Frontsheet'!N90","v":0},{"$f":"'Trust - Frontsheet'!O90","v":0},{"$f":"'Trust - Frontsheet'!P90","v":0},{"$f":"'Trust - Frontsheet'!Q90","v":0},{"$f":"'Trust - Frontsheet'!R90","v":0},{"$f":"'Trust - Frontsheet'!S90","v":0},{"$f":"'Trust - Frontsheet'!T90","v":0},{"$f":"IF(OR('Trust - Frontsheet'!AA90=\"\",'Trust - Frontsheet'!AA90=\"-\"),0,('Trust - Frontsheet'!AA90))","v":0},{"$f":"IF(OR('Trust - Frontsheet'!AB90=\"\",'Trust - Frontsheet'!AB90=\"-\"),0,('Trust - Frontsheet'!AB90))","v":0},{"$f":"IF(OR('Trust - Frontsheet'!AC90=\"\",'Trust - Frontsheet'!AC90=\"-\"),0,('Trust - Frontsheet'!AC90))","v":0},{"$f":"IF(OR('Trust - Frontsheet'!AD90=\"\",'Trust - Frontsheet'!AD90=\"-\"),0,('Trust - Frontsheet'!AD90))","v":0},{"$f":"IF(OR('Trust - Frontsheet'!AE90=\"\",'Trust - Frontsheet'!AE90=\"-\"),0,('Trust - Frontsheet'!AE90))","v":0},{"$f":"IF(OR('Trust - Frontsheet'!AF90=\"\",'Trust - Frontsheet'!AF90=\"-\"),0,('Trust - Frontsheet'!AF90))","v":0},{"$f":"'Trust - Frontsheet'!U90","v":0},{"$f":"IF(OR('Trust - Frontsheet'!V90=\"\",'Trust - Frontsheet'!V90=\"-\"),0,('Trust - Frontsheet'!V90))","v":0},{"$f":"IF(OR('Trust - Frontsheet'!W90=\"\",'Trust - Frontsheet'!W90=\"-\"),0,('Trust - Frontsheet'!W90))","v":0},{"$f":"IF(OR('Trust - Frontsheet'!X90=\"\",'Trust - Frontsheet'!X90=\"-\"),0,('Trust - Frontsheet'!X90))","v":0},{"$f":"IF(OR('Trust - Frontsheet'!Y90=\"\",'Trust - Frontsheet'!Y90=\"-\"),0,('Trust - Frontsheet'!Y90))","v":0},{"$f":"IF(OR('Trust - Frontsheet'!Z90=\"\",'Trust - Frontsheet'!Z90=\"-\"),0,('Trust - Frontsheet'!Z90))","v":0},{"$f":"IF(A78=\"\",\"\",(IF(ISBLANK('Trust - Frontsheet'!F9),\"\",'Trust - Frontsheet'!F9)))","v":""}]
[{"$f":"IF('Trust - Frontsheet'!D91=0,\"\",IF('Trust - Frontsheet'!D91=\"\",\"\",'Trust - Frontsheet'!D91))","v":""},{"$f":"IF(ISBLANK('Trust - Frontsheet'!E91),\"\",'Trust - Frontsheet'!E91)","v":""},{"$f":"IF(ISBLANK('Trust - Frontsheet'!F91),\"\",\"'\" & 'Trust - Frontsheet'!F91 & \"'\")","v":""},{"$f":"IF(ISBLANK('Trust - Frontsheet'!G91),\"\",'Trust - Frontsheet'!G91)","v":""},{"$f":"IF(ISBLANK('Trust - Frontsheet'!H91),\"\",'Trust - Frontsheet'!H91)","v":""},{"$f":"'Trust - Frontsheet'!I91","v":0},{"$f":"'Trust - Frontsheet'!J91","v":0},{"$f":"'Trust - Frontsheet'!K91","v":0},{"$f":"'Trust - Frontsheet'!L91","v":0},{"$f":"'Trust - Frontsheet'!M91","v":0},{"$f":"'Trust - Frontsheet'!N91","v":0},{"$f":"'Trust - Frontsheet'!O91","v":0},{"$f":"'Trust - Frontsheet'!P91","v":0},{"$f":"'Trust - Frontsheet'!Q91","v":0},{"$f":"'Trust - Frontsheet'!R91","v":0},{"$f":"'Trust - Frontsheet'!S91","v":0},{"$f":"'Trust - Frontsheet'!T91","v":0},{"$f":"IF(OR('Trust - Frontsheet'!AA91=\"\",'Trust - Frontsheet'!AA91=\"-\"),0,('Trust - Frontsheet'!AA91))","v":0},{"$f":"IF(OR('Trust - Frontsheet'!AB91=\"\",'Trust - Frontsheet'!AB91=\"-\"),0,('Trust - Frontsheet'!AB91))","v":0},{"$f":"IF(OR('Trust - Frontsheet'!AC91=\"\",'Trust - Frontsheet'!AC91=\"-\"),0,('Trust - Frontsheet'!AC91))","v":0},{"$f":"IF(OR('Trust - Frontsheet'!AD91=\"\",'Trust - Frontsheet'!AD91=\"-\"),0,('Trust - Frontsheet'!AD91))","v":0},{"$f":"IF(OR('Trust - Frontsheet'!AE91=\"\",'Trust - Frontsheet'!AE91=\"-\"),0,('Trust - Frontsheet'!AE91))","v":0},{"$f":"IF(OR('Trust - Frontsheet'!AF91=\"\",'Trust - Frontsheet'!AF91=\"-\"),0,('Trust - Frontsheet'!AF91))","v":0},{"$f":"'Trust - Frontsheet'!U91","v":0},{"$f":"IF(OR('Trust - Frontsheet'!V91=\"\",'Trust - Frontsheet'!V91=\"-\"),0,('Trust - Frontsheet'!V91))","v":0},{"$f":"IF(OR('Trust - Frontsheet'!W91=\"\",'Trust - Frontsheet'!W91=\"-\"),0,('Trust - Frontsheet'!W91))","v":0},{"$f":"IF(OR('Trust - Frontsheet'!X91=\"\",'Trust - Frontsheet'!X91=\"-\"),0,('Trust - Frontsheet'!X91))","v":0},{"$f":"IF(OR('Trust - Frontsheet'!Y91=\"\",'Trust - Frontsheet'!Y91=\"-\"),0,('Trust - Frontsheet'!Y91))","v":0},{"$f":"IF(OR('Trust - Frontsheet'!Z91=\"\",'Trust - Frontsheet'!Z91=\"-\"),0,('Trust - Frontsheet'!Z91))","v":0},{"$f":"IF(A79=\"\",\"\",(IF(ISBLANK('Trust - Frontsheet'!F9),\"\",'Trust - Frontsheet'!F9)))","v":""}]
[{"$f":"IF('Trust - Frontsheet'!D92=0,\"\",IF('Trust - Frontsheet'!D92=\"\",\"\",'Trust - Frontsheet'!D92))","v":""},{"$f":"IF(ISBLANK('Trust - Frontsheet'!E92),\"\",'Trust - Frontsheet'!E92)","v":""},{"$f":"IF(ISBLANK('Trust - Frontsheet'!F92),\"\",\"'\" & 'Trust - Frontsheet'!F92 & \"'\")","v":""},{"$f":"IF(ISBLANK('Trust - Frontsheet'!G92),\"\",'Trust - Frontsheet'!G92)","v":""},{"$f":"IF(ISBLANK('Trust - Frontsheet'!H92),\"\",'Trust - Frontsheet'!H92)","v":""},{"$f":"'Trust - Frontsheet'!I92","v":0},{"$f":"'Trust - Frontsheet'!J92","v":0},{"$f":"'Trust - Frontsheet'!K92","v":0},{"$f":"'Trust - Frontsheet'!L92","v":0},{"$f":"'Trust - Frontsheet'!M92","v":0},{"$f":"'Trust - Frontsheet'!N92","v":0},{"$f":"'Trust - Frontsheet'!O92","v":0},{"$f":"'Trust - Frontsheet'!P92","v":0},{"$f":"'Trust - Frontsheet'!Q92","v":0},{"$f":"'Trust - Frontsheet'!R92","v":0},{"$f":"'Trust - Frontsheet'!S92","v":0},{"$f":"'Trust - Frontsheet'!T92","v":0},{"$f":"IF(OR('Trust - Frontsheet'!AA92=\"\",'Trust - Frontsheet'!AA92=\"-\"),0,('Trust - Frontsheet'!AA92))","v":0},{"$f":"IF(OR('Trust - Frontsheet'!AB92=\"\",'Trust - Frontsheet'!AB92=\"-\"),0,('Trust - Frontsheet'!AB92))","v":0},{"$f":"IF(OR('Trust - Frontsheet'!AC92=\"\",'Trust - Frontsheet'!AC92=\"-\"),0,('Trust - Frontsheet'!AC92))","v":0},{"$f":"IF(OR('Trust - Frontsheet'!AD92=\"\",'Trust - Frontsheet'!AD92=\"-\"),0,('Trust - Frontsheet'!AD92))","v":0},{"$f":"IF(OR('Trust - Frontsheet'!AE92=\"\",'Trust - Frontsheet'!AE92=\"-\"),0,('Trust - Frontsheet'!AE92))","v":0},{"$f":"IF(OR('Trust - Frontsheet'!AF92=\"\",'Trust - Frontsheet'!AF92=\"-\"),0,('Trust - Frontsheet'!AF92))","v":0},{"$f":"'Trust - Frontsheet'!U92","v":0},{"$f":"IF(OR('Trust - Frontsheet'!V92=\"\",'Trust - Frontsheet'!V92=\"-\"),0,('Trust - Frontsheet'!V92))","v":0},{"$f":"IF(OR('Trust - Frontsheet'!W92=\"\",'Trust - Frontsheet'!W92=\"-\"),0,('Trust - Frontsheet'!W92))","v":0},{"$f":"IF(OR('Trust - Frontsheet'!X92=\"\",'Trust - Frontsheet'!X92=\"-\"),0,('Trust - Frontsheet'!X92))","v":0},{"$f":"IF(OR('Trust - Frontsheet'!Y92=\"\",'Trust - Frontsheet'!Y92=\"-\"),0,('Trust - Frontsheet'!Y92))","v":0},{"$f":"IF(OR('Trust - Frontsheet'!Z92=\"\",'Trust - Frontsheet'!Z92=\"-\"),0,('Trust - Frontsheet'!Z92))","v":0},{"$f":"IF(A80=\"\",\"\",(IF(ISBLANK('Trust - Frontsheet'!F9),\"\",'Trust - Frontsheet'!F9)))","v":""}]
[{"$f":"IF('Trust - Frontsheet'!D93=0,\"\",IF('Trust - Frontsheet'!D93=\"\",\"\",'Trust - Frontsheet'!D93))","v":""},{"$f":"IF(ISBLANK('Trust - Frontsheet'!E93),\"\",'Trust - Frontsheet'!E93)","v":""},{"$f":"IF(ISBLANK('Trust - Frontsheet'!F93),\"\",\"'\" & 'Trust - Frontsheet'!F93 & \"'\")","v":""},{"$f":"IF(ISBLANK('Trust - Frontsheet'!G93),\"\",'Trust - Frontsheet'!G93)","v":""},{"$f":"IF(ISBLANK('Trust - Frontsheet'!H93),\"\",'Trust - Frontsheet'!H93)","v":""},{"$f":"'Trust - Frontsheet'!I93","v":0},{"$f":"'Trust - Frontsheet'!J93","v":0},{"$f":"'Trust - Frontsheet'!K93","v":0},{"$f":"'Trust - Frontsheet'!L93","v":0},{"$f":"'Trust - Frontsheet'!M93","v":0},{"$f":"'Trust - Frontsheet'!N93","v":0},{"$f":"'Trust - Frontsheet'!O93","v":0},{"$f":"'Trust - Frontsheet'!P93","v":0},{"$f":"'Trust - Frontsheet'!Q93","v":0},{"$f":"'Trust - Frontsheet'!R93","v":0},{"$f":"'Trust - Frontsheet'!S93","v":0},{"$f":"'Trust - Frontsheet'!T93","v":0},{"$f":"IF(OR('Trust - Frontsheet'!AA93=\"\",'Trust - Frontsheet'!AA93=\"-\"),0,('Trust - Frontsheet'!AA93))","v":0},{"$f":"IF(OR('Trust - Frontsheet'!AB93=\"\",'Trust - Frontsheet'!AB93=\"-\"),0,('Trust - Frontsheet'!AB93))","v":0},{"$f":"IF(OR('Trust - Frontsheet'!AC93=\"\",'Trust - Frontsheet'!AC93=\"-\"),0,('Trust - Frontsheet'!AC93))","v":0},{"$f":"IF(OR('Trust - Frontsheet'!AD93=\"\",'Trust - Frontsheet'!AD93=\"-\"),0,('Trust - Frontsheet'!AD93))","v":0},{"$f":"IF(OR('Trust - Frontsheet'!AE93=\"\",'Trust - Frontsheet'!AE93=\"-\"),0,('Trust - Frontsheet'!AE93))","v":0},{"$f":"IF(OR('Trust - Frontsheet'!AF93=\"\",'Trust - Frontsheet'!AF93=\"-\"),0,('Trust - Frontsheet'!AF93))","v":0},{"$f":"'Trust - Frontsheet'!U93","v":0},{"$f":"IF(OR('Trust - Frontsheet'!V93=\"\",'Trust - Frontsheet'!V93=\"-\"),0,('Trust - Frontsheet'!V93))","v":0},{"$f":"IF(OR('Trust - Frontsheet'!W93=\"\",'Trust - Frontsheet'!W93=\"-\"),0,('Trust - Frontsheet'!W93))","v":0},{"$f":"IF(OR('Trust - Frontsheet'!X93=\"\",'Trust - Frontsheet'!X93=\"-\"),0,('Trust - Frontsheet'!X93))","v":0},{"$f":"IF(OR('Trust - Frontsheet'!Y93=\"\",'Trust - Frontsheet'!Y93=\"-\"),0,('Trust - Frontsheet'!Y93))","v":0},{"$f":"IF(OR('Trust - Frontsheet'!Z93=\"\",'Trust - Frontsheet'!Z93=\"-\"),0,('Trust - Frontsheet'!Z93))","v":0},{"$f":"IF(A81=\"\",\"\",(IF(ISBLANK('Trust - Frontsheet'!F9),\"\",'Trust - Frontsheet'!F9)))","v":""}]
[{"$f":"IF('Trust - Frontsheet'!D94=0,\"\",IF('Trust - Frontsheet'!D94=\"\",\"\",'Trust - Frontsheet'!D94))","v":""},{"$f":"IF(ISBLANK('Trust - Frontsheet'!E94),\"\",'Trust - Frontsheet'!E94)","v":""},{"$f":"IF(ISBLANK('Trust - Frontsheet'!F94),\"\",\"'\" & 'Trust - Frontsheet'!F94 & \"'\")","v":""},{"$f":"IF(ISBLANK('Trust - Frontsheet'!G94),\"\",'Trust - Frontsheet'!G94)","v":""},{"$f":"IF(ISBLANK('Trust - Frontsheet'!H94),\"\",'Trust - Frontsheet'!H94)","v":""},{"$f":"'Trust - Frontsheet'!I94","v":0},{"$f":"'Trust - Frontsheet'!J94","v":0},{"$f":"'Trust - Frontsheet'!K94","v":0},{"$f":"'Trust - Frontsheet'!L94","v":0},{"$f":"'Trust - Frontsheet'!M94","v":0},{"$f":"'Trust - Frontsheet'!N94","v":0},{"$f":"'Trust - Frontsheet'!O94","v":0},{"$f":"'Trust - Frontsheet'!P94","v":0},{"$f":"'Trust - Frontsheet'!Q94","v":0},{"$f":"'Trust - Frontsheet'!R94","v":0},{"$f":"'Trust - Frontsheet'!S94","v":0},{"$f":"'Trust - Frontsheet'!T94","v":0},{"$f":"IF(OR('Trust - Frontsheet'!AA94=\"\",'Trust - Frontsheet'!AA94=\"-\"),0,('Trust - Frontsheet'!AA94))","v":0},{"$f":"IF(OR('Trust - Frontsheet'!AB94=\"\",'Trust - Frontsheet'!AB94=\"-\"),0,('Trust - Frontsheet'!AB94))","v":0},{"$f":"IF(OR('Trust - Frontsheet'!AC94=\"\",'Trust - Frontsheet'!AC94=\"-\"),0,('Trust - Frontsheet'!AC94))","v":0},{"$f":"IF(OR('Trust - Frontsheet'!AD94=\"\",'Trust - Frontsheet'!AD94=\"-\"),0,('Trust - Frontsheet'!AD94))","v":0},{"$f":"IF(OR('Trust - Frontsheet'!AE94=\"\",'Trust - Frontsheet'!AE94=\"-\"),0,('Trust - Frontsheet'!AE94))","v":0},{"$f":"IF(OR('Trust - Frontsheet'!AF94=\"\",'Trust - Frontsheet'!AF94=\"-\"),0,('Trust - Frontsheet'!AF94))","v":0},{"$f":"'Trust - Frontsheet'!U94","v":0},{"$f":"IF(OR('Trust - Frontsheet'!V94=\"\",'Trust - Frontsheet'!V94=\"-\"),0,('Trust - Frontsheet'!V94))","v":0},{"$f":"IF(OR('Trust - Frontsheet'!W94=\"\",'Trust - Frontsheet'!W94=\"-\"),0,('Trust - Frontsheet'!W94))","v":0},{"$f":"IF(OR('Trust - Frontsheet'!X94=\"\",'Trust - Frontsheet'!X94=\"-\"),0,('Trust - Frontsheet'!X94))","v":0},{"$f":"IF(OR('Trust - Frontsheet'!Y94=\"\",'Trust - Frontsheet'!Y94=\"-\"),0,('Trust - Frontsheet'!Y94))","v":0},{"$f":"IF(OR('Trust - Frontsheet'!Z94=\"\",'Trust - Frontsheet'!Z94=\"-\"),0,('Trust - Frontsheet'!Z94))","v":0},{"$f":"IF(A82=\"\",\"\",(IF(ISBLANK('Trust - Frontsheet'!F9),\"\",'Trust - Frontsheet'!F9)))","v":""}]
[{"$f":"IF('Trust - Frontsheet'!D95=0,\"\",IF('Trust - Frontsheet'!D95=\"\",\"\",'Trust - Frontsheet'!D95))","v":""},{"$f":"IF(ISBLANK('Trust - Frontsheet'!E95),\"\",'Trust - Frontsheet'!E95)","v":""},{"$f":"IF(ISBLANK('Trust - Frontsheet'!F95),\"\",\"'\" & 'Trust - Frontsheet'!F95 & \"'\")","v":""},{"$f":"IF(ISBLANK('Trust - Frontsheet'!G95),\"\",'Trust - Frontsheet'!G95)","v":""},{"$f":"IF(ISBLANK('Trust - Frontsheet'!H95),\"\",'Trust - Frontsheet'!H95)","v":""},{"$f":"'Trust - Frontsheet'!I95","v":0},{"$f":"'Trust - Frontsheet'!J95","v":0},{"$f":"'Trust - Frontsheet'!K95","v":0},{"$f":"'Trust - Frontsheet'!L95","v":0},{"$f":"'Trust - Frontsheet'!M95","v":0},{"$f":"'Trust - Frontsheet'!N95","v":0},{"$f":"'Trust - Frontsheet'!O95","v":0},{"$f":"'Trust - Frontsheet'!P95","v":0},{"$f":"'Trust - Frontsheet'!Q95","v":0},{"$f":"'Trust - Frontsheet'!R95","v":0},{"$f":"'Trust - Frontsheet'!S95","v":0},{"$f":"'Trust - Frontsheet'!T95","v":0},{"$f":"IF(OR('Trust - Frontsheet'!AA95=\"\",'Trust - Frontsheet'!AA95=\"-\"),0,('Trust - Frontsheet'!AA95))","v":0},{"$f":"IF(OR('Trust - Frontsheet'!AB95=\"\",'Trust - Frontsheet'!AB95=\"-\"),0,('Trust - Frontsheet'!AB95))","v":0},{"$f":"IF(OR('Trust - Frontsheet'!AC95=\"\",'Trust - Frontsheet'!AC95=\"-\"),0,('Trust - Frontsheet'!AC95))","v":0},{"$f":"IF(OR('Trust - Frontsheet'!AD95=\"\",'Trust - Frontsheet'!AD95=\"-\"),0,('Trust - Frontsheet'!AD95))","v":0},{"$f":"IF(OR('Trust - Frontsheet'!AE95=\"\",'Trust - Frontsheet'!AE95=\"-\"),0,('Trust - Frontsheet'!AE95))","v":0},{"$f":"IF(OR('Trust - Frontsheet'!AF95=\"\",'Trust - Frontsheet'!AF95=\"-\"),0,('Trust - Frontsheet'!AF95))","v":0},{"$f":"'Trust - Frontsheet'!U95","v":0},{"$f":"IF(OR('Trust - Frontsheet'!V95=\"\",'Trust - Frontsheet'!V95=\"-\"),0,('Trust - Frontsheet'!V95))","v":0},{"$f":"IF(OR('Trust - Frontsheet'!W95=\"\",'Trust - Frontsheet'!W95=\"-\"),0,('Trust - Frontsheet'!W95))","v":0},{"$f":"IF(OR('Trust - Frontsheet'!X95=\"\",'Trust - Frontsheet'!X95=\"-\"),0,('Trust - Frontsheet'!X95))","v":0},{"$f":"IF(OR('Trust - Frontsheet'!Y95=\"\",'Trust - Frontsheet'!Y95=\"-\"),0,('Trust - Frontsheet'!Y95))","v":0},{"$f":"IF(OR('Trust - Frontsheet'!Z95=\"\",'Trust - Frontsheet'!Z95=\"-\"),0,('Trust - Frontsheet'!Z95))","v":0},{"$f":"IF(A83=\"\",\"\",(IF(ISBLANK('Trust - Frontsheet'!F9),\"\",'Trust - Frontsheet'!F9)))","v":""}]
[{"$f":"IF('Trust - Frontsheet'!D96=0,\"\",IF('Trust - Frontsheet'!D96=\"\",\"\",'Trust - Frontsheet'!D96))","v":""},{"$f":"IF(ISBLANK('Trust - Frontsheet'!E96),\"\",'Trust - Frontsheet'!E96)","v":""},{"$f":"IF(ISBLANK('Trust - Frontsheet'!F96),\"\",\"'\" & 'Trust - Frontsheet'!F96 & \"'\")","v":""},{"$f":"IF(ISBLANK('Trust - Frontsheet'!G96),\"\",'Trust - Frontsheet'!G96)","v":""},{"$f":"IF(ISBLANK('Trust - Frontsheet'!H96),\"\",'Trust - Frontsheet'!H96)","v":""},{"$f":"'Trust - Frontsheet'!I96","v":0},{"$f":"'Trust - Frontsheet'!J96","v":0},{"$f":"'Trust - Frontsheet'!K96","v":0},{"$f":"'Trust - Frontsheet'!L96","v":0},{"$f":"'Trust - Frontsheet'!M96","v":0},{"$f":"'Trust - Frontsheet'!N96","v":0},{"$f":"'Trust - Frontsheet'!O96","v":0},{"$f":"'Trust - Frontsheet'!P96","v":0},{"$f":"'Trust - Frontsheet'!Q96","v":0},{"$f":"'Trust - Frontsheet'!R96","v":0},{"$f":"'Trust - Frontsheet'!S96","v":0},{"$f":"'Trust - Frontsheet'!T96","v":0},{"$f":"IF(OR('Trust - Frontsheet'!AA96=\"\",'Trust - Frontsheet'!AA96=\"-\"),0,('Trust - Frontsheet'!AA96))","v":0},{"$f":"IF(OR('Trust - Frontsheet'!AB96=\"\",'Trust - Frontsheet'!AB96=\"-\"),0,('Trust - Frontsheet'!AB96))","v":0},{"$f":"IF(OR('Trust - Frontsheet'!AC96=\"\",'Trust - Frontsheet'!AC96=\"-\"),0,('Trust - Frontsheet'!AC96))","v":0},{"$f":"IF(OR('Trust - Frontsheet'!AD96=\"\",'Trust - Frontsheet'!AD96=\"-\"),0,('Trust - Frontsheet'!AD96))","v":0},{"$f":"IF(OR('Trust - Frontsheet'!AE96=\"\",'Trust - Frontsheet'!AE96=\"-\"),0,('Trust - Frontsheet'!AE96))","v":0},{"$f":"IF(OR('Trust - Frontsheet'!AF96=\"\",'Trust - Frontsheet'!AF96=\"-\"),0,('Trust - Frontsheet'!AF96))","v":0},{"$f":"'Trust - Frontsheet'!U96","v":0},{"$f":"IF(OR('Trust - Frontsheet'!V96=\"\",'Trust - Frontsheet'!V96=\"-\"),0,('Trust - Frontsheet'!V96))","v":0},{"$f":"IF(OR('Trust - Frontsheet'!W96=\"\",'Trust - Frontsheet'!W96=\"-\"),0,('Trust - Frontsheet'!W96))","v":0},{"$f":"IF(OR('Trust - Frontsheet'!X96=\"\",'Trust - Frontsheet'!X96=\"-\"),0,('Trust - Frontsheet'!X96))","v":0},{"$f":"IF(OR('Trust - Frontsheet'!Y96=\"\",'Trust - Frontsheet'!Y96=\"-\"),0,('Trust - Frontsheet'!Y96))","v":0},{"$f":"IF(OR('Trust - Frontsheet'!Z96=\"\",'Trust - Frontsheet'!Z96=\"-\"),0,('Trust - Frontsheet'!Z96))","v":0},{"$f":"IF(A84=\"\",\"\",(IF(ISBLANK('Trust - Frontsheet'!F9),\"\",'Trust - Frontsheet'!F9)))","v":""}]
[{"$f":"IF('Trust - Frontsheet'!D97=0,\"\",IF('Trust - Frontsheet'!D97=\"\",\"\",'Trust - Frontsheet'!D97))","v":""},{"$f":"IF(ISBLANK('Trust - Frontsheet'!E97),\"\",'Trust - Frontsheet'!E97)","v":""},{"$f":"IF(ISBLANK('Trust - Frontsheet'!F97),\"\",\"'\" & 'Trust - Frontsheet'!F97 & \"'\")","v":""},{"$f":"IF(ISBLANK('Trust - Frontsheet'!G97),\"\",'Trust - Frontsheet'!G97)","v":""},{"$f":"IF(ISBLANK('Trust - Frontsheet'!H97),\"\",'Trust - Frontsheet'!H97)","v":""},{"$f":"'Trust - Frontsheet'!I97","v":0},{"$f":"'Trust - Frontsheet'!J97","v":0},{"$f":"'Trust - Frontsheet'!K97","v":0},{"$f":"'Trust - Frontsheet'!L97","v":0},{"$f":"'Trust - Frontsheet'!M97","v":0},{"$f":"'Trust - Frontsheet'!N97","v":0},{"$f":"'Trust - Frontsheet'!O97","v":0},{"$f":"'Trust - Frontsheet'!P97","v":0},{"$f":"'Trust - Frontsheet'!Q97","v":0},{"$f":"'Trust - Frontsheet'!R97","v":0},{"$f":"'Trust - Frontsheet'!S97","v":0},{"$f":"'Trust - Frontsheet'!T97","v":0},{"$f":"IF(OR('Trust - Frontsheet'!AA97=\"\",'Trust - Frontsheet'!AA97=\"-\"),0,('Trust - Frontsheet'!AA97))","v":0},{"$f":"IF(OR('Trust - Frontsheet'!AB97=\"\",'Trust - Frontsheet'!AB97=\"-\"),0,('Trust - Frontsheet'!AB97))","v":0},{"$f":"IF(OR('Trust - Frontsheet'!AC97=\"\",'Trust - Frontsheet'!AC97=\"-\"),0,('Trust - Frontsheet'!AC97))","v":0},{"$f":"IF(OR('Trust - Frontsheet'!AD97=\"\",'Trust - Frontsheet'!AD97=\"-\"),0,('Trust - Frontsheet'!AD97))","v":0},{"$f":"IF(OR('Trust - Frontsheet'!AE97=\"\",'Trust - Frontsheet'!AE97=\"-\"),0,('Trust - Frontsheet'!AE97))","v":0},{"$f":"IF(OR('Trust - Frontsheet'!AF97=\"\",'Trust - Frontsheet'!AF97=\"-\"),0,('Trust - Frontsheet'!AF97))","v":0},{"$f":"'Trust - Frontsheet'!U97","v":0},{"$f":"IF(OR('Trust - Frontsheet'!V97=\"\",'Trust - Frontsheet'!V97=\"-\"),0,('Trust - Frontsheet'!V97))","v":0},{"$f":"IF(OR('Trust - Frontsheet'!W97=\"\",'Trust - Frontsheet'!W97=\"-\"),0,('Trust - Frontsheet'!W97))","v":0},{"$f":"IF(OR('Trust - Frontsheet'!X97=\"\",'Trust - Frontsheet'!X97=\"-\"),0,('Trust - Frontsheet'!X97))","v":0},{"$f":"IF(OR('Trust - Frontsheet'!Y97=\"\",'Trust - Frontsheet'!Y97=\"-\"),0,('Trust - Frontsheet'!Y97))","v":0},{"$f":"IF(OR('Trust - Frontsheet'!Z97=\"\",'Trust - Frontsheet'!Z97=\"-\"),0,('Trust - Frontsheet'!Z97))","v":0},{"$f":"IF(A85=\"\",\"\",(IF(ISBLANK('Trust - Frontsheet'!F9),\"\",'Trust - Frontsheet'!F9)))","v":""}]
[{"$f":"IF('Trust - Frontsheet'!D98=0,\"\",IF('Trust - Frontsheet'!D98=\"\",\"\",'Trust - Frontsheet'!D98))","v":""},{"$f":"IF(ISBLANK('Trust - Frontsheet'!E98),\"\",'Trust - Frontsheet'!E98)","v":""},{"$f":"IF(ISBLANK('Trust - Frontsheet'!F98),\"\",\"'\" & 'Trust - Frontsheet'!F98 & \"'\")","v":""},{"$f":"IF(ISBLANK('Trust - Frontsheet'!G98),\"\",'Trust - Frontsheet'!G98)","v":""},{"$f":"IF(ISBLANK('Trust - Frontsheet'!H98),\"\",'Trust - Frontsheet'!H98)","v":""},{"$f":"'Trust - Frontsheet'!I98","v":0},{"$f":"'Trust - Frontsheet'!J98","v":0},{"$f":"'Trust - Frontsheet'!K98","v":0},{"$f":"'Trust - Frontsheet'!L98","v":0},{"$f":"'Trust - Frontsheet'!M98","v":0},{"$f":"'Trust - Frontsheet'!N98","v":0},{"$f":"'Trust - Frontsheet'!O98","v":0},{"$f":"'Trust - Frontsheet'!P98","v":0},{"$f":"'Trust - Frontsheet'!Q98","v":0},{"$f":"'Trust - Frontsheet'!R98","v":0},{"$f":"'Trust - Frontsheet'!S98","v":0},{"$f":"'Trust - Frontsheet'!T98","v":0},{"$f":"IF(OR('Trust - Frontsheet'!AA98=\"\",'Trust - Frontsheet'!AA98=\"-\"),0,('Trust - Frontsheet'!AA98))","v":0},{"$f":"IF(OR('Trust - Frontsheet'!AB98=\"\",'Trust - Frontsheet'!AB98=\"-\"),0,('Trust - Frontsheet'!AB98))","v":0},{"$f":"IF(OR('Trust - Frontsheet'!AC98=\"\",'Trust - Frontsheet'!AC98=\"-\"),0,('Trust - Frontsheet'!AC98))","v":0},{"$f":"IF(OR('Trust - Frontsheet'!AD98=\"\",'Trust - Frontsheet'!AD98=\"-\"),0,('Trust - Frontsheet'!AD98))","v":0},{"$f":"IF(OR('Trust - Frontsheet'!AE98=\"\",'Trust - Frontsheet'!AE98=\"-\"),0,('Trust - Frontsheet'!AE98))","v":0},{"$f":"IF(OR('Trust - Frontsheet'!AF98=\"\",'Trust - Frontsheet'!AF98=\"-\"),0,('Trust - Frontsheet'!AF98))","v":0},{"$f":"'Trust - Frontsheet'!U98","v":0},{"$f":"IF(OR('Trust - Frontsheet'!V98=\"\",'Trust - Frontsheet'!V98=\"-\"),0,('Trust - Frontsheet'!V98))","v":0},{"$f":"IF(OR('Trust - Frontsheet'!W98=\"\",'Trust - Frontsheet'!W98=\"-\"),0,('Trust - Frontsheet'!W98))","v":0},{"$f":"IF(OR('Trust - Frontsheet'!X98=\"\",'Trust - Frontsheet'!X98=\"-\"),0,('Trust - Frontsheet'!X98))","v":0},{"$f":"IF(OR('Trust - Frontsheet'!Y98=\"\",'Trust - Frontsheet'!Y98=\"-\"),0,('Trust - Frontsheet'!Y98))","v":0},{"$f":"IF(OR('Trust - Frontsheet'!Z98=\"\",'Trust - Frontsheet'!Z98=\"-\"),0,('Trust - Frontsheet'!Z98))","v":0},{"$f":"IF(A86=\"\",\"\",(IF(ISBLANK('Trust - Frontsheet'!F9),\"\",'Trust - Frontsheet'!F9)))","v":""}]
[{"$f":"IF('Trust - Frontsheet'!D99=0,\"\",IF('Trust - Frontsheet'!D99=\"\",\"\",'Trust - Frontsheet'!D99))","v":""},{"$f":"IF(ISBLANK('Trust - Frontsheet'!E99),\"\",'Trust - Frontsheet'!E99)","v":""},{"$f":"IF(ISBLANK('Trust - Frontsheet'!F99),\"\",\"'\" & 'Trust - Frontsheet'!F99 & \"'\")","v":""},{"$f":"IF(ISBLANK('Trust - Frontsheet'!G99),\"\",'Trust - Frontsheet'!G99)","v":""},{"$f":"IF(ISBLANK('Trust - Frontsheet'!H99),\"\",'Trust - Frontsheet'!H99)","v":""},{"$f":"'Trust - Frontsheet'!I99","v":0},{"$f":"'Trust - Frontsheet'!J99","v":0},{"$f":"'Trust - Frontsheet'!K99","v":0},{"$f":"'Trust - Frontsheet'!L99","v":0},{"$f":"'Trust - Frontsheet'!M99","v":0},{"$f":"'Trust - Frontsheet'!N99","v":0},{"$f":"'Trust - Frontsheet'!O99","v":0},{"$f":"'Trust - Frontsheet'!P99","v":0},{"$f":"'Trust - Frontsheet'!Q99","v":0},{"$f":"'Trust - Frontsheet'!R99","v":0},{"$f":"'Trust - Frontsheet'!S99","v":0},{"$f":"'Trust - Frontsheet'!T99","v":0},{"$f":"IF(OR('Trust - Frontsheet'!AA99=\"\",'Trust - Frontsheet'!AA99=\"-\"),0,('Trust - Frontsheet'!AA99))","v":0},{"$f":"IF(OR('Trust - Frontsheet'!AB99=\"\",'Trust - Frontsheet'!AB99=\"-\"),0,('Trust - Frontsheet'!AB99))","v":0},{"$f":"IF(OR('Trust - Frontsheet'!AC99=\"\",'Trust - Frontsheet'!AC99=\"-\"),0,('Trust - Frontsheet'!AC99))","v":0},{"$f":"IF(OR('Trust - Frontsheet'!AD99=\"\",'Trust - Frontsheet'!AD99=\"-\"),0,('Trust - Frontsheet'!AD99))","v":0},{"$f":"IF(OR('Trust - Frontsheet'!AE99=\"\",'Trust - Frontsheet'!AE99=\"-\"),0,('Trust - Frontsheet'!AE99))","v":0},{"$f":"IF(OR('Trust - Frontsheet'!AF99=\"\",'Trust - Frontsheet'!AF99=\"-\"),0,('Trust - Frontsheet'!AF99))","v":0},{"$f":"'Trust - Frontsheet'!U99","v":0},{"$f":"IF(OR('Trust - Frontsheet'!V99=\"\",'Trust - Frontsheet'!V99=\"-\"),0,('Trust - Frontsheet'!V99))","v":0},{"$f":"IF(OR('Trust - Frontsheet'!W99=\"\",'Trust - Frontsheet'!W99=\"-\"),0,('Trust - Frontsheet'!W99))","v":0},{"$f":"IF(OR('Trust - Frontsheet'!X99=\"\",'Trust - Frontsheet'!X99=\"-\"),0,('Trust - Frontsheet'!X99))","v":0},{"$f":"IF(OR('Trust - Frontsheet'!Y99=\"\",'Trust - Frontsheet'!Y99=\"-\"),0,('Trust - Frontsheet'!Y99))","v":0},{"$f":"IF(OR('Trust - Frontsheet'!Z99=\"\",'Trust - Frontsheet'!Z99=\"-\"),0,('Trust - Frontsheet'!Z99))","v":0},{"$f":"IF(A87=\"\",\"\",(IF(ISBLANK('Trust - Frontsheet'!F9),\"\",'Trust - Frontsheet'!F9)))","v":""}]
[{"$f":"IF('Trust - Frontsheet'!D100=0,\"\",IF('Trust - Frontsheet'!D100=\"\",\"\",'Trust - Frontsheet'!D100))","v":""},{"$f":"IF(ISBLANK('Trust - Frontsheet'!E100),\"\",'Trust - Frontsheet'!E100)","v":""},{"$f":"IF(ISBLANK('Trust - Frontsheet'!F100),\"\",\"'\" & 'Trust - Frontsheet'!F100 & \"'\")","v":""},{"$f":"IF(ISBLANK('Trust - Frontsheet'!G100),\"\",'Trust - Frontsheet'!G100)","v":""},{"$f":"IF(ISBLANK('Trust - Frontsheet'!H100),\"\",'Trust - Frontsheet'!H100)","v":""},{"$f":"'Trust - Frontsheet'!I100","v":0},{"$f":"'Trust - Frontsheet'!J100","v":0},{"$f":"'Trust - Frontsheet'!K100","v":0},{"$f":"'Trust - Frontsheet'!L100","v":0},{"$f":"'Trust - Frontsheet'!M100","v":0},{"$f":"'Trust - Frontsheet'!N100","v":0},{"$f":"'Trust - Frontsheet'!O100","v":0},{"$f":"'Trust - Frontsheet'!P100","v":0},{"$f":"'Trust - Frontsheet'!Q100","v":0},{"$f":"'Trust - Frontsheet'!R100","v":0},{"$f":"'Trust - Frontsheet'!S100","v":0},{"$f":"'Trust - Frontsheet'!T100","v":0},{"$f":"IF(OR('Trust - Frontsheet'!AA100=\"\",'Trust - Frontsheet'!AA100=\"-\"),0,('Trust - Frontsheet'!AA100))","v":0},{"$f":"IF(OR('Trust - Frontsheet'!AB100=\"\",'Trust - Frontsheet'!AB100=\"-\"),0,('Trust - Frontsheet'!AB100))","v":0},{"$f":"IF(OR('Trust - Frontsheet'!AC100=\"\",'Trust - Frontsheet'!AC100=\"-\"),0,('Trust - Frontsheet'!AC100))","v":0},{"$f":"IF(OR('Trust - Frontsheet'!AD100=\"\",'Trust - Frontsheet'!AD100=\"-\"),0,('Trust - Frontsheet'!AD100))","v":0},{"$f":"IF(OR('Trust - Frontsheet'!AE100=\"\",'Trust - Frontsheet'!AE100=\"-\"),0,('Trust - Frontsheet'!AE100))","v":0},{"$f":"IF(OR('Trust - Frontsheet'!AF100=\"\",'Trust - Frontsheet'!AF100=\"-\"),0,('Trust - Frontsheet'!AF100))","v":0},{"$f":"'Trust - Frontsheet'!U100","v":0},{"$f":"IF(OR('Trust - Frontsheet'!V100=\"\",'Trust - Frontsheet'!V100=\"-\"),0,('Trust - Frontsheet'!V100))","v":0},{"$f":"IF(OR('Trust - Frontsheet'!W100=\"\",'Trust - Frontsheet'!W100=\"-\"),0,('Trust - Frontsheet'!W100))","v":0},{"$f":"IF(OR('Trust - Frontsheet'!X100=\"\",'Trust - Frontsheet'!X100=\"-\"),0,('Trust - Frontsheet'!X100))","v":0},{"$f":"IF(OR('Trust - Frontsheet'!Y100=\"\",'Trust - Frontsheet'!Y100=\"-\"),0,('Trust - Frontsheet'!Y100))","v":0},{"$f":"IF(OR('Trust - Frontsheet'!Z100=\"\",'Trust - Frontsheet'!Z100=\"-\"),0,('Trust - Frontsheet'!Z100))","v":0},{"$f":"IF(A88=\"\",\"\",(IF(ISBLANK('Trust - Frontsheet'!F9),\"\",'Trust - Frontsheet'!F9)))","v":""}]
[{"$f":"IF('Trust - Frontsheet'!D101=0,\"\",IF('Trust - Frontsheet'!D101=\"\",\"\",'Trust - Frontsheet'!D101))","v":""},{"$f":"IF(ISBLANK('Trust - Frontsheet'!E101),\"\",'Trust - Frontsheet'!E101)","v":""},{"$f":"IF(ISBLANK('Trust - Frontsheet'!F101),\"\",\"'\" & 'Trust - Frontsheet'!F101 & \"'\")","v":""},{"$f":"IF(ISBLANK('Trust - Frontsheet'!G101),\"\",'Trust - Frontsheet'!G101)","v":""},{"$f":"IF(ISBLANK('Trust - Frontsheet'!H101),\"\",'Trust - Frontsheet'!H101)","v":""},{"$f":"'Trust - Frontsheet'!I101","v":0},{"$f":"'Trust - Frontsheet'!J101","v":0},{"$f":"'Trust - Frontsheet'!K101","v":0},{"$f":"'Trust - Frontsheet'!L101","v":0},{"$f":"'Trust - Frontsheet'!M101","v":0},{"$f":"'Trust - Frontsheet'!N101","v":0},{"$f":"'Trust - Frontsheet'!O101","v":0},{"$f":"'Trust - Frontsheet'!P101","v":0},{"$f":"'Trust - Frontsheet'!Q101","v":0},{"$f":"'Trust - Frontsheet'!R101","v":0},{"$f":"'Trust - Frontsheet'!S101","v":0},{"$f":"'Trust - Frontsheet'!T101","v":0},{"$f":"IF(OR('Trust - Frontsheet'!AA101=\"\",'Trust - Frontsheet'!AA101=\"-\"),0,('Trust - Frontsheet'!AA101))","v":0},{"$f":"IF(OR('Trust - Frontsheet'!AB101=\"\",'Trust - Frontsheet'!AB101=\"-\"),0,('Trust - Frontsheet'!AB101))","v":0},{"$f":"IF(OR('Trust - Frontsheet'!AC101=\"\",'Trust - Frontsheet'!AC101=\"-\"),0,('Trust - Frontsheet'!AC101))","v":0},{"$f":"IF(OR('Trust - Frontsheet'!AD101=\"\",'Trust - Frontsheet'!AD101=\"-\"),0,('Trust - Frontsheet'!AD101))","v":0},{"$f":"IF(OR('Trust - Frontsheet'!AE101=\"\",'Trust - Frontsheet'!AE101=\"-\"),0,('Trust - Frontsheet'!AE101))","v":0},{"$f":"IF(OR('Trust - Frontsheet'!AF101=\"\",'Trust - Frontsheet'!AF101=\"-\"),0,('Trust - Frontsheet'!AF101))","v":0},{"$f":"'Trust - Frontsheet'!U101","v":0},{"$f":"IF(OR('Trust - Frontsheet'!V101=\"\",'Trust - Frontsheet'!V101=\"-\"),0,('Trust - Frontsheet'!V101))","v":0},{"$f":"IF(OR('Trust - Frontsheet'!W101=\"\",'Trust - Frontsheet'!W101=\"-\"),0,('Trust - Frontsheet'!W101))","v":0},{"$f":"IF(OR('Trust - Frontsheet'!X101=\"\",'Trust - Frontsheet'!X101=\"-\"),0,('Trust - Frontsheet'!X101))","v":0},{"$f":"IF(OR('Trust - Frontsheet'!Y101=\"\",'Trust - Frontsheet'!Y101=\"-\"),0,('Trust - Frontsheet'!Y101))","v":0},{"$f":"IF(OR('Trust - Frontsheet'!Z101=\"\",'Trust - Frontsheet'!Z101=\"-\"),0,('Trust - Frontsheet'!Z101))","v":0},{"$f":"IF(A89=\"\",\"\",(IF(ISBLANK('Trust - Frontsheet'!F9),\"\",'Trust - Frontsheet'!F9)))","v":""}]
[{"$f":"IF('Trust - Frontsheet'!D102=0,\"\",IF('Trust - Frontsheet'!D102=\"\",\"\",'Trust - Frontsheet'!D102))","v":""},{"$f":"IF(ISBLANK('Trust - Frontsheet'!E102),\"\",'Trust - Frontsheet'!E102)","v":""},{"$f":"IF(ISBLANK('Trust - Frontsheet'!F102),\"\",\"'\" & 'Trust - Frontsheet'!F102 & \"'\")","v":""},{"$f":"IF(ISBLANK('Trust - Frontsheet'!G102),\"\",'Trust - Frontsheet'!G102)","v":""},{"$f":"IF(ISBLANK('Trust - Frontsheet'!H102),\"\",'Trust - Frontsheet'!H102)","v":""},{"$f":"'Trust - Frontsheet'!I102","v":0},{"$f":"'Trust - Frontsheet'!J102","v":0},{"$f":"'Trust - Frontsheet'!K102","v":0},{"$f":"'Trust - Frontsheet'!L102","v":0},{"$f":"'Trust - Frontsheet'!M102","v":0},{"$f":"'Trust - Frontsheet'!N102","v":0},{"$f":"'Trust - Frontsheet'!O102","v":0},{"$f":"'Trust - Frontsheet'!P102","v":0},{"$f":"'Trust - Frontsheet'!Q102","v":0},{"$f":"'Trust - Frontsheet'!R102","v":0},{"$f":"'Trust - Frontsheet'!S102","v":0},{"$f":"'Trust - Frontsheet'!T102","v":0},{"$f":"IF(OR('Trust - Frontsheet'!AA102=\"\",'Trust - Frontsheet'!AA102=\"-\"),0,('Trust - Frontsheet'!AA102))","v":0},{"$f":"IF(OR('Trust - Frontsheet'!AB102=\"\",'Trust - Frontsheet'!AB102=\"-\"),0,('Trust - Frontsheet'!AB102))","v":0},{"$f":"IF(OR('Trust - Frontsheet'!AC102=\"\",'Trust - Frontsheet'!AC102=\"-\"),0,('Trust - Frontsheet'!AC102))","v":0},{"$f":"IF(OR('Trust - Frontsheet'!AD102=\"\",'Trust - Frontsheet'!AD102=\"-\"),0,('Trust - Frontsheet'!AD102))","v":0},{"$f":"IF(OR('Trust - Frontsheet'!AE102=\"\",'Trust - Frontsheet'!AE102=\"-\"),0,('Trust - Frontsheet'!AE102))","v":0},{"$f":"IF(OR('Trust - Frontsheet'!AF102=\"\",'Trust - Frontsheet'!AF102=\"-\"),0,('Trust - Frontsheet'!AF102))","v":0},{"$f":"'Trust - Frontsheet'!U102","v":0},{"$f":"IF(OR('Trust - Frontsheet'!V102=\"\",'Trust - Frontsheet'!V102=\"-\"),0,('Trust - Frontsheet'!V102))","v":0},{"$f":"IF(OR('Trust - Frontsheet'!W102=\"\",'Trust - Frontsheet'!W102=\"-\"),0,('Trust - Frontsheet'!W102))","v":0},{"$f":"IF(OR('Trust - Frontsheet'!X102=\"\",'Trust - Frontsheet'!X102=\"-\"),0,('Trust - Frontsheet'!X102))","v":0},{"$f":"IF(OR('Trust - Frontsheet'!Y102=\"\",'Trust - Frontsheet'!Y102=\"-\"),0,('Trust - Frontsheet'!Y102))","v":0},{"$f":"IF(OR('Trust - Frontsheet'!Z102=\"\",'Trust - Frontsheet'!Z102=\"-\"),0,('Trust - Frontsheet'!Z102))","v":0},{"$f":"IF(A90=\"\",\"\",(IF(ISBLANK('Trust - Frontsheet'!F9),\"\",'Trust - Frontsheet'!F9)))","v":""}]
[{"$f":"IF('Trust - Frontsheet'!D103=0,\"\",IF('Trust - Frontsheet'!D103=\"\",\"\",'Trust - Frontsheet'!D103))","v":""},{"$f":"IF(ISBLANK('Trust - Frontsheet'!E103),\"\",'Trust - Frontsheet'!E103)","v":""},{"$f":"IF(ISBLANK('Trust - Frontsheet'!F103),\"\",\"'\" & 'Trust - Frontsheet'!F103 & \"'\")","v":""},{"$f":"IF(ISBLANK('Trust - Frontsheet'!G103),\"\",'Trust - Frontsheet'!G103)","v":""},{"$f":"IF(ISBLANK('Trust - Frontsheet'!H103),\"\",'Trust - Frontsheet'!H103)","v":""},{"$f":"'Trust - Frontsheet'!I103","v":0},{"$f":"'Trust - Frontsheet'!J103","v":0},{"$f":"'Trust - Frontsheet'!K103","v":0},{"$f":"'Trust - Frontsheet'!L103","v":0},{"$f":"'Trust - Frontsheet'!M103","v":0},{"$f":"'Trust - Frontsheet'!N103","v":0},{"$f":"'Trust - Frontsheet'!O103","v":0},{"$f":"'Trust - Frontsheet'!P103","v":0},{"$f":"'Trust - Frontsheet'!Q103","v":0},{"$f":"'Trust - Frontsheet'!R103","v":0},{"$f":"'Trust - Frontsheet'!S103","v":0},{"$f":"'Trust - Frontsheet'!T103","v":0},{"$f":"IF(OR('Trust - Frontsheet'!AA103=\"\",'Trust - Frontsheet'!AA103=\"-\"),0,('Trust - Frontsheet'!AA103))","v":0},{"$f":"IF(OR('Trust - Frontsheet'!AB103=\"\",'Trust - Frontsheet'!AB103=\"-\"),0,('Trust - Frontsheet'!AB103))","v":0},{"$f":"IF(OR('Trust - Frontsheet'!AC103=\"\",'Trust - Frontsheet'!AC103=\"-\"),0,('Trust - Frontsheet'!AC103))","v":0},{"$f":"IF(OR('Trust - Frontsheet'!AD103=\"\",'Trust - Frontsheet'!AD103=\"-\"),0,('Trust - Frontsheet'!AD103))","v":0},{"$f":"IF(OR('Trust - Frontsheet'!AE103=\"\",'Trust - Frontsheet'!AE103=\"-\"),0,('Trust - Frontsheet'!AE103))","v":0},{"$f":"IF(OR('Trust - Frontsheet'!AF103=\"\",'Trust - Frontsheet'!AF103=\"-\"),0,('Trust - Frontsheet'!AF103))","v":0},{"$f":"'Trust - Frontsheet'!U103","v":0},{"$f":"IF(OR('Trust - Frontsheet'!V103=\"\",'Trust - Frontsheet'!V103=\"-\"),0,('Trust - Frontsheet'!V103))","v":0},{"$f":"IF(OR('Trust - Frontsheet'!W103=\"\",'Trust - Frontsheet'!W103=\"-\"),0,('Trust - Frontsheet'!W103))","v":0},{"$f":"IF(OR('Trust - Frontsheet'!X103=\"\",'Trust - Frontsheet'!X103=\"-\"),0,('Trust - Frontsheet'!X103))","v":0},{"$f":"IF(OR('Trust - Frontsheet'!Y103=\"\",'Trust - Frontsheet'!Y103=\"-\"),0,('Trust - Frontsheet'!Y103))","v":0},{"$f":"IF(OR('Trust - Frontsheet'!Z103=\"\",'Trust - Frontsheet'!Z103=\"-\"),0,('Trust - Frontsheet'!Z103))","v":0},{"$f":"IF(A91=\"\",\"\",(IF(ISBLANK('Trust - Frontsheet'!F9),\"\",'Trust - Frontsheet'!F9)))","v":""}]
[{"$f":"IF('Trust - Frontsheet'!D104=0,\"\",IF('Trust - Frontsheet'!D104=\"\",\"\",'Trust - Frontsheet'!D104))","v":""},{"$f":"IF(ISBLANK('Trust - Frontsheet'!E104),\"\",'Trust - Frontsheet'!E104)","v":""},{"$f":"IF(ISBLANK('Trust - Frontsheet'!F104),\"\",\"'\" & 'Trust - Frontsheet'!F104 & \"'\")","v":""},{"$f":"IF(ISBLANK('Trust - Frontsheet'!G104),\"\",'Trust - Frontsheet'!G104)","v":""},{"$f":"IF(ISBLANK('Trust - Frontsheet'!H104),\"\",'Trust - Frontsheet'!H104)","v":""},{"$f":"'Trust - Frontsheet'!I104","v":0},{"$f":"'Trust - Frontsheet'!J104","v":0},{"$f":"'Trust - Frontsheet'!K104","v":0},{"$f":"'Trust - Frontsheet'!L104","v":0},{"$f":"'Trust - Frontsheet'!M104","v":0},{"$f":"'Trust - Frontsheet'!N104","v":0},{"$f":"'Trust - Frontsheet'!O104","v":0},{"$f":"'Trust - Frontsheet'!P104","v":0},{"$f":"'Trust - Frontsheet'!Q104","v":0},{"$f":"'Trust - Frontsheet'!R104","v":0},{"$f":"'Trust - Frontsheet'!S104","v":0},{"$f":"'Trust - Frontsheet'!T104","v":0},{"$f":"IF(OR('Trust - Frontsheet'!AA104=\"\",'Trust - Frontsheet'!AA104=\"-\"),0,('Trust - Frontsheet'!AA104))","v":0},{"$f":"IF(OR('Trust - Frontsheet'!AB104=\"\",'Trust - Frontsheet'!AB104=\"-\"),0,('Trust - Frontsheet'!AB104))","v":0},{"$f":"IF(OR('Trust - Frontsheet'!AC104=\"\",'Trust - Frontsheet'!AC104=\"-\"),0,('Trust - Frontsheet'!AC104))","v":0},{"$f":"IF(OR('Trust - Frontsheet'!AD104=\"\",'Trust - Frontsheet'!AD104=\"-\"),0,('Trust - Frontsheet'!AD104))","v":0},{"$f":"IF(OR('Trust - Frontsheet'!AE104=\"\",'Trust - Frontsheet'!AE104=\"-\"),0,('Trust - Frontsheet'!AE104))","v":0},{"$f":"IF(OR('Trust - Frontsheet'!AF104=\"\",'Trust - Frontsheet'!AF104=\"-\"),0,('Trust - Frontsheet'!AF104))","v":0},{"$f":"'Trust - Frontsheet'!U104","v":0},{"$f":"IF(OR('Trust - Frontsheet'!V104=\"\",'Trust - Frontsheet'!V104=\"-\"),0,('Trust - Frontsheet'!V104))","v":0},{"$f":"IF(OR('Trust - Frontsheet'!W104=\"\",'Trust - Frontsheet'!W104=\"-\"),0,('Trust - Frontsheet'!W104))","v":0},{"$f":"IF(OR('Trust - Frontsheet'!X104=\"\",'Trust - Frontsheet'!X104=\"-\"),0,('Trust - Frontsheet'!X104))","v":0},{"$f":"IF(OR('Trust - Frontsheet'!Y104=\"\",'Trust - Frontsheet'!Y104=\"-\"),0,('Trust - Frontsheet'!Y104))","v":0},{"$f":"IF(OR('Trust - Frontsheet'!Z104=\"\",'Trust - Frontsheet'!Z104=\"-\"),0,('Trust - Frontsheet'!Z104))","v":0},{"$f":"IF(A92=\"\",\"\",(IF(ISBLANK('Trust - Frontsheet'!F9),\"\",'Trust - Frontsheet'!F9)))","v":""}]
[{"$f":"IF('Trust - Frontsheet'!D105=0,\"\",IF('Trust - Frontsheet'!D105=\"\",\"\",'Trust - Frontsheet'!D105))","v":""},{"$f":"IF(ISBLANK('Trust - Frontsheet'!E105),\"\",'Trust - Frontsheet'!E105)","v":""},{"$f":"IF(ISBLANK('Trust - Frontsheet'!F105),\"\",\"'\" & 'Trust - Frontsheet'!F105 & \"'\")","v":""},{"$f":"IF(ISBLANK('Trust - Frontsheet'!G105),\"\",'Trust - Frontsheet'!G105)","v":""},{"$f":"IF(ISBLANK('Trust - Frontsheet'!H105),\"\",'Trust - Frontsheet'!H105)","v":""},{"$f":"'Trust - Frontsheet'!I105","v":0},{"$f":"'Trust - Frontsheet'!J105","v":0},{"$f":"'Trust - Frontsheet'!K105","v":0},{"$f":"'Trust - Frontsheet'!L105","v":0},{"$f":"'Trust - Frontsheet'!M105","v":0},{"$f":"'Trust - Frontsheet'!N105","v":0},{"$f":"'Trust - Frontsheet'!O105","v":0},{"$f":"'Trust - Frontsheet'!P105","v":0},{"$f":"'Trust - Frontsheet'!Q105","v":0},{"$f":"'Trust - Frontsheet'!R105","v":0},{"$f":"'Trust - Frontsheet'!S105","v":0},{"$f":"'Trust - Frontsheet'!T105","v":0},{"$f":"IF(OR('Trust - Frontsheet'!AA105=\"\",'Trust - Frontsheet'!AA105=\"-\"),0,('Trust - Frontsheet'!AA105))","v":0},{"$f":"IF(OR('Trust - Frontsheet'!AB105=\"\",'Trust - Frontsheet'!AB105=\"-\"),0,('Trust - Frontsheet'!AB105))","v":0},{"$f":"IF(OR('Trust - Frontsheet'!AC105=\"\",'Trust - Frontsheet'!AC105=\"-\"),0,('Trust - Frontsheet'!AC105))","v":0},{"$f":"IF(OR('Trust - Frontsheet'!AD105=\"\",'Trust - Frontsheet'!AD105=\"-\"),0,('Trust - Frontsheet'!AD105))","v":0},{"$f":"IF(OR('Trust - Frontsheet'!AE105=\"\",'Trust - Frontsheet'!AE105=\"-\"),0,('Trust - Frontsheet'!AE105))","v":0},{"$f":"IF(OR('Trust - Frontsheet'!AF105=\"\",'Trust - Frontsheet'!AF105=\"-\"),0,('Trust - Frontsheet'!AF105))","v":0},{"$f":"'Trust - Frontsheet'!U105","v":0},{"$f":"IF(OR('Trust - Frontsheet'!V105=\"\",'Trust - Frontsheet'!V105=\"-\"),0,('Trust - Frontsheet'!V105))","v":0},{"$f":"IF(OR('Trust - Frontsheet'!W105=\"\",'Trust - Frontsheet'!W105=\"-\"),0,('Trust - Frontsheet'!W105))","v":0},{"$f":"IF(OR('Trust - Frontsheet'!X105=\"\",'Trust - Frontsheet'!X105=\"-\"),0,('Trust - Frontsheet'!X105))","v":0},{"$f":"IF(OR('Trust - Frontsheet'!Y105=\"\",'Trust - Frontsheet'!Y105=\"-\"),0,('Trust - Frontsheet'!Y105))","v":0},{"$f":"IF(OR('Trust - Frontsheet'!Z105=\"\",'Trust - Frontsheet'!Z105=\"-\"),0,('Trust - Frontsheet'!Z105))","v":0},{"$f":"IF(A93=\"\",\"\",(IF(ISBLANK('Trust - Frontsheet'!F9),\"\",'Trust - Frontsheet'!F9)))","v":""}]
[{"$f":"IF('Trust - Frontsheet'!D106=0,\"\",IF('Trust - Frontsheet'!D106=\"\",\"\",'Trust - Frontsheet'!D106))","v":""},{"$f":"IF(ISBLANK('Trust - Frontsheet'!E106),\"\",'Trust - Frontsheet'!E106)","v":""},{"$f":"IF(ISBLANK('Trust - Frontsheet'!F106),\"\",\"'\" & 'Trust - Frontsheet'!F106 & \"'\")","v":""},{"$f":"IF(ISBLANK('Trust - Frontsheet'!G106),\"\",'Trust - Frontsheet'!G106)","v":""},{"$f":"IF(ISBLANK('Trust - Frontsheet'!H106),\"\",'Trust - Frontsheet'!H106)","v":""},{"$f":"'Trust - Frontsheet'!I106","v":0},{"$f":"'Trust - Frontsheet'!J106","v":0},{"$f":"'Trust - Frontsheet'!K106","v":0},{"$f":"'Trust - Frontsheet'!L106","v":0},{"$f":"'Trust - Frontsheet'!M106","v":0},{"$f":"'Trust - Frontsheet'!N106","v":0},{"$f":"'Trust - Frontsheet'!O106","v":0},{"$f":"'Trust - Frontsheet'!P106","v":0},{"$f":"'Trust - Frontsheet'!Q106","v":0},{"$f":"'Trust - Frontsheet'!R106","v":0},{"$f":"'Trust - Frontsheet'!S106","v":0},{"$f":"'Trust - Frontsheet'!T106","v":0},{"$f":"IF(OR('Trust - Frontsheet'!AA106=\"\",'Trust - Frontsheet'!AA106=\"-\"),0,('Trust - Frontsheet'!AA106))","v":0},{"$f":"IF(OR('Trust - Frontsheet'!AB106=\"\",'Trust - Frontsheet'!AB106=\"-\"),0,('Trust - Frontsheet'!AB106))","v":0},{"$f":"IF(OR('Trust - Frontsheet'!AC106=\"\",'Trust - Frontsheet'!AC106=\"-\"),0,('Trust - Frontsheet'!AC106))","v":0},{"$f":"IF(OR('Trust - Frontsheet'!AD106=\"\",'Trust - Frontsheet'!AD106=\"-\"),0,('Trust - Frontsheet'!AD106))","v":0},{"$f":"IF(OR('Trust - Frontsheet'!AE106=\"\",'Trust - Frontsheet'!AE106=\"-\"),0,('Trust - Frontsheet'!AE106))","v":0},{"$f":"IF(OR('Trust - Frontsheet'!AF106=\"\",'Trust - Frontsheet'!AF106=\"-\"),0,('Trust - Frontsheet'!AF106))","v":0},{"$f":"'Trust - Frontsheet'!U106","v":0},{"$f":"IF(OR('Trust - Frontsheet'!V106=\"\",'Trust - Frontsheet'!V106=\"-\"),0,('Trust - Frontsheet'!V106))","v":0},{"$f":"IF(OR('Trust - Frontsheet'!W106=\"\",'Trust - Frontsheet'!W106=\"-\"),0,('Trust - Frontsheet'!W106))","v":0},{"$f":"IF(OR('Trust - Frontsheet'!X106=\"\",'Trust - Frontsheet'!X106=\"-\"),0,('Trust - Frontsheet'!X106))","v":0},{"$f":"IF(OR('Trust - Frontsheet'!Y106=\"\",'Trust - Frontsheet'!Y106=\"-\"),0,('Trust - Frontsheet'!Y106))","v":0},{"$f":"IF(OR('Trust - Frontsheet'!Z106=\"\",'Trust - Frontsheet'!Z106=\"-\"),0,('Trust - Frontsheet'!Z106))","v":0},{"$f":"IF(A94=\"\",\"\",(IF(ISBLANK('Trust - Frontsheet'!F9),\"\",'Trust - Frontsheet'!F9)))","v":""}]
[{"$f":"IF('Trust - Frontsheet'!D107=0,\"\",IF('Trust - Frontsheet'!D107=\"\",\"\",'Trust - Frontsheet'!D107))","v":""},{"$f":"IF(ISBLANK('Trust - Frontsheet'!E107),\"\",'Trust - Frontsheet'!E107)","v":""},{"$f":"IF(ISBLANK('Trust - Frontsheet'!F107),\"\",\"'\" & 'Trust - Frontsheet'!F107 & \"'\")","v":""},{"$f":"IF(ISBLANK('Trust - Frontsheet'!G107),\"\",'Trust - Frontsheet'!G107)","v":""},{"$f":"IF(ISBLANK('Trust - Frontsheet'!H107),\"\",'Trust - Frontsheet'!H107)","v":""},{"$f":"'Trust - Frontsheet'!I107","v":0},{"$f":"'Trust - Frontsheet'!J107","v":0},{"$f":"'Trust - Frontsheet'!K107","v":0},{"$f":"'Trust - Frontsheet'!L107","v":0},{"$f":"'Trust - Frontsheet'!M107","v":0},{"$f":"'Trust - Frontsheet'!N107","v":0},{"$f":"'Trust - Frontsheet'!O107","v":0},{"$f":"'Trust - Frontsheet'!P107","v":0},{"$f":"'Trust - Frontsheet'!Q107","v":0},{"$f":"'Trust - Frontsheet'!R107","v":0},{"$f":"'Trust - Frontsheet'!S107","v":0},{"$f":"'Trust - Frontsheet'!T107","v":0},{"$f":"IF(OR('Trust - Frontsheet'!AA107=\"\",'Trust - Frontsheet'!AA107=\"-\"),0,('Trust - Frontsheet'!AA107))","v":0},{"$f":"IF(OR('Trust - Frontsheet'!AB107=\"\",'Trust - Frontsheet'!AB107=\"-\"),0,('Trust - Frontsheet'!AB107))","v":0},{"$f":"IF(OR('Trust - Frontsheet'!AC107=\"\",'Trust - Frontsheet'!AC107=\"-\"),0,('Trust - Frontsheet'!AC107))","v":0},{"$f":"IF(OR('Trust - Frontsheet'!AD107=\"\",'Trust - Frontsheet'!AD107=\"-\"),0,('Trust - Frontsheet'!AD107))","v":0},{"$f":"IF(OR('Trust - Frontsheet'!AE107=\"\",'Trust - Frontsheet'!AE107=\"-\"),0,('Trust - Frontsheet'!AE107))","v":0},{"$f":"IF(OR('Trust - Frontsheet'!AF107=\"\",'Trust - Frontsheet'!AF107=\"-\"),0,('Trust - Frontsheet'!AF107))","v":0},{"$f":"'Trust - Frontsheet'!U107","v":0},{"$f":"IF(OR('Trust - Frontsheet'!V107=\"\",'Trust - Frontsheet'!V107=\"-\"),0,('Trust - Frontsheet'!V107))","v":0},{"$f":"IF(OR('Trust - Frontsheet'!W107=\"\",'Trust - Frontsheet'!W107=\"-\"),0,('Trust - Frontsheet'!W107))","v":0},{"$f":"IF(OR('Trust - Frontsheet'!X107=\"\",'Trust - Frontsheet'!X107=\"-\"),0,('Trust - Frontsheet'!X107))","v":0},{"$f":"IF(OR('Trust - Frontsheet'!Y107=\"\",'Trust - Frontsheet'!Y107=\"-\"),0,('Trust - Frontsheet'!Y107))","v":0},{"$f":"IF(OR('Trust - Frontsheet'!Z107=\"\",'Trust - Frontsheet'!Z107=\"-\"),0,('Trust - Frontsheet'!Z107))","v":0},{"$f":"IF(A95=\"\",\"\",(IF(ISBLANK('Trust - Frontsheet'!F9),\"\",'Trust - Frontsheet'!F9)))","v":""}]
[{"$f":"IF('Trust - Frontsheet'!D108=0,\"\",IF('Trust - Frontsheet'!D108=\"\",\"\",'Trust - Frontsheet'!D108))","v":""},{"$f":"IF(ISBLANK('Trust - Frontsheet'!E108),\"\",'Trust - Frontsheet'!E108)","v":""},{"$f":"IF(ISBLANK('Trust - Frontsheet'!F108),\"\",\"'\" & 'Trust - Frontsheet'!F108 & \"'\")","v":""},{"$f":"IF(ISBLANK('Trust - Frontsheet'!G108),\"\",'Trust - Frontsheet'!G108)","v":""},{"$f":"IF(ISBLANK('Trust - Frontsheet'!H108),\"\",'Trust - Frontsheet'!H108)","v":""},{"$f":"'Trust - Frontsheet'!I108","v":0},{"$f":"'Trust - Frontsheet'!J108","v":0},{"$f":"'Trust - Frontsheet'!K108","v":0},{"$f":"'Trust - Frontsheet'!L108","v":0},{"$f":"'Trust - Frontsheet'!M108","v":0},{"$f":"'Trust - Frontsheet'!N108","v":0},{"$f":"'Trust - Frontsheet'!O108","v":0},{"$f":"'Trust - Frontsheet'!P108","v":0},{"$f":"'Trust - Frontsheet'!Q108","v":0},{"$f":"'Trust - Frontsheet'!R108","v":0},{"$f":"'Trust - Frontsheet'!S108","v":0},{"$f":"'Trust - Frontsheet'!T108","v":0},{"$f":"IF(OR('Trust - Frontsheet'!AA108=\"\",'Trust - Frontsheet'!AA108=\"-\"),0,('Trust - Frontsheet'!AA108))","v":0},{"$f":"IF(OR('Trust - Frontsheet'!AB108=\"\",'Trust - Frontsheet'!AB108=\"-\"),0,('Trust - Frontsheet'!AB108))","v":0},{"$f":"IF(OR('Trust - Frontsheet'!AC108=\"\",'Trust - Frontsheet'!AC108=\"-\"),0,('Trust - Frontsheet'!AC108))","v":0},{"$f":"IF(OR('Trust - Frontsheet'!AD108=\"\",'Trust - Frontsheet'!AD108=\"-\"),0,('Trust - Frontsheet'!AD108))","v":0},{"$f":"IF(OR('Trust - Frontsheet'!AE108=\"\",'Trust - Frontsheet'!AE108=\"-\"),0,('Trust - Frontsheet'!AE108))","v":0},{"$f":"IF(OR('Trust - Frontsheet'!AF108=\"\",'Trust - Frontsheet'!AF108=\"-\"),0,('Trust - Frontsheet'!AF108))","v":0},{"$f":"'Trust - Frontsheet'!U108","v":0},{"$f":"IF(OR('Trust - Frontsheet'!V108=\"\",'Trust - Frontsheet'!V108=\"-\"),0,('Trust - Frontsheet'!V108))","v":0},{"$f":"IF(OR('Trust - Frontsheet'!W108=\"\",'Trust - Frontsheet'!W108=\"-\"),0,('Trust - Frontsheet'!W108))","v":0},{"$f":"IF(OR('Trust - Frontsheet'!X108=\"\",'Trust - Frontsheet'!X108=\"-\"),0,('Trust - Frontsheet'!X108))","v":0},{"$f":"IF(OR('Trust - Frontsheet'!Y108=\"\",'Trust - Frontsheet'!Y108=\"-\"),0,('Trust - Frontsheet'!Y108))","v":0},{"$f":"IF(OR('Trust - Frontsheet'!Z108=\"\",'Trust - Frontsheet'!Z108=\"-\"),0,('Trust - Frontsheet'!Z108))","v":0},{"$f":"IF(A96=\"\",\"\",(IF(ISBLANK('Trust - Frontsheet'!F9),\"\",'Trust - Frontsheet'!F9)))","v":""}]
[{"$f":"IF('Trust - Frontsheet'!D109=0,\"\",IF('Trust - Frontsheet'!D109=\"\",\"\",'Trust - Frontsheet'!D109))","v":""},{"$f":"IF(ISBLANK('Trust - Frontsheet'!E109),\"\",'Trust - Frontsheet'!E109)","v":""},{"$f":"IF(ISBLANK('Trust - Frontsheet'!F109),\"\",\"'\" & 'Trust - Frontsheet'!F109 & \"'\")","v":""},{"$f":"IF(ISBLANK('Trust - Frontsheet'!G109),\"\",'Trust - Frontsheet'!G109)","v":""},{"$f":"IF(ISBLANK('Trust - Frontsheet'!H109),\"\",'Trust - Frontsheet'!H109)","v":""},{"$f":"'Trust - Frontsheet'!I109","v":0},{"$f":"'Trust - Frontsheet'!J109","v":0},{"$f":"'Trust - Frontsheet'!K109","v":0},{"$f":"'Trust - Frontsheet'!L109","v":0},{"$f":"'Trust - Frontsheet'!M109","v":0},{"$f":"'Trust - Frontsheet'!N109","v":0},{"$f":"'Trust - Frontsheet'!O109","v":0},{"$f":"'Trust - Frontsheet'!P109","v":0},{"$f":"'Trust - Frontsheet'!Q109","v":0},{"$f":"'Trust - Frontsheet'!R109","v":0},{"$f":"'Trust - Frontsheet'!S109","v":0},{"$f":"'Trust - Frontsheet'!T109","v":0},{"$f":"IF(OR('Trust - Frontsheet'!AA109=\"\",'Trust - Frontsheet'!AA109=\"-\"),0,('Trust - Frontsheet'!AA109))","v":0},{"$f":"IF(OR('Trust - Frontsheet'!AB109=\"\",'Trust - Frontsheet'!AB109=\"-\"),0,('Trust - Frontsheet'!AB109))","v":0},{"$f":"IF(OR('Trust - Frontsheet'!AC109=\"\",'Trust - Frontsheet'!AC109=\"-\"),0,('Trust - Frontsheet'!AC109))","v":0},{"$f":"IF(OR('Trust - Frontsheet'!AD109=\"\",'Trust - Frontsheet'!AD109=\"-\"),0,('Trust - Frontsheet'!AD109))","v":0},{"$f":"IF(OR('Trust - Frontsheet'!AE109=\"\",'Trust - Frontsheet'!AE109=\"-\"),0,('Trust - Frontsheet'!AE109))","v":0},{"$f":"IF(OR('Trust - Frontsheet'!AF109=\"\",'Trust - Frontsheet'!AF109=\"-\"),0,('Trust - Frontsheet'!AF109))","v":0},{"$f":"'Trust - Frontsheet'!U109","v":0},{"$f":"IF(OR('Trust - Frontsheet'!V109=\"\",'Trust - Frontsheet'!V109=\"-\"),0,('Trust - Frontsheet'!V109))","v":0},{"$f":"IF(OR('Trust - Frontsheet'!W109=\"\",'Trust - Frontsheet'!W109=\"-\"),0,('Trust - Frontsheet'!W109))","v":0},{"$f":"IF(OR('Trust - Frontsheet'!X109=\"\",'Trust - Frontsheet'!X109=\"-\"),0,('Trust - Frontsheet'!X109))","v":0},{"$f":"IF(OR('Trust - Frontsheet'!Y109=\"\",'Trust - Frontsheet'!Y109=\"-\"),0,('Trust - Frontsheet'!Y109))","v":0},{"$f":"IF(OR('Trust - Frontsheet'!Z109=\"\",'Trust - Frontsheet'!Z109=\"-\"),0,('Trust - Frontsheet'!Z109))","v":0},{"$f":"IF(A97=\"\",\"\",(IF(ISBLANK('Trust - Frontsheet'!F9),\"\",'Trust - Frontsheet'!F9)))","v":""}]
[{"$f":"IF('Trust - Frontsheet'!D110=0,\"\",IF('Trust - Frontsheet'!D110=\"\",\"\",'Trust - Frontsheet'!D110))","v":""},{"$f":"IF(ISBLANK('Trust - Frontsheet'!E110),\"\",'Trust - Frontsheet'!E110)","v":""},{"$f":"IF(ISBLANK('Trust - Frontsheet'!F110),\"\",\"'\" & 'Trust - Frontsheet'!F110 & \"'\")","v":""},{"$f":"IF(ISBLANK('Trust - Frontsheet'!G110),\"\",'Trust - Frontsheet'!G110)","v":""},{"$f":"IF(ISBLANK('Trust - Frontsheet'!H110),\"\",'Trust - Frontsheet'!H110)","v":""},{"$f":"'Trust - Frontsheet'!I110","v":0},{"$f":"'Trust - Frontsheet'!J110","v":0},{"$f":"'Trust - Frontsheet'!K110","v":0},{"$f":"'Trust - Frontsheet'!L110","v":0},{"$f":"'Trust - Frontsheet'!M110","v":0},{"$f":"'Trust - Frontsheet'!N110","v":0},{"$f":"'Trust - Frontsheet'!O110","v":0},{"$f":"'Trust - Frontsheet'!P110","v":0},{"$f":"'Trust - Frontsheet'!Q110","v":0},{"$f":"'Trust - Frontsheet'!R110","v":0},{"$f":"'Trust - Frontsheet'!S110","v":0},{"$f":"'Trust - Frontsheet'!T110","v":0},{"$f":"IF(OR('Trust - Frontsheet'!AA110=\"\",'Trust - Frontsheet'!AA110=\"-\"),0,('Trust - Frontsheet'!AA110))","v":0},{"$f":"IF(OR('Trust - Frontsheet'!AB110=\"\",'Trust - Frontsheet'!AB110=\"-\"),0,('Trust - Frontsheet'!AB110))","v":0},{"$f":"IF(OR('Trust - Frontsheet'!AC110=\"\",'Trust - Frontsheet'!AC110=\"-\"),0,('Trust - Frontsheet'!AC110))","v":0},{"$f":"IF(OR('Trust - Frontsheet'!AD110=\"\",'Trust - Frontsheet'!AD110=\"-\"),0,('Trust - Frontsheet'!AD110))","v":0},{"$f":"IF(OR('Trust - Frontsheet'!AE110=\"\",'Trust - Frontsheet'!AE110=\"-\"),0,('Trust - Frontsheet'!AE110))","v":0},{"$f":"IF(OR('Trust - Frontsheet'!AF110=\"\",'Trust - Frontsheet'!AF110=\"-\"),0,('Trust - Frontsheet'!AF110))","v":0},{"$f":"'Trust - Frontsheet'!U110","v":0},{"$f":"IF(OR('Trust - Frontsheet'!V110=\"\",'Trust - Frontsheet'!V110=\"-\"),0,('Trust - Frontsheet'!V110))","v":0},{"$f":"IF(OR('Trust - Frontsheet'!W110=\"\",'Trust - Frontsheet'!W110=\"-\"),0,('Trust - Frontsheet'!W110))","v":0},{"$f":"IF(OR('Trust - Frontsheet'!X110=\"\",'Trust - Frontsheet'!X110=\"-\"),0,('Trust - Frontsheet'!X110))","v":0},{"$f":"IF(OR('Trust - Frontsheet'!Y110=\"\",'Trust - Frontsheet'!Y110=\"-\"),0,('Trust - Frontsheet'!Y110))","v":0},{"$f":"IF(OR('Trust - Frontsheet'!Z110=\"\",'Trust - Frontsheet'!Z110=\"-\"),0,('Trust - Frontsheet'!Z110))","v":0},{"$f":"IF(A98=\"\",\"\",(IF(ISBLANK('Trust - Frontsheet'!F9),\"\",'Trust - Frontsheet'!F9)))","v":""}]
[{"$f":"IF('Trust - Frontsheet'!D111=0,\"\",IF('Trust - Frontsheet'!D111=\"\",\"\",'Trust - Frontsheet'!D111))","v":""},{"$f":"IF(ISBLANK('Trust - Frontsheet'!E111),\"\",'Trust - Frontsheet'!E111)","v":""},{"$f":"IF(ISBLANK('Trust - Frontsheet'!F111),\"\",\"'\" & 'Trust - Frontsheet'!F111 & \"'\")","v":""},{"$f":"IF(ISBLANK('Trust - Frontsheet'!G111),\"\",'Trust - Frontsheet'!G111)","v":""},{"$f":"IF(ISBLANK('Trust - Frontsheet'!H111),\"\",'Trust - Frontsheet'!H111)","v":""},{"$f":"'Trust - Frontsheet'!I111","v":0},{"$f":"'Trust - Frontsheet'!J111","v":0},{"$f":"'Trust - Frontsheet'!K111","v":0},{"$f":"'Trust - Frontsheet'!L111","v":0},{"$f":"'Trust - Frontsheet'!M111","v":0},{"$f":"'Trust - Frontsheet'!N111","v":0},{"$f":"'Trust - Frontsheet'!O111","v":0},{"$f":"'Trust - Frontsheet'!P111","v":0},{"$f":"'Trust - Frontsheet'!Q111","v":0},{"$f":"'Trust - Frontsheet'!R111","v":0},{"$f":"'Trust - Frontsheet'!S111","v":0},{"$f":"'Trust - Frontsheet'!T111","v":0},{"$f":"IF(OR('Trust - Frontsheet'!AA111=\"\",'Trust - Frontsheet'!AA111=\"-\"),0,('Trust - Frontsheet'!AA111))","v":0},{"$f":"IF(OR('Trust - Frontsheet'!AB111=\"\",'Trust - Frontsheet'!AB111=\"-\"),0,('Trust - Frontsheet'!AB111))","v":0},{"$f":"IF(OR('Trust - Frontsheet'!AC111=\"\",'Trust - Frontsheet'!AC111=\"-\"),0,('Trust - Frontsheet'!AC111))","v":0},{"$f":"IF(OR('Trust - Frontsheet'!AD111=\"\",'Trust - Frontsheet'!AD111=\"-\"),0,('Trust - Frontsheet'!AD111))","v":0},{"$f":"IF(OR('Trust - Frontsheet'!AE111=\"\",'Trust - Frontsheet'!AE111=\"-\"),0,('Trust - Frontsheet'!AE111))","v":0},{"$f":"IF(OR('Trust - Frontsheet'!AF111=\"\",'Trust - Frontsheet'!AF111=\"-\"),0,('Trust - Frontsheet'!AF111))","v":0},{"$f":"'Trust - Frontsheet'!U111","v":0},{"$f":"IF(OR('Trust - Frontsheet'!V111=\"\",'Trust - Frontsheet'!V111=\"-\"),0,('Trust - Frontsheet'!V111))","v":0},{"$f":"IF(OR('Trust - Frontsheet'!W111=\"\",'Trust - Frontsheet'!W111=\"-\"),0,('Trust - Frontsheet'!W111))","v":0},{"$f":"IF(OR('Trust - Frontsheet'!X111=\"\",'Trust - Frontsheet'!X111=\"-\"),0,('Trust - Frontsheet'!X111))","v":0},{"$f":"IF(OR('Trust - Frontsheet'!Y111=\"\",'Trust - Frontsheet'!Y111=\"-\"),0,('Trust - Frontsheet'!Y111))","v":0},{"$f":"IF(OR('Trust - Frontsheet'!Z111=\"\",'Trust - Frontsheet'!Z111=\"-\"),0,('Trust - Frontsheet'!Z111))","v":0},{"$f":"IF(A99=\"\",\"\",(IF(ISBLANK('Trust - Frontsheet'!F9),\"\",'Trust - Frontsheet'!F9)))","v":""}]
[{"$f":"IF('Trust - Frontsheet'!D112=0,\"\",IF('Trust - Frontsheet'!D112=\"\",\"\",'Trust - Frontsheet'!D112))","v":""},{"$f":"IF(ISBLANK('Trust - Frontsheet'!E112),\"\",'Trust - Frontsheet'!E112)","v":""},{"$f":"IF(ISBLANK('Trust - Frontsheet'!F112),\"\",\"'\" & 'Trust - Frontsheet'!F112 & \"'\")","v":""},{"$f":"IF(ISBLANK('Trust - Frontsheet'!G112),\"\",'Trust - Frontsheet'!G112)","v":""},{"$f":"IF(ISBLANK('Trust - Frontsheet'!H112),\"\",'Trust - Frontsheet'!H112)","v":""},{"$f":"'Trust - Frontsheet'!I112","v":0},{"$f":"'Trust - Frontsheet'!J112","v":0},{"$f":"'Trust - Frontsheet'!K112","v":0},{"$f":"'Trust - Frontsheet'!L112","v":0},{"$f":"'Trust - Frontsheet'!M112","v":0},{"$f":"'Trust - Frontsheet'!N112","v":0},{"$f":"'Trust - Frontsheet'!O112","v":0},{"$f":"'Trust - Frontsheet'!P112","v":0},{"$f":"'Trust - Frontsheet'!Q112","v":0},{"$f":"'Trust - Frontsheet'!R112","v":0},{"$f":"'Trust - Frontsheet'!S112","v":0},{"$f":"'Trust - Frontsheet'!T112","v":0},{"$f":"IF(OR('Trust - Frontsheet'!AA112=\"\",'Trust - Frontsheet'!AA112=\"-\"),0,('Trust - Frontsheet'!AA112))","v":0},{"$f":"IF(OR('Trust - Frontsheet'!AB112=\"\",'Trust - Frontsheet'!AB112=\"-\"),0,('Trust - Frontsheet'!AB112))","v":0},{"$f":"IF(OR('Trust - Frontsheet'!AC112=\"\",'Trust - Frontsheet'!AC112=\"-\"),0,('Trust - Frontsheet'!AC112))","v":0},{"$f":"IF(OR('Trust - Frontsheet'!AD112=\"\",'Trust - Frontsheet'!AD112=\"-\"),0,('Trust - Frontsheet'!AD112))","v":0},{"$f":"IF(OR('Trust - Frontsheet'!AE112=\"\",'Trust - Frontsheet'!AE112=\"-\"),0,('Trust - Frontsheet'!AE112))","v":0},{"$f":"IF(OR('Trust - Frontsheet'!AF112=\"\",'Trust - Frontsheet'!AF112=\"-\"),0,('Trust - Frontsheet'!AF112))","v":0},{"$f":"'Trust - Frontsheet'!U112","v":0},{"$f":"IF(OR('Trust - Frontsheet'!V112=\"\",'Trust - Frontsheet'!V112=\"-\"),0,('Trust - Frontsheet'!V112))","v":0},{"$f":"IF(OR('Trust - Frontsheet'!W112=\"\",'Trust - Frontsheet'!W112=\"-\"),0,('Trust - Frontsheet'!W112))","v":0},{"$f":"IF(OR('Trust - Frontsheet'!X112=\"\",'Trust - Frontsheet'!X112=\"-\"),0,('Trust - Frontsheet'!X112))","v":0},{"$f":"IF(OR('Trust - Frontsheet'!Y112=\"\",'Trust - Frontsheet'!Y112=\"-\"),0,('Trust - Frontsheet'!Y112))","v":0},{"$f":"IF(OR('Trust - Frontsheet'!Z112=\"\",'Trust - Frontsheet'!Z112=\"-\"),0,('Trust - Frontsheet'!Z112))","v":0},{"$f":"IF(A100=\"\",\"\",(IF(ISBLANK('Trust - Frontsheet'!F9),\"\",'Trust - Frontsheet'!F9)))","v":""}]
[{"$f":"IF('Trust - Frontsheet'!D113=0,\"\",IF('Trust - Frontsheet'!D113=\"\",\"\",'Trust - Frontsheet'!D113))","v":""},{"$f":"IF(ISBLANK('Trust - Frontsheet'!E113),\"\",'Trust - Frontsheet'!E113)","v":""},{"$f":"IF(ISBLANK('Trust - Frontsheet'!F113),\"\",\"'\" & 'Trust - Frontsheet'!F113 & \"'\")","v":""},{"$f":"IF(ISBLANK('Trust - Frontsheet'!G113),\"\",'Trust - Frontsheet'!G113)","v":""},{"$f":"IF(ISBLANK('Trust - Frontsheet'!H113),\"\",'Trust - Frontsheet'!H113)","v":""},{"$f":"'Trust - Frontsheet'!I113","v":0},{"$f":"'Trust - Frontsheet'!J113","v":0},{"$f":"'Trust - Frontsheet'!K113","v":0},{"$f":"'Trust - Frontsheet'!L113","v":0},{"$f":"'Trust - Frontsheet'!M113","v":0},{"$f":"'Trust - Frontsheet'!N113","v":0},{"$f":"'Trust - Frontsheet'!O113","v":0},{"$f":"'Trust - Frontsheet'!P113","v":0},{"$f":"'Trust - Frontsheet'!Q113","v":0},{"$f":"'Trust - Frontsheet'!R113","v":0},{"$f":"'Trust - Frontsheet'!S113","v":0},{"$f":"'Trust - Frontsheet'!T113","v":0},{"$f":"IF(OR('Trust - Frontsheet'!AA113=\"\",'Trust - Frontsheet'!AA113=\"-\"),0,('Trust - Frontsheet'!AA113))","v":0},{"$f":"IF(OR('Trust - Frontsheet'!AB113=\"\",'Trust - Frontsheet'!AB113=\"-\"),0,('Trust - Frontsheet'!AB113))","v":0},{"$f":"IF(OR('Trust - Frontsheet'!AC113=\"\",'Trust - Frontsheet'!AC113=\"-\"),0,('Trust - Frontsheet'!AC113))","v":0},{"$f":"IF(OR('Trust - Frontsheet'!AD113=\"\",'Trust - Frontsheet'!AD113=\"-\"),0,('Trust - Frontsheet'!AD113))","v":0},{"$f":"IF(OR('Trust - Frontsheet'!AE113=\"\",'Trust - Frontsheet'!AE113=\"-\"),0,('Trust - Frontsheet'!AE113))","v":0},{"$f":"IF(OR('Trust - Frontsheet'!AF113=\"\",'Trust - Frontsheet'!AF113=\"-\"),0,('Trust - Frontsheet'!AF113))","v":0},{"$f":"'Trust - Frontsheet'!U113","v":0},{"$f":"IF(OR('Trust - Frontsheet'!V113=\"\",'Trust - Frontsheet'!V113=\"-\"),0,('Trust - Frontsheet'!V113))","v":0},{"$f":"IF(OR('Trust - Frontsheet'!W113=\"\",'Trust - Frontsheet'!W113=\"-\"),0,('Trust - Frontsheet'!W113))","v":0},{"$f":"IF(OR('Trust - Frontsheet'!X113=\"\",'Trust - Frontsheet'!X113=\"-\"),0,('Trust - Frontsheet'!X113))","v":0},{"$f":"IF(OR('Trust - Frontsheet'!Y113=\"\",'Trust - Frontsheet'!Y113=\"-\"),0,('Trust - Frontsheet'!Y113))","v":0},{"$f":"IF(OR('Trust - Frontsheet'!Z113=\"\",'Trust - Frontsheet'!Z113=\"-\"),0,('Trust - Frontsheet'!Z113))","v":0},{"$f":"IF(A101=\"\",\"\",(IF(ISBLANK('Trust - Frontsheet'!F9),\"\",'Trust - Frontsheet'!F9)))","v":""}]
[{"$f":"IF('Trust - Frontsheet'!D114=0,\"\",IF('Trust - Frontsheet'!D114=\"\",\"\",'Trust - Frontsheet'!D114))","v":""},{"$f":"IF(ISBLANK('Trust - Frontsheet'!E114),\"\",'Trust - Frontsheet'!E114)","v":""},{"$f":"IF(ISBLANK('Trust - Frontsheet'!F114),\"\",\"'\" & 'Trust - Frontsheet'!F114 & \"'\")","v":""},{"$f":"IF(ISBLANK('Trust - Frontsheet'!G114),\"\",'Trust - Frontsheet'!G114)","v":""},{"$f":"IF(ISBLANK('Trust - Frontsheet'!H114),\"\",'Trust - Frontsheet'!H114)","v":""},{"$f":"'Trust - Frontsheet'!I114","v":0},{"$f":"'Trust - Frontsheet'!J114","v":0},{"$f":"'Trust - Frontsheet'!K114","v":0},{"$f":"'Trust - Frontsheet'!L114","v":0},{"$f":"'Trust - Frontsheet'!M114","v":0},{"$f":"'Trust - Frontsheet'!N114","v":0},{"$f":"'Trust - Frontsheet'!O114","v":0},{"$f":"'Trust - Frontsheet'!P114","v":0},{"$f":"'Trust - Frontsheet'!Q114","v":0},{"$f":"'Trust - Frontsheet'!R114","v":0},{"$f":"'Trust - Frontsheet'!S114","v":0},{"$f":"'Trust - Frontsheet'!T114","v":0},{"$f":"IF(OR('Trust - Frontsheet'!AA114=\"\",'Trust - Frontsheet'!AA114=\"-\"),0,('Trust - Frontsheet'!AA114))","v":0},{"$f":"IF(OR('Trust - Frontsheet'!AB114=\"\",'Trust - Frontsheet'!AB114=\"-\"),0,('Trust - Frontsheet'!AB114))","v":0},{"$f":"IF(OR('Trust - Frontsheet'!AC114=\"\",'Trust - Frontsheet'!AC114=\"-\"),0,('Trust - Frontsheet'!AC114))","v":0},{"$f":"IF(OR('Trust - Frontsheet'!AD114=\"\",'Trust - Frontsheet'!AD114=\"-\"),0,('Trust - Frontsheet'!AD114))","v":0},{"$f":"IF(OR('Trust - Frontsheet'!AE114=\"\",'Trust - Frontsheet'!AE114=\"-\"),0,('Trust - Frontsheet'!AE114))","v":0},{"$f":"IF(OR('Trust - Frontsheet'!AF114=\"\",'Trust - Frontsheet'!AF114=\"-\"),0,('Trust - Frontsheet'!AF114))","v":0},{"$f":"'Trust - Frontsheet'!U114","v":0},{"$f":"IF(OR('Trust - Frontsheet'!V114=\"\",'Trust - Frontsheet'!V114=\"-\"),0,('Trust - Frontsheet'!V114))","v":0},{"$f":"IF(OR('Trust - Frontsheet'!W114=\"\",'Trust - Frontsheet'!W114=\"-\"),0,('Trust - Frontsheet'!W114))","v":0},{"$f":"IF(OR('Trust - Frontsheet'!X114=\"\",'Trust - Frontsheet'!X114=\"-\"),0,('Trust - Frontsheet'!X114))","v":0},{"$f":"IF(OR('Trust - Frontsheet'!Y114=\"\",'Trust - Frontsheet'!Y114=\"-\"),0,('Trust - Frontsheet'!Y114))","v":0},{"$f":"IF(OR('Trust - Frontsheet'!Z114=\"\",'Trust - Frontsheet'!Z114=\"-\"),0,('Trust - Frontsheet'!Z114))","v":0},{"$f":"IF(A102=\"\",\"\",(IF(ISBLANK('Trust - Frontsheet'!F9),\"\",'Trust - Frontsheet'!F9)))","v":""}]
[{"$f":"IF('Trust - Frontsheet'!D115=0,\"\",IF('Trust - Frontsheet'!D115=\"\",\"\",'Trust - Frontsheet'!D115))","v":""},{"$f":"IF(ISBLANK('Trust - Frontsheet'!E115),\"\",'Trust - Frontsheet'!E115)","v":""},{"$f":"IF(ISBLANK('Trust - Frontsheet'!F115),\"\",\"'\" & 'Trust - Frontsheet'!F115 & \"'\")","v":""},{"$f":"IF(ISBLANK('Trust - Frontsheet'!G115),\"\",'Trust - Frontsheet'!G115)","v":""},{"$f":"IF(ISBLANK('Trust - Frontsheet'!H115),\"\",'Trust - Frontsheet'!H115)","v":""},{"$f":"'Trust - Frontsheet'!I115","v":0},{"$f":"'Trust - Frontsheet'!J115","v":0},{"$f":"'Trust - Frontsheet'!K115","v":0},{"$f":"'Trust - Frontsheet'!L115","v":0},{"$f":"'Trust - Frontsheet'!M115","v":0},{"$f":"'Trust - Frontsheet'!N115","v":0},{"$f":"'Trust - Frontsheet'!O115","v":0},{"$f":"'Trust - Frontsheet'!P115","v":0},{"$f":"'Trust - Frontsheet'!Q115","v":0},{"$f":"'Trust - Frontsheet'!R115","v":0},{"$f":"'Trust - Frontsheet'!S115","v":0},{"$f":"'Trust - Frontsheet'!T115","v":0},{"$f":"IF(OR('Trust - Frontsheet'!AA115=\"\",'Trust - Frontsheet'!AA115=\"-\"),0,('Trust - Frontsheet'!AA115))","v":0},{"$f":"IF(OR('Trust - Frontsheet'!AB115=\"\",'Trust - Frontsheet'!AB115=\"-\"),0,('Trust - Frontsheet'!AB115))","v":0},{"$f":"IF(OR('Trust - Frontsheet'!AC115=\"\",'Trust - Frontsheet'!AC115=\"-\"),0,('Trust - Frontsheet'!AC115))","v":0},{"$f":"IF(OR('Trust - Frontsheet'!AD115=\"\",'Trust - Frontsheet'!AD115=\"-\"),0,('Trust - Frontsheet'!AD115))","v":0},{"$f":"IF(OR('Trust - Frontsheet'!AE115=\"\",'Trust - Frontsheet'!AE115=\"-\"),0,('Trust - Frontsheet'!AE115))","v":0},{"$f":"IF(OR('Trust - Frontsheet'!AF115=\"\",'Trust - Frontsheet'!AF115=\"-\"),0,('Trust - Frontsheet'!AF115))","v":0},{"$f":"'Trust - Frontsheet'!U115","v":0},{"$f":"IF(OR('Trust - Frontsheet'!V115=\"\",'Trust - Frontsheet'!V115=\"-\"),0,('Trust - Frontsheet'!V115))","v":0},{"$f":"IF(OR('Trust - Frontsheet'!W115=\"\",'Trust - Frontsheet'!W115=\"-\"),0,('Trust - Frontsheet'!W115))","v":0},{"$f":"IF(OR('Trust - Frontsheet'!X115=\"\",'Trust - Frontsheet'!X115=\"-\"),0,('Trust - Frontsheet'!X115))","v":0},{"$f":"IF(OR('Trust - Frontsheet'!Y115=\"\",'Trust - Frontsheet'!Y115=\"-\"),0,('Trust - Frontsheet'!Y115))","v":0},{"$f":"IF(OR('Trust - Frontsheet'!Z115=\"\",'Trust - Frontsheet'!Z115=\"-\"),0,('Trust - Frontsheet'!Z115))","v":0},{"$f":"IF(A103=\"\",\"\",(IF(ISBLANK('Trust - Frontsheet'!F9),\"\",'Trust - Frontsheet'!F9)))","v":""}]
[{"$f":"IF('Trust - Frontsheet'!D116=0,\"\",IF('Trust - Frontsheet'!D116=\"\",\"\",'Trust - Frontsheet'!D116))","v":""},{"$f":"IF(ISBLANK('Trust - Frontsheet'!E116),\"\",'Trust - Frontsheet'!E116)","v":""},{"$f":"IF(ISBLANK('Trust - Frontsheet'!F116),\"\",\"'\" & 'Trust - Frontsheet'!F116 & \"'\")","v":""},{"$f":"IF(ISBLANK('Trust - Frontsheet'!G116),\"\",'Trust - Frontsheet'!G116)","v":""},{"$f":"IF(ISBLANK('Trust - Frontsheet'!H116),\"\",'Trust - Frontsheet'!H116)","v":""},{"$f":"'Trust - Frontsheet'!I116","v":0},{"$f":"'Trust - Frontsheet'!J116","v":0},{"$f":"'Trust - Frontsheet'!K116","v":0},{"$f":"'Trust - Frontsheet'!L116","v":0},{"$f":"'Trust - Frontsheet'!M116","v":0},{"$f":"'Trust - Frontsheet'!N116","v":0},{"$f":"'Trust - Frontsheet'!O116","v":0},{"$f":"'Trust - Frontsheet'!P116","v":0},{"$f":"'Trust - Frontsheet'!Q116","v":0},{"$f":"'Trust - Frontsheet'!R116","v":0},{"$f":"'Trust - Frontsheet'!S116","v":0},{"$f":"'Trust - Frontsheet'!T116","v":0},{"$f":"IF(OR('Trust - Frontsheet'!AA116=\"\",'Trust - Frontsheet'!AA116=\"-\"),0,('Trust - Frontsheet'!AA116))","v":0},{"$f":"IF(OR('Trust - Frontsheet'!AB116=\"\",'Trust - Frontsheet'!AB116=\"-\"),0,('Trust - Frontsheet'!AB116))","v":0},{"$f":"IF(OR('Trust - Frontsheet'!AC116=\"\",'Trust - Frontsheet'!AC116=\"-\"),0,('Trust - Frontsheet'!AC116))","v":0},{"$f":"IF(OR('Trust - Frontsheet'!AD116=\"\",'Trust - Frontsheet'!AD116=\"-\"),0,('Trust - Frontsheet'!AD116))","v":0},{"$f":"IF(OR('Trust - Frontsheet'!AE116=\"\",'Trust - Frontsheet'!AE116=\"-\"),0,('Trust - Frontsheet'!AE116))","v":0},{"$f":"IF(OR('Trust - Frontsheet'!AF116=\"\",'Trust - Frontsheet'!AF116=\"-\"),0,('Trust - Frontsheet'!AF116))","v":0},{"$f":"'Trust - Frontsheet'!U116","v":0},{"$f":"IF(OR('Trust - Frontsheet'!V116=\"\",'Trust - Frontsheet'!V116=\"-\"),0,('Trust - Frontsheet'!V116))","v":0},{"$f":"IF(OR('Trust - Frontsheet'!W116=\"\",'Trust - Frontsheet'!W116=\"-\"),0,('Trust - Frontsheet'!W116))","v":0},{"$f":"IF(OR('Trust - Frontsheet'!X116=\"\",'Trust - Frontsheet'!X116=\"-\"),0,('Trust - Frontsheet'!X116))","v":0},{"$f":"IF(OR('Trust - Frontsheet'!Y116=\"\",'Trust - Frontsheet'!Y116=\"-\"),0,('Trust - Frontsheet'!Y116))","v":0},{"$f":"IF(OR('Trust - Frontsheet'!Z116=\"\",'Trust - Frontsheet'!Z116=\"-\"),0,('Trust - Frontsheet'!Z116))","v":0},{"$f":"IF(A104=\"\",\"\",(IF(ISBLANK('Trust - Frontsheet'!F9),\"\",'Trust - Frontsheet'!F9)))","v":""}]
[{"$f":"IF('Trust - Frontsheet'!D117=0,\"\",IF('Trust - Frontsheet'!D117=\"\",\"\",'Trust - Frontsheet'!D117))","v":""},{"$f":"IF(ISBLANK('Trust - Frontsheet'!E117),\"\",'Trust - Frontsheet'!E117)","v":""},{"$f":"IF(ISBLANK('Trust - Frontsheet'!F117),\"\",\"'\" & 'Trust - Frontsheet'!F117 & \"'\")","v":""},{"$f":"IF(ISBLANK('Trust - Frontsheet'!G117),\"\",'Trust - Frontsheet'!G117)","v":""},{"$f":"IF(ISBLANK('Trust - Frontsheet'!H117),\"\",'Trust - Frontsheet'!H117)","v":""},{"$f":"'Trust - Frontsheet'!I117","v":0},{"$f":"'Trust - Frontsheet'!J117","v":0},{"$f":"'Trust - Frontsheet'!K117","v":0},{"$f":"'Trust - Frontsheet'!L117","v":0},{"$f":"'Trust - Frontsheet'!M117","v":0},{"$f":"'Trust - Frontsheet'!N117","v":0},{"$f":"'Trust - Frontsheet'!O117","v":0},{"$f":"'Trust - Frontsheet'!P117","v":0},{"$f":"'Trust - Frontsheet'!Q117","v":0},{"$f":"'Trust - Frontsheet'!R117","v":0},{"$f":"'Trust - Frontsheet'!S117","v":0},{"$f":"'Trust - Frontsheet'!T117","v":0},{"$f":"IF(OR('Trust - Frontsheet'!AA117=\"\",'Trust - Frontsheet'!AA117=\"-\"),0,('Trust - Frontsheet'!AA117))","v":0},{"$f":"IF(OR('Trust - Frontsheet'!AB117=\"\",'Trust - Frontsheet'!AB117=\"-\"),0,('Trust - Frontsheet'!AB117))","v":0},{"$f":"IF(OR('Trust - Frontsheet'!AC117=\"\",'Trust - Frontsheet'!AC117=\"-\"),0,('Trust - Frontsheet'!AC117))","v":0},{"$f":"IF(OR('Trust - Frontsheet'!AD117=\"\",'Trust - Frontsheet'!AD117=\"-\"),0,('Trust - Frontsheet'!AD117))","v":0},{"$f":"IF(OR('Trust - Frontsheet'!AE117=\"\",'Trust - Frontsheet'!AE117=\"-\"),0,('Trust - Frontsheet'!AE117))","v":0},{"$f":"IF(OR('Trust - Frontsheet'!AF117=\"\",'Trust - Frontsheet'!AF117=\"-\"),0,('Trust - Frontsheet'!AF117))","v":0},{"$f":"'Trust - Frontsheet'!U117","v":0},{"$f":"IF(OR('Trust - Frontsheet'!V117=\"\",'Trust - Frontsheet'!V117=\"-\"),0,('Trust - Frontsheet'!V117))","v":0},{"$f":"IF(OR('Trust - Frontsheet'!W117=\"\",'Trust - Frontsheet'!W117=\"-\"),0,('Trust - Frontsheet'!W117))","v":0},{"$f":"IF(OR('Trust - Frontsheet'!X117=\"\",'Trust - Frontsheet'!X117=\"-\"),0,('Trust - Frontsheet'!X117))","v":0},{"$f":"IF(OR('Trust - Frontsheet'!Y117=\"\",'Trust - Frontsheet'!Y117=\"-\"),0,('Trust - Frontsheet'!Y117))","v":0},{"$f":"IF(OR('Trust - Frontsheet'!Z117=\"\",'Trust - Frontsheet'!Z117=\"-\"),0,('Trust - Frontsheet'!Z117))","v":0},{"$f":"IF(A105=\"\",\"\",(IF(ISBLANK('Trust - Frontsheet'!F9),\"\",'Trust - Frontsheet'!F9)))","v":""}]
[{"$f":"IF('Trust - Frontsheet'!D118=0,\"\",IF('Trust - Frontsheet'!D118=\"\",\"\",'Trust - Frontsheet'!D118))","v":""},{"$f":"IF(ISBLANK('Trust - Frontsheet'!E118),\"\",'Trust - Frontsheet'!E118)","v":""},{"$f":"IF(ISBLANK('Trust - Frontsheet'!F118),\"\",\"'\" & 'Trust - Frontsheet'!F118 & \"'\")","v":""},{"$f":"IF(ISBLANK('Trust - Frontsheet'!G118),\"\",'Trust - Frontsheet'!G118)","v":""},{"$f":"IF(ISBLANK('Trust - Frontsheet'!H118),\"\",'Trust - Frontsheet'!H118)","v":""},{"$f":"'Trust - Frontsheet'!I118","v":0},{"$f":"'Trust - Frontsheet'!J118","v":0},{"$f":"'Trust - Frontsheet'!K118","v":0},{"$f":"'Trust - Frontsheet'!L118","v":0},{"$f":"'Trust - Frontsheet'!M118","v":0},{"$f":"'Trust - Frontsheet'!N118","v":0},{"$f":"'Trust - Frontsheet'!O118","v":0},{"$f":"'Trust - Frontsheet'!P118","v":0},{"$f":"'Trust - Frontsheet'!Q118","v":0},{"$f":"'Trust - Frontsheet'!R118","v":0},{"$f":"'Trust - Frontsheet'!S118","v":0},{"$f":"'Trust - Frontsheet'!T118","v":0},{"$f":"IF(OR('Trust - Frontsheet'!AA118=\"\",'Trust - Frontsheet'!AA118=\"-\"),0,('Trust - Frontsheet'!AA118))","v":0},{"$f":"IF(OR('Trust - Frontsheet'!AB118=\"\",'Trust - Frontsheet'!AB118=\"-\"),0,('Trust - Frontsheet'!AB118))","v":0},{"$f":"IF(OR('Trust - Frontsheet'!AC118=\"\",'Trust - Frontsheet'!AC118=\"-\"),0,('Trust - Frontsheet'!AC118))","v":0},{"$f":"IF(OR('Trust - Frontsheet'!AD118=\"\",'Trust - Frontsheet'!AD118=\"-\"),0,('Trust - Frontsheet'!AD118))","v":0},{"$f":"IF(OR('Trust - Frontsheet'!AE118=\"\",'Trust - Frontsheet'!AE118=\"-\"),0,('Trust - Frontsheet'!AE118))","v":0},{"$f":"IF(OR('Trust - Frontsheet'!AF118=\"\",'Trust - Frontsheet'!AF118=\"-\"),0,('Trust - Frontsheet'!AF118))","v":0},{"$f":"'Trust - Frontsheet'!U118","v":0},{"$f":"IF(OR('Trust - Frontsheet'!V118=\"\",'Trust - Frontsheet'!V118=\"-\"),0,('Trust - Frontsheet'!V118))","v":0},{"$f":"IF(OR('Trust - Frontsheet'!W118=\"\",'Trust - Frontsheet'!W118=\"-\"),0,('Trust - Frontsheet'!W118))","v":0},{"$f":"IF(OR('Trust - Frontsheet'!X118=\"\",'Trust - Frontsheet'!X118=\"-\"),0,('Trust - Frontsheet'!X118))","v":0},{"$f":"IF(OR('Trust - Frontsheet'!Y118=\"\",'Trust - Frontsheet'!Y118=\"-\"),0,('Trust - Frontsheet'!Y118))","v":0},{"$f":"IF(OR('Trust - Frontsheet'!Z118=\"\",'Trust - Frontsheet'!Z118=\"-\"),0,('Trust - Frontsheet'!Z118))","v":0},{"$f":"IF(A106=\"\",\"\",(IF(ISBLANK('Trust - Frontsheet'!F9),\"\",'Trust - Frontsheet'!F9)))","v":""}]
[{"$f":"IF('Trust - Frontsheet'!D119=0,\"\",IF('Trust - Frontsheet'!D119=\"\",\"\",'Trust - Frontsheet'!D119))","v":""},{"$f":"IF(ISBLANK('Trust - Frontsheet'!E119),\"\",'Trust - Frontsheet'!E119)","v":""},{"$f":"IF(ISBLANK('Trust - Frontsheet'!F119),\"\",\"'\" & 'Trust - Frontsheet'!F119 & \"'\")","v":""},{"$f":"IF(ISBLANK('Trust - Frontsheet'!G119),\"\",'Trust - Frontsheet'!G119)","v":""},{"$f":"IF(ISBLANK('Trust - Frontsheet'!H119),\"\",'Trust - Frontsheet'!H119)","v":""},{"$f":"'Trust - Frontsheet'!I119","v":0},{"$f":"'Trust - Frontsheet'!J119","v":0},{"$f":"'Trust - Frontsheet'!K119","v":0},{"$f":"'Trust - Frontsheet'!L119","v":0},{"$f":"'Trust - Frontsheet'!M119","v":0},{"$f":"'Trust - Frontsheet'!N119","v":0},{"$f":"'Trust - Frontsheet'!O119","v":0},{"$f":"'Trust - Frontsheet'!P119","v":0},{"$f":"'Trust - Frontsheet'!Q119","v":0},{"$f":"'Trust - Frontsheet'!R119","v":0},{"$f":"'Trust - Frontsheet'!S119","v":0},{"$f":"'Trust - Frontsheet'!T119","v":0},{"$f":"IF(OR('Trust - Frontsheet'!AA119=\"\",'Trust - Frontsheet'!AA119=\"-\"),0,('Trust - Frontsheet'!AA119))","v":0},{"$f":"IF(OR('Trust - Frontsheet'!AB119=\"\",'Trust - Frontsheet'!AB119=\"-\"),0,('Trust - Frontsheet'!AB119))","v":0},{"$f":"IF(OR('Trust - Frontsheet'!AC119=\"\",'Trust - Frontsheet'!AC119=\"-\"),0,('Trust - Frontsheet'!AC119))","v":0},{"$f":"IF(OR('Trust - Frontsheet'!AD119=\"\",'Trust - Frontsheet'!AD119=\"-\"),0,('Trust - Frontsheet'!AD119))","v":0},{"$f":"IF(OR('Trust - Frontsheet'!AE119=\"\",'Trust - Frontsheet'!AE119=\"-\"),0,('Trust - Frontsheet'!AE119))","v":0},{"$f":"IF(OR('Trust - Frontsheet'!AF119=\"\",'Trust - Frontsheet'!AF119=\"-\"),0,('Trust - Frontsheet'!AF119))","v":0},{"$f":"'Trust - Frontsheet'!U119","v":0},{"$f":"IF(OR('Trust - Frontsheet'!V119=\"\",'Trust - Frontsheet'!V119=\"-\"),0,('Trust - Frontsheet'!V119))","v":0},{"$f":"IF(OR('Trust - Frontsheet'!W119=\"\",'Trust - Frontsheet'!W119=\"-\"),0,('Trust - Frontsheet'!W119))","v":0},{"$f":"IF(OR('Trust - Frontsheet'!X119=\"\",'Trust - Frontsheet'!X119=\"-\"),0,('Trust - Frontsheet'!X119))","v":0},{"$f":"IF(OR('Trust - Frontsheet'!Y119=\"\",'Trust - Frontsheet'!Y119=\"-\"),0,('Trust - Frontsheet'!Y119))","v":0},{"$f":"IF(OR('Trust - Frontsheet'!Z119=\"\",'Trust - Frontsheet'!Z119=\"-\"),0,('Trust - Frontsheet'!Z119))","v":0},{"$f":"IF(A107=\"\",\"\",(IF(ISBLANK('Trust - Frontsheet'!F9),\"\",'Trust - Frontsheet'!F9)))","v":""}]
[{"$f":"IF('Trust - Frontsheet'!D120=0,\"\",IF('Trust - Frontsheet'!D120=\"\",\"\",'Trust - Frontsheet'!D120))","v":""},{"$f":"IF(ISBLANK('Trust - Frontsheet'!E120),\"\",'Trust - Frontsheet'!E120)","v":""},{"$f":"IF(ISBLANK('Trust - Frontsheet'!F120),\"\",\"'\" & 'Trust - Frontsheet'!F120 & \"'\")","v":""},{"$f":"IF(ISBLANK('Trust - Frontsheet'!G120),\"\",'Trust - Frontsheet'!G120)","v":""},{"$f":"IF(ISBLANK('Trust - Frontsheet'!H120),\"\",'Trust - Frontsheet'!H120)","v":""},{"$f":"'Trust - Frontsheet'!I120","v":0},{"$f":"'Trust - Frontsheet'!J120","v":0},{"$f":"'Trust - Frontsheet'!K120","v":0},{"$f":"'Trust - Frontsheet'!L120","v":0},{"$f":"'Trust - Frontsheet'!M120","v":0},{"$f":"'Trust - Frontsheet'!N120","v":0},{"$f":"'Trust - Frontsheet'!O120","v":0},{"$f":"'Trust - Frontsheet'!P120","v":0},{"$f":"'Trust - Frontsheet'!Q120","v":0},{"$f":"'Trust - Frontsheet'!R120","v":0},{"$f":"'Trust - Frontsheet'!S120","v":0},{"$f":"'Trust - Frontsheet'!T120","v":0},{"$f":"IF(OR('Trust - Frontsheet'!AA120=\"\",'Trust - Frontsheet'!AA120=\"-\"),0,('Trust - Frontsheet'!AA120))","v":0},{"$f":"IF(OR('Trust - Frontsheet'!AB120=\"\",'Trust - Frontsheet'!AB120=\"-\"),0,('Trust - Frontsheet'!AB120))","v":0},{"$f":"IF(OR('Trust - Frontsheet'!AC120=\"\",'Trust - Frontsheet'!AC120=\"-\"),0,('Trust - Frontsheet'!AC120))","v":0},{"$f":"IF(OR('Trust - Frontsheet'!AD120=\"\",'Trust - Frontsheet'!AD120=\"-\"),0,('Trust - Frontsheet'!AD120))","v":0},{"$f":"IF(OR('Trust - Frontsheet'!AE120=\"\",'Trust - Frontsheet'!AE120=\"-\"),0,('Trust - Frontsheet'!AE120))","v":0},{"$f":"IF(OR('Trust - Frontsheet'!AF120=\"\",'Trust - Frontsheet'!AF120=\"-\"),0,('Trust - Frontsheet'!AF120))","v":0},{"$f":"'Trust - Frontsheet'!U120","v":0},{"$f":"IF(OR('Trust - Frontsheet'!V120=\"\",'Trust - Frontsheet'!V120=\"-\"),0,('Trust - Frontsheet'!V120))","v":0},{"$f":"IF(OR('Trust - Frontsheet'!W120=\"\",'Trust - Frontsheet'!W120=\"-\"),0,('Trust - Frontsheet'!W120))","v":0},{"$f":"IF(OR('Trust - Frontsheet'!X120=\"\",'Trust - Frontsheet'!X120=\"-\"),0,('Trust - Frontsheet'!X120))","v":0},{"$f":"IF(OR('Trust - Frontsheet'!Y120=\"\",'Trust - Frontsheet'!Y120=\"-\"),0,('Trust - Frontsheet'!Y120))","v":0},{"$f":"IF(OR('Trust - Frontsheet'!Z120=\"\",'Trust - Frontsheet'!Z120=\"-\"),0,('Trust - Frontsheet'!Z120))","v":0},{"$f":"IF(A108=\"\",\"\",(IF(ISBLANK('Trust - Frontsheet'!F9),\"\",'Trust - Frontsheet'!F9)))","v":""}]
[{"$f":"IF('Trust - Frontsheet'!D121=0,\"\",IF('Trust - Frontsheet'!D121=\"\",\"\",'Trust - Frontsheet'!D121))","v":""},{"$f":"IF(ISBLANK('Trust - Frontsheet'!E121),\"\",'Trust - Frontsheet'!E121)","v":""},{"$f":"IF(ISBLANK('Trust - Frontsheet'!F121),\"\",\"'\" & 'Trust - Frontsheet'!F121 & \"'\")","v":""},{"$f":"IF(ISBLANK('Trust - Frontsheet'!G121),\"\",'Trust - Frontsheet'!G121)","v":""},{"$f":"IF(ISBLANK('Trust - Frontsheet'!H121),\"\",'Trust - Frontsheet'!H121)","v":""},{"$f":"'Trust - Frontsheet'!I121","v":0},{"$f":"'Trust - Frontsheet'!J121","v":0},{"$f":"'Trust - Frontsheet'!K121","v":0},{"$f":"'Trust - Frontsheet'!L121","v":0},{"$f":"'Trust - Frontsheet'!M121","v":0},{"$f":"'Trust - Frontsheet'!N121","v":0},{"$f":"'Trust - Frontsheet'!O121","v":0},{"$f":"'Trust - Frontsheet'!P121","v":0},{"$f":"'Trust - Frontsheet'!Q121","v":0},{"$f":"'Trust - Frontsheet'!R121","v":0},{"$f":"'Trust - Frontsheet'!S121","v":0},{"$f":"'Trust - Frontsheet'!T121","v":0},{"$f":"IF(OR('Trust - Frontsheet'!AA121=\"\",'Trust - Frontsheet'!AA121=\"-\"),0,('Trust - Frontsheet'!AA121))","v":0},{"$f":"IF(OR('Trust - Frontsheet'!AB121=\"\",'Trust - Frontsheet'!AB121=\"-\"),0,('Trust - Frontsheet'!AB121))","v":0},{"$f":"IF(OR('Trust - Frontsheet'!AC121=\"\",'Trust - Frontsheet'!AC121=\"-\"),0,('Trust - Frontsheet'!AC121))","v":0},{"$f":"IF(OR('Trust - Frontsheet'!AD121=\"\",'Trust - Frontsheet'!AD121=\"-\"),0,('Trust - Frontsheet'!AD121))","v":0},{"$f":"IF(OR('Trust - Frontsheet'!AE121=\"\",'Trust - Frontsheet'!AE121=\"-\"),0,('Trust - Frontsheet'!AE121))","v":0},{"$f":"IF(OR('Trust - Frontsheet'!AF121=\"\",'Trust - Frontsheet'!AF121=\"-\"),0,('Trust - Frontsheet'!AF121))","v":0},{"$f":"'Trust - Frontsheet'!U121","v":0},{"$f":"IF(OR('Trust - Frontsheet'!V121=\"\",'Trust - Frontsheet'!V121=\"-\"),0,('Trust - Frontsheet'!V121))","v":0},{"$f":"IF(OR('Trust - Frontsheet'!W121=\"\",'Trust - Frontsheet'!W121=\"-\"),0,('Trust - Frontsheet'!W121))","v":0},{"$f":"IF(OR('Trust - Frontsheet'!X121=\"\",'Trust - Frontsheet'!X121=\"-\"),0,('Trust - Frontsheet'!X121))","v":0},{"$f":"IF(OR('Trust - Frontsheet'!Y121=\"\",'Trust - Frontsheet'!Y121=\"-\"),0,('Trust - Frontsheet'!Y121))","v":0},{"$f":"IF(OR('Trust - Frontsheet'!Z121=\"\",'Trust - Frontsheet'!Z121=\"-\"),0,('Trust - Frontsheet'!Z121))","v":0},{"$f":"IF(A109=\"\",\"\",(IF(ISBLANK('Trust - Frontsheet'!F9),\"\",'Trust - Frontsheet'!F9)))","v":""}]
[{"$f":"IF('Trust - Frontsheet'!D122=0,\"\",IF('Trust - Frontsheet'!D122=\"\",\"\",'Trust - Frontsheet'!D122))","v":""},{"$f":"IF(ISBLANK('Trust - Frontsheet'!E122),\"\",'Trust - Frontsheet'!E122)","v":""},{"$f":"IF(ISBLANK('Trust - Frontsheet'!F122),\"\",\"'\" & 'Trust - Frontsheet'!F122 & \"'\")","v":""},{"$f":"IF(ISBLANK('Trust - Frontsheet'!G122),\"\",'Trust - Frontsheet'!G122)","v":""},{"$f":"IF(ISBLANK('Trust - Frontsheet'!H122),\"\",'Trust - Frontsheet'!H122)","v":""},{"$f":"'Trust - Frontsheet'!I122","v":0},{"$f":"'Trust - Frontsheet'!J122","v":0},{"$f":"'Trust - Frontsheet'!K122","v":0},{"$f":"'Trust - Frontsheet'!L122","v":0},{"$f":"'Trust - Frontsheet'!M122","v":0},{"$f":"'Trust - Frontsheet'!N122","v":0},{"$f":"'Trust - Frontsheet'!O122","v":0},{"$f":"'Trust - Frontsheet'!P122","v":0},{"$f":"'Trust - Frontsheet'!Q122","v":0},{"$f":"'Trust - Frontsheet'!R122","v":0},{"$f":"'Trust - Frontsheet'!S122","v":0},{"$f":"'Trust - Frontsheet'!T122","v":0},{"$f":"IF(OR('Trust - Frontsheet'!AA122=\"\",'Trust - Frontsheet'!AA122=\"-\"),0,('Trust - Frontsheet'!AA122))","v":0},{"$f":"IF(OR('Trust - Frontsheet'!AB122=\"\",'Trust - Frontsheet'!AB122=\"-\"),0,('Trust - Frontsheet'!AB122))","v":0},{"$f":"IF(OR('Trust - Frontsheet'!AC122=\"\",'Trust - Frontsheet'!AC122=\"-\"),0,('Trust - Frontsheet'!AC122))","v":0},{"$f":"IF(OR('Trust - Frontsheet'!AD122=\"\",'Trust - Frontsheet'!AD122=\"-\"),0,('Trust - Frontsheet'!AD122))","v":0},{"$f":"IF(OR('Trust - Frontsheet'!AE122=\"\",'Trust - Frontsheet'!AE122=\"-\"),0,('Trust - Frontsheet'!AE122))","v":0},{"$f":"IF(OR('Trust - Frontsheet'!AF122=\"\",'Trust - Frontsheet'!AF122=\"-\"),0,('Trust - Frontsheet'!AF122))","v":0},{"$f":"'Trust - Frontsheet'!U122","v":0},{"$f":"IF(OR('Trust - Frontsheet'!V122=\"\",'Trust - Frontsheet'!V122=\"-\"),0,('Trust - Frontsheet'!V122))","v":0},{"$f":"IF(OR('Trust - Frontsheet'!W122=\"\",'Trust - Frontsheet'!W122=\"-\"),0,('Trust - Frontsheet'!W122))","v":0},{"$f":"IF(OR('Trust - Frontsheet'!X122=\"\",'Trust - Frontsheet'!X122=\"-\"),0,('Trust - Frontsheet'!X122))","v":0},{"$f":"IF(OR('Trust - Frontsheet'!Y122=\"\",'Trust - Frontsheet'!Y122=\"-\"),0,('Trust - Frontsheet'!Y122))","v":0},{"$f":"IF(OR('Trust - Frontsheet'!Z122=\"\",'Trust - Frontsheet'!Z122=\"-\"),0,('Trust - Frontsheet'!Z122))","v":0},{"$f":"IF(A110=\"\",\"\",(IF(ISBLANK('Trust - Frontsheet'!F9),\"\",'Trust - Frontsheet'!F9)))","v":""}]
[{"$f":"IF('Trust - Frontsheet'!D123=0,\"\",IF('Trust - Frontsheet'!D123=\"\",\"\",'Trust - Frontsheet'!D123))","v":""},{"$f":"IF(ISBLANK('Trust - Frontsheet'!E123),\"\",'Trust - Frontsheet'!E123)","v":""},{"$f":"IF(ISBLANK('Trust - Frontsheet'!F123),\"\",\"'\" & 'Trust - Frontsheet'!F123 & \"'\")","v":""},{"$f":"IF(ISBLANK('Trust - Frontsheet'!G123),\"\",'Trust - Frontsheet'!G123)","v":""},{"$f":"IF(ISBLANK('Trust - Frontsheet'!H123),\"\",'Trust - Frontsheet'!H123)","v":""},{"$f":"'Trust - Frontsheet'!I123","v":0},{"$f":"'Trust - Frontsheet'!J123","v":0},{"$f":"'Trust - Frontsheet'!K123","v":0},{"$f":"'Trust - Frontsheet'!L123","v":0},{"$f":"'Trust - Frontsheet'!M123","v":0},{"$f":"'Trust - Frontsheet'!N123","v":0},{"$f":"'Trust - Frontsheet'!O123","v":0},{"$f":"'Trust - Frontsheet'!P123","v":0},{"$f":"'Trust - Frontsheet'!Q123","v":0},{"$f":"'Trust - Frontsheet'!R123","v":0},{"$f":"'Trust - Frontsheet'!S123","v":0},{"$f":"'Trust - Frontsheet'!T123","v":0},{"$f":"IF(OR('Trust - Frontsheet'!AA123=\"\",'Trust - Frontsheet'!AA123=\"-\"),0,('Trust - Frontsheet'!AA123))","v":0},{"$f":"IF(OR('Trust - Frontsheet'!AB123=\"\",'Trust - Frontsheet'!AB123=\"-\"),0,('Trust - Frontsheet'!AB123))","v":0},{"$f":"IF(OR('Trust - Frontsheet'!AC123=\"\",'Trust - Frontsheet'!AC123=\"-\"),0,('Trust - Frontsheet'!AC123))","v":0},{"$f":"IF(OR('Trust - Frontsheet'!AD123=\"\",'Trust - Frontsheet'!AD123=\"-\"),0,('Trust - Frontsheet'!AD123))","v":0},{"$f":"IF(OR('Trust - Frontsheet'!AE123=\"\",'Trust - Frontsheet'!AE123=\"-\"),0,('Trust - Frontsheet'!AE123))","v":0},{"$f":"IF(OR('Trust - Frontsheet'!AF123=\"\",'Trust - Frontsheet'!AF123=\"-\"),0,('Trust - Frontsheet'!AF123))","v":0},{"$f":"'Trust - Frontsheet'!U123","v":0},{"$f":"IF(OR('Trust - Frontsheet'!V123=\"\",'Trust - Frontsheet'!V123=\"-\"),0,('Trust - Frontsheet'!V123))","v":0},{"$f":"IF(OR('Trust - Frontsheet'!W123=\"\",'Trust - Frontsheet'!W123=\"-\"),0,('Trust - Frontsheet'!W123))","v":0},{"$f":"IF(OR('Trust - Frontsheet'!X123=\"\",'Trust - Frontsheet'!X123=\"-\"),0,('Trust - Frontsheet'!X123))","v":0},{"$f":"IF(OR('Trust - Frontsheet'!Y123=\"\",'Trust - Frontsheet'!Y123=\"-\"),0,('Trust - Frontsheet'!Y123))","v":0},{"$f":"IF(OR('Trust - Frontsheet'!Z123=\"\",'Trust - Frontsheet'!Z123=\"-\"),0,('Trust - Frontsheet'!Z123))","v":0},{"$f":"IF(A111=\"\",\"\",(IF(ISBLANK('Trust - Frontsheet'!F9),\"\",'Trust - Frontsheet'!F9)))","v":""}]
[{"$f":"IF('Trust - Frontsheet'!D124=0,\"\",IF('Trust - Frontsheet'!D124=\"\",\"\",'Trust - Frontsheet'!D124))","v":""},{"$f":"IF(ISBLANK('Trust - Frontsheet'!E124),\"\",'Trust - Frontsheet'!E124)","v":""},{"$f":"IF(ISBLANK('Trust - Frontsheet'!F124),\"\",\"'\" & 'Trust - Frontsheet'!F124 & \"'\")","v":""},{"$f":"IF(ISBLANK('Trust - Frontsheet'!G124),\"\",'Trust - Frontsheet'!G124)","v":""},{"$f":"IF(ISBLANK('Trust - Frontsheet'!H124),\"\",'Trust - Frontsheet'!H124)","v":""},{"$f":"'Trust - Frontsheet'!I124","v":0},{"$f":"'Trust - Frontsheet'!J124","v":0},{"$f":"'Trust - Frontsheet'!K124","v":0},{"$f":"'Trust - Frontsheet'!L124","v":0},{"$f":"'Trust - Frontsheet'!M124","v":0},{"$f":"'Trust - Frontsheet'!N124","v":0},{"$f":"'Trust - Frontsheet'!O124","v":0},{"$f":"'Trust - Frontsheet'!P124","v":0},{"$f":"'Trust - Frontsheet'!Q124","v":0},{"$f":"'Trust - Frontsheet'!R124","v":0},{"$f":"'Trust - Frontsheet'!S124","v":0},{"$f":"'Trust - Frontsheet'!T124","v":0},{"$f":"IF(OR('Trust - Frontsheet'!AA124=\"\",'Trust - Frontsheet'!AA124=\"-\"),0,('Trust - Frontsheet'!AA124))","v":0},{"$f":"IF(OR('Trust - Frontsheet'!AB124=\"\",'Trust - Frontsheet'!AB124=\"-\"),0,('Trust - Frontsheet'!AB124))","v":0},{"$f":"IF(OR('Trust - Frontsheet'!AC124=\"\",'Trust - Frontsheet'!AC124=\"-\"),0,('Trust - Frontsheet'!AC124))","v":0},{"$f":"IF(OR('Trust - Frontsheet'!AD124=\"\",'Trust - Frontsheet'!AD124=\"-\"),0,('Trust - Frontsheet'!AD124))","v":0},{"$f":"IF(OR('Trust - Frontsheet'!AE124=\"\",'Trust - Frontsheet'!AE124=\"-\"),0,('Trust - Frontsheet'!AE124))","v":0},{"$f":"IF(OR('Trust - Frontsheet'!AF124=\"\",'Trust - Frontsheet'!AF124=\"-\"),0,('Trust - Frontsheet'!AF124))","v":0},{"$f":"'Trust - Frontsheet'!U124","v":0},{"$f":"IF(OR('Trust - Frontsheet'!V124=\"\",'Trust - Frontsheet'!V124=\"-\"),0,('Trust - Frontsheet'!V124))","v":0},{"$f":"IF(OR('Trust - Frontsheet'!W124=\"\",'Trust - Frontsheet'!W124=\"-\"),0,('Trust - Frontsheet'!W124))","v":0},{"$f":"IF(OR('Trust - Frontsheet'!X124=\"\",'Trust - Frontsheet'!X124=\"-\"),0,('Trust - Frontsheet'!X124))","v":0},{"$f":"IF(OR('Trust - Frontsheet'!Y124=\"\",'Trust - Frontsheet'!Y124=\"-\"),0,('Trust - Frontsheet'!Y124))","v":0},{"$f":"IF(OR('Trust - Frontsheet'!Z124=\"\",'Trust - Frontsheet'!Z124=\"-\"),0,('Trust - Frontsheet'!Z124))","v":0},{"$f":"IF(A112=\"\",\"\",(IF(ISBLANK('Trust - Frontsheet'!F9),\"\",'Trust - Frontsheet'!F9)))","v":""}]
[{"$f":"IF('Trust - Frontsheet'!D125=0,\"\",IF('Trust - Frontsheet'!D125=\"\",\"\",'Trust - Frontsheet'!D125))","v":""},{"$f":"IF(ISBLANK('Trust - Frontsheet'!E125),\"\",'Trust - Frontsheet'!E125)","v":""},{"$f":"IF(ISBLANK('Trust - Frontsheet'!F125),\"\",\"'\" & 'Trust - Frontsheet'!F125 & \"'\")","v":""},{"$f":"IF(ISBLANK('Trust - Frontsheet'!G125),\"\",'Trust - Frontsheet'!G125)","v":""},{"$f":"IF(ISBLANK('Trust - Frontsheet'!H125),\"\",'Trust - Frontsheet'!H125)","v":""},{"$f":"'Trust - Frontsheet'!I125","v":0},{"$f":"'Trust - Frontsheet'!J125","v":0},{"$f":"'Trust - Frontsheet'!K125","v":0},{"$f":"'Trust - Frontsheet'!L125","v":0},{"$f":"'Trust - Frontsheet'!M125","v":0},{"$f":"'Trust - Frontsheet'!N125","v":0},{"$f":"'Trust - Frontsheet'!O125","v":0},{"$f":"'Trust - Frontsheet'!P125","v":0},{"$f":"'Trust - Frontsheet'!Q125","v":0},{"$f":"'Trust - Frontsheet'!R125","v":0},{"$f":"'Trust - Frontsheet'!S125","v":0},{"$f":"'Trust - Frontsheet'!T125","v":0},{"$f":"IF(OR('Trust - Frontsheet'!AA125=\"\",'Trust - Frontsheet'!AA125=\"-\"),0,('Trust - Frontsheet'!AA125))","v":0},{"$f":"IF(OR('Trust - Frontsheet'!AB125=\"\",'Trust - Frontsheet'!AB125=\"-\"),0,('Trust - Frontsheet'!AB125))","v":0},{"$f":"IF(OR('Trust - Frontsheet'!AC125=\"\",'Trust - Frontsheet'!AC125=\"-\"),0,('Trust - Frontsheet'!AC125))","v":0},{"$f":"IF(OR('Trust - Frontsheet'!AD125=\"\",'Trust - Frontsheet'!AD125=\"-\"),0,('Trust - Frontsheet'!AD125))","v":0},{"$f":"IF(OR('Trust - Frontsheet'!AE125=\"\",'Trust - Frontsheet'!AE125=\"-\"),0,('Trust - Frontsheet'!AE125))","v":0},{"$f":"IF(OR('Trust - Frontsheet'!AF125=\"\",'Trust - Frontsheet'!AF125=\"-\"),0,('Trust - Frontsheet'!AF125))","v":0},{"$f":"'Trust - Frontsheet'!U125","v":0},{"$f":"IF(OR('Trust - Frontsheet'!V125=\"\",'Trust - Frontsheet'!V125=\"-\"),0,('Trust - Frontsheet'!V125))","v":0},{"$f":"IF(OR('Trust - Frontsheet'!W125=\"\",'Trust - Frontsheet'!W125=\"-\"),0,('Trust - Frontsheet'!W125))","v":0},{"$f":"IF(OR('Trust - Frontsheet'!X125=\"\",'Trust - Frontsheet'!X125=\"-\"),0,('Trust - Frontsheet'!X125))","v":0},{"$f":"IF(OR('Trust - Frontsheet'!Y125=\"\",'Trust - Frontsheet'!Y125=\"-\"),0,('Trust - Frontsheet'!Y125))","v":0},{"$f":"IF(OR('Trust - Frontsheet'!Z125=\"\",'Trust - Frontsheet'!Z125=\"-\"),0,('Trust - Frontsheet'!Z125))","v":0},{"$f":"IF(A113=\"\",\"\",(IF(ISBLANK('Trust - Frontsheet'!F9),\"\",'Trust - Frontsheet'!F9)))","v":""}]
[{"$f":"IF('Trust - Frontsheet'!D126=0,\"\",IF('Trust - Frontsheet'!D126=\"\",\"\",'Trust - Frontsheet'!D126))","v":""},{"$f":"IF(ISBLANK('Trust - Frontsheet'!E126),\"\",'Trust - Frontsheet'!E126)","v":""},{"$f":"IF(ISBLANK('Trust - Frontsheet'!F126),\"\",\"'\" & 'Trust - Frontsheet'!F126 & \"'\")","v":""},{"$f":"IF(ISBLANK('Trust - Frontsheet'!G126),\"\",'Trust - Frontsheet'!G126)","v":""},{"$f":"IF(ISBLANK('Trust - Frontsheet'!H126),\"\",'Trust - Frontsheet'!H126)","v":""},{"$f":"'Trust - Frontsheet'!I126","v":0},{"$f":"'Trust - Frontsheet'!J126","v":0},{"$f":"'Trust - Frontsheet'!K126","v":0},{"$f":"'Trust - Frontsheet'!L126","v":0},{"$f":"'Trust - Frontsheet'!M126","v":0},{"$f":"'Trust - Frontsheet'!N126","v":0},{"$f":"'Trust - Frontsheet'!O126","v":0},{"$f":"'Trust - Frontsheet'!P126","v":0},{"$f":"'Trust - Frontsheet'!Q126","v":0},{"$f":"'Trust - Frontsheet'!R126","v":0},{"$f":"'Trust - Frontsheet'!S126","v":0},{"$f":"'Trust - Frontsheet'!T126","v":0},{"$f":"IF(OR('Trust - Frontsheet'!AA126=\"\",'Trust - Frontsheet'!AA126=\"-\"),0,('Trust - Frontsheet'!AA126))","v":0},{"$f":"IF(OR('Trust - Frontsheet'!AB126=\"\",'Trust - Frontsheet'!AB126=\"-\"),0,('Trust - Frontsheet'!AB126))","v":0},{"$f":"IF(OR('Trust - Frontsheet'!AC126=\"\",'Trust - Frontsheet'!AC126=\"-\"),0,('Trust - Frontsheet'!AC126))","v":0},{"$f":"IF(OR('Trust - Frontsheet'!AD126=\"\",'Trust - Frontsheet'!AD126=\"-\"),0,('Trust - Frontsheet'!AD126))","v":0},{"$f":"IF(OR('Trust - Frontsheet'!AE126=\"\",'Trust - Frontsheet'!AE126=\"-\"),0,('Trust - Frontsheet'!AE126))","v":0},{"$f":"IF(OR('Trust - Frontsheet'!AF126=\"\",'Trust - Frontsheet'!AF126=\"-\"),0,('Trust - Frontsheet'!AF126))","v":0},{"$f":"'Trust - Frontsheet'!U126","v":0},{"$f":"IF(OR('Trust - Frontsheet'!V126=\"\",'Trust - Frontsheet'!V126=\"-\"),0,('Trust - Frontsheet'!V126))","v":0},{"$f":"IF(OR('Trust - Frontsheet'!W126=\"\",'Trust - Frontsheet'!W126=\"-\"),0,('Trust - Frontsheet'!W126))","v":0},{"$f":"IF(OR('Trust - Frontsheet'!X126=\"\",'Trust - Frontsheet'!X126=\"-\"),0,('Trust - Frontsheet'!X126))","v":0},{"$f":"IF(OR('Trust - Frontsheet'!Y126=\"\",'Trust - Frontsheet'!Y126=\"-\"),0,('Trust - Frontsheet'!Y126))","v":0},{"$f":"IF(OR('Trust - Frontsheet'!Z126=\"\",'Trust - Frontsheet'!Z126=\"-\"),0,('Trust - Frontsheet'!Z126))","v":0},{"$f":"IF(A114=\"\",\"\",(IF(ISBLANK('Trust - Frontsheet'!F9),\"\",'Trust - Frontsheet'!F9)))","v":""}]
[{"$f":"IF('Trust - Frontsheet'!D127=0,\"\",IF('Trust - Frontsheet'!D127=\"\",\"\",'Trust - Frontsheet'!D127))","v":""},{"$f":"IF(ISBLANK('Trust - Frontsheet'!E127),\"\",'Trust - Frontsheet'!E127)","v":""},{"$f":"IF(ISBLANK('Trust - Frontsheet'!F127),\"\",\"'\" & 'Trust - Frontsheet'!F127 & \"'\")","v":""},{"$f":"IF(ISBLANK('Trust - Frontsheet'!G127),\"\",'Trust - Frontsheet'!G127)","v":""},{"$f":"IF(ISBLANK('Trust - Frontsheet'!H127),\"\",'Trust - Frontsheet'!H127)","v":""},{"$f":"'Trust - Frontsheet'!I127","v":0},{"$f":"'Trust - Frontsheet'!J127","v":0},{"$f":"'Trust - Frontsheet'!K127","v":0},{"$f":"'Trust - Frontsheet'!L127","v":0},{"$f":"'Trust - Frontsheet'!M127","v":0},{"$f":"'Trust - Frontsheet'!N127","v":0},{"$f":"'Trust - Frontsheet'!O127","v":0},{"$f":"'Trust - Frontsheet'!P127","v":0},{"$f":"'Trust - Frontsheet'!Q127","v":0},{"$f":"'Trust - Frontsheet'!R127","v":0},{"$f":"'Trust - Frontsheet'!S127","v":0},{"$f":"'Trust - Frontsheet'!T127","v":0},{"$f":"IF(OR('Trust - Frontsheet'!AA127=\"\",'Trust - Frontsheet'!AA127=\"-\"),0,('Trust - Frontsheet'!AA127))","v":0},{"$f":"IF(OR('Trust - Frontsheet'!AB127=\"\",'Trust - Frontsheet'!AB127=\"-\"),0,('Trust - Frontsheet'!AB127))","v":0},{"$f":"IF(OR('Trust - Frontsheet'!AC127=\"\",'Trust - Frontsheet'!AC127=\"-\"),0,('Trust - Frontsheet'!AC127))","v":0},{"$f":"IF(OR('Trust - Frontsheet'!AD127=\"\",'Trust - Frontsheet'!AD127=\"-\"),0,('Trust - Frontsheet'!AD127))","v":0},{"$f":"IF(OR('Trust - Frontsheet'!AE127=\"\",'Trust - Frontsheet'!AE127=\"-\"),0,('Trust - Frontsheet'!AE127))","v":0},{"$f":"IF(OR('Trust - Frontsheet'!AF127=\"\",'Trust - Frontsheet'!AF127=\"-\"),0,('Trust - Frontsheet'!AF127))","v":0},{"$f":"'Trust - Frontsheet'!U127","v":0},{"$f":"IF(OR('Trust - Frontsheet'!V127=\"\",'Trust - Frontsheet'!V127=\"-\"),0,('Trust - Frontsheet'!V127))","v":0},{"$f":"IF(OR('Trust - Frontsheet'!W127=\"\",'Trust - Frontsheet'!W127=\"-\"),0,('Trust - Frontsheet'!W127))","v":0},{"$f":"IF(OR('Trust - Frontsheet'!X127=\"\",'Trust - Frontsheet'!X127=\"-\"),0,('Trust - Frontsheet'!X127))","v":0},{"$f":"IF(OR('Trust - Frontsheet'!Y127=\"\",'Trust - Frontsheet'!Y127=\"-\"),0,('Trust - Frontsheet'!Y127))","v":0},{"$f":"IF(OR('Trust - Frontsheet'!Z127=\"\",'Trust - Frontsheet'!Z127=\"-\"),0,('Trust - Frontsheet'!Z127))","v":0},{"$f":"IF(A115=\"\",\"\",(IF(ISBLANK('Trust - Frontsheet'!F9),\"\",'Trust - Frontsheet'!F9)))","v":""}]
[{"$f":"IF('Trust - Frontsheet'!D128=0,\"\",IF('Trust - Frontsheet'!D128=\"\",\"\",'Trust - Frontsheet'!D128))","v":""},{"$f":"IF(ISBLANK('Trust - Frontsheet'!E128),\"\",'Trust - Frontsheet'!E128)","v":""},{"$f":"IF(ISBLANK('Trust - Frontsheet'!F128),\"\",\"'\" & 'Trust - Frontsheet'!F128 & \"'\")","v":""},{"$f":"IF(ISBLANK('Trust - Frontsheet'!G128),\"\",'Trust - Frontsheet'!G128)","v":""},{"$f":"IF(ISBLANK('Trust - Frontsheet'!H128),\"\",'Trust - Frontsheet'!H128)","v":""},{"$f":"'Trust - Frontsheet'!I128","v":0},{"$f":"'Trust - Frontsheet'!J128","v":0},{"$f":"'Trust - Frontsheet'!K128","v":0},{"$f":"'Trust - Frontsheet'!L128","v":0},{"$f":"'Trust - Frontsheet'!M128","v":0},{"$f":"'Trust - Frontsheet'!N128","v":0},{"$f":"'Trust - Frontsheet'!O128","v":0},{"$f":"'Trust - Frontsheet'!P128","v":0},{"$f":"'Trust - Frontsheet'!Q128","v":0},{"$f":"'Trust - Frontsheet'!R128","v":0},{"$f":"'Trust - Frontsheet'!S128","v":0},{"$f":"'Trust - Frontsheet'!T128","v":0},{"$f":"IF(OR('Trust - Frontsheet'!AA128=\"\",'Trust - Frontsheet'!AA128=\"-\"),0,('Trust - Frontsheet'!AA128))","v":0},{"$f":"IF(OR('Trust - Frontsheet'!AB128=\"\",'Trust - Frontsheet'!AB128=\"-\"),0,('Trust - Frontsheet'!AB128))","v":0},{"$f":"IF(OR('Trust - Frontsheet'!AC128=\"\",'Trust - Frontsheet'!AC128=\"-\"),0,('Trust - Frontsheet'!AC128))","v":0},{"$f":"IF(OR('Trust - Frontsheet'!AD128=\"\",'Trust - Frontsheet'!AD128=\"-\"),0,('Trust - Frontsheet'!AD128))","v":0},{"$f":"IF(OR('Trust - Frontsheet'!AE128=\"\",'Trust - Frontsheet'!AE128=\"-\"),0,('Trust - Frontsheet'!AE128))","v":0},{"$f":"IF(OR('Trust - Frontsheet'!AF128=\"\",'Trust - Frontsheet'!AF128=\"-\"),0,('Trust - Frontsheet'!AF128))","v":0},{"$f":"'Trust - Frontsheet'!U128","v":0},{"$f":"IF(OR('Trust - Frontsheet'!V128=\"\",'Trust - Frontsheet'!V128=\"-\"),0,('Trust - Frontsheet'!V128))","v":0},{"$f":"IF(OR('Trust - Frontsheet'!W128=\"\",'Trust - Frontsheet'!W128=\"-\"),0,('Trust - Frontsheet'!W128))","v":0},{"$f":"IF(OR('Trust - Frontsheet'!X128=\"\",'Trust - Frontsheet'!X128=\"-\"),0,('Trust - Frontsheet'!X128))","v":0},{"$f":"IF(OR('Trust - Frontsheet'!Y128=\"\",'Trust - Frontsheet'!Y128=\"-\"),0,('Trust - Frontsheet'!Y128))","v":0},{"$f":"IF(OR('Trust - Frontsheet'!Z128=\"\",'Trust - Frontsheet'!Z128=\"-\"),0,('Trust - Frontsheet'!Z128))","v":0},{"$f":"IF(A116=\"\",\"\",(IF(ISBLANK('Trust - Frontsheet'!F9),\"\",'Trust - Frontsheet'!F9)))","v":""}]
[{"$f":"IF('Trust - Frontsheet'!D129=0,\"\",IF('Trust - Frontsheet'!D129=\"\",\"\",'Trust - Frontsheet'!D129))","v":""},{"$f":"IF(ISBLANK('Trust - Frontsheet'!E129),\"\",'Trust - Frontsheet'!E129)","v":""},{"$f":"IF(ISBLANK('Trust - Frontsheet'!F129),\"\",\"'\" & 'Trust - Frontsheet'!F129 & \"'\")","v":""},{"$f":"IF(ISBLANK('Trust - Frontsheet'!G129),\"\",'Trust - Frontsheet'!G129)","v":""},{"$f":"IF(ISBLANK('Trust - Frontsheet'!H129),\"\",'Trust - Frontsheet'!H129)","v":""},{"$f":"'Trust - Frontsheet'!I129","v":0},{"$f":"'Trust - Frontsheet'!J129","v":0},{"$f":"'Trust - Frontsheet'!K129","v":0},{"$f":"'Trust - Frontsheet'!L129","v":0},{"$f":"'Trust - Frontsheet'!M129","v":0},{"$f":"'Trust - Frontsheet'!N129","v":0},{"$f":"'Trust - Frontsheet'!O129","v":0},{"$f":"'Trust - Frontsheet'!P129","v":0},{"$f":"'Trust - Frontsheet'!Q129","v":0},{"$f":"'Trust - Frontsheet'!R129","v":0},{"$f":"'Trust - Frontsheet'!S129","v":0},{"$f":"'Trust - Frontsheet'!T129","v":0},{"$f":"IF(OR('Trust - Frontsheet'!AA129=\"\",'Trust - Frontsheet'!AA129=\"-\"),0,('Trust - Frontsheet'!AA129))","v":0},{"$f":"IF(OR('Trust - Frontsheet'!AB129=\"\",'Trust - Frontsheet'!AB129=\"-\"),0,('Trust - Frontsheet'!AB129))","v":0},{"$f":"IF(OR('Trust - Frontsheet'!AC129=\"\",'Trust - Frontsheet'!AC129=\"-\"),0,('Trust - Frontsheet'!AC129))","v":0},{"$f":"IF(OR('Trust - Frontsheet'!AD129=\"\",'Trust - Frontsheet'!AD129=\"-\"),0,('Trust - Frontsheet'!AD129))","v":0},{"$f":"IF(OR('Trust - Frontsheet'!AE129=\"\",'Trust - Frontsheet'!AE129=\"-\"),0,('Trust - Frontsheet'!AE129))","v":0},{"$f":"IF(OR('Trust - Frontsheet'!AF129=\"\",'Trust - Frontsheet'!AF129=\"-\"),0,('Trust - Frontsheet'!AF129))","v":0},{"$f":"'Trust - Frontsheet'!U129","v":0},{"$f":"IF(OR('Trust - Frontsheet'!V129=\"\",'Trust - Frontsheet'!V129=\"-\"),0,('Trust - Frontsheet'!V129))","v":0},{"$f":"IF(OR('Trust - Frontsheet'!W129=\"\",'Trust - Frontsheet'!W129=\"-\"),0,('Trust - Frontsheet'!W129))","v":0},{"$f":"IF(OR('Trust - Frontsheet'!X129=\"\",'Trust - Frontsheet'!X129=\"-\"),0,('Trust - Frontsheet'!X129))","v":0},{"$f":"IF(OR('Trust - Frontsheet'!Y129=\"\",'Trust - Frontsheet'!Y129=\"-\"),0,('Trust - Frontsheet'!Y129))","v":0},{"$f":"IF(OR('Trust - Frontsheet'!Z129=\"\",'Trust - Frontsheet'!Z129=\"-\"),0,('Trust - Frontsheet'!Z129))","v":0},{"$f":"IF(A117=\"\",\"\",(IF(ISBLANK('Trust - Frontsheet'!F9),\"\",'Trust - Frontsheet'!F9)))","v":""}]
[{"$f":"IF('Trust - Frontsheet'!D130=0,\"\",IF('Trust - Frontsheet'!D130=\"\",\"\",'Trust - Frontsheet'!D130))","v":""},{"$f":"IF(ISBLANK('Trust - Frontsheet'!E130),\"\",'Trust - Frontsheet'!E130)","v":""},{"$f":"IF(ISBLANK('Trust - Frontsheet'!F130),\"\",\"'\" & 'Trust - Frontsheet'!F130 & \"'\")","v":""},{"$f":"IF(ISBLANK('Trust - Frontsheet'!G130),\"\",'Trust - Frontsheet'!G130)","v":""},{"$f":"IF(ISBLANK('Trust - Frontsheet'!H130),\"\",'Trust - Frontsheet'!H130)","v":""},{"$f":"'Trust - Frontsheet'!I130","v":0},{"$f":"'Trust - Frontsheet'!J130","v":0},{"$f":"'Trust - Frontsheet'!K130","v":0},{"$f":"'Trust - Frontsheet'!L130","v":0},{"$f":"'Trust - Frontsheet'!M130","v":0},{"$f":"'Trust - Frontsheet'!N130","v":0},{"$f":"'Trust - Frontsheet'!O130","v":0},{"$f":"'Trust - Frontsheet'!P130","v":0},{"$f":"'Trust - Frontsheet'!Q130","v":0},{"$f":"'Trust - Frontsheet'!R130","v":0},{"$f":"'Trust - Frontsheet'!S130","v":0},{"$f":"'Trust - Frontsheet'!T130","v":0},{"$f":"IF(OR('Trust - Frontsheet'!AA130=\"\",'Trust - Frontsheet'!AA130=\"-\"),0,('Trust - Frontsheet'!AA130))","v":0},{"$f":"IF(OR('Trust - Frontsheet'!AB130=\"\",'Trust - Frontsheet'!AB130=\"-\"),0,('Trust - Frontsheet'!AB130))","v":0},{"$f":"IF(OR('Trust - Frontsheet'!AC130=\"\",'Trust - Frontsheet'!AC130=\"-\"),0,('Trust - Frontsheet'!AC130))","v":0},{"$f":"IF(OR('Trust - Frontsheet'!AD130=\"\",'Trust - Frontsheet'!AD130=\"-\"),0,('Trust - Frontsheet'!AD130))","v":0},{"$f":"IF(OR('Trust - Frontsheet'!AE130=\"\",'Trust - Frontsheet'!AE130=\"-\"),0,('Trust - Frontsheet'!AE130))","v":0},{"$f":"IF(OR('Trust - Frontsheet'!AF130=\"\",'Trust - Frontsheet'!AF130=\"-\"),0,('Trust - Frontsheet'!AF130))","v":0},{"$f":"'Trust - Frontsheet'!U130","v":0},{"$f":"IF(OR('Trust - Frontsheet'!V130=\"\",'Trust - Frontsheet'!V130=\"-\"),0,('Trust - Frontsheet'!V130))","v":0},{"$f":"IF(OR('Trust - Frontsheet'!W130=\"\",'Trust - Frontsheet'!W130=\"-\"),0,('Trust - Frontsheet'!W130))","v":0},{"$f":"IF(OR('Trust - Frontsheet'!X130=\"\",'Trust - Frontsheet'!X130=\"-\"),0,('Trust - Frontsheet'!X130))","v":0},{"$f":"IF(OR('Trust - Frontsheet'!Y130=\"\",'Trust - Frontsheet'!Y130=\"-\"),0,('Trust - Frontsheet'!Y130))","v":0},{"$f":"IF(OR('Trust - Frontsheet'!Z130=\"\",'Trust - Frontsheet'!Z130=\"-\"),0,('Trust - Frontsheet'!Z130))","v":0},{"$f":"IF(A118=\"\",\"\",(IF(ISBLANK('Trust - Frontsheet'!F9),\"\",'Trust - Frontsheet'!F9)))","v":""}]
[{"$f":"IF('Trust - Frontsheet'!D131=0,\"\",IF('Trust - Frontsheet'!D131=\"\",\"\",'Trust - Frontsheet'!D131))","v":""},{"$f":"IF(ISBLANK('Trust - Frontsheet'!E131),\"\",'Trust - Frontsheet'!E131)","v":""},{"$f":"IF(ISBLANK('Trust - Frontsheet'!F131),\"\",\"'\" & 'Trust - Frontsheet'!F131 & \"'\")","v":""},{"$f":"IF(ISBLANK('Trust - Frontsheet'!G131),\"\",'Trust - Frontsheet'!G131)","v":""},{"$f":"IF(ISBLANK('Trust - Frontsheet'!H131),\"\",'Trust - Frontsheet'!H131)","v":""},{"$f":"'Trust - Frontsheet'!I131","v":0},{"$f":"'Trust - Frontsheet'!J131","v":0},{"$f":"'Trust - Frontsheet'!K131","v":0},{"$f":"'Trust - Frontsheet'!L131","v":0},{"$f":"'Trust - Frontsheet'!M131","v":0},{"$f":"'Trust - Frontsheet'!N131","v":0},{"$f":"'Trust - Frontsheet'!O131","v":0},{"$f":"'Trust - Frontsheet'!P131","v":0},{"$f":"'Trust - Frontsheet'!Q131","v":0},{"$f":"'Trust - Frontsheet'!R131","v":0},{"$f":"'Trust - Frontsheet'!S131","v":0},{"$f":"'Trust - Frontsheet'!T131","v":0},{"$f":"IF(OR('Trust - Frontsheet'!AA131=\"\",'Trust - Frontsheet'!AA131=\"-\"),0,('Trust - Frontsheet'!AA131))","v":0},{"$f":"IF(OR('Trust - Frontsheet'!AB131=\"\",'Trust - Frontsheet'!AB131=\"-\"),0,('Trust - Frontsheet'!AB131))","v":0},{"$f":"IF(OR('Trust - Frontsheet'!AC131=\"\",'Trust - Frontsheet'!AC131=\"-\"),0,('Trust - Frontsheet'!AC131))","v":0},{"$f":"IF(OR('Trust - Frontsheet'!AD131=\"\",'Trust - Frontsheet'!AD131=\"-\"),0,('Trust - Frontsheet'!AD131))","v":0},{"$f":"IF(OR('Trust - Frontsheet'!AE131=\"\",'Trust - Frontsheet'!AE131=\"-\"),0,('Trust - Frontsheet'!AE131))","v":0},{"$f":"IF(OR('Trust - Frontsheet'!AF131=\"\",'Trust - Frontsheet'!AF131=\"-\"),0,('Trust - Frontsheet'!AF131))","v":0},{"$f":"'Trust - Frontsheet'!U131","v":0},{"$f":"IF(OR('Trust - Frontsheet'!V131=\"\",'Trust - Frontsheet'!V131=\"-\"),0,('Trust - Frontsheet'!V131))","v":0},{"$f":"IF(OR('Trust - Frontsheet'!W131=\"\",'Trust - Frontsheet'!W131=\"-\"),0,('Trust - Frontsheet'!W131))","v":0},{"$f":"IF(OR('Trust - Frontsheet'!X131=\"\",'Trust - Frontsheet'!X131=\"-\"),0,('Trust - Frontsheet'!X131))","v":0},{"$f":"IF(OR('Trust - Frontsheet'!Y131=\"\",'Trust - Frontsheet'!Y131=\"-\"),0,('Trust - Frontsheet'!Y131))","v":0},{"$f":"IF(OR('Trust - Frontsheet'!Z131=\"\",'Trust - Frontsheet'!Z131=\"-\"),0,('Trust - Frontsheet'!Z131))","v":0},{"$f":"IF(A119=\"\",\"\",(IF(ISBLANK('Trust - Frontsheet'!F9),\"\",'Trust - Frontsheet'!F9)))","v":""}]
[{"$f":"IF('Trust - Frontsheet'!D132=0,\"\",IF('Trust - Frontsheet'!D132=\"\",\"\",'Trust - Frontsheet'!D132))","v":""},{"$f":"IF(ISBLANK('Trust - Frontsheet'!E132),\"\",'Trust - Frontsheet'!E132)","v":""},{"$f":"IF(ISBLANK('Trust - Frontsheet'!F132),\"\",\"'\" & 'Trust - Frontsheet'!F132 & \"'\")","v":""},{"$f":"IF(ISBLANK('Trust - Frontsheet'!G132),\"\",'Trust - Frontsheet'!G132)","v":""},{"$f":"IF(ISBLANK('Trust - Frontsheet'!H132),\"\",'Trust - Frontsheet'!H132)","v":""},{"$f":"'Trust - Frontsheet'!I132","v":0},{"$f":"'Trust - Frontsheet'!J132","v":0},{"$f":"'Trust - Frontsheet'!K132","v":0},{"$f":"'Trust - Frontsheet'!L132","v":0},{"$f":"'Trust - Frontsheet'!M132","v":0},{"$f":"'Trust - Frontsheet'!N132","v":0},{"$f":"'Trust - Frontsheet'!O132","v":0},{"$f":"'Trust - Frontsheet'!P132","v":0},{"$f":"'Trust - Frontsheet'!Q132","v":0},{"$f":"'Trust - Frontsheet'!R132","v":0},{"$f":"'Trust - Frontsheet'!S132","v":0},{"$f":"'Trust - Frontsheet'!T132","v":0},{"$f":"IF(OR('Trust - Frontsheet'!AA132=\"\",'Trust - Frontsheet'!AA132=\"-\"),0,('Trust - Frontsheet'!AA132))","v":0},{"$f":"IF(OR('Trust - Frontsheet'!AB132=\"\",'Trust - Frontsheet'!AB132=\"-\"),0,('Trust - Frontsheet'!AB132))","v":0},{"$f":"IF(OR('Trust - Frontsheet'!AC132=\"\",'Trust - Frontsheet'!AC132=\"-\"),0,('Trust - Frontsheet'!AC132))","v":0},{"$f":"IF(OR('Trust - Frontsheet'!AD132=\"\",'Trust - Frontsheet'!AD132=\"-\"),0,('Trust - Frontsheet'!AD132))","v":0},{"$f":"IF(OR('Trust - Frontsheet'!AE132=\"\",'Trust - Frontsheet'!AE132=\"-\"),0,('Trust - Frontsheet'!AE132))","v":0},{"$f":"IF(OR('Trust - Frontsheet'!AF132=\"\",'Trust - Frontsheet'!AF132=\"-\"),0,('Trust - Frontsheet'!AF132))","v":0},{"$f":"'Trust - Frontsheet'!U132","v":0},{"$f":"IF(OR('Trust - Frontsheet'!V132=\"\",'Trust - Frontsheet'!V132=\"-\"),0,('Trust - Frontsheet'!V132))","v":0},{"$f":"IF(OR('Trust - Frontsheet'!W132=\"\",'Trust - Frontsheet'!W132=\"-\"),0,('Trust - Frontsheet'!W132))","v":0},{"$f":"IF(OR('Trust - Frontsheet'!X132=\"\",'Trust - Frontsheet'!X132=\"-\"),0,('Trust - Frontsheet'!X132))","v":0},{"$f":"IF(OR('Trust - Frontsheet'!Y132=\"\",'Trust - Frontsheet'!Y132=\"-\"),0,('Trust - Frontsheet'!Y132))","v":0},{"$f":"IF(OR('Trust - Frontsheet'!Z132=\"\",'Trust - Frontsheet'!Z132=\"-\"),0,('Trust - Frontsheet'!Z132))","v":0},{"$f":"IF(A120=\"\",\"\",(IF(ISBLANK('Trust - Frontsheet'!F9),\"\",'Trust - Frontsheet'!F9)))","v":""}]
[{"$f":"IF('Trust - Frontsheet'!D133=0,\"\",IF('Trust - Frontsheet'!D133=\"\",\"\",'Trust - Frontsheet'!D133))","v":""},{"$f":"IF(ISBLANK('Trust - Frontsheet'!E133),\"\",'Trust - Frontsheet'!E133)","v":""},{"$f":"IF(ISBLANK('Trust - Frontsheet'!F133),\"\",\"'\" & 'Trust - Frontsheet'!F133 & \"'\")","v":""},{"$f":"IF(ISBLANK('Trust - Frontsheet'!G133),\"\",'Trust - Frontsheet'!G133)","v":""},{"$f":"IF(ISBLANK('Trust - Frontsheet'!H133),\"\",'Trust - Frontsheet'!H133)","v":""},{"$f":"'Trust - Frontsheet'!I133","v":0},{"$f":"'Trust - Frontsheet'!J133","v":0},{"$f":"'Trust - Frontsheet'!K133","v":0},{"$f":"'Trust - Frontsheet'!L133","v":0},{"$f":"'Trust - Frontsheet'!M133","v":0},{"$f":"'Trust - Frontsheet'!N133","v":0},{"$f":"'Trust - Frontsheet'!O133","v":0},{"$f":"'Trust - Frontsheet'!P133","v":0},{"$f":"'Trust - Frontsheet'!Q133","v":0},{"$f":"'Trust - Frontsheet'!R133","v":0},{"$f":"'Trust - Frontsheet'!S133","v":0},{"$f":"'Trust - Frontsheet'!T133","v":0},{"$f":"IF(OR('Trust - Frontsheet'!AA133=\"\",'Trust - Frontsheet'!AA133=\"-\"),0,('Trust - Frontsheet'!AA133))","v":0},{"$f":"IF(OR('Trust - Frontsheet'!AB133=\"\",'Trust - Frontsheet'!AB133=\"-\"),0,('Trust - Frontsheet'!AB133))","v":0},{"$f":"IF(OR('Trust - Frontsheet'!AC133=\"\",'Trust - Frontsheet'!AC133=\"-\"),0,('Trust - Frontsheet'!AC133))","v":0},{"$f":"IF(OR('Trust - Frontsheet'!AD133=\"\",'Trust - Frontsheet'!AD133=\"-\"),0,('Trust - Frontsheet'!AD133))","v":0},{"$f":"IF(OR('Trust - Frontsheet'!AE133=\"\",'Trust - Frontsheet'!AE133=\"-\"),0,('Trust - Frontsheet'!AE133))","v":0},{"$f":"IF(OR('Trust - Frontsheet'!AF133=\"\",'Trust - Frontsheet'!AF133=\"-\"),0,('Trust - Frontsheet'!AF133))","v":0},{"$f":"'Trust - Frontsheet'!U133","v":0},{"$f":"IF(OR('Trust - Frontsheet'!V133=\"\",'Trust - Frontsheet'!V133=\"-\"),0,('Trust - Frontsheet'!V133))","v":0},{"$f":"IF(OR('Trust - Frontsheet'!W133=\"\",'Trust - Frontsheet'!W133=\"-\"),0,('Trust - Frontsheet'!W133))","v":0},{"$f":"IF(OR('Trust - Frontsheet'!X133=\"\",'Trust - Frontsheet'!X133=\"-\"),0,('Trust - Frontsheet'!X133))","v":0},{"$f":"IF(OR('Trust - Frontsheet'!Y133=\"\",'Trust - Frontsheet'!Y133=\"-\"),0,('Trust - Frontsheet'!Y133))","v":0},{"$f":"IF(OR('Trust - Frontsheet'!Z133=\"\",'Trust - Frontsheet'!Z133=\"-\"),0,('Trust - Frontsheet'!Z133))","v":0},{"$f":"IF(A121=\"\",\"\",(IF(ISBLANK('Trust - Frontsheet'!F9),\"\",'Trust - Frontsheet'!F9)))","v":""}]
[{"$f":"IF('Trust - Frontsheet'!D134=0,\"\",IF('Trust - Frontsheet'!D134=\"\",\"\",'Trust - Frontsheet'!D134))","v":""},{"$f":"IF(ISBLANK('Trust - Frontsheet'!E134),\"\",'Trust - Frontsheet'!E134)","v":""},{"$f":"IF(ISBLANK('Trust - Frontsheet'!F134),\"\",\"'\" & 'Trust - Frontsheet'!F134 & \"'\")","v":""},{"$f":"IF(ISBLANK('Trust - Frontsheet'!G134),\"\",'Trust - Frontsheet'!G134)","v":""},{"$f":"IF(ISBLANK('Trust - Frontsheet'!H134),\"\",'Trust - Frontsheet'!H134)","v":""},{"$f":"'Trust - Frontsheet'!I134","v":0},{"$f":"'Trust - Frontsheet'!J134","v":0},{"$f":"'Trust - Frontsheet'!K134","v":0},{"$f":"'Trust - Frontsheet'!L134","v":0},{"$f":"'Trust - Frontsheet'!M134","v":0},{"$f":"'Trust - Frontsheet'!N134","v":0},{"$f":"'Trust - Frontsheet'!O134","v":0},{"$f":"'Trust - Frontsheet'!P134","v":0},{"$f":"'Trust - Frontsheet'!Q134","v":0},{"$f":"'Trust - Frontsheet'!R134","v":0},{"$f":"'Trust - Frontsheet'!S134","v":0},{"$f":"'Trust - Frontsheet'!T134","v":0},{"$f":"IF(OR('Trust - Frontsheet'!AA134=\"\",'Trust - Frontsheet'!AA134=\"-\"),0,('Trust - Frontsheet'!AA134))","v":0},{"$f":"IF(OR('Trust - Frontsheet'!AB134=\"\",'Trust - Frontsheet'!AB134=\"-\"),0,('Trust - Frontsheet'!AB134))","v":0},{"$f":"IF(OR('Trust - Frontsheet'!AC134=\"\",'Trust - Frontsheet'!AC134=\"-\"),0,('Trust - Frontsheet'!AC134))","v":0},{"$f":"IF(OR('Trust - Frontsheet'!AD134=\"\",'Trust - Frontsheet'!AD134=\"-\"),0,('Trust - Frontsheet'!AD134))","v":0},{"$f":"IF(OR('Trust - Frontsheet'!AE134=\"\",'Trust - Frontsheet'!AE134=\"-\"),0,('Trust - Frontsheet'!AE134))","v":0},{"$f":"IF(OR('Trust - Frontsheet'!AF134=\"\",'Trust - Frontsheet'!AF134=\"-\"),0,('Trust - Frontsheet'!AF134))","v":0},{"$f":"'Trust - Frontsheet'!U134","v":0},{"$f":"IF(OR('Trust - Frontsheet'!V134=\"\",'Trust - Frontsheet'!V134=\"-\"),0,('Trust - Frontsheet'!V134))","v":0},{"$f":"IF(OR('Trust - Frontsheet'!W134=\"\",'Trust - Frontsheet'!W134=\"-\"),0,('Trust - Frontsheet'!W134))","v":0},{"$f":"IF(OR('Trust - Frontsheet'!X134=\"\",'Trust - Frontsheet'!X134=\"-\"),0,('Trust - Frontsheet'!X134))","v":0},{"$f":"IF(OR('Trust - Frontsheet'!Y134=\"\",'Trust - Frontsheet'!Y134=\"-\"),0,('Trust - Frontsheet'!Y134))","v":0},{"$f":"IF(OR('Trust - Frontsheet'!Z134=\"\",'Trust - Frontsheet'!Z134=\"-\"),0,('Trust - Frontsheet'!Z134))","v":0},{"$f":"IF(A122=\"\",\"\",(IF(ISBLANK('Trust - Frontsheet'!F9),\"\",'Trust - Frontsheet'!F9)))","v":""}]
[{"$f":"IF('Trust - Frontsheet'!D135=0,\"\",IF('Trust - Frontsheet'!D135=\"\",\"\",'Trust - Frontsheet'!D135))","v":""},{"$f":"IF(ISBLANK('Trust - Frontsheet'!E135),\"\",'Trust - Frontsheet'!E135)","v":""},{"$f":"IF(ISBLANK('Trust - Frontsheet'!F135),\"\",\"'\" & 'Trust - Frontsheet'!F135 & \"'\")","v":""},{"$f":"IF(ISBLANK('Trust - Frontsheet'!G135),\"\",'Trust - Frontsheet'!G135)","v":""},{"$f":"IF(ISBLANK('Trust - Frontsheet'!H135),\"\",'Trust - Frontsheet'!H135)","v":""},{"$f":"'Trust - Frontsheet'!I135","v":0},{"$f":"'Trust - Frontsheet'!J135","v":0},{"$f":"'Trust - Frontsheet'!K135","v":0},{"$f":"'Trust - Frontsheet'!L135","v":0},{"$f":"'Trust - Frontsheet'!M135","v":0},{"$f":"'Trust - Frontsheet'!N135","v":0},{"$f":"'Trust - Frontsheet'!O135","v":0},{"$f":"'Trust - Frontsheet'!P135","v":0},{"$f":"'Trust - Frontsheet'!Q135","v":0},{"$f":"'Trust - Frontsheet'!R135","v":0},{"$f":"'Trust - Frontsheet'!S135","v":0},{"$f":"'Trust - Frontsheet'!T135","v":0},{"$f":"IF(OR('Trust - Frontsheet'!AA135=\"\",'Trust - Frontsheet'!AA135=\"-\"),0,('Trust - Frontsheet'!AA135))","v":0},{"$f":"IF(OR('Trust - Frontsheet'!AB135=\"\",'Trust - Frontsheet'!AB135=\"-\"),0,('Trust - Frontsheet'!AB135))","v":0},{"$f":"IF(OR('Trust - Frontsheet'!AC135=\"\",'Trust - Frontsheet'!AC135=\"-\"),0,('Trust - Frontsheet'!AC135))","v":0},{"$f":"IF(OR('Trust - Frontsheet'!AD135=\"\",'Trust - Frontsheet'!AD135=\"-\"),0,('Trust - Frontsheet'!AD135))","v":0},{"$f":"IF(OR('Trust - Frontsheet'!AE135=\"\",'Trust - Frontsheet'!AE135=\"-\"),0,('Trust - Frontsheet'!AE135))","v":0},{"$f":"IF(OR('Trust - Frontsheet'!AF135=\"\",'Trust - Frontsheet'!AF135=\"-\"),0,('Trust - Frontsheet'!AF135))","v":0},{"$f":"'Trust - Frontsheet'!U135","v":0},{"$f":"IF(OR('Trust - Frontsheet'!V135=\"\",'Trust - Frontsheet'!V135=\"-\"),0,('Trust - Frontsheet'!V135))","v":0},{"$f":"IF(OR('Trust - Frontsheet'!W135=\"\",'Trust - Frontsheet'!W135=\"-\"),0,('Trust - Frontsheet'!W135))","v":0},{"$f":"IF(OR('Trust - Frontsheet'!X135=\"\",'Trust - Frontsheet'!X135=\"-\"),0,('Trust - Frontsheet'!X135))","v":0},{"$f":"IF(OR('Trust - Frontsheet'!Y135=\"\",'Trust - Frontsheet'!Y135=\"-\"),0,('Trust - Frontsheet'!Y135))","v":0},{"$f":"IF(OR('Trust - Frontsheet'!Z135=\"\",'Trust - Frontsheet'!Z135=\"-\"),0,('Trust - Frontsheet'!Z135))","v":0},{"$f":"IF(A123=\"\",\"\",(IF(ISBLANK('Trust - Frontsheet'!F9),\"\",'Trust - Frontsheet'!F9)))","v":""}]
[{"$f":"IF('Trust - Frontsheet'!D136=0,\"\",IF('Trust - Frontsheet'!D136=\"\",\"\",'Trust - Frontsheet'!D136))","v":""},{"$f":"IF(ISBLANK('Trust - Frontsheet'!E136),\"\",'Trust - Frontsheet'!E136)","v":""},{"$f":"IF(ISBLANK('Trust - Frontsheet'!F136),\"\",\"'\" & 'Trust - Frontsheet'!F136 & \"'\")","v":""},{"$f":"IF(ISBLANK('Trust - Frontsheet'!G136),\"\",'Trust - Frontsheet'!G136)","v":""},{"$f":"IF(ISBLANK('Trust - Frontsheet'!H136),\"\",'Trust - Frontsheet'!H136)","v":""},{"$f":"'Trust - Frontsheet'!I136","v":0},{"$f":"'Trust - Frontsheet'!J136","v":0},{"$f":"'Trust - Frontsheet'!K136","v":0},{"$f":"'Trust - Frontsheet'!L136","v":0},{"$f":"'Trust - Frontsheet'!M136","v":0},{"$f":"'Trust - Frontsheet'!N136","v":0},{"$f":"'Trust - Frontsheet'!O136","v":0},{"$f":"'Trust - Frontsheet'!P136","v":0},{"$f":"'Trust - Frontsheet'!Q136","v":0},{"$f":"'Trust - Frontsheet'!R136","v":0},{"$f":"'Trust - Frontsheet'!S136","v":0},{"$f":"'Trust - Frontsheet'!T136","v":0},{"$f":"IF(OR('Trust - Frontsheet'!AA136=\"\",'Trust - Frontsheet'!AA136=\"-\"),0,('Trust - Frontsheet'!AA136))","v":0},{"$f":"IF(OR('Trust - Frontsheet'!AB136=\"\",'Trust - Frontsheet'!AB136=\"-\"),0,('Trust - Frontsheet'!AB136))","v":0},{"$f":"IF(OR('Trust - Frontsheet'!AC136=\"\",'Trust - Frontsheet'!AC136=\"-\"),0,('Trust - Frontsheet'!AC136))","v":0},{"$f":"IF(OR('Trust - Frontsheet'!AD136=\"\",'Trust - Frontsheet'!AD136=\"-\"),0,('Trust - Frontsheet'!AD136))","v":0},{"$f":"IF(OR('Trust - Frontsheet'!AE136=\"\",'Trust - Frontsheet'!AE136=\"-\"),0,('Trust - Frontsheet'!AE136))","v":0},{"$f":"IF(OR('Trust - Frontsheet'!AF136=\"\",'Trust - Frontsheet'!AF136=\"-\"),0,('Trust - Frontsheet'!AF136))","v":0},{"$f":"'Trust - Frontsheet'!U136","v":0},{"$f":"IF(OR('Trust - Frontsheet'!V136=\"\",'Trust - Frontsheet'!V136=\"-\"),0,('Trust - Frontsheet'!V136))","v":0},{"$f":"IF(OR('Trust - Frontsheet'!W136=\"\",'Trust - Frontsheet'!W136=\"-\"),0,('Trust - Frontsheet'!W136))","v":0},{"$f":"IF(OR('Trust - Frontsheet'!X136=\"\",'Trust - Frontsheet'!X136=\"-\"),0,('Trust - Frontsheet'!X136))","v":0},{"$f":"IF(OR('Trust - Frontsheet'!Y136=\"\",'Trust - Frontsheet'!Y136=\"-\"),0,('Trust - Frontsheet'!Y136))","v":0},{"$f":"IF(OR('Trust - Frontsheet'!Z136=\"\",'Trust - Frontsheet'!Z136=\"-\"),0,('Trust - Frontsheet'!Z136))","v":0},{"$f":"IF(A124=\"\",\"\",(IF(ISBLANK('Trust - Frontsheet'!F9),\"\",'Trust - Frontsheet'!F9)))","v":""}]
[{"$f":"IF('Trust - Frontsheet'!D137=0,\"\",IF('Trust - Frontsheet'!D137=\"\",\"\",'Trust - Frontsheet'!D137))","v":""},{"$f":"IF(ISBLANK('Trust - Frontsheet'!E137),\"\",'Trust - Frontsheet'!E137)","v":""},{"$f":"IF(ISBLANK('Trust - Frontsheet'!F137),\"\",\"'\" & 'Trust - Frontsheet'!F137 & \"'\")","v":""},{"$f":"IF(ISBLANK('Trust - Frontsheet'!G137),\"\",'Trust - Frontsheet'!G137)","v":""},{"$f":"IF(ISBLANK('Trust - Frontsheet'!H137),\"\",'Trust - Frontsheet'!H137)","v":""},{"$f":"'Trust - Frontsheet'!I137","v":0},{"$f":"'Trust - Frontsheet'!J137","v":0},{"$f":"'Trust - Frontsheet'!K137","v":0},{"$f":"'Trust - Frontsheet'!L137","v":0},{"$f":"'Trust - Frontsheet'!M137","v":0},{"$f":"'Trust - Frontsheet'!N137","v":0},{"$f":"'Trust - Frontsheet'!O137","v":0},{"$f":"'Trust - Frontsheet'!P137","v":0},{"$f":"'Trust - Frontsheet'!Q137","v":0},{"$f":"'Trust - Frontsheet'!R137","v":0},{"$f":"'Trust - Frontsheet'!S137","v":0},{"$f":"'Trust - Frontsheet'!T137","v":0},{"$f":"IF(OR('Trust - Frontsheet'!AA137=\"\",'Trust - Frontsheet'!AA137=\"-\"),0,('Trust - Frontsheet'!AA137))","v":0},{"$f":"IF(OR('Trust - Frontsheet'!AB137=\"\",'Trust - Frontsheet'!AB137=\"-\"),0,('Trust - Frontsheet'!AB137))","v":0},{"$f":"IF(OR('Trust - Frontsheet'!AC137=\"\",'Trust - Frontsheet'!AC137=\"-\"),0,('Trust - Frontsheet'!AC137))","v":0},{"$f":"IF(OR('Trust - Frontsheet'!AD137=\"\",'Trust - Frontsheet'!AD137=\"-\"),0,('Trust - Frontsheet'!AD137))","v":0},{"$f":"IF(OR('Trust - Frontsheet'!AE137=\"\",'Trust - Frontsheet'!AE137=\"-\"),0,('Trust - Frontsheet'!AE137))","v":0},{"$f":"IF(OR('Trust - Frontsheet'!AF137=\"\",'Trust - Frontsheet'!AF137=\"-\"),0,('Trust - Frontsheet'!AF137))","v":0},{"$f":"'Trust - Frontsheet'!U137","v":0},{"$f":"IF(OR('Trust - Frontsheet'!V137=\"\",'Trust - Frontsheet'!V137=\"-\"),0,('Trust - Frontsheet'!V137))","v":0},{"$f":"IF(OR('Trust - Frontsheet'!W137=\"\",'Trust - Frontsheet'!W137=\"-\"),0,('Trust - Frontsheet'!W137))","v":0},{"$f":"IF(OR('Trust - Frontsheet'!X137=\"\",'Trust - Frontsheet'!X137=\"-\"),0,('Trust - Frontsheet'!X137))","v":0},{"$f":"IF(OR('Trust - Frontsheet'!Y137=\"\",'Trust - Frontsheet'!Y137=\"-\"),0,('Trust - Frontsheet'!Y137))","v":0},{"$f":"IF(OR('Trust - Frontsheet'!Z137=\"\",'Trust - Frontsheet'!Z137=\"-\"),0,('Trust - Frontsheet'!Z137))","v":0},{"$f":"IF(A125=\"\",\"\",(IF(ISBLANK('Trust - Frontsheet'!F9),\"\",'Trust - Frontsheet'!F9)))","v":""}]
[{"$f":"IF('Trust - Frontsheet'!D138=0,\"\",IF('Trust - Frontsheet'!D138=\"\",\"\",'Trust - Frontsheet'!D138))","v":""},{"$f":"IF(ISBLANK('Trust - Frontsheet'!E138),\"\",'Trust - Frontsheet'!E138)","v":""},{"$f":"IF(ISBLANK('Trust - Frontsheet'!F138),\"\",\"'\" & 'Trust - Frontsheet'!F138 & \"'\")","v":""},{"$f":"IF(ISBLANK('Trust - Frontsheet'!G138),\"\",'Trust - Frontsheet'!G138)","v":""},{"$f":"IF(ISBLANK('Trust - Frontsheet'!H138),\"\",'Trust - Frontsheet'!H138)","v":""},{"$f":"'Trust - Frontsheet'!I138","v":0},{"$f":"'Trust - Frontsheet'!J138","v":0},{"$f":"'Trust - Frontsheet'!K138","v":0},{"$f":"'Trust - Frontsheet'!L138","v":0},{"$f":"'Trust - Frontsheet'!M138","v":0},{"$f":"'Trust - Frontsheet'!N138","v":0},{"$f":"'Trust - Frontsheet'!O138","v":0},{"$f":"'Trust - Frontsheet'!P138","v":0},{"$f":"'Trust - Frontsheet'!Q138","v":0},{"$f":"'Trust - Frontsheet'!R138","v":0},{"$f":"'Trust - Frontsheet'!S138","v":0},{"$f":"'Trust - Frontsheet'!T138","v":0},{"$f":"IF(OR('Trust - Frontsheet'!AA138=\"\",'Trust - Frontsheet'!AA138=\"-\"),0,('Trust - Frontsheet'!AA138))","v":0},{"$f":"IF(OR('Trust - Frontsheet'!AB138=\"\",'Trust - Frontsheet'!AB138=\"-\"),0,('Trust - Frontsheet'!AB138))","v":0},{"$f":"IF(OR('Trust - Frontsheet'!AC138=\"\",'Trust - Frontsheet'!AC138=\"-\"),0,('Trust - Frontsheet'!AC138))","v":0},{"$f":"IF(OR('Trust - Frontsheet'!AD138=\"\",'Trust - Frontsheet'!AD138=\"-\"),0,('Trust - Frontsheet'!AD138))","v":0},{"$f":"IF(OR('Trust - Frontsheet'!AE138=\"\",'Trust - Frontsheet'!AE138=\"-\"),0,('Trust - Frontsheet'!AE138))","v":0},{"$f":"IF(OR('Trust - Frontsheet'!AF138=\"\",'Trust - Frontsheet'!AF138=\"-\"),0,('Trust - Frontsheet'!AF138))","v":0},{"$f":"'Trust - Frontsheet'!U138","v":0},{"$f":"IF(OR('Trust - Frontsheet'!V138=\"\",'Trust - Frontsheet'!V138=\"-\"),0,('Trust - Frontsheet'!V138))","v":0},{"$f":"IF(OR('Trust - Frontsheet'!W138=\"\",'Trust - Frontsheet'!W138=\"-\"),0,('Trust - Frontsheet'!W138))","v":0},{"$f":"IF(OR('Trust - Frontsheet'!X138=\"\",'Trust - Frontsheet'!X138=\"-\"),0,('Trust - Frontsheet'!X138))","v":0},{"$f":"IF(OR('Trust - Frontsheet'!Y138=\"\",'Trust - Frontsheet'!Y138=\"-\"),0,('Trust - Frontsheet'!Y138))","v":0},{"$f":"IF(OR('Trust - Frontsheet'!Z138=\"\",'Trust - Frontsheet'!Z138=\"-\"),0,('Trust - Frontsheet'!Z138))","v":0},{"$f":"IF(A126=\"\",\"\",(IF(ISBLANK('Trust - Frontsheet'!F9),\"\",'Trust - Frontsheet'!F9)))","v":""}]
[{"$f":"IF('Trust - Frontsheet'!D139=0,\"\",IF('Trust - Frontsheet'!D139=\"\",\"\",'Trust - Frontsheet'!D139))","v":""},{"$f":"IF(ISBLANK('Trust - Frontsheet'!E139),\"\",'Trust - Frontsheet'!E139)","v":""},{"$f":"IF(ISBLANK('Trust - Frontsheet'!F139),\"\",\"'\" & 'Trust - Frontsheet'!F139 & \"'\")","v":""},{"$f":"IF(ISBLANK('Trust - Frontsheet'!G139),\"\",'Trust - Frontsheet'!G139)","v":""},{"$f":"IF(ISBLANK('Trust - Frontsheet'!H139),\"\",'Trust - Frontsheet'!H139)","v":""},{"$f":"'Trust - Frontsheet'!I139","v":0},{"$f":"'Trust - Frontsheet'!J139","v":0},{"$f":"'Trust - Frontsheet'!K139","v":0},{"$f":"'Trust - Frontsheet'!L139","v":0},{"$f":"'Trust - Frontsheet'!M139","v":0},{"$f":"'Trust - Frontsheet'!N139","v":0},{"$f":"'Trust - Frontsheet'!O139","v":0},{"$f":"'Trust - Frontsheet'!P139","v":0},{"$f":"'Trust - Frontsheet'!Q139","v":0},{"$f":"'Trust - Frontsheet'!R139","v":0},{"$f":"'Trust - Frontsheet'!S139","v":0},{"$f":"'Trust - Frontsheet'!T139","v":0},{"$f":"IF(OR('Trust - Frontsheet'!AA139=\"\",'Trust - Frontsheet'!AA139=\"-\"),0,('Trust - Frontsheet'!AA139))","v":0},{"$f":"IF(OR('Trust - Frontsheet'!AB139=\"\",'Trust - Frontsheet'!AB139=\"-\"),0,('Trust - Frontsheet'!AB139))","v":0},{"$f":"IF(OR('Trust - Frontsheet'!AC139=\"\",'Trust - Frontsheet'!AC139=\"-\"),0,('Trust - Frontsheet'!AC139))","v":0},{"$f":"IF(OR('Trust - Frontsheet'!AD139=\"\",'Trust - Frontsheet'!AD139=\"-\"),0,('Trust - Frontsheet'!AD139))","v":0},{"$f":"IF(OR('Trust - Frontsheet'!AE139=\"\",'Trust - Frontsheet'!AE139=\"-\"),0,('Trust - Frontsheet'!AE139))","v":0},{"$f":"IF(OR('Trust - Frontsheet'!AF139=\"\",'Trust - Frontsheet'!AF139=\"-\"),0,('Trust - Frontsheet'!AF139))","v":0},{"$f":"'Trust - Frontsheet'!U139","v":0},{"$f":"IF(OR('Trust - Frontsheet'!V139=\"\",'Trust - Frontsheet'!V139=\"-\"),0,('Trust - Frontsheet'!V139))","v":0},{"$f":"IF(OR('Trust - Frontsheet'!W139=\"\",'Trust - Frontsheet'!W139=\"-\"),0,('Trust - Frontsheet'!W139))","v":0},{"$f":"IF(OR('Trust - Frontsheet'!X139=\"\",'Trust - Frontsheet'!X139=\"-\"),0,('Trust - Frontsheet'!X139))","v":0},{"$f":"IF(OR('Trust - Frontsheet'!Y139=\"\",'Trust - Frontsheet'!Y139=\"-\"),0,('Trust - Frontsheet'!Y139))","v":0},{"$f":"IF(OR('Trust - Frontsheet'!Z139=\"\",'Trust - Frontsheet'!Z139=\"-\"),0,('Trust - Frontsheet'!Z139))","v":0},{"$f":"IF(A127=\"\",\"\",(IF(ISBLANK('Trust - Frontsheet'!F9),\"\",'Trust - Frontsheet'!F9)))","v":""}]
[{"$f":"IF('Trust - Frontsheet'!D140=0,\"\",IF('Trust - Frontsheet'!D140=\"\",\"\",'Trust - Frontsheet'!D140))","v":""},{"$f":"IF(ISBLANK('Trust - Frontsheet'!E140),\"\",'Trust - Frontsheet'!E140)","v":""},{"$f":"IF(ISBLANK('Trust - Frontsheet'!F140),\"\",\"'\" & 'Trust - Frontsheet'!F140 & \"'\")","v":""},{"$f":"IF(ISBLANK('Trust - Frontsheet'!G140),\"\",'Trust - Frontsheet'!G140)","v":""},{"$f":"IF(ISBLANK('Trust - Frontsheet'!H140),\"\",'Trust - Frontsheet'!H140)","v":""},{"$f":"'Trust - Frontsheet'!I140","v":0},{"$f":"'Trust - Frontsheet'!J140","v":0},{"$f":"'Trust - Frontsheet'!K140","v":0},{"$f":"'Trust - Frontsheet'!L140","v":0},{"$f":"'Trust - Frontsheet'!M140","v":0},{"$f":"'Trust - Frontsheet'!N140","v":0},{"$f":"'Trust - Frontsheet'!O140","v":0},{"$f":"'Trust - Frontsheet'!P140","v":0},{"$f":"'Trust - Frontsheet'!Q140","v":0},{"$f":"'Trust - Frontsheet'!R140","v":0},{"$f":"'Trust - Frontsheet'!S140","v":0},{"$f":"'Trust - Frontsheet'!T140","v":0},{"$f":"IF(OR('Trust - Frontsheet'!AA140=\"\",'Trust - Frontsheet'!AA140=\"-\"),0,('Trust - Frontsheet'!AA140))","v":0},{"$f":"IF(OR('Trust - Frontsheet'!AB140=\"\",'Trust - Frontsheet'!AB140=\"-\"),0,('Trust - Frontsheet'!AB140))","v":0},{"$f":"IF(OR('Trust - Frontsheet'!AC140=\"\",'Trust - Frontsheet'!AC140=\"-\"),0,('Trust - Frontsheet'!AC140))","v":0},{"$f":"IF(OR('Trust - Frontsheet'!AD140=\"\",'Trust - Frontsheet'!AD140=\"-\"),0,('Trust - Frontsheet'!AD140))","v":0},{"$f":"IF(OR('Trust - Frontsheet'!AE140=\"\",'Trust - Frontsheet'!AE140=\"-\"),0,('Trust - Frontsheet'!AE140))","v":0},{"$f":"IF(OR('Trust - Frontsheet'!AF140=\"\",'Trust - Frontsheet'!AF140=\"-\"),0,('Trust - Frontsheet'!AF140))","v":0},{"$f":"'Trust - Frontsheet'!U140","v":0},{"$f":"IF(OR('Trust - Frontsheet'!V140=\"\",'Trust - Frontsheet'!V140=\"-\"),0,('Trust - Frontsheet'!V140))","v":0},{"$f":"IF(OR('Trust - Frontsheet'!W140=\"\",'Trust - Frontsheet'!W140=\"-\"),0,('Trust - Frontsheet'!W140))","v":0},{"$f":"IF(OR('Trust - Frontsheet'!X140=\"\",'Trust - Frontsheet'!X140=\"-\"),0,('Trust - Frontsheet'!X140))","v":0},{"$f":"IF(OR('Trust - Frontsheet'!Y140=\"\",'Trust - Frontsheet'!Y140=\"-\"),0,('Trust - Frontsheet'!Y140))","v":0},{"$f":"IF(OR('Trust - Frontsheet'!Z140=\"\",'Trust - Frontsheet'!Z140=\"-\"),0,('Trust - Frontsheet'!Z140))","v":0},{"$f":"IF(A128=\"\",\"\",(IF(ISBLANK('Trust - Frontsheet'!F9),\"\",'Trust - Frontsheet'!F9)))","v":""}]
[{"$f":"IF('Trust - Frontsheet'!D141=0,\"\",IF('Trust - Frontsheet'!D141=\"\",\"\",'Trust - Frontsheet'!D141))","v":""},{"$f":"IF(ISBLANK('Trust - Frontsheet'!E141),\"\",'Trust - Frontsheet'!E141)","v":""},{"$f":"IF(ISBLANK('Trust - Frontsheet'!F141),\"\",\"'\" & 'Trust - Frontsheet'!F141 & \"'\")","v":""},{"$f":"IF(ISBLANK('Trust - Frontsheet'!G141),\"\",'Trust - Frontsheet'!G141)","v":""},{"$f":"IF(ISBLANK('Trust - Frontsheet'!H141),\"\",'Trust - Frontsheet'!H141)","v":""},{"$f":"'Trust - Frontsheet'!I141","v":0},{"$f":"'Trust - Frontsheet'!J141","v":0},{"$f":"'Trust - Frontsheet'!K141","v":0},{"$f":"'Trust - Frontsheet'!L141","v":0},{"$f":"'Trust - Frontsheet'!M141","v":0},{"$f":"'Trust - Frontsheet'!N141","v":0},{"$f":"'Trust - Frontsheet'!O141","v":0},{"$f":"'Trust - Frontsheet'!P141","v":0},{"$f":"'Trust - Frontsheet'!Q141","v":0},{"$f":"'Trust - Frontsheet'!R141","v":0},{"$f":"'Trust - Frontsheet'!S141","v":0},{"$f":"'Trust - Frontsheet'!T141","v":0},{"$f":"IF(OR('Trust - Frontsheet'!AA141=\"\",'Trust - Frontsheet'!AA141=\"-\"),0,('Trust - Frontsheet'!AA141))","v":0},{"$f":"IF(OR('Trust - Frontsheet'!AB141=\"\",'Trust - Frontsheet'!AB141=\"-\"),0,('Trust - Frontsheet'!AB141))","v":0},{"$f":"IF(OR('Trust - Frontsheet'!AC141=\"\",'Trust - Frontsheet'!AC141=\"-\"),0,('Trust - Frontsheet'!AC141))","v":0},{"$f":"IF(OR('Trust - Frontsheet'!AD141=\"\",'Trust - Frontsheet'!AD141=\"-\"),0,('Trust - Frontsheet'!AD141))","v":0},{"$f":"IF(OR('Trust - Frontsheet'!AE141=\"\",'Trust - Frontsheet'!AE141=\"-\"),0,('Trust - Frontsheet'!AE141))","v":0},{"$f":"IF(OR('Trust - Frontsheet'!AF141=\"\",'Trust - Frontsheet'!AF141=\"-\"),0,('Trust - Frontsheet'!AF141))","v":0},{"$f":"'Trust - Frontsheet'!U141","v":0},{"$f":"IF(OR('Trust - Frontsheet'!V141=\"\",'Trust - Frontsheet'!V141=\"-\"),0,('Trust - Frontsheet'!V141))","v":0},{"$f":"IF(OR('Trust - Frontsheet'!W141=\"\",'Trust - Frontsheet'!W141=\"-\"),0,('Trust - Frontsheet'!W141))","v":0},{"$f":"IF(OR('Trust - Frontsheet'!X141=\"\",'Trust - Frontsheet'!X141=\"-\"),0,('Trust - Frontsheet'!X141))","v":0},{"$f":"IF(OR('Trust - Frontsheet'!Y141=\"\",'Trust - Frontsheet'!Y141=\"-\"),0,('Trust - Frontsheet'!Y141))","v":0},{"$f":"IF(OR('Trust - Frontsheet'!Z141=\"\",'Trust - Frontsheet'!Z141=\"-\"),0,('Trust - Frontsheet'!Z141))","v":0},{"$f":"IF(A129=\"\",\"\",(IF(ISBLANK('Trust - Frontsheet'!F9),\"\",'Trust - Frontsheet'!F9)))","v":""}]
[{"$f":"IF('Trust - Frontsheet'!D142=0,\"\",IF('Trust - Frontsheet'!D142=\"\",\"\",'Trust - Frontsheet'!D142))","v":""},{"$f":"IF(ISBLANK('Trust - Frontsheet'!E142),\"\",'Trust - Frontsheet'!E142)","v":""},{"$f":"IF(ISBLANK('Trust - Frontsheet'!F142),\"\",\"'\" & 'Trust - Frontsheet'!F142 & \"'\")","v":""},{"$f":"IF(ISBLANK('Trust - Frontsheet'!G142),\"\",'Trust - Frontsheet'!G142)","v":""},{"$f":"IF(ISBLANK('Trust - Frontsheet'!H142),\"\",'Trust - Frontsheet'!H142)","v":""},{"$f":"'Trust - Frontsheet'!I142","v":0},{"$f":"'Trust - Frontsheet'!J142","v":0},{"$f":"'Trust - Frontsheet'!K142","v":0},{"$f":"'Trust - Frontsheet'!L142","v":0},{"$f":"'Trust - Frontsheet'!M142","v":0},{"$f":"'Trust - Frontsheet'!N142","v":0},{"$f":"'Trust - Frontsheet'!O142","v":0},{"$f":"'Trust - Frontsheet'!P142","v":0},{"$f":"'Trust - Frontsheet'!Q142","v":0},{"$f":"'Trust - Frontsheet'!R142","v":0},{"$f":"'Trust - Frontsheet'!S142","v":0},{"$f":"'Trust - Frontsheet'!T142","v":0},{"$f":"IF(OR('Trust - Frontsheet'!AA142=\"\",'Trust - Frontsheet'!AA142=\"-\"),0,('Trust - Frontsheet'!AA142))","v":0},{"$f":"IF(OR('Trust - Frontsheet'!AB142=\"\",'Trust - Frontsheet'!AB142=\"-\"),0,('Trust - Frontsheet'!AB142))","v":0},{"$f":"IF(OR('Trust - Frontsheet'!AC142=\"\",'Trust - Frontsheet'!AC142=\"-\"),0,('Trust - Frontsheet'!AC142))","v":0},{"$f":"IF(OR('Trust - Frontsheet'!AD142=\"\",'Trust - Frontsheet'!AD142=\"-\"),0,('Trust - Frontsheet'!AD142))","v":0},{"$f":"IF(OR('Trust - Frontsheet'!AE142=\"\",'Trust - Frontsheet'!AE142=\"-\"),0,('Trust - Frontsheet'!AE142))","v":0},{"$f":"IF(OR('Trust - Frontsheet'!AF142=\"\",'Trust - Frontsheet'!AF142=\"-\"),0,('Trust - Frontsheet'!AF142))","v":0},{"$f":"'Trust - Frontsheet'!U142","v":0},{"$f":"IF(OR('Trust - Frontsheet'!V142=\"\",'Trust - Frontsheet'!V142=\"-\"),0,('Trust - Frontsheet'!V142))","v":0},{"$f":"IF(OR('Trust - Frontsheet'!W142=\"\",'Trust - Frontsheet'!W142=\"-\"),0,('Trust - Frontsheet'!W142))","v":0},{"$f":"IF(OR('Trust - Frontsheet'!X142=\"\",'Trust - Frontsheet'!X142=\"-\"),0,('Trust - Frontsheet'!X142))","v":0},{"$f":"IF(OR('Trust - Frontsheet'!Y142=\"\",'Trust - Frontsheet'!Y142=\"-\"),0,('Trust - Frontsheet'!Y142))","v":0},{"$f":"IF(OR('Trust - Frontsheet'!Z142=\"\",'Trust - Frontsheet'!Z142=\"-\"),0,('Trust - Frontsheet'!Z142))","v":0},{"$f":"IF(A130=\"\",\"\",(IF(ISBLANK('Trust - Frontsheet'!F9),\"\",'Trust - Frontsheet'!F9)))","v":""}]
[{"$f":"IF('Trust - Frontsheet'!D143=0,\"\",IF('Trust - Frontsheet'!D143=\"\",\"\",'Trust - Frontsheet'!D143))","v":""},{"$f":"IF(ISBLANK('Trust - Frontsheet'!E143),\"\",'Trust - Frontsheet'!E143)","v":""},{"$f":"IF(ISBLANK('Trust - Frontsheet'!F143),\"\",\"'\" & 'Trust - Frontsheet'!F143 & \"'\")","v":""},{"$f":"IF(ISBLANK('Trust - Frontsheet'!G143),\"\",'Trust - Frontsheet'!G143)","v":""},{"$f":"IF(ISBLANK('Trust - Frontsheet'!H143),\"\",'Trust - Frontsheet'!H143)","v":""},{"$f":"'Trust - Frontsheet'!I143","v":0},{"$f":"'Trust - Frontsheet'!J143","v":0},{"$f":"'Trust - Frontsheet'!K143","v":0},{"$f":"'Trust - Frontsheet'!L143","v":0},{"$f":"'Trust - Frontsheet'!M143","v":0},{"$f":"'Trust - Frontsheet'!N143","v":0},{"$f":"'Trust - Frontsheet'!O143","v":0},{"$f":"'Trust - Frontsheet'!P143","v":0},{"$f":"'Trust - Frontsheet'!Q143","v":0},{"$f":"'Trust - Frontsheet'!R143","v":0},{"$f":"'Trust - Frontsheet'!S143","v":0},{"$f":"'Trust - Frontsheet'!T143","v":0},{"$f":"IF(OR('Trust - Frontsheet'!AA143=\"\",'Trust - Frontsheet'!AA143=\"-\"),0,('Trust - Frontsheet'!AA143))","v":0},{"$f":"IF(OR('Trust - Frontsheet'!AB143=\"\",'Trust - Frontsheet'!AB143=\"-\"),0,('Trust - Frontsheet'!AB143))","v":0},{"$f":"IF(OR('Trust - Frontsheet'!AC143=\"\",'Trust - Frontsheet'!AC143=\"-\"),0,('Trust - Frontsheet'!AC143))","v":0},{"$f":"IF(OR('Trust - Frontsheet'!AD143=\"\",'Trust - Frontsheet'!AD143=\"-\"),0,('Trust - Frontsheet'!AD143))","v":0},{"$f":"IF(OR('Trust - Frontsheet'!AE143=\"\",'Trust - Frontsheet'!AE143=\"-\"),0,('Trust - Frontsheet'!AE143))","v":0},{"$f":"IF(OR('Trust - Frontsheet'!AF143=\"\",'Trust - Frontsheet'!AF143=\"-\"),0,('Trust - Frontsheet'!AF143))","v":0},{"$f":"'Trust - Frontsheet'!U143","v":0},{"$f":"IF(OR('Trust - Frontsheet'!V143=\"\",'Trust - Frontsheet'!V143=\"-\"),0,('Trust - Frontsheet'!V143))","v":0},{"$f":"IF(OR('Trust - Frontsheet'!W143=\"\",'Trust - Frontsheet'!W143=\"-\"),0,('Trust - Frontsheet'!W143))","v":0},{"$f":"IF(OR('Trust - Frontsheet'!X143=\"\",'Trust - Frontsheet'!X143=\"-\"),0,('Trust - Frontsheet'!X143))","v":0},{"$f":"IF(OR('Trust - Frontsheet'!Y143=\"\",'Trust - Frontsheet'!Y143=\"-\"),0,('Trust - Frontsheet'!Y143))","v":0},{"$f":"IF(OR('Trust - Frontsheet'!Z143=\"\",'Trust - Frontsheet'!Z143=\"-\"),0,('Trust - Frontsheet'!Z143))","v":0},{"$f":"IF(A131=\"\",\"\",(IF(ISBLANK('Trust - Frontsheet'!F9),\"\",'Trust - Frontsheet'!F9)))","v":""}]
[{"$f":"IF('Trust - Frontsheet'!D144=0,\"\",IF('Trust - Frontsheet'!D144=\"\",\"\",'Trust - Frontsheet'!D144))","v":""},{"$f":"IF(ISBLANK('Trust - Frontsheet'!E144),\"\",'Trust - Frontsheet'!E144)","v":""},{"$f":"IF(ISBLANK('Trust - Frontsheet'!F144),\"\",\"'\" & 'Trust - Frontsheet'!F144 & \"'\")","v":""},{"$f":"IF(ISBLANK('Trust - Frontsheet'!G144),\"\",'Trust - Frontsheet'!G144)","v":""},{"$f":"IF(ISBLANK('Trust - Frontsheet'!H144),\"\",'Trust - Frontsheet'!H144)","v":""},{"$f":"'Trust - Frontsheet'!I144","v":0},{"$f":"'Trust - Frontsheet'!J144","v":0},{"$f":"'Trust - Frontsheet'!K144","v":0},{"$f":"'Trust - Frontsheet'!L144","v":0},{"$f":"'Trust - Frontsheet'!M144","v":0},{"$f":"'Trust - Frontsheet'!N144","v":0},{"$f":"'Trust - Frontsheet'!O144","v":0},{"$f":"'Trust - Frontsheet'!P144","v":0},{"$f":"'Trust - Frontsheet'!Q144","v":0},{"$f":"'Trust - Frontsheet'!R144","v":0},{"$f":"'Trust - Frontsheet'!S144","v":0},{"$f":"'Trust - Frontsheet'!T144","v":0},{"$f":"IF(OR('Trust - Frontsheet'!AA144=\"\",'Trust - Frontsheet'!AA144=\"-\"),0,('Trust - Frontsheet'!AA144))","v":0},{"$f":"IF(OR('Trust - Frontsheet'!AB144=\"\",'Trust - Frontsheet'!AB144=\"-\"),0,('Trust - Frontsheet'!AB144))","v":0},{"$f":"IF(OR('Trust - Frontsheet'!AC144=\"\",'Trust - Frontsheet'!AC144=\"-\"),0,('Trust - Frontsheet'!AC144))","v":0},{"$f":"IF(OR('Trust - Frontsheet'!AD144=\"\",'Trust - Frontsheet'!AD144=\"-\"),0,('Trust - Frontsheet'!AD144))","v":0},{"$f":"IF(OR('Trust - Frontsheet'!AE144=\"\",'Trust - Frontsheet'!AE144=\"-\"),0,('Trust - Frontsheet'!AE144))","v":0},{"$f":"IF(OR('Trust - Frontsheet'!AF144=\"\",'Trust - Frontsheet'!AF144=\"-\"),0,('Trust - Frontsheet'!AF144))","v":0},{"$f":"'Trust - Frontsheet'!U144","v":0},{"$f":"IF(OR('Trust - Frontsheet'!V144=\"\",'Trust - Frontsheet'!V144=\"-\"),0,('Trust - Frontsheet'!V144))","v":0},{"$f":"IF(OR('Trust - Frontsheet'!W144=\"\",'Trust - Frontsheet'!W144=\"-\"),0,('Trust - Frontsheet'!W144))","v":0},{"$f":"IF(OR('Trust - Frontsheet'!X144=\"\",'Trust - Frontsheet'!X144=\"-\"),0,('Trust - Frontsheet'!X144))","v":0},{"$f":"IF(OR('Trust - Frontsheet'!Y144=\"\",'Trust - Frontsheet'!Y144=\"-\"),0,('Trust - Frontsheet'!Y144))","v":0},{"$f":"IF(OR('Trust - Frontsheet'!Z144=\"\",'Trust - Frontsheet'!Z144=\"-\"),0,('Trust - Frontsheet'!Z144))","v":0},{"$f":"IF(A132=\"\",\"\",(IF(ISBLANK('Trust - Frontsheet'!F9),\"\",'Trust - Frontsheet'!F9)))","v":""}]
[{"$f":"IF('Trust - Frontsheet'!D145=0,\"\",IF('Trust - Frontsheet'!D145=\"\",\"\",'Trust - Frontsheet'!D145))","v":""},{"$f":"IF(ISBLANK('Trust - Frontsheet'!E145),\"\",'Trust - Frontsheet'!E145)","v":""},{"$f":"IF(ISBLANK('Trust - Frontsheet'!F145),\"\",\"'\" & 'Trust - Frontsheet'!F145 & \"'\")","v":""},{"$f":"IF(ISBLANK('Trust - Frontsheet'!G145),\"\",'Trust - Frontsheet'!G145)","v":""},{"$f":"IF(ISBLANK('Trust - Frontsheet'!H145),\"\",'Trust - Frontsheet'!H145)","v":""},{"$f":"'Trust - Frontsheet'!I145","v":0},{"$f":"'Trust - Frontsheet'!J145","v":0},{"$f":"'Trust - Frontsheet'!K145","v":0},{"$f":"'Trust - Frontsheet'!L145","v":0},{"$f":"'Trust - Frontsheet'!M145","v":0},{"$f":"'Trust - Frontsheet'!N145","v":0},{"$f":"'Trust - Frontsheet'!O145","v":0},{"$f":"'Trust - Frontsheet'!P145","v":0},{"$f":"'Trust - Frontsheet'!Q145","v":0},{"$f":"'Trust - Frontsheet'!R145","v":0},{"$f":"'Trust - Frontsheet'!S145","v":0},{"$f":"'Trust - Frontsheet'!T145","v":0},{"$f":"IF(OR('Trust - Frontsheet'!AA145=\"\",'Trust - Frontsheet'!AA145=\"-\"),0,('Trust - Frontsheet'!AA145))","v":0},{"$f":"IF(OR('Trust - Frontsheet'!AB145=\"\",'Trust - Frontsheet'!AB145=\"-\"),0,('Trust - Frontsheet'!AB145))","v":0},{"$f":"IF(OR('Trust - Frontsheet'!AC145=\"\",'Trust - Frontsheet'!AC145=\"-\"),0,('Trust - Frontsheet'!AC145))","v":0},{"$f":"IF(OR('Trust - Frontsheet'!AD145=\"\",'Trust - Frontsheet'!AD145=\"-\"),0,('Trust - Frontsheet'!AD145))","v":0},{"$f":"IF(OR('Trust - Frontsheet'!AE145=\"\",'Trust - Frontsheet'!AE145=\"-\"),0,('Trust - Frontsheet'!AE145))","v":0},{"$f":"IF(OR('Trust - Frontsheet'!AF145=\"\",'Trust - Frontsheet'!AF145=\"-\"),0,('Trust - Frontsheet'!AF145))","v":0},{"$f":"'Trust - Frontsheet'!U145","v":0},{"$f":"IF(OR('Trust - Frontsheet'!V145=\"\",'Trust - Frontsheet'!V145=\"-\"),0,('Trust - Frontsheet'!V145))","v":0},{"$f":"IF(OR('Trust - Frontsheet'!W145=\"\",'Trust - Frontsheet'!W145=\"-\"),0,('Trust - Frontsheet'!W145))","v":0},{"$f":"IF(OR('Trust - Frontsheet'!X145=\"\",'Trust - Frontsheet'!X145=\"-\"),0,('Trust - Frontsheet'!X145))","v":0},{"$f":"IF(OR('Trust - Frontsheet'!Y145=\"\",'Trust - Frontsheet'!Y145=\"-\"),0,('Trust - Frontsheet'!Y145))","v":0},{"$f":"IF(OR('Trust - Frontsheet'!Z145=\"\",'Trust - Frontsheet'!Z145=\"-\"),0,('Trust - Frontsheet'!Z145))","v":0},{"$f":"IF(A133=\"\",\"\",(IF(ISBLANK('Trust - Frontsheet'!F9),\"\",'Trust - Frontsheet'!F9)))","v":""}]
[{"$f":"IF('Trust - Frontsheet'!D146=0,\"\",IF('Trust - Frontsheet'!D146=\"\",\"\",'Trust - Frontsheet'!D146))","v":""},{"$f":"IF(ISBLANK('Trust - Frontsheet'!E146),\"\",'Trust - Frontsheet'!E146)","v":""},{"$f":"IF(ISBLANK('Trust - Frontsheet'!F146),\"\",\"'\" & 'Trust - Frontsheet'!F146 & \"'\")","v":""},{"$f":"IF(ISBLANK('Trust - Frontsheet'!G146),\"\",'Trust - Frontsheet'!G146)","v":""},{"$f":"IF(ISBLANK('Trust - Frontsheet'!H146),\"\",'Trust - Frontsheet'!H146)","v":""},{"$f":"'Trust - Frontsheet'!I146","v":0},{"$f":"'Trust - Frontsheet'!J146","v":0},{"$f":"'Trust - Frontsheet'!K146","v":0},{"$f":"'Trust - Frontsheet'!L146","v":0},{"$f":"'Trust - Frontsheet'!M146","v":0},{"$f":"'Trust - Frontsheet'!N146","v":0},{"$f":"'Trust - Frontsheet'!O146","v":0},{"$f":"'Trust - Frontsheet'!P146","v":0},{"$f":"'Trust - Frontsheet'!Q146","v":0},{"$f":"'Trust - Frontsheet'!R146","v":0},{"$f":"'Trust - Frontsheet'!S146","v":0},{"$f":"'Trust - Frontsheet'!T146","v":0},{"$f":"IF(OR('Trust - Frontsheet'!AA146=\"\",'Trust - Frontsheet'!AA146=\"-\"),0,('Trust - Frontsheet'!AA146))","v":0},{"$f":"IF(OR('Trust - Frontsheet'!AB146=\"\",'Trust - Frontsheet'!AB146=\"-\"),0,('Trust - Frontsheet'!AB146))","v":0},{"$f":"IF(OR('Trust - Frontsheet'!AC146=\"\",'Trust - Frontsheet'!AC146=\"-\"),0,('Trust - Frontsheet'!AC146))","v":0},{"$f":"IF(OR('Trust - Frontsheet'!AD146=\"\",'Trust - Frontsheet'!AD146=\"-\"),0,('Trust - Frontsheet'!AD146))","v":0},{"$f":"IF(OR('Trust - Frontsheet'!AE146=\"\",'Trust - Frontsheet'!AE146=\"-\"),0,('Trust - Frontsheet'!AE146))","v":0},{"$f":"IF(OR('Trust - Frontsheet'!AF146=\"\",'Trust - Frontsheet'!AF146=\"-\"),0,('Trust - Frontsheet'!AF146))","v":0},{"$f":"'Trust - Frontsheet'!U146","v":0},{"$f":"IF(OR('Trust - Frontsheet'!V146=\"\",'Trust - Frontsheet'!V146=\"-\"),0,('Trust - Frontsheet'!V146))","v":0},{"$f":"IF(OR('Trust - Frontsheet'!W146=\"\",'Trust - Frontsheet'!W146=\"-\"),0,('Trust - Frontsheet'!W146))","v":0},{"$f":"IF(OR('Trust - Frontsheet'!X146=\"\",'Trust - Frontsheet'!X146=\"-\"),0,('Trust - Frontsheet'!X146))","v":0},{"$f":"IF(OR('Trust - Frontsheet'!Y146=\"\",'Trust - Frontsheet'!Y146=\"-\"),0,('Trust - Frontsheet'!Y146))","v":0},{"$f":"IF(OR('Trust - Frontsheet'!Z146=\"\",'Trust - Frontsheet'!Z146=\"-\"),0,('Trust - Frontsheet'!Z146))","v":0},{"$f":"IF(A134=\"\",\"\",(IF(ISBLANK('Trust - Frontsheet'!F9),\"\",'Trust - Frontsheet'!F9)))","v":""}]
[{"$f":"IF('Trust - Frontsheet'!D147=0,\"\",IF('Trust - Frontsheet'!D147=\"\",\"\",'Trust - Frontsheet'!D147))","v":""},{"$f":"IF(ISBLANK('Trust - Frontsheet'!E147),\"\",'Trust - Frontsheet'!E147)","v":""},{"$f":"IF(ISBLANK('Trust - Frontsheet'!F147),\"\",\"'\" & 'Trust - Frontsheet'!F147 & \"'\")","v":""},{"$f":"IF(ISBLANK('Trust - Frontsheet'!G147),\"\",'Trust - Frontsheet'!G147)","v":""},{"$f":"IF(ISBLANK('Trust - Frontsheet'!H147),\"\",'Trust - Frontsheet'!H147)","v":""},{"$f":"'Trust - Frontsheet'!I147","v":0},{"$f":"'Trust - Frontsheet'!J147","v":0},{"$f":"'Trust - Frontsheet'!K147","v":0},{"$f":"'Trust - Frontsheet'!L147","v":0},{"$f":"'Trust - Frontsheet'!M147","v":0},{"$f":"'Trust - Frontsheet'!N147","v":0},{"$f":"'Trust - Frontsheet'!O147","v":0},{"$f":"'Trust - Frontsheet'!P147","v":0},{"$f":"'Trust - Frontsheet'!Q147","v":0},{"$f":"'Trust - Frontsheet'!R147","v":0},{"$f":"'Trust - Frontsheet'!S147","v":0},{"$f":"'Trust - Frontsheet'!T147","v":0},{"$f":"IF(OR('Trust - Frontsheet'!AA147=\"\",'Trust - Frontsheet'!AA147=\"-\"),0,('Trust - Frontsheet'!AA147))","v":0},{"$f":"IF(OR('Trust - Frontsheet'!AB147=\"\",'Trust - Frontsheet'!AB147=\"-\"),0,('Trust - Frontsheet'!AB147))","v":0},{"$f":"IF(OR('Trust - Frontsheet'!AC147=\"\",'Trust - Frontsheet'!AC147=\"-\"),0,('Trust - Frontsheet'!AC147))","v":0},{"$f":"IF(OR('Trust - Frontsheet'!AD147=\"\",'Trust - Frontsheet'!AD147=\"-\"),0,('Trust - Frontsheet'!AD147))","v":0},{"$f":"IF(OR('Trust - Frontsheet'!AE147=\"\",'Trust - Frontsheet'!AE147=\"-\"),0,('Trust - Frontsheet'!AE147))","v":0},{"$f":"IF(OR('Trust - Frontsheet'!AF147=\"\",'Trust - Frontsheet'!AF147=\"-\"),0,('Trust - Frontsheet'!AF147))","v":0},{"$f":"'Trust - Frontsheet'!U147","v":0},{"$f":"IF(OR('Trust - Frontsheet'!V147=\"\",'Trust - Frontsheet'!V147=\"-\"),0,('Trust - Frontsheet'!V147))","v":0},{"$f":"IF(OR('Trust - Frontsheet'!W147=\"\",'Trust - Frontsheet'!W147=\"-\"),0,('Trust - Frontsheet'!W147))","v":0},{"$f":"IF(OR('Trust - Frontsheet'!X147=\"\",'Trust - Frontsheet'!X147=\"-\"),0,('Trust - Frontsheet'!X147))","v":0},{"$f":"IF(OR('Trust - Frontsheet'!Y147=\"\",'Trust - Frontsheet'!Y147=\"-\"),0,('Trust - Frontsheet'!Y147))","v":0},{"$f":"IF(OR('Trust - Frontsheet'!Z147=\"\",'Trust - Frontsheet'!Z147=\"-\"),0,('Trust - Frontsheet'!Z147))","v":0},{"$f":"IF(A135=\"\",\"\",(IF(ISBLANK('Trust - Frontsheet'!F9),\"\",'Trust - Frontsheet'!F9)))","v":""}]
[{"$f":"IF('Trust - Frontsheet'!D148=0,\"\",IF('Trust - Frontsheet'!D148=\"\",\"\",'Trust - Frontsheet'!D148))","v":""},{"$f":"IF(ISBLANK('Trust - Frontsheet'!E148),\"\",'Trust - Frontsheet'!E148)","v":""},{"$f":"IF(ISBLANK('Trust - Frontsheet'!F148),\"\",\"'\" & 'Trust - Frontsheet'!F148 & \"'\")","v":""},{"$f":"IF(ISBLANK('Trust - Frontsheet'!G148),\"\",'Trust - Frontsheet'!G148)","v":""},{"$f":"IF(ISBLANK('Trust - Frontsheet'!H148),\"\",'Trust - Frontsheet'!H148)","v":""},{"$f":"'Trust - Frontsheet'!I148","v":0},{"$f":"'Trust - Frontsheet'!J148","v":0},{"$f":"'Trust - Frontsheet'!K148","v":0},{"$f":"'Trust - Frontsheet'!L148","v":0},{"$f":"'Trust - Frontsheet'!M148","v":0},{"$f":"'Trust - Frontsheet'!N148","v":0},{"$f":"'Trust - Frontsheet'!O148","v":0},{"$f":"'Trust - Frontsheet'!P148","v":0},{"$f":"'Trust - Frontsheet'!Q148","v":0},{"$f":"'Trust - Frontsheet'!R148","v":0},{"$f":"'Trust - Frontsheet'!S148","v":0},{"$f":"'Trust - Frontsheet'!T148","v":0},{"$f":"IF(OR('Trust - Frontsheet'!AA148=\"\",'Trust - Frontsheet'!AA148=\"-\"),0,('Trust - Frontsheet'!AA148))","v":0},{"$f":"IF(OR('Trust - Frontsheet'!AB148=\"\",'Trust - Frontsheet'!AB148=\"-\"),0,('Trust - Frontsheet'!AB148))","v":0},{"$f":"IF(OR('Trust - Frontsheet'!AC148=\"\",'Trust - Frontsheet'!AC148=\"-\"),0,('Trust - Frontsheet'!AC148))","v":0},{"$f":"IF(OR('Trust - Frontsheet'!AD148=\"\",'Trust - Frontsheet'!AD148=\"-\"),0,('Trust - Frontsheet'!AD148))","v":0},{"$f":"IF(OR('Trust - Frontsheet'!AE148=\"\",'Trust - Frontsheet'!AE148=\"-\"),0,('Trust - Frontsheet'!AE148))","v":0},{"$f":"IF(OR('Trust - Frontsheet'!AF148=\"\",'Trust - Frontsheet'!AF148=\"-\"),0,('Trust - Frontsheet'!AF148))","v":0},{"$f":"'Trust - Frontsheet'!U148","v":0},{"$f":"IF(OR('Trust - Frontsheet'!V148=\"\",'Trust - Frontsheet'!V148=\"-\"),0,('Trust - Frontsheet'!V148))","v":0},{"$f":"IF(OR('Trust - Frontsheet'!W148=\"\",'Trust - Frontsheet'!W148=\"-\"),0,('Trust - Frontsheet'!W148))","v":0},{"$f":"IF(OR('Trust - Frontsheet'!X148=\"\",'Trust - Frontsheet'!X148=\"-\"),0,('Trust - Frontsheet'!X148))","v":0},{"$f":"IF(OR('Trust - Frontsheet'!Y148=\"\",'Trust - Frontsheet'!Y148=\"-\"),0,('Trust - Frontsheet'!Y148))","v":0},{"$f":"IF(OR('Trust - Frontsheet'!Z148=\"\",'Trust - Frontsheet'!Z148=\"-\"),0,('Trust - Frontsheet'!Z148))","v":0},{"$f":"IF(A136=\"\",\"\",(IF(ISBLANK('Trust - Frontsheet'!F9),\"\",'Trust - Frontsheet'!F9)))","v":""}]
[{"$f":"IF('Trust - Frontsheet'!D149=0,\"\",IF('Trust - Frontsheet'!D149=\"\",\"\",'Trust - Frontsheet'!D149))","v":""},{"$f":"IF(ISBLANK('Trust - Frontsheet'!E149),\"\",'Trust - Frontsheet'!E149)","v":""},{"$f":"IF(ISBLANK('Trust - Frontsheet'!F149),\"\",\"'\" & 'Trust - Frontsheet'!F149 & \"'\")","v":""},{"$f":"IF(ISBLANK('Trust - Frontsheet'!G149),\"\",'Trust - Frontsheet'!G149)","v":""},{"$f":"IF(ISBLANK('Trust - Frontsheet'!H149),\"\",'Trust - Frontsheet'!H149)","v":""},{"$f":"'Trust - Frontsheet'!I149","v":0},{"$f":"'Trust - Frontsheet'!J149","v":0},{"$f":"'Trust - Frontsheet'!K149","v":0},{"$f":"'Trust - Frontsheet'!L149","v":0},{"$f":"'Trust - Frontsheet'!M149","v":0},{"$f":"'Trust - Frontsheet'!N149","v":0},{"$f":"'Trust - Frontsheet'!O149","v":0},{"$f":"'Trust - Frontsheet'!P149","v":0},{"$f":"'Trust - Frontsheet'!Q149","v":0},{"$f":"'Trust - Frontsheet'!R149","v":0},{"$f":"'Trust - Frontsheet'!S149","v":0},{"$f":"'Trust - Frontsheet'!T149","v":0},{"$f":"IF(OR('Trust - Frontsheet'!AA149=\"\",'Trust - Frontsheet'!AA149=\"-\"),0,('Trust - Frontsheet'!AA149))","v":0},{"$f":"IF(OR('Trust - Frontsheet'!AB149=\"\",'Trust - Frontsheet'!AB149=\"-\"),0,('Trust - Frontsheet'!AB149))","v":0},{"$f":"IF(OR('Trust - Frontsheet'!AC149=\"\",'Trust - Frontsheet'!AC149=\"-\"),0,('Trust - Frontsheet'!AC149))","v":0},{"$f":"IF(OR('Trust - Frontsheet'!AD149=\"\",'Trust - Frontsheet'!AD149=\"-\"),0,('Trust - Frontsheet'!AD149))","v":0},{"$f":"IF(OR('Trust - Frontsheet'!AE149=\"\",'Trust - Frontsheet'!AE149=\"-\"),0,('Trust - Frontsheet'!AE149))","v":0},{"$f":"IF(OR('Trust - Frontsheet'!AF149=\"\",'Trust - Frontsheet'!AF149=\"-\"),0,('Trust - Frontsheet'!AF149))","v":0},{"$f":"'Trust - Frontsheet'!U149","v":0},{"$f":"IF(OR('Trust - Frontsheet'!V149=\"\",'Trust - Frontsheet'!V149=\"-\"),0,('Trust - Frontsheet'!V149))","v":0},{"$f":"IF(OR('Trust - Frontsheet'!W149=\"\",'Trust - Frontsheet'!W149=\"-\"),0,('Trust - Frontsheet'!W149))","v":0},{"$f":"IF(OR('Trust - Frontsheet'!X149=\"\",'Trust - Frontsheet'!X149=\"-\"),0,('Trust - Frontsheet'!X149))","v":0},{"$f":"IF(OR('Trust - Frontsheet'!Y149=\"\",'Trust - Frontsheet'!Y149=\"-\"),0,('Trust - Frontsheet'!Y149))","v":0},{"$f":"IF(OR('Trust - Frontsheet'!Z149=\"\",'Trust - Frontsheet'!Z149=\"-\"),0,('Trust - Frontsheet'!Z149))","v":0},{"$f":"IF(A137=\"\",\"\",(IF(ISBLANK('Trust - Frontsheet'!F9),\"\",'Trust - Frontsheet'!F9)))","v":""}]
[{"$f":"IF('Trust - Frontsheet'!D150=0,\"\",IF('Trust - Frontsheet'!D150=\"\",\"\",'Trust - Frontsheet'!D150))","v":""},{"$f":"IF(ISBLANK('Trust - Frontsheet'!E150),\"\",'Trust - Frontsheet'!E150)","v":""},{"$f":"IF(ISBLANK('Trust - Frontsheet'!F150),\"\",\"'\" & 'Trust - Frontsheet'!F150 & \"'\")","v":""},{"$f":"IF(ISBLANK('Trust - Frontsheet'!G150),\"\",'Trust - Frontsheet'!G150)","v":""},{"$f":"IF(ISBLANK('Trust - Frontsheet'!H150),\"\",'Trust - Frontsheet'!H150)","v":""},{"$f":"'Trust - Frontsheet'!I150","v":0},{"$f":"'Trust - Frontsheet'!J150","v":0},{"$f":"'Trust - Frontsheet'!K150","v":0},{"$f":"'Trust - Frontsheet'!L150","v":0},{"$f":"'Trust - Frontsheet'!M150","v":0},{"$f":"'Trust - Frontsheet'!N150","v":0},{"$f":"'Trust - Frontsheet'!O150","v":0},{"$f":"'Trust - Frontsheet'!P150","v":0},{"$f":"'Trust - Frontsheet'!Q150","v":0},{"$f":"'Trust - Frontsheet'!R150","v":0},{"$f":"'Trust - Frontsheet'!S150","v":0},{"$f":"'Trust - Frontsheet'!T150","v":0},{"$f":"IF(OR('Trust - Frontsheet'!AA150=\"\",'Trust - Frontsheet'!AA150=\"-\"),0,('Trust - Frontsheet'!AA150))","v":0},{"$f":"IF(OR('Trust - Frontsheet'!AB150=\"\",'Trust - Frontsheet'!AB150=\"-\"),0,('Trust - Frontsheet'!AB150))","v":0},{"$f":"IF(OR('Trust - Frontsheet'!AC150=\"\",'Trust - Frontsheet'!AC150=\"-\"),0,('Trust - Frontsheet'!AC150))","v":0},{"$f":"IF(OR('Trust - Frontsheet'!AD150=\"\",'Trust - Frontsheet'!AD150=\"-\"),0,('Trust - Frontsheet'!AD150))","v":0},{"$f":"IF(OR('Trust - Frontsheet'!AE150=\"\",'Trust - Frontsheet'!AE150=\"-\"),0,('Trust - Frontsheet'!AE150))","v":0},{"$f":"IF(OR('Trust - Frontsheet'!AF150=\"\",'Trust - Frontsheet'!AF150=\"-\"),0,('Trust - Frontsheet'!AF150))","v":0},{"$f":"'Trust - Frontsheet'!U150","v":0},{"$f":"IF(OR('Trust - Frontsheet'!V150=\"\",'Trust - Frontsheet'!V150=\"-\"),0,('Trust - Frontsheet'!V150))","v":0},{"$f":"IF(OR('Trust - Frontsheet'!W150=\"\",'Trust - Frontsheet'!W150=\"-\"),0,('Trust - Frontsheet'!W150))","v":0},{"$f":"IF(OR('Trust - Frontsheet'!X150=\"\",'Trust - Frontsheet'!X150=\"-\"),0,('Trust - Frontsheet'!X150))","v":0},{"$f":"IF(OR('Trust - Frontsheet'!Y150=\"\",'Trust - Frontsheet'!Y150=\"-\"),0,('Trust - Frontsheet'!Y150))","v":0},{"$f":"IF(OR('Trust - Frontsheet'!Z150=\"\",'Trust - Frontsheet'!Z150=\"-\"),0,('Trust - Frontsheet'!Z150))","v":0},{"$f":"IF(A138=\"\",\"\",(IF(ISBLANK('Trust - Frontsheet'!F9),\"\",'Trust - Frontsheet'!F9)))","v":""}]
[{"$f":"IF('Trust - Frontsheet'!D151=0,\"\",IF('Trust - Frontsheet'!D151=\"\",\"\",'Trust - Frontsheet'!D151))","v":""},{"$f":"IF(ISBLANK('Trust - Frontsheet'!E151),\"\",'Trust - Frontsheet'!E151)","v":""},{"$f":"IF(ISBLANK('Trust - Frontsheet'!F151),\"\",\"'\" & 'Trust - Frontsheet'!F151 & \"'\")","v":""},{"$f":"IF(ISBLANK('Trust - Frontsheet'!G151),\"\",'Trust - Frontsheet'!G151)","v":""},{"$f":"IF(ISBLANK('Trust - Frontsheet'!H151),\"\",'Trust - Frontsheet'!H151)","v":""},{"$f":"'Trust - Frontsheet'!I151","v":0},{"$f":"'Trust - Frontsheet'!J151","v":0},{"$f":"'Trust - Frontsheet'!K151","v":0},{"$f":"'Trust - Frontsheet'!L151","v":0},{"$f":"'Trust - Frontsheet'!M151","v":0},{"$f":"'Trust - Frontsheet'!N151","v":0},{"$f":"'Trust - Frontsheet'!O151","v":0},{"$f":"'Trust - Frontsheet'!P151","v":0},{"$f":"'Trust - Frontsheet'!Q151","v":0},{"$f":"'Trust - Frontsheet'!R151","v":0},{"$f":"'Trust - Frontsheet'!S151","v":0},{"$f":"'Trust - Frontsheet'!T151","v":0},{"$f":"IF(OR('Trust - Frontsheet'!AA151=\"\",'Trust - Frontsheet'!AA151=\"-\"),0,('Trust - Frontsheet'!AA151))","v":0},{"$f":"IF(OR('Trust - Frontsheet'!AB151=\"\",'Trust - Frontsheet'!AB151=\"-\"),0,('Trust - Frontsheet'!AB151))","v":0},{"$f":"IF(OR('Trust - Frontsheet'!AC151=\"\",'Trust - Frontsheet'!AC151=\"-\"),0,('Trust - Frontsheet'!AC151))","v":0},{"$f":"IF(OR('Trust - Frontsheet'!AD151=\"\",'Trust - Frontsheet'!AD151=\"-\"),0,('Trust - Frontsheet'!AD151))","v":0},{"$f":"IF(OR('Trust - Frontsheet'!AE151=\"\",'Trust - Frontsheet'!AE151=\"-\"),0,('Trust - Frontsheet'!AE151))","v":0},{"$f":"IF(OR('Trust - Frontsheet'!AF151=\"\",'Trust - Frontsheet'!AF151=\"-\"),0,('Trust - Frontsheet'!AF151))","v":0},{"$f":"'Trust - Frontsheet'!U151","v":0},{"$f":"IF(OR('Trust - Frontsheet'!V151=\"\",'Trust - Frontsheet'!V151=\"-\"),0,('Trust - Frontsheet'!V151))","v":0},{"$f":"IF(OR('Trust - Frontsheet'!W151=\"\",'Trust - Frontsheet'!W151=\"-\"),0,('Trust - Frontsheet'!W151))","v":0},{"$f":"IF(OR('Trust - Frontsheet'!X151=\"\",'Trust - Frontsheet'!X151=\"-\"),0,('Trust - Frontsheet'!X151))","v":0},{"$f":"IF(OR('Trust - Frontsheet'!Y151=\"\",'Trust - Frontsheet'!Y151=\"-\"),0,('Trust - Frontsheet'!Y151))","v":0},{"$f":"IF(OR('Trust - Frontsheet'!Z151=\"\",'Trust - Frontsheet'!Z151=\"-\"),0,('Trust - Frontsheet'!Z151))","v":0},{"$f":"IF(A139=\"\",\"\",(IF(ISBLANK('Trust - Frontsheet'!F9),\"\",'Trust - Frontsheet'!F9)))","v":""}]
[{"$f":"IF('Trust - Frontsheet'!D152=0,\"\",IF('Trust - Frontsheet'!D152=\"\",\"\",'Trust - Frontsheet'!D152))","v":""},{"$f":"IF(ISBLANK('Trust - Frontsheet'!E152),\"\",'Trust - Frontsheet'!E152)","v":""},{"$f":"IF(ISBLANK('Trust - Frontsheet'!F152),\"\",\"'\" & 'Trust - Frontsheet'!F152 & \"'\")","v":""},{"$f":"IF(ISBLANK('Trust - Frontsheet'!G152),\"\",'Trust - Frontsheet'!G152)","v":""},{"$f":"IF(ISBLANK('Trust - Frontsheet'!H152),\"\",'Trust - Frontsheet'!H152)","v":""},{"$f":"'Trust - Frontsheet'!I152","v":0},{"$f":"'Trust - Frontsheet'!J152","v":0},{"$f":"'Trust - Frontsheet'!K152","v":0},{"$f":"'Trust - Frontsheet'!L152","v":0},{"$f":"'Trust - Frontsheet'!M152","v":0},{"$f":"'Trust - Frontsheet'!N152","v":0},{"$f":"'Trust - Frontsheet'!O152","v":0},{"$f":"'Trust - Frontsheet'!P152","v":0},{"$f":"'Trust - Frontsheet'!Q152","v":0},{"$f":"'Trust - Frontsheet'!R152","v":0},{"$f":"'Trust - Frontsheet'!S152","v":0},{"$f":"'Trust - Frontsheet'!T152","v":0},{"$f":"IF(OR('Trust - Frontsheet'!AA152=\"\",'Trust - Frontsheet'!AA152=\"-\"),0,('Trust - Frontsheet'!AA152))","v":0},{"$f":"IF(OR('Trust - Frontsheet'!AB152=\"\",'Trust - Frontsheet'!AB152=\"-\"),0,('Trust - Frontsheet'!AB152))","v":0},{"$f":"IF(OR('Trust - Frontsheet'!AC152=\"\",'Trust - Frontsheet'!AC152=\"-\"),0,('Trust - Frontsheet'!AC152))","v":0},{"$f":"IF(OR('Trust - Frontsheet'!AD152=\"\",'Trust - Frontsheet'!AD152=\"-\"),0,('Trust - Frontsheet'!AD152))","v":0},{"$f":"IF(OR('Trust - Frontsheet'!AE152=\"\",'Trust - Frontsheet'!AE152=\"-\"),0,('Trust - Frontsheet'!AE152))","v":0},{"$f":"IF(OR('Trust - Frontsheet'!AF152=\"\",'Trust - Frontsheet'!AF152=\"-\"),0,('Trust - Frontsheet'!AF152))","v":0},{"$f":"'Trust - Frontsheet'!U152","v":0},{"$f":"IF(OR('Trust - Frontsheet'!V152=\"\",'Trust - Frontsheet'!V152=\"-\"),0,('Trust - Frontsheet'!V152))","v":0},{"$f":"IF(OR('Trust - Frontsheet'!W152=\"\",'Trust - Frontsheet'!W152=\"-\"),0,('Trust - Frontsheet'!W152))","v":0},{"$f":"IF(OR('Trust - Frontsheet'!X152=\"\",'Trust - Frontsheet'!X152=\"-\"),0,('Trust - Frontsheet'!X152))","v":0},{"$f":"IF(OR('Trust - Frontsheet'!Y152=\"\",'Trust - Frontsheet'!Y152=\"-\"),0,('Trust - Frontsheet'!Y152))","v":0},{"$f":"IF(OR('Trust - Frontsheet'!Z152=\"\",'Trust - Frontsheet'!Z152=\"-\"),0,('Trust - Frontsheet'!Z152))","v":0},{"$f":"IF(A140=\"\",\"\",(IF(ISBLANK('Trust - Frontsheet'!F9),\"\",'Trust - Frontsheet'!F9)))","v":""}]
[{"$f":"IF('Trust - Frontsheet'!D153=0,\"\",IF('Trust - Frontsheet'!D153=\"\",\"\",'Trust - Frontsheet'!D153))","v":""},{"$f":"IF(ISBLANK('Trust - Frontsheet'!E153),\"\",'Trust - Frontsheet'!E153)","v":""},{"$f":"IF(ISBLANK('Trust - Frontsheet'!F153),\"\",\"'\" & 'Trust - Frontsheet'!F153 & \"'\")","v":""},{"$f":"IF(ISBLANK('Trust - Frontsheet'!G153),\"\",'Trust - Frontsheet'!G153)","v":""},{"$f":"IF(ISBLANK('Trust - Frontsheet'!H153),\"\",'Trust - Frontsheet'!H153)","v":""},{"$f":"'Trust - Frontsheet'!I153","v":0},{"$f":"'Trust - Frontsheet'!J153","v":0},{"$f":"'Trust - Frontsheet'!K153","v":0},{"$f":"'Trust - Frontsheet'!L153","v":0},{"$f":"'Trust - Frontsheet'!M153","v":0},{"$f":"'Trust - Frontsheet'!N153","v":0},{"$f":"'Trust - Frontsheet'!O153","v":0},{"$f":"'Trust - Frontsheet'!P153","v":0},{"$f":"'Trust - Frontsheet'!Q153","v":0},{"$f":"'Trust - Frontsheet'!R153","v":0},{"$f":"'Trust - Frontsheet'!S153","v":0},{"$f":"'Trust - Frontsheet'!T153","v":0},{"$f":"IF(OR('Trust - Frontsheet'!AA153=\"\",'Trust - Frontsheet'!AA153=\"-\"),0,('Trust - Frontsheet'!AA153))","v":0},{"$f":"IF(OR('Trust - Frontsheet'!AB153=\"\",'Trust - Frontsheet'!AB153=\"-\"),0,('Trust - Frontsheet'!AB153))","v":0},{"$f":"IF(OR('Trust - Frontsheet'!AC153=\"\",'Trust - Frontsheet'!AC153=\"-\"),0,('Trust - Frontsheet'!AC153))","v":0},{"$f":"IF(OR('Trust - Frontsheet'!AD153=\"\",'Trust - Frontsheet'!AD153=\"-\"),0,('Trust - Frontsheet'!AD153))","v":0},{"$f":"IF(OR('Trust - Frontsheet'!AE153=\"\",'Trust - Frontsheet'!AE153=\"-\"),0,('Trust - Frontsheet'!AE153))","v":0},{"$f":"IF(OR('Trust - Frontsheet'!AF153=\"\",'Trust - Frontsheet'!AF153=\"-\"),0,('Trust - Frontsheet'!AF153))","v":0},{"$f":"'Trust - Frontsheet'!U153","v":0},{"$f":"IF(OR('Trust - Frontsheet'!V153=\"\",'Trust - Frontsheet'!V153=\"-\"),0,('Trust - Frontsheet'!V153))","v":0},{"$f":"IF(OR('Trust - Frontsheet'!W153=\"\",'Trust - Frontsheet'!W153=\"-\"),0,('Trust - Frontsheet'!W153))","v":0},{"$f":"IF(OR('Trust - Frontsheet'!X153=\"\",'Trust - Frontsheet'!X153=\"-\"),0,('Trust - Frontsheet'!X153))","v":0},{"$f":"IF(OR('Trust - Frontsheet'!Y153=\"\",'Trust - Frontsheet'!Y153=\"-\"),0,('Trust - Frontsheet'!Y153))","v":0},{"$f":"IF(OR('Trust - Frontsheet'!Z153=\"\",'Trust - Frontsheet'!Z153=\"-\"),0,('Trust - Frontsheet'!Z153))","v":0},{"$f":"IF(A141=\"\",\"\",(IF(ISBLANK('Trust - Frontsheet'!F9),\"\",'Trust - Frontsheet'!F9)))","v":""}]
[{"$f":"IF('Trust - Frontsheet'!D154=0,\"\",IF('Trust - Frontsheet'!D154=\"\",\"\",'Trust - Frontsheet'!D154))","v":""},{"$f":"IF(ISBLANK('Trust - Frontsheet'!E154),\"\",'Trust - Frontsheet'!E154)","v":""},{"$f":"IF(ISBLANK('Trust - Frontsheet'!F154),\"\",\"'\" & 'Trust - Frontsheet'!F154 & \"'\")","v":""},{"$f":"IF(ISBLANK('Trust - Frontsheet'!G154),\"\",'Trust - Frontsheet'!G154)","v":""},{"$f":"IF(ISBLANK('Trust - Frontsheet'!H154),\"\",'Trust - Frontsheet'!H154)","v":""},{"$f":"'Trust - Frontsheet'!I154","v":0},{"$f":"'Trust - Frontsheet'!J154","v":0},{"$f":"'Trust - Frontsheet'!K154","v":0},{"$f":"'Trust - Frontsheet'!L154","v":0},{"$f":"'Trust - Frontsheet'!M154","v":0},{"$f":"'Trust - Frontsheet'!N154","v":0},{"$f":"'Trust - Frontsheet'!O154","v":0},{"$f":"'Trust - Frontsheet'!P154","v":0},{"$f":"'Trust - Frontsheet'!Q154","v":0},{"$f":"'Trust - Frontsheet'!R154","v":0},{"$f":"'Trust - Frontsheet'!S154","v":0},{"$f":"'Trust - Frontsheet'!T154","v":0},{"$f":"IF(OR('Trust - Frontsheet'!AA154=\"\",'Trust - Frontsheet'!AA154=\"-\"),0,('Trust - Frontsheet'!AA154))","v":0},{"$f":"IF(OR('Trust - Frontsheet'!AB154=\"\",'Trust - Frontsheet'!AB154=\"-\"),0,('Trust - Frontsheet'!AB154))","v":0},{"$f":"IF(OR('Trust - Frontsheet'!AC154=\"\",'Trust - Frontsheet'!AC154=\"-\"),0,('Trust - Frontsheet'!AC154))","v":0},{"$f":"IF(OR('Trust - Frontsheet'!AD154=\"\",'Trust - Frontsheet'!AD154=\"-\"),0,('Trust - Frontsheet'!AD154))","v":0},{"$f":"IF(OR('Trust - Frontsheet'!AE154=\"\",'Trust - Frontsheet'!AE154=\"-\"),0,('Trust - Frontsheet'!AE154))","v":0},{"$f":"IF(OR('Trust - Frontsheet'!AF154=\"\",'Trust - Frontsheet'!AF154=\"-\"),0,('Trust - Frontsheet'!AF154))","v":0},{"$f":"'Trust - Frontsheet'!U154","v":0},{"$f":"IF(OR('Trust - Frontsheet'!V154=\"\",'Trust - Frontsheet'!V154=\"-\"),0,('Trust - Frontsheet'!V154))","v":0},{"$f":"IF(OR('Trust - Frontsheet'!W154=\"\",'Trust - Frontsheet'!W154=\"-\"),0,('Trust - Frontsheet'!W154))","v":0},{"$f":"IF(OR('Trust - Frontsheet'!X154=\"\",'Trust - Frontsheet'!X154=\"-\"),0,('Trust - Frontsheet'!X154))","v":0},{"$f":"IF(OR('Trust - Frontsheet'!Y154=\"\",'Trust - Frontsheet'!Y154=\"-\"),0,('Trust - Frontsheet'!Y154))","v":0},{"$f":"IF(OR('Trust - Frontsheet'!Z154=\"\",'Trust - Frontsheet'!Z154=\"-\"),0,('Trust - Frontsheet'!Z154))","v":0},{"$f":"IF(A142=\"\",\"\",(IF(ISBLANK('Trust - Frontsheet'!F9),\"\",'Trust - Frontsheet'!F9)))","v":""}]
[{"$f":"IF('Trust - Frontsheet'!D155=0,\"\",IF('Trust - Frontsheet'!D155=\"\",\"\",'Trust - Frontsheet'!D155))","v":""},{"$f":"IF(ISBLANK('Trust - Frontsheet'!E155),\"\",'Trust - Frontsheet'!E155)","v":""},{"$f":"IF(ISBLANK('Trust - Frontsheet'!F155),\"\",\"'\" & 'Trust - Frontsheet'!F155 & \"'\")","v":""},{"$f":"IF(ISBLANK('Trust - Frontsheet'!G155),\"\",'Trust - Frontsheet'!G155)","v":""},{"$f":"IF(ISBLANK('Trust - Frontsheet'!H155),\"\",'Trust - Frontsheet'!H155)","v":""},{"$f":"'Trust - Frontsheet'!I155","v":0},{"$f":"'Trust - Frontsheet'!J155","v":0},{"$f":"'Trust - Frontsheet'!K155","v":0},{"$f":"'Trust - Frontsheet'!L155","v":0},{"$f":"'Trust - Frontsheet'!M155","v":0},{"$f":"'Trust - Frontsheet'!N155","v":0},{"$f":"'Trust - Frontsheet'!O155","v":0},{"$f":"'Trust - Frontsheet'!P155","v":0},{"$f":"'Trust - Frontsheet'!Q155","v":0},{"$f":"'Trust - Frontsheet'!R155","v":0},{"$f":"'Trust - Frontsheet'!S155","v":0},{"$f":"'Trust - Frontsheet'!T155","v":0},{"$f":"IF(OR('Trust - Frontsheet'!AA155=\"\",'Trust - Frontsheet'!AA155=\"-\"),0,('Trust - Frontsheet'!AA155))","v":0},{"$f":"IF(OR('Trust - Frontsheet'!AB155=\"\",'Trust - Frontsheet'!AB155=\"-\"),0,('Trust - Frontsheet'!AB155))","v":0},{"$f":"IF(OR('Trust - Frontsheet'!AC155=\"\",'Trust - Frontsheet'!AC155=\"-\"),0,('Trust - Frontsheet'!AC155))","v":0},{"$f":"IF(OR('Trust - Frontsheet'!AD155=\"\",'Trust - Frontsheet'!AD155=\"-\"),0,('Trust - Frontsheet'!AD155))","v":0},{"$f":"IF(OR('Trust - Frontsheet'!AE155=\"\",'Trust - Frontsheet'!AE155=\"-\"),0,('Trust - Frontsheet'!AE155))","v":0},{"$f":"IF(OR('Trust - Frontsheet'!AF155=\"\",'Trust - Frontsheet'!AF155=\"-\"),0,('Trust - Frontsheet'!AF155))","v":0},{"$f":"'Trust - Frontsheet'!U155","v":0},{"$f":"IF(OR('Trust - Frontsheet'!V155=\"\",'Trust - Frontsheet'!V155=\"-\"),0,('Trust - Frontsheet'!V155))","v":0},{"$f":"IF(OR('Trust - Frontsheet'!W155=\"\",'Trust - Frontsheet'!W155=\"-\"),0,('Trust - Frontsheet'!W155))","v":0},{"$f":"IF(OR('Trust - Frontsheet'!X155=\"\",'Trust - Frontsheet'!X155=\"-\"),0,('Trust - Frontsheet'!X155))","v":0},{"$f":"IF(OR('Trust - Frontsheet'!Y155=\"\",'Trust - Frontsheet'!Y155=\"-\"),0,('Trust - Frontsheet'!Y155))","v":0},{"$f":"IF(OR('Trust - Frontsheet'!Z155=\"\",'Trust - Frontsheet'!Z155=\"-\"),0,('Trust - Frontsheet'!Z155))","v":0},{"$f":"IF(A143=\"\",\"\",(IF(ISBLANK('Trust - Frontsheet'!F9),\"\",'Trust - Frontsheet'!F9)))","v":""}]
[{"$f":"IF('Trust - Frontsheet'!D156=0,\"\",IF('Trust - Frontsheet'!D156=\"\",\"\",'Trust - Frontsheet'!D156))","v":""},{"$f":"IF(ISBLANK('Trust - Frontsheet'!E156),\"\",'Trust - Frontsheet'!E156)","v":""},{"$f":"IF(ISBLANK('Trust - Frontsheet'!F156),\"\",\"'\" & 'Trust - Frontsheet'!F156 & \"'\")","v":""},{"$f":"IF(ISBLANK('Trust - Frontsheet'!G156),\"\",'Trust - Frontsheet'!G156)","v":""},{"$f":"IF(ISBLANK('Trust - Frontsheet'!H156),\"\",'Trust - Frontsheet'!H156)","v":""},{"$f":"'Trust - Frontsheet'!I156","v":0},{"$f":"'Trust - Frontsheet'!J156","v":0},{"$f":"'Trust - Frontsheet'!K156","v":0},{"$f":"'Trust - Frontsheet'!L156","v":0},{"$f":"'Trust - Frontsheet'!M156","v":0},{"$f":"'Trust - Frontsheet'!N156","v":0},{"$f":"'Trust - Frontsheet'!O156","v":0},{"$f":"'Trust - Frontsheet'!P156","v":0},{"$f":"'Trust - Frontsheet'!Q156","v":0},{"$f":"'Trust - Frontsheet'!R156","v":0},{"$f":"'Trust - Frontsheet'!S156","v":0},{"$f":"'Trust - Frontsheet'!T156","v":0},{"$f":"IF(OR('Trust - Frontsheet'!AA156=\"\",'Trust - Frontsheet'!AA156=\"-\"),0,('Trust - Frontsheet'!AA156))","v":0},{"$f":"IF(OR('Trust - Frontsheet'!AB156=\"\",'Trust - Frontsheet'!AB156=\"-\"),0,('Trust - Frontsheet'!AB156))","v":0},{"$f":"IF(OR('Trust - Frontsheet'!AC156=\"\",'Trust - Frontsheet'!AC156=\"-\"),0,('Trust - Frontsheet'!AC156))","v":0},{"$f":"IF(OR('Trust - Frontsheet'!AD156=\"\",'Trust - Frontsheet'!AD156=\"-\"),0,('Trust - Frontsheet'!AD156))","v":0},{"$f":"IF(OR('Trust - Frontsheet'!AE156=\"\",'Trust - Frontsheet'!AE156=\"-\"),0,('Trust - Frontsheet'!AE156))","v":0},{"$f":"IF(OR('Trust - Frontsheet'!AF156=\"\",'Trust - Frontsheet'!AF156=\"-\"),0,('Trust - Frontsheet'!AF156))","v":0},{"$f":"'Trust - Frontsheet'!U156","v":0},{"$f":"IF(OR('Trust - Frontsheet'!V156=\"\",'Trust - Frontsheet'!V156=\"-\"),0,('Trust - Frontsheet'!V156))","v":0},{"$f":"IF(OR('Trust - Frontsheet'!W156=\"\",'Trust - Frontsheet'!W156=\"-\"),0,('Trust - Frontsheet'!W156))","v":0},{"$f":"IF(OR('Trust - Frontsheet'!X156=\"\",'Trust - Frontsheet'!X156=\"-\"),0,('Trust - Frontsheet'!X156))","v":0},{"$f":"IF(OR('Trust - Frontsheet'!Y156=\"\",'Trust - Frontsheet'!Y156=\"-\"),0,('Trust - Frontsheet'!Y156))","v":0},{"$f":"IF(OR('Trust - Frontsheet'!Z156=\"\",'Trust - Frontsheet'!Z156=\"-\"),0,('Trust - Frontsheet'!Z156))","v":0},{"$f":"IF(A144=\"\",\"\",(IF(ISBLANK('Trust - Frontsheet'!F9),\"\",'Trust - Frontsheet'!F9)))","v":""}]
[{"$f":"IF('Trust - Frontsheet'!D157=0,\"\",IF('Trust - Frontsheet'!D157=\"\",\"\",'Trust - Frontsheet'!D157))","v":""},{"$f":"IF(ISBLANK('Trust - Frontsheet'!E157),\"\",'Trust - Frontsheet'!E157)","v":""},{"$f":"IF(ISBLANK('Trust - Frontsheet'!F157),\"\",\"'\" & 'Trust - Frontsheet'!F157 & \"'\")","v":""},{"$f":"IF(ISBLANK('Trust - Frontsheet'!G157),\"\",'Trust - Frontsheet'!G157)","v":""},{"$f":"IF(ISBLANK('Trust - Frontsheet'!H157),\"\",'Trust - Frontsheet'!H157)","v":""},{"$f":"'Trust - Frontsheet'!I157","v":0},{"$f":"'Trust - Frontsheet'!J157","v":0},{"$f":"'Trust - Frontsheet'!K157","v":0},{"$f":"'Trust - Frontsheet'!L157","v":0},{"$f":"'Trust - Frontsheet'!M157","v":0},{"$f":"'Trust - Frontsheet'!N157","v":0},{"$f":"'Trust - Frontsheet'!O157","v":0},{"$f":"'Trust - Frontsheet'!P157","v":0},{"$f":"'Trust - Frontsheet'!Q157","v":0},{"$f":"'Trust - Frontsheet'!R157","v":0},{"$f":"'Trust - Frontsheet'!S157","v":0},{"$f":"'Trust - Frontsheet'!T157","v":0},{"$f":"IF(OR('Trust - Frontsheet'!AA157=\"\",'Trust - Frontsheet'!AA157=\"-\"),0,('Trust - Frontsheet'!AA157))","v":0},{"$f":"IF(OR('Trust - Frontsheet'!AB157=\"\",'Trust - Frontsheet'!AB157=\"-\"),0,('Trust - Frontsheet'!AB157))","v":0},{"$f":"IF(OR('Trust - Frontsheet'!AC157=\"\",'Trust - Frontsheet'!AC157=\"-\"),0,('Trust - Frontsheet'!AC157))","v":0},{"$f":"IF(OR('Trust - Frontsheet'!AD157=\"\",'Trust - Frontsheet'!AD157=\"-\"),0,('Trust - Frontsheet'!AD157))","v":0},{"$f":"IF(OR('Trust - Frontsheet'!AE157=\"\",'Trust - Frontsheet'!AE157=\"-\"),0,('Trust - Frontsheet'!AE157))","v":0},{"$f":"IF(OR('Trust - Frontsheet'!AF157=\"\",'Trust - Frontsheet'!AF157=\"-\"),0,('Trust - Frontsheet'!AF157))","v":0},{"$f":"'Trust - Frontsheet'!U157","v":0},{"$f":"IF(OR('Trust - Frontsheet'!V157=\"\",'Trust - Frontsheet'!V157=\"-\"),0,('Trust - Frontsheet'!V157))","v":0},{"$f":"IF(OR('Trust - Frontsheet'!W157=\"\",'Trust - Frontsheet'!W157=\"-\"),0,('Trust - Frontsheet'!W157))","v":0},{"$f":"IF(OR('Trust - Frontsheet'!X157=\"\",'Trust - Frontsheet'!X157=\"-\"),0,('Trust - Frontsheet'!X157))","v":0},{"$f":"IF(OR('Trust - Frontsheet'!Y157=\"\",'Trust - Frontsheet'!Y157=\"-\"),0,('Trust - Frontsheet'!Y157))","v":0},{"$f":"IF(OR('Trust - Frontsheet'!Z157=\"\",'Trust - Frontsheet'!Z157=\"-\"),0,('Trust - Frontsheet'!Z157))","v":0},{"$f":"IF(A145=\"\",\"\",(IF(ISBLANK('Trust - Frontsheet'!F9),\"\",'Trust - Frontsheet'!F9)))","v":""}]
[{"$f":"IF('Trust - Frontsheet'!D158=0,\"\",IF('Trust - Frontsheet'!D158=\"\",\"\",'Trust - Frontsheet'!D158))","v":""},{"$f":"IF(ISBLANK('Trust - Frontsheet'!E158),\"\",'Trust - Frontsheet'!E158)","v":""},{"$f":"IF(ISBLANK('Trust - Frontsheet'!F158),\"\",\"'\" & 'Trust - Frontsheet'!F158 & \"'\")","v":""},{"$f":"IF(ISBLANK('Trust - Frontsheet'!G158),\"\",'Trust - Frontsheet'!G158)","v":""},{"$f":"IF(ISBLANK('Trust - Frontsheet'!H158),\"\",'Trust - Frontsheet'!H158)","v":""},{"$f":"'Trust - Frontsheet'!I158","v":0},{"$f":"'Trust - Frontsheet'!J158","v":0},{"$f":"'Trust - Frontsheet'!K158","v":0},{"$f":"'Trust - Frontsheet'!L158","v":0},{"$f":"'Trust - Frontsheet'!M158","v":0},{"$f":"'Trust - Frontsheet'!N158","v":0},{"$f":"'Trust - Frontsheet'!O158","v":0},{"$f":"'Trust - Frontsheet'!P158","v":0},{"$f":"'Trust - Frontsheet'!Q158","v":0},{"$f":"'Trust - Frontsheet'!R158","v":0},{"$f":"'Trust - Frontsheet'!S158","v":0},{"$f":"'Trust - Frontsheet'!T158","v":0},{"$f":"IF(OR('Trust - Frontsheet'!AA158=\"\",'Trust - Frontsheet'!AA158=\"-\"),0,('Trust - Frontsheet'!AA158))","v":0},{"$f":"IF(OR('Trust - Frontsheet'!AB158=\"\",'Trust - Frontsheet'!AB158=\"-\"),0,('Trust - Frontsheet'!AB158))","v":0},{"$f":"IF(OR('Trust - Frontsheet'!AC158=\"\",'Trust - Frontsheet'!AC158=\"-\"),0,('Trust - Frontsheet'!AC158))","v":0},{"$f":"IF(OR('Trust - Frontsheet'!AD158=\"\",'Trust - Frontsheet'!AD158=\"-\"),0,('Trust - Frontsheet'!AD158))","v":0},{"$f":"IF(OR('Trust - Frontsheet'!AE158=\"\",'Trust - Frontsheet'!AE158=\"-\"),0,('Trust - Frontsheet'!AE158))","v":0},{"$f":"IF(OR('Trust - Frontsheet'!AF158=\"\",'Trust - Frontsheet'!AF158=\"-\"),0,('Trust - Frontsheet'!AF158))","v":0},{"$f":"'Trust - Frontsheet'!U158","v":0},{"$f":"IF(OR('Trust - Frontsheet'!V158=\"\",'Trust - Frontsheet'!V158=\"-\"),0,('Trust - Frontsheet'!V158))","v":0},{"$f":"IF(OR('Trust - Frontsheet'!W158=\"\",'Trust - Frontsheet'!W158=\"-\"),0,('Trust - Frontsheet'!W158))","v":0},{"$f":"IF(OR('Trust - Frontsheet'!X158=\"\",'Trust - Frontsheet'!X158=\"-\"),0,('Trust - Frontsheet'!X158))","v":0},{"$f":"IF(OR('Trust - Frontsheet'!Y158=\"\",'Trust - Frontsheet'!Y158=\"-\"),0,('Trust - Frontsheet'!Y158))","v":0},{"$f":"IF(OR('Trust - Frontsheet'!Z158=\"\",'Trust - Frontsheet'!Z158=\"-\"),0,('Trust - Frontsheet'!Z158))","v":0},{"$f":"IF(A146=\"\",\"\",(IF(ISBLANK('Trust - Frontsheet'!F9),\"\",'Trust - Frontsheet'!F9)))","v":""}]
[{"$f":"IF('Trust - Frontsheet'!D159=0,\"\",IF('Trust - Frontsheet'!D159=\"\",\"\",'Trust - Frontsheet'!D159))","v":""},{"$f":"IF(ISBLANK('Trust - Frontsheet'!E159),\"\",'Trust - Frontsheet'!E159)","v":""},{"$f":"IF(ISBLANK('Trust - Frontsheet'!F159),\"\",\"'\" & 'Trust - Frontsheet'!F159 & \"'\")","v":""},{"$f":"IF(ISBLANK('Trust - Frontsheet'!G159),\"\",'Trust - Frontsheet'!G159)","v":""},{"$f":"IF(ISBLANK('Trust - Frontsheet'!H159),\"\",'Trust - Frontsheet'!H159)","v":""},{"$f":"'Trust - Frontsheet'!I159","v":0},{"$f":"'Trust - Frontsheet'!J159","v":0},{"$f":"'Trust - Frontsheet'!K159","v":0},{"$f":"'Trust - Frontsheet'!L159","v":0},{"$f":"'Trust - Frontsheet'!M159","v":0},{"$f":"'Trust - Frontsheet'!N159","v":0},{"$f":"'Trust - Frontsheet'!O159","v":0},{"$f":"'Trust - Frontsheet'!P159","v":0},{"$f":"'Trust - Frontsheet'!Q159","v":0},{"$f":"'Trust - Frontsheet'!R159","v":0},{"$f":"'Trust - Frontsheet'!S159","v":0},{"$f":"'Trust - Frontsheet'!T159","v":0},{"$f":"IF(OR('Trust - Frontsheet'!AA159=\"\",'Trust - Frontsheet'!AA159=\"-\"),0,('Trust - Frontsheet'!AA159))","v":0},{"$f":"IF(OR('Trust - Frontsheet'!AB159=\"\",'Trust - Frontsheet'!AB159=\"-\"),0,('Trust - Frontsheet'!AB159))","v":0},{"$f":"IF(OR('Trust - Frontsheet'!AC159=\"\",'Trust - Frontsheet'!AC159=\"-\"),0,('Trust - Frontsheet'!AC159))","v":0},{"$f":"IF(OR('Trust - Frontsheet'!AD159=\"\",'Trust - Frontsheet'!AD159=\"-\"),0,('Trust - Frontsheet'!AD159))","v":0},{"$f":"IF(OR('Trust - Frontsheet'!AE159=\"\",'Trust - Frontsheet'!AE159=\"-\"),0,('Trust - Frontsheet'!AE159))","v":0},{"$f":"IF(OR('Trust - Frontsheet'!AF159=\"\",'Trust - Frontsheet'!AF159=\"-\"),0,('Trust - Frontsheet'!AF159))","v":0},{"$f":"'Trust - Frontsheet'!U159","v":0},{"$f":"IF(OR('Trust - Frontsheet'!V159=\"\",'Trust - Frontsheet'!V159=\"-\"),0,('Trust - Frontsheet'!V159))","v":0},{"$f":"IF(OR('Trust - Frontsheet'!W159=\"\",'Trust - Frontsheet'!W159=\"-\"),0,('Trust - Frontsheet'!W159))","v":0},{"$f":"IF(OR('Trust - Frontsheet'!X159=\"\",'Trust - Frontsheet'!X159=\"-\"),0,('Trust - Frontsheet'!X159))","v":0},{"$f":"IF(OR('Trust - Frontsheet'!Y159=\"\",'Trust - Frontsheet'!Y159=\"-\"),0,('Trust - Frontsheet'!Y159))","v":0},{"$f":"IF(OR('Trust - Frontsheet'!Z159=\"\",'Trust - Frontsheet'!Z159=\"-\"),0,('Trust - Frontsheet'!Z159))","v":0},{"$f":"IF(A147=\"\",\"\",(IF(ISBLANK('Trust - Frontsheet'!F9),\"\",'Trust - Frontsheet'!F9)))","v":""}]
[{"$f":"IF('Trust - Frontsheet'!D160=0,\"\",IF('Trust - Frontsheet'!D160=\"\",\"\",'Trust - Frontsheet'!D160))","v":""},{"$f":"IF(ISBLANK('Trust - Frontsheet'!E160),\"\",'Trust - Frontsheet'!E160)","v":""},{"$f":"IF(ISBLANK('Trust - Frontsheet'!F160),\"\",\"'\" & 'Trust - Frontsheet'!F160 & \"'\")","v":""},{"$f":"IF(ISBLANK('Trust - Frontsheet'!G160),\"\",'Trust - Frontsheet'!G160)","v":""},{"$f":"IF(ISBLANK('Trust - Frontsheet'!H160),\"\",'Trust - Frontsheet'!H160)","v":""},{"$f":"'Trust - Frontsheet'!I160","v":0},{"$f":"'Trust - Frontsheet'!J160","v":0},{"$f":"'Trust - Frontsheet'!K160","v":0},{"$f":"'Trust - Frontsheet'!L160","v":0},{"$f":"'Trust - Frontsheet'!M160","v":0},{"$f":"'Trust - Frontsheet'!N160","v":0},{"$f":"'Trust - Frontsheet'!O160","v":0},{"$f":"'Trust - Frontsheet'!P160","v":0},{"$f":"'Trust - Frontsheet'!Q160","v":0},{"$f":"'Trust - Frontsheet'!R160","v":0},{"$f":"'Trust - Frontsheet'!S160","v":0},{"$f":"'Trust - Frontsheet'!T160","v":0},{"$f":"IF(OR('Trust - Frontsheet'!AA160=\"\",'Trust - Frontsheet'!AA160=\"-\"),0,('Trust - Frontsheet'!AA160))","v":0},{"$f":"IF(OR('Trust - Frontsheet'!AB160=\"\",'Trust - Frontsheet'!AB160=\"-\"),0,('Trust - Frontsheet'!AB160))","v":0},{"$f":"IF(OR('Trust - Frontsheet'!AC160=\"\",'Trust - Frontsheet'!AC160=\"-\"),0,('Trust - Frontsheet'!AC160))","v":0},{"$f":"IF(OR('Trust - Frontsheet'!AD160=\"\",'Trust - Frontsheet'!AD160=\"-\"),0,('Trust - Frontsheet'!AD160))","v":0},{"$f":"IF(OR('Trust - Frontsheet'!AE160=\"\",'Trust - Frontsheet'!AE160=\"-\"),0,('Trust - Frontsheet'!AE160))","v":0},{"$f":"IF(OR('Trust - Frontsheet'!AF160=\"\",'Trust - Frontsheet'!AF160=\"-\"),0,('Trust - Frontsheet'!AF160))","v":0},{"$f":"'Trust - Frontsheet'!U160","v":0},{"$f":"IF(OR('Trust - Frontsheet'!V160=\"\",'Trust - Frontsheet'!V160=\"-\"),0,('Trust - Frontsheet'!V160))","v":0},{"$f":"IF(OR('Trust - Frontsheet'!W160=\"\",'Trust - Frontsheet'!W160=\"-\"),0,('Trust - Frontsheet'!W160))","v":0},{"$f":"IF(OR('Trust - Frontsheet'!X160=\"\",'Trust - Frontsheet'!X160=\"-\"),0,('Trust - Frontsheet'!X160))","v":0},{"$f":"IF(OR('Trust - Frontsheet'!Y160=\"\",'Trust - Frontsheet'!Y160=\"-\"),0,('Trust - Frontsheet'!Y160))","v":0},{"$f":"IF(OR('Trust - Frontsheet'!Z160=\"\",'Trust - Frontsheet'!Z160=\"-\"),0,('Trust - Frontsheet'!Z160))","v":0},{"$f":"IF(A148=\"\",\"\",(IF(ISBLANK('Trust - Frontsheet'!F9),\"\",'Trust - Frontsheet'!F9)))","v":""}]
[{"$f":"IF('Trust - Frontsheet'!D161=0,\"\",IF('Trust - Frontsheet'!D161=\"\",\"\",'Trust - Frontsheet'!D161))","v":""},{"$f":"IF(ISBLANK('Trust - Frontsheet'!E161),\"\",'Trust - Frontsheet'!E161)","v":""},{"$f":"IF(ISBLANK('Trust - Frontsheet'!F161),\"\",\"'\" & 'Trust - Frontsheet'!F161 & \"'\")","v":""},{"$f":"IF(ISBLANK('Trust - Frontsheet'!G161),\"\",'Trust - Frontsheet'!G161)","v":""},{"$f":"IF(ISBLANK('Trust - Frontsheet'!H161),\"\",'Trust - Frontsheet'!H161)","v":""},{"$f":"'Trust - Frontsheet'!I161","v":0},{"$f":"'Trust - Frontsheet'!J161","v":0},{"$f":"'Trust - Frontsheet'!K161","v":0},{"$f":"'Trust - Frontsheet'!L161","v":0},{"$f":"'Trust - Frontsheet'!M161","v":0},{"$f":"'Trust - Frontsheet'!N161","v":0},{"$f":"'Trust - Frontsheet'!O161","v":0},{"$f":"'Trust - Frontsheet'!P161","v":0},{"$f":"'Trust - Frontsheet'!Q161","v":0},{"$f":"'Trust - Frontsheet'!R161","v":0},{"$f":"'Trust - Frontsheet'!S161","v":0},{"$f":"'Trust - Frontsheet'!T161","v":0},{"$f":"IF(OR('Trust - Frontsheet'!AA161=\"\",'Trust - Frontsheet'!AA161=\"-\"),0,('Trust - Frontsheet'!AA161))","v":0},{"$f":"IF(OR('Trust - Frontsheet'!AB161=\"\",'Trust - Frontsheet'!AB161=\"-\"),0,('Trust - Frontsheet'!AB161))","v":0},{"$f":"IF(OR('Trust - Frontsheet'!AC161=\"\",'Trust - Frontsheet'!AC161=\"-\"),0,('Trust - Frontsheet'!AC161))","v":0},{"$f":"IF(OR('Trust - Frontsheet'!AD161=\"\",'Trust - Frontsheet'!AD161=\"-\"),0,('Trust - Frontsheet'!AD161))","v":0},{"$f":"IF(OR('Trust - Frontsheet'!AE161=\"\",'Trust - Frontsheet'!AE161=\"-\"),0,('Trust - Frontsheet'!AE161))","v":0},{"$f":"IF(OR('Trust - Frontsheet'!AF161=\"\",'Trust - Frontsheet'!AF161=\"-\"),0,('Trust - Frontsheet'!AF161))","v":0},{"$f":"'Trust - Frontsheet'!U161","v":0},{"$f":"IF(OR('Trust - Frontsheet'!V161=\"\",'Trust - Frontsheet'!V161=\"-\"),0,('Trust - Frontsheet'!V161))","v":0},{"$f":"IF(OR('Trust - Frontsheet'!W161=\"\",'Trust - Frontsheet'!W161=\"-\"),0,('Trust - Frontsheet'!W161))","v":0},{"$f":"IF(OR('Trust - Frontsheet'!X161=\"\",'Trust - Frontsheet'!X161=\"-\"),0,('Trust - Frontsheet'!X161))","v":0},{"$f":"IF(OR('Trust - Frontsheet'!Y161=\"\",'Trust - Frontsheet'!Y161=\"-\"),0,('Trust - Frontsheet'!Y161))","v":0},{"$f":"IF(OR('Trust - Frontsheet'!Z161=\"\",'Trust - Frontsheet'!Z161=\"-\"),0,('Trust - Frontsheet'!Z161))","v":0},{"$f":"IF(A149=\"\",\"\",(IF(ISBLANK('Trust - Frontsheet'!F9),\"\",'Trust - Frontsheet'!F9)))","v":""}]
[{"$f":"IF('Trust - Frontsheet'!D162=0,\"\",IF('Trust - Frontsheet'!D162=\"\",\"\",'Trust - Frontsheet'!D162))","v":""},{"$f":"IF(ISBLANK('Trust - Frontsheet'!E162),\"\",'Trust - Frontsheet'!E162)","v":""},{"$f":"IF(ISBLANK('Trust - Frontsheet'!F162),\"\",\"'\" & 'Trust - Frontsheet'!F162 & \"'\")","v":""},{"$f":"IF(ISBLANK('Trust - Frontsheet'!G162),\"\",'Trust - Frontsheet'!G162)","v":""},{"$f":"IF(ISBLANK('Trust - Frontsheet'!H162),\"\",'Trust - Frontsheet'!H162)","v":""},{"$f":"'Trust - Frontsheet'!I162","v":0},{"$f":"'Trust - Frontsheet'!J162","v":0},{"$f":"'Trust - Frontsheet'!K162","v":0},{"$f":"'Trust - Frontsheet'!L162","v":0},{"$f":"'Trust - Frontsheet'!M162","v":0},{"$f":"'Trust - Frontsheet'!N162","v":0},{"$f":"'Trust - Frontsheet'!O162","v":0},{"$f":"'Trust - Frontsheet'!P162","v":0},{"$f":"'Trust - Frontsheet'!Q162","v":0},{"$f":"'Trust - Frontsheet'!R162","v":0},{"$f":"'Trust - Frontsheet'!S162","v":0},{"$f":"'Trust - Frontsheet'!T162","v":0},{"$f":"IF(OR('Trust - Frontsheet'!AA162=\"\",'Trust - Frontsheet'!AA162=\"-\"),0,('Trust - Frontsheet'!AA162))","v":0},{"$f":"IF(OR('Trust - Frontsheet'!AB162=\"\",'Trust - Frontsheet'!AB162=\"-\"),0,('Trust - Frontsheet'!AB162))","v":0},{"$f":"IF(OR('Trust - Frontsheet'!AC162=\"\",'Trust - Frontsheet'!AC162=\"-\"),0,('Trust - Frontsheet'!AC162))","v":0},{"$f":"IF(OR('Trust - Frontsheet'!AD162=\"\",'Trust - Frontsheet'!AD162=\"-\"),0,('Trust - Frontsheet'!AD162))","v":0},{"$f":"IF(OR('Trust - Frontsheet'!AE162=\"\",'Trust - Frontsheet'!AE162=\"-\"),0,('Trust - Frontsheet'!AE162))","v":0},{"$f":"IF(OR('Trust - Frontsheet'!AF162=\"\",'Trust - Frontsheet'!AF162=\"-\"),0,('Trust - Frontsheet'!AF162))","v":0},{"$f":"'Trust - Frontsheet'!U162","v":0},{"$f":"IF(OR('Trust - Frontsheet'!V162=\"\",'Trust - Frontsheet'!V162=\"-\"),0,('Trust - Frontsheet'!V162))","v":0},{"$f":"IF(OR('Trust - Frontsheet'!W162=\"\",'Trust - Frontsheet'!W162=\"-\"),0,('Trust - Frontsheet'!W162))","v":0},{"$f":"IF(OR('Trust - Frontsheet'!X162=\"\",'Trust - Frontsheet'!X162=\"-\"),0,('Trust - Frontsheet'!X162))","v":0},{"$f":"IF(OR('Trust - Frontsheet'!Y162=\"\",'Trust - Frontsheet'!Y162=\"-\"),0,('Trust - Frontsheet'!Y162))","v":0},{"$f":"IF(OR('Trust - Frontsheet'!Z162=\"\",'Trust - Frontsheet'!Z162=\"-\"),0,('Trust - Frontsheet'!Z162))","v":0},{"$f":"IF(A150=\"\",\"\",(IF(ISBLANK('Trust - Frontsheet'!F9),\"\",'Trust - Frontsheet'!F9)))","v":""}]
[{"$f":"IF('Trust - Frontsheet'!D163=0,\"\",IF('Trust - Frontsheet'!D163=\"\",\"\",'Trust - Frontsheet'!D163))","v":""},{"$f":"IF(ISBLANK('Trust - Frontsheet'!E163),\"\",'Trust - Frontsheet'!E163)","v":""},{"$f":"IF(ISBLANK('Trust - Frontsheet'!F163),\"\",\"'\" & 'Trust - Frontsheet'!F163 & \"'\")","v":""},{"$f":"IF(ISBLANK('Trust - Frontsheet'!G163),\"\",'Trust - Frontsheet'!G163)","v":""},{"$f":"IF(ISBLANK('Trust - Frontsheet'!H163),\"\",'Trust - Frontsheet'!H163)","v":""},{"$f":"'Trust - Frontsheet'!I163","v":0},{"$f":"'Trust - Frontsheet'!J163","v":0},{"$f":"'Trust - Frontsheet'!K163","v":0},{"$f":"'Trust - Frontsheet'!L163","v":0},{"$f":"'Trust - Frontsheet'!M163","v":0},{"$f":"'Trust - Frontsheet'!N163","v":0},{"$f":"'Trust - Frontsheet'!O163","v":0},{"$f":"'Trust - Frontsheet'!P163","v":0},{"$f":"'Trust - Frontsheet'!Q163","v":0},{"$f":"'Trust - Frontsheet'!R163","v":0},{"$f":"'Trust - Frontsheet'!S163","v":0},{"$f":"'Trust - Frontsheet'!T163","v":0},{"$f":"IF(OR('Trust - Frontsheet'!AA163=\"\",'Trust - Frontsheet'!AA163=\"-\"),0,('Trust - Frontsheet'!AA163))","v":0},{"$f":"IF(OR('Trust - Frontsheet'!AB163=\"\",'Trust - Frontsheet'!AB163=\"-\"),0,('Trust - Frontsheet'!AB163))","v":0},{"$f":"IF(OR('Trust - Frontsheet'!AC163=\"\",'Trust - Frontsheet'!AC163=\"-\"),0,('Trust - Frontsheet'!AC163))","v":0},{"$f":"IF(OR('Trust - Frontsheet'!AD163=\"\",'Trust - Frontsheet'!AD163=\"-\"),0,('Trust - Frontsheet'!AD163))","v":0},{"$f":"IF(OR('Trust - Frontsheet'!AE163=\"\",'Trust - Frontsheet'!AE163=\"-\"),0,('Trust - Frontsheet'!AE163))","v":0},{"$f":"IF(OR('Trust - Frontsheet'!AF163=\"\",'Trust - Frontsheet'!AF163=\"-\"),0,('Trust - Frontsheet'!AF163))","v":0},{"$f":"'Trust - Frontsheet'!U163","v":0},{"$f":"IF(OR('Trust - Frontsheet'!V163=\"\",'Trust - Frontsheet'!V163=\"-\"),0,('Trust - Frontsheet'!V163))","v":0},{"$f":"IF(OR('Trust - Frontsheet'!W163=\"\",'Trust - Frontsheet'!W163=\"-\"),0,('Trust - Frontsheet'!W163))","v":0},{"$f":"IF(OR('Trust - Frontsheet'!X163=\"\",'Trust - Frontsheet'!X163=\"-\"),0,('Trust - Frontsheet'!X163))","v":0},{"$f":"IF(OR('Trust - Frontsheet'!Y163=\"\",'Trust - Frontsheet'!Y163=\"-\"),0,('Trust - Frontsheet'!Y163))","v":0},{"$f":"IF(OR('Trust - Frontsheet'!Z163=\"\",'Trust - Frontsheet'!Z163=\"-\"),0,('Trust - Frontsheet'!Z163))","v":0},{"$f":"IF(A151=\"\",\"\",(IF(ISBLANK('Trust - Frontsheet'!F9),\"\",'Trust - Frontsheet'!F9)))","v":""}]
[{"$f":"IF('Trust - Frontsheet'!D164=0,\"\",IF('Trust - Frontsheet'!D164=\"\",\"\",'Trust - Frontsheet'!D164))","v":""},{"$f":"IF(ISBLANK('Trust - Frontsheet'!E164),\"\",'Trust - Frontsheet'!E164)","v":""},{"$f":"IF(ISBLANK('Trust - Frontsheet'!F164),\"\",\"'\" & 'Trust - Frontsheet'!F164 & \"'\")","v":""},{"$f":"IF(ISBLANK('Trust - Frontsheet'!G164),\"\",'Trust - Frontsheet'!G164)","v":""},{"$f":"IF(ISBLANK('Trust - Frontsheet'!H164),\"\",'Trust - Frontsheet'!H164)","v":""},{"$f":"'Trust - Frontsheet'!I164","v":0},{"$f":"'Trust - Frontsheet'!J164","v":0},{"$f":"'Trust - Frontsheet'!K164","v":0},{"$f":"'Trust - Frontsheet'!L164","v":0},{"$f":"'Trust - Frontsheet'!M164","v":0},{"$f":"'Trust - Frontsheet'!N164","v":0},{"$f":"'Trust - Frontsheet'!O164","v":0},{"$f":"'Trust - Frontsheet'!P164","v":0},{"$f":"'Trust - Frontsheet'!Q164","v":0},{"$f":"'Trust - Frontsheet'!R164","v":0},{"$f":"'Trust - Frontsheet'!S164","v":0},{"$f":"'Trust - Frontsheet'!T164","v":0},{"$f":"IF(OR('Trust - Frontsheet'!AA164=\"\",'Trust - Frontsheet'!AA164=\"-\"),0,('Trust - Frontsheet'!AA164))","v":0},{"$f":"IF(OR('Trust - Frontsheet'!AB164=\"\",'Trust - Frontsheet'!AB164=\"-\"),0,('Trust - Frontsheet'!AB164))","v":0},{"$f":"IF(OR('Trust - Frontsheet'!AC164=\"\",'Trust - Frontsheet'!AC164=\"-\"),0,('Trust - Frontsheet'!AC164))","v":0},{"$f":"IF(OR('Trust - Frontsheet'!AD164=\"\",'Trust - Frontsheet'!AD164=\"-\"),0,('Trust - Frontsheet'!AD164))","v":0},{"$f":"IF(OR('Trust - Frontsheet'!AE164=\"\",'Trust - Frontsheet'!AE164=\"-\"),0,('Trust - Frontsheet'!AE164))","v":0},{"$f":"IF(OR('Trust - Frontsheet'!AF164=\"\",'Trust - Frontsheet'!AF164=\"-\"),0,('Trust - Frontsheet'!AF164))","v":0},{"$f":"'Trust - Frontsheet'!U164","v":0},{"$f":"IF(OR('Trust - Frontsheet'!V164=\"\",'Trust - Frontsheet'!V164=\"-\"),0,('Trust - Frontsheet'!V164))","v":0},{"$f":"IF(OR('Trust - Frontsheet'!W164=\"\",'Trust - Frontsheet'!W164=\"-\"),0,('Trust - Frontsheet'!W164))","v":0},{"$f":"IF(OR('Trust - Frontsheet'!X164=\"\",'Trust - Frontsheet'!X164=\"-\"),0,('Trust - Frontsheet'!X164))","v":0},{"$f":"IF(OR('Trust - Frontsheet'!Y164=\"\",'Trust - Frontsheet'!Y164=\"-\"),0,('Trust - Frontsheet'!Y164))","v":0},{"$f":"IF(OR('Trust - Frontsheet'!Z164=\"\",'Trust - Frontsheet'!Z164=\"-\"),0,('Trust - Frontsheet'!Z164))","v":0},{"$f":"IF(A152=\"\",\"\",(IF(ISBLANK('Trust - Frontsheet'!F9),\"\",'Trust - Frontsheet'!F9)))","v":""}]
[{"$f":"IF('Trust - Frontsheet'!D165=0,\"\",IF('Trust - Frontsheet'!D165=\"\",\"\",'Trust - Frontsheet'!D165))","v":""},{"$f":"IF(ISBLANK('Trust - Frontsheet'!E165),\"\",'Trust - Frontsheet'!E165)","v":""},{"$f":"IF(ISBLANK('Trust - Frontsheet'!F165),\"\",\"'\" & 'Trust - Frontsheet'!F165 & \"'\")","v":""},{"$f":"IF(ISBLANK('Trust - Frontsheet'!G165),\"\",'Trust - Frontsheet'!G165)","v":""},{"$f":"IF(ISBLANK('Trust - Frontsheet'!H165),\"\",'Trust - Frontsheet'!H165)","v":""},{"$f":"'Trust - Frontsheet'!I165","v":0},{"$f":"'Trust - Frontsheet'!J165","v":0},{"$f":"'Trust - Frontsheet'!K165","v":0},{"$f":"'Trust - Frontsheet'!L165","v":0},{"$f":"'Trust - Frontsheet'!M165","v":0},{"$f":"'Trust - Frontsheet'!N165","v":0},{"$f":"'Trust - Frontsheet'!O165","v":0},{"$f":"'Trust - Frontsheet'!P165","v":0},{"$f":"'Trust - Frontsheet'!Q165","v":0},{"$f":"'Trust - Frontsheet'!R165","v":0},{"$f":"'Trust - Frontsheet'!S165","v":0},{"$f":"'Trust - Frontsheet'!T165","v":0},{"$f":"IF(OR('Trust - Frontsheet'!AA165=\"\",'Trust - Frontsheet'!AA165=\"-\"),0,('Trust - Frontsheet'!AA165))","v":0},{"$f":"IF(OR('Trust - Frontsheet'!AB165=\"\",'Trust - Frontsheet'!AB165=\"-\"),0,('Trust - Frontsheet'!AB165))","v":0},{"$f":"IF(OR('Trust - Frontsheet'!AC165=\"\",'Trust - Frontsheet'!AC165=\"-\"),0,('Trust - Frontsheet'!AC165))","v":0},{"$f":"IF(OR('Trust - Frontsheet'!AD165=\"\",'Trust - Frontsheet'!AD165=\"-\"),0,('Trust - Frontsheet'!AD165))","v":0},{"$f":"IF(OR('Trust - Frontsheet'!AE165=\"\",'Trust - Frontsheet'!AE165=\"-\"),0,('Trust - Frontsheet'!AE165))","v":0},{"$f":"IF(OR('Trust - Frontsheet'!AF165=\"\",'Trust - Frontsheet'!AF165=\"-\"),0,('Trust - Frontsheet'!AF165))","v":0},{"$f":"'Trust - Frontsheet'!U165","v":0},{"$f":"IF(OR('Trust - Frontsheet'!V165=\"\",'Trust - Frontsheet'!V165=\"-\"),0,('Trust - Frontsheet'!V165))","v":0},{"$f":"IF(OR('Trust - Frontsheet'!W165=\"\",'Trust - Frontsheet'!W165=\"-\"),0,('Trust - Frontsheet'!W165))","v":0},{"$f":"IF(OR('Trust - Frontsheet'!X165=\"\",'Trust - Frontsheet'!X165=\"-\"),0,('Trust - Frontsheet'!X165))","v":0},{"$f":"IF(OR('Trust - Frontsheet'!Y165=\"\",'Trust - Frontsheet'!Y165=\"-\"),0,('Trust - Frontsheet'!Y165))","v":0},{"$f":"IF(OR('Trust - Frontsheet'!Z165=\"\",'Trust - Frontsheet'!Z165=\"-\"),0,('Trust - Frontsheet'!Z165))","v":0},{"$f":"IF(A153=\"\",\"\",(IF(ISBLANK('Trust - Frontsheet'!F9),\"\",'Trust - Frontsheet'!F9)))","v":""}]
[{"$f":"IF('Trust - Frontsheet'!D166=0,\"\",IF('Trust - Frontsheet'!D166=\"\",\"\",'Trust - Frontsheet'!D166))","v":""},{"$f":"IF(ISBLANK('Trust - Frontsheet'!E166),\"\",'Trust - Frontsheet'!E166)","v":""},{"$f":"IF(ISBLANK('Trust - Frontsheet'!F166),\"\",\"'\" & 'Trust - Frontsheet'!F166 & \"'\")","v":""},{"$f":"IF(ISBLANK('Trust - Frontsheet'!G166),\"\",'Trust - Frontsheet'!G166)","v":""},{"$f":"IF(ISBLANK('Trust - Frontsheet'!H166),\"\",'Trust - Frontsheet'!H166)","v":""},{"$f":"'Trust - Frontsheet'!I166","v":0},{"$f":"'Trust - Frontsheet'!J166","v":0},{"$f":"'Trust - Frontsheet'!K166","v":0},{"$f":"'Trust - Frontsheet'!L166","v":0},{"$f":"'Trust - Frontsheet'!M166","v":0},{"$f":"'Trust - Frontsheet'!N166","v":0},{"$f":"'Trust - Frontsheet'!O166","v":0},{"$f":"'Trust - Frontsheet'!P166","v":0},{"$f":"'Trust - Frontsheet'!Q166","v":0},{"$f":"'Trust - Frontsheet'!R166","v":0},{"$f":"'Trust - Frontsheet'!S166","v":0},{"$f":"'Trust - Frontsheet'!T166","v":0},{"$f":"IF(OR('Trust - Frontsheet'!AA166=\"\",'Trust - Frontsheet'!AA166=\"-\"),0,('Trust - Frontsheet'!AA166))","v":0},{"$f":"IF(OR('Trust - Frontsheet'!AB166=\"\",'Trust - Frontsheet'!AB166=\"-\"),0,('Trust - Frontsheet'!AB166))","v":0},{"$f":"IF(OR('Trust - Frontsheet'!AC166=\"\",'Trust - Frontsheet'!AC166=\"-\"),0,('Trust - Frontsheet'!AC166))","v":0},{"$f":"IF(OR('Trust - Frontsheet'!AD166=\"\",'Trust - Frontsheet'!AD166=\"-\"),0,('Trust - Frontsheet'!AD166))","v":0},{"$f":"IF(OR('Trust - Frontsheet'!AE166=\"\",'Trust - Frontsheet'!AE166=\"-\"),0,('Trust - Frontsheet'!AE166))","v":0},{"$f":"IF(OR('Trust - Frontsheet'!AF166=\"\",'Trust - Frontsheet'!AF166=\"-\"),0,('Trust - Frontsheet'!AF166))","v":0},{"$f":"'Trust - Frontsheet'!U166","v":0},{"$f":"IF(OR('Trust - Frontsheet'!V166=\"\",'Trust - Frontsheet'!V166=\"-\"),0,('Trust - Frontsheet'!V166))","v":0},{"$f":"IF(OR('Trust - Frontsheet'!W166=\"\",'Trust - Frontsheet'!W166=\"-\"),0,('Trust - Frontsheet'!W166))","v":0},{"$f":"IF(OR('Trust - Frontsheet'!X166=\"\",'Trust - Frontsheet'!X166=\"-\"),0,('Trust - Frontsheet'!X166))","v":0},{"$f":"IF(OR('Trust - Frontsheet'!Y166=\"\",'Trust - Frontsheet'!Y166=\"-\"),0,('Trust - Frontsheet'!Y166))","v":0},{"$f":"IF(OR('Trust - Frontsheet'!Z166=\"\",'Trust - Frontsheet'!Z166=\"-\"),0,('Trust - Frontsheet'!Z166))","v":0},{"$f":"IF(A154=\"\",\"\",(IF(ISBLANK('Trust - Frontsheet'!F9),\"\",'Trust - Frontsheet'!F9)))","v":""}]
[{"$f":"IF('Trust - Frontsheet'!D167=0,\"\",IF('Trust - Frontsheet'!D167=\"\",\"\",'Trust - Frontsheet'!D167))","v":""},{"$f":"IF(ISBLANK('Trust - Frontsheet'!E167),\"\",'Trust - Frontsheet'!E167)","v":""},{"$f":"IF(ISBLANK('Trust - Frontsheet'!F167),\"\",\"'\" & 'Trust - Frontsheet'!F167 & \"'\")","v":""},{"$f":"IF(ISBLANK('Trust - Frontsheet'!G167),\"\",'Trust - Frontsheet'!G167)","v":""},{"$f":"IF(ISBLANK('Trust - Frontsheet'!H167),\"\",'Trust - Frontsheet'!H167)","v":""},{"$f":"'Trust - Frontsheet'!I167","v":0},{"$f":"'Trust - Frontsheet'!J167","v":0},{"$f":"'Trust - Frontsheet'!K167","v":0},{"$f":"'Trust - Frontsheet'!L167","v":0},{"$f":"'Trust - Frontsheet'!M167","v":0},{"$f":"'Trust - Frontsheet'!N167","v":0},{"$f":"'Trust - Frontsheet'!O167","v":0},{"$f":"'Trust - Frontsheet'!P167","v":0},{"$f":"'Trust - Frontsheet'!Q167","v":0},{"$f":"'Trust - Frontsheet'!R167","v":0},{"$f":"'Trust - Frontsheet'!S167","v":0},{"$f":"'Trust - Frontsheet'!T167","v":0},{"$f":"IF(OR('Trust - Frontsheet'!AA167=\"\",'Trust - Frontsheet'!AA167=\"-\"),0,('Trust - Frontsheet'!AA167))","v":0},{"$f":"IF(OR('Trust - Frontsheet'!AB167=\"\",'Trust - Frontsheet'!AB167=\"-\"),0,('Trust - Frontsheet'!AB167))","v":0},{"$f":"IF(OR('Trust - Frontsheet'!AC167=\"\",'Trust - Frontsheet'!AC167=\"-\"),0,('Trust - Frontsheet'!AC167))","v":0},{"$f":"IF(OR('Trust - Frontsheet'!AD167=\"\",'Trust - Frontsheet'!AD167=\"-\"),0,('Trust - Frontsheet'!AD167))","v":0},{"$f":"IF(OR('Trust - Frontsheet'!AE167=\"\",'Trust - Frontsheet'!AE167=\"-\"),0,('Trust - Frontsheet'!AE167))","v":0},{"$f":"IF(OR('Trust - Frontsheet'!AF167=\"\",'Trust - Frontsheet'!AF167=\"-\"),0,('Trust - Frontsheet'!AF167))","v":0},{"$f":"'Trust - Frontsheet'!U167","v":0},{"$f":"IF(OR('Trust - Frontsheet'!V167=\"\",'Trust - Frontsheet'!V167=\"-\"),0,('Trust - Frontsheet'!V167))","v":0},{"$f":"IF(OR('Trust - Frontsheet'!W167=\"\",'Trust - Frontsheet'!W167=\"-\"),0,('Trust - Frontsheet'!W167))","v":0},{"$f":"IF(OR('Trust - Frontsheet'!X167=\"\",'Trust - Frontsheet'!X167=\"-\"),0,('Trust - Frontsheet'!X167))","v":0},{"$f":"IF(OR('Trust - Frontsheet'!Y167=\"\",'Trust - Frontsheet'!Y167=\"-\"),0,('Trust - Frontsheet'!Y167))","v":0},{"$f":"IF(OR('Trust - Frontsheet'!Z167=\"\",'Trust - Frontsheet'!Z167=\"-\"),0,('Trust - Frontsheet'!Z167))","v":0},{"$f":"IF(A155=\"\",\"\",(IF(ISBLANK('Trust - Frontsheet'!F9),\"\",'Trust - Frontsheet'!F9)))","v":""}]
[{"$f":"IF('Trust - Frontsheet'!D168=0,\"\",IF('Trust - Frontsheet'!D168=\"\",\"\",'Trust - Frontsheet'!D168))","v":""},{"$f":"IF(ISBLANK('Trust - Frontsheet'!E168),\"\",'Trust - Frontsheet'!E168)","v":""},{"$f":"IF(ISBLANK('Trust - Frontsheet'!F168),\"\",\"'\" & 'Trust - Frontsheet'!F168 & \"'\")","v":""},{"$f":"IF(ISBLANK('Trust - Frontsheet'!G168),\"\",'Trust - Frontsheet'!G168)","v":""},{"$f":"IF(ISBLANK('Trust - Frontsheet'!H168),\"\",'Trust - Frontsheet'!H168)","v":""},{"$f":"'Trust - Frontsheet'!I168","v":0},{"$f":"'Trust - Frontsheet'!J168","v":0},{"$f":"'Trust - Frontsheet'!K168","v":0},{"$f":"'Trust - Frontsheet'!L168","v":0},{"$f":"'Trust - Frontsheet'!M168","v":0},{"$f":"'Trust - Frontsheet'!N168","v":0},{"$f":"'Trust - Frontsheet'!O168","v":0},{"$f":"'Trust - Frontsheet'!P168","v":0},{"$f":"'Trust - Frontsheet'!Q168","v":0},{"$f":"'Trust - Frontsheet'!R168","v":0},{"$f":"'Trust - Frontsheet'!S168","v":0},{"$f":"'Trust - Frontsheet'!T168","v":0},{"$f":"IF(OR('Trust - Frontsheet'!AA168=\"\",'Trust - Frontsheet'!AA168=\"-\"),0,('Trust - Frontsheet'!AA168))","v":0},{"$f":"IF(OR('Trust - Frontsheet'!AB168=\"\",'Trust - Frontsheet'!AB168=\"-\"),0,('Trust - Frontsheet'!AB168))","v":0},{"$f":"IF(OR('Trust - Frontsheet'!AC168=\"\",'Trust - Frontsheet'!AC168=\"-\"),0,('Trust - Frontsheet'!AC168))","v":0},{"$f":"IF(OR('Trust - Frontsheet'!AD168=\"\",'Trust - Frontsheet'!AD168=\"-\"),0,('Trust - Frontsheet'!AD168))","v":0},{"$f":"IF(OR('Trust - Frontsheet'!AE168=\"\",'Trust - Frontsheet'!AE168=\"-\"),0,('Trust - Frontsheet'!AE168))","v":0},{"$f":"IF(OR('Trust - Frontsheet'!AF168=\"\",'Trust - Frontsheet'!AF168=\"-\"),0,('Trust - Frontsheet'!AF168))","v":0},{"$f":"'Trust - Frontsheet'!U168","v":0},{"$f":"IF(OR('Trust - Frontsheet'!V168=\"\",'Trust - Frontsheet'!V168=\"-\"),0,('Trust - Frontsheet'!V168))","v":0},{"$f":"IF(OR('Trust - Frontsheet'!W168=\"\",'Trust - Frontsheet'!W168=\"-\"),0,('Trust - Frontsheet'!W168))","v":0},{"$f":"IF(OR('Trust - Frontsheet'!X168=\"\",'Trust - Frontsheet'!X168=\"-\"),0,('Trust - Frontsheet'!X168))","v":0},{"$f":"IF(OR('Trust - Frontsheet'!Y168=\"\",'Trust - Frontsheet'!Y168=\"-\"),0,('Trust - Frontsheet'!Y168))","v":0},{"$f":"IF(OR('Trust - Frontsheet'!Z168=\"\",'Trust - Frontsheet'!Z168=\"-\"),0,('Trust - Frontsheet'!Z168))","v":0},{"$f":"IF(A156=\"\",\"\",(IF(ISBLANK('Trust - Frontsheet'!F9),\"\",'Trust - Frontsheet'!F9)))","v":""}]
[{"$f":"IF('Trust - Frontsheet'!D169=0,\"\",IF('Trust - Frontsheet'!D169=\"\",\"\",'Trust - Frontsheet'!D169))","v":""},{"$f":"IF(ISBLANK('Trust - Frontsheet'!E169),\"\",'Trust - Frontsheet'!E169)","v":""},{"$f":"IF(ISBLANK('Trust - Frontsheet'!F169),\"\",\"'\" & 'Trust - Frontsheet'!F169 & \"'\")","v":""},{"$f":"IF(ISBLANK('Trust - Frontsheet'!G169),\"\",'Trust - Frontsheet'!G169)","v":""},{"$f":"IF(ISBLANK('Trust - Frontsheet'!H169),\"\",'Trust - Frontsheet'!H169)","v":""},{"$f":"'Trust - Frontsheet'!I169","v":0},{"$f":"'Trust - Frontsheet'!J169","v":0},{"$f":"'Trust - Frontsheet'!K169","v":0},{"$f":"'Trust - Frontsheet'!L169","v":0},{"$f":"'Trust - Frontsheet'!M169","v":0},{"$f":"'Trust - Frontsheet'!N169","v":0},{"$f":"'Trust - Frontsheet'!O169","v":0},{"$f":"'Trust - Frontsheet'!P169","v":0},{"$f":"'Trust - Frontsheet'!Q169","v":0},{"$f":"'Trust - Frontsheet'!R169","v":0},{"$f":"'Trust - Frontsheet'!S169","v":0},{"$f":"'Trust - Frontsheet'!T169","v":0},{"$f":"IF(OR('Trust - Frontsheet'!AA169=\"\",'Trust - Frontsheet'!AA169=\"-\"),0,('Trust - Frontsheet'!AA169))","v":0},{"$f":"IF(OR('Trust - Frontsheet'!AB169=\"\",'Trust - Frontsheet'!AB169=\"-\"),0,('Trust - Frontsheet'!AB169))","v":0},{"$f":"IF(OR('Trust - Frontsheet'!AC169=\"\",'Trust - Frontsheet'!AC169=\"-\"),0,('Trust - Frontsheet'!AC169))","v":0},{"$f":"IF(OR('Trust - Frontsheet'!AD169=\"\",'Trust - Frontsheet'!AD169=\"-\"),0,('Trust - Frontsheet'!AD169))","v":0},{"$f":"IF(OR('Trust - Frontsheet'!AE169=\"\",'Trust - Frontsheet'!AE169=\"-\"),0,('Trust - Frontsheet'!AE169))","v":0},{"$f":"IF(OR('Trust - Frontsheet'!AF169=\"\",'Trust - Frontsheet'!AF169=\"-\"),0,('Trust - Frontsheet'!AF169))","v":0},{"$f":"'Trust - Frontsheet'!U169","v":0},{"$f":"IF(OR('Trust - Frontsheet'!V169=\"\",'Trust - Frontsheet'!V169=\"-\"),0,('Trust - Frontsheet'!V169))","v":0},{"$f":"IF(OR('Trust - Frontsheet'!W169=\"\",'Trust - Frontsheet'!W169=\"-\"),0,('Trust - Frontsheet'!W169))","v":0},{"$f":"IF(OR('Trust - Frontsheet'!X169=\"\",'Trust - Frontsheet'!X169=\"-\"),0,('Trust - Frontsheet'!X169))","v":0},{"$f":"IF(OR('Trust - Frontsheet'!Y169=\"\",'Trust - Frontsheet'!Y169=\"-\"),0,('Trust - Frontsheet'!Y169))","v":0},{"$f":"IF(OR('Trust - Frontsheet'!Z169=\"\",'Trust - Frontsheet'!Z169=\"-\"),0,('Trust - Frontsheet'!Z169))","v":0},{"$f":"IF(A157=\"\",\"\",(IF(ISBLANK('Trust - Frontsheet'!F9),\"\",'Trust - Frontsheet'!F9)))","v":""}]
[{"$f":"IF('Trust - Frontsheet'!D170=0,\"\",IF('Trust - Frontsheet'!D170=\"\",\"\",'Trust - Frontsheet'!D170))","v":""},{"$f":"IF(ISBLANK('Trust - Frontsheet'!E170),\"\",'Trust - Frontsheet'!E170)","v":""},{"$f":"IF(ISBLANK('Trust - Frontsheet'!F170),\"\",\"'\" & 'Trust - Frontsheet'!F170 & \"'\")","v":""},{"$f":"IF(ISBLANK('Trust - Frontsheet'!G170),\"\",'Trust - Frontsheet'!G170)","v":""},{"$f":"IF(ISBLANK('Trust - Frontsheet'!H170),\"\",'Trust - Frontsheet'!H170)","v":""},{"$f":"'Trust - Frontsheet'!I170","v":0},{"$f":"'Trust - Frontsheet'!J170","v":0},{"$f":"'Trust - Frontsheet'!K170","v":0},{"$f":"'Trust - Frontsheet'!L170","v":0},{"$f":"'Trust - Frontsheet'!M170","v":0},{"$f":"'Trust - Frontsheet'!N170","v":0},{"$f":"'Trust - Frontsheet'!O170","v":0},{"$f":"'Trust - Frontsheet'!P170","v":0},{"$f":"'Trust - Frontsheet'!Q170","v":0},{"$f":"'Trust - Frontsheet'!R170","v":0},{"$f":"'Trust - Frontsheet'!S170","v":0},{"$f":"'Trust - Frontsheet'!T170","v":0},{"$f":"IF(OR('Trust - Frontsheet'!AA170=\"\",'Trust - Frontsheet'!AA170=\"-\"),0,('Trust - Frontsheet'!AA170))","v":0},{"$f":"IF(OR('Trust - Frontsheet'!AB170=\"\",'Trust - Frontsheet'!AB170=\"-\"),0,('Trust - Frontsheet'!AB170))","v":0},{"$f":"IF(OR('Trust - Frontsheet'!AC170=\"\",'Trust - Frontsheet'!AC170=\"-\"),0,('Trust - Frontsheet'!AC170))","v":0},{"$f":"IF(OR('Trust - Frontsheet'!AD170=\"\",'Trust - Frontsheet'!AD170=\"-\"),0,('Trust - Frontsheet'!AD170))","v":0},{"$f":"IF(OR('Trust - Frontsheet'!AE170=\"\",'Trust - Frontsheet'!AE170=\"-\"),0,('Trust - Frontsheet'!AE170))","v":0},{"$f":"IF(OR('Trust - Frontsheet'!AF170=\"\",'Trust - Frontsheet'!AF170=\"-\"),0,('Trust - Frontsheet'!AF170))","v":0},{"$f":"'Trust - Frontsheet'!U170","v":0},{"$f":"IF(OR('Trust - Frontsheet'!V170=\"\",'Trust - Frontsheet'!V170=\"-\"),0,('Trust - Frontsheet'!V170))","v":0},{"$f":"IF(OR('Trust - Frontsheet'!W170=\"\",'Trust - Frontsheet'!W170=\"-\"),0,('Trust - Frontsheet'!W170))","v":0},{"$f":"IF(OR('Trust - Frontsheet'!X170=\"\",'Trust - Frontsheet'!X170=\"-\"),0,('Trust - Frontsheet'!X170))","v":0},{"$f":"IF(OR('Trust - Frontsheet'!Y170=\"\",'Trust - Frontsheet'!Y170=\"-\"),0,('Trust - Frontsheet'!Y170))","v":0},{"$f":"IF(OR('Trust - Frontsheet'!Z170=\"\",'Trust - Frontsheet'!Z170=\"-\"),0,('Trust - Frontsheet'!Z170))","v":0},{"$f":"IF(A158=\"\",\"\",(IF(ISBLANK('Trust - Frontsheet'!F9),\"\",'Trust - Frontsheet'!F9)))","v":""}]
[{"$f":"IF('Trust - Frontsheet'!D171=0,\"\",IF('Trust - Frontsheet'!D171=\"\",\"\",'Trust - Frontsheet'!D171))","v":""},{"$f":"IF(ISBLANK('Trust - Frontsheet'!E171),\"\",'Trust - Frontsheet'!E171)","v":""},{"$f":"IF(ISBLANK('Trust - Frontsheet'!F171),\"\",\"'\" & 'Trust - Frontsheet'!F171 & \"'\")","v":""},{"$f":"IF(ISBLANK('Trust - Frontsheet'!G171),\"\",'Trust - Frontsheet'!G171)","v":""},{"$f":"IF(ISBLANK('Trust - Frontsheet'!H171),\"\",'Trust - Frontsheet'!H171)","v":""},{"$f":"'Trust - Frontsheet'!I171","v":0},{"$f":"'Trust - Frontsheet'!J171","v":0},{"$f":"'Trust - Frontsheet'!K171","v":0},{"$f":"'Trust - Frontsheet'!L171","v":0},{"$f":"'Trust - Frontsheet'!M171","v":0},{"$f":"'Trust - Frontsheet'!N171","v":0},{"$f":"'Trust - Frontsheet'!O171","v":0},{"$f":"'Trust - Frontsheet'!P171","v":0},{"$f":"'Trust - Frontsheet'!Q171","v":0},{"$f":"'Trust - Frontsheet'!R171","v":0},{"$f":"'Trust - Frontsheet'!S171","v":0},{"$f":"'Trust - Frontsheet'!T171","v":0},{"$f":"IF(OR('Trust - Frontsheet'!AA171=\"\",'Trust - Frontsheet'!AA171=\"-\"),0,('Trust - Frontsheet'!AA171))","v":0},{"$f":"IF(OR('Trust - Frontsheet'!AB171=\"\",'Trust - Frontsheet'!AB171=\"-\"),0,('Trust - Frontsheet'!AB171))","v":0},{"$f":"IF(OR('Trust - Frontsheet'!AC171=\"\",'Trust - Frontsheet'!AC171=\"-\"),0,('Trust - Frontsheet'!AC171))","v":0},{"$f":"IF(OR('Trust - Frontsheet'!AD171=\"\",'Trust - Frontsheet'!AD171=\"-\"),0,('Trust - Frontsheet'!AD171))","v":0},{"$f":"IF(OR('Trust - Frontsheet'!AE171=\"\",'Trust - Frontsheet'!AE171=\"-\"),0,('Trust - Frontsheet'!AE171))","v":0},{"$f":"IF(OR('Trust - Frontsheet'!AF171=\"\",'Trust - Frontsheet'!AF171=\"-\"),0,('Trust - Frontsheet'!AF171))","v":0},{"$f":"'Trust - Frontsheet'!U171","v":0},{"$f":"IF(OR('Trust - Frontsheet'!V171=\"\",'Trust - Frontsheet'!V171=\"-\"),0,('Trust - Frontsheet'!V171))","v":0},{"$f":"IF(OR('Trust - Frontsheet'!W171=\"\",'Trust - Frontsheet'!W171=\"-\"),0,('Trust - Frontsheet'!W171))","v":0},{"$f":"IF(OR('Trust - Frontsheet'!X171=\"\",'Trust - Frontsheet'!X171=\"-\"),0,('Trust - Frontsheet'!X171))","v":0},{"$f":"IF(OR('Trust - Frontsheet'!Y171=\"\",'Trust - Frontsheet'!Y171=\"-\"),0,('Trust - Frontsheet'!Y171))","v":0},{"$f":"IF(OR('Trust - Frontsheet'!Z171=\"\",'Trust - Frontsheet'!Z171=\"-\"),0,('Trust - Frontsheet'!Z171))","v":0},{"$f":"IF(A159=\"\",\"\",(IF(ISBLANK('Trust - Frontsheet'!F9),\"\",'Trust - Frontsheet'!F9)))","v":""}]
[{"$f":"IF('Trust - Frontsheet'!D172=0,\"\",IF('Trust - Frontsheet'!D172=\"\",\"\",'Trust - Frontsheet'!D172))","v":""},{"$f":"IF(ISBLANK('Trust - Frontsheet'!E172),\"\",'Trust - Frontsheet'!E172)","v":""},{"$f":"IF(ISBLANK('Trust - Frontsheet'!F172),\"\",\"'\" & 'Trust - Frontsheet'!F172 & \"'\")","v":""},{"$f":"IF(ISBLANK('Trust - Frontsheet'!G172),\"\",'Trust - Frontsheet'!G172)","v":""},{"$f":"IF(ISBLANK('Trust - Frontsheet'!H172),\"\",'Trust - Frontsheet'!H172)","v":""},{"$f":"'Trust - Frontsheet'!I172","v":0},{"$f":"'Trust - Frontsheet'!J172","v":0},{"$f":"'Trust - Frontsheet'!K172","v":0},{"$f":"'Trust - Frontsheet'!L172","v":0},{"$f":"'Trust - Frontsheet'!M172","v":0},{"$f":"'Trust - Frontsheet'!N172","v":0},{"$f":"'Trust - Frontsheet'!O172","v":0},{"$f":"'Trust - Frontsheet'!P172","v":0},{"$f":"'Trust - Frontsheet'!Q172","v":0},{"$f":"'Trust - Frontsheet'!R172","v":0},{"$f":"'Trust - Frontsheet'!S172","v":0},{"$f":"'Trust - Frontsheet'!T172","v":0},{"$f":"IF(OR('Trust - Frontsheet'!AA172=\"\",'Trust - Frontsheet'!AA172=\"-\"),0,('Trust - Frontsheet'!AA172))","v":0},{"$f":"IF(OR('Trust - Frontsheet'!AB172=\"\",'Trust - Frontsheet'!AB172=\"-\"),0,('Trust - Frontsheet'!AB172))","v":0},{"$f":"IF(OR('Trust - Frontsheet'!AC172=\"\",'Trust - Frontsheet'!AC172=\"-\"),0,('Trust - Frontsheet'!AC172))","v":0},{"$f":"IF(OR('Trust - Frontsheet'!AD172=\"\",'Trust - Frontsheet'!AD172=\"-\"),0,('Trust - Frontsheet'!AD172))","v":0},{"$f":"IF(OR('Trust - Frontsheet'!AE172=\"\",'Trust - Frontsheet'!AE172=\"-\"),0,('Trust - Frontsheet'!AE172))","v":0},{"$f":"IF(OR('Trust - Frontsheet'!AF172=\"\",'Trust - Frontsheet'!AF172=\"-\"),0,('Trust - Frontsheet'!AF172))","v":0},{"$f":"'Trust - Frontsheet'!U172","v":0},{"$f":"IF(OR('Trust - Frontsheet'!V172=\"\",'Trust - Frontsheet'!V172=\"-\"),0,('Trust - Frontsheet'!V172))","v":0},{"$f":"IF(OR('Trust - Frontsheet'!W172=\"\",'Trust - Frontsheet'!W172=\"-\"),0,('Trust - Frontsheet'!W172))","v":0},{"$f":"IF(OR('Trust - Frontsheet'!X172=\"\",'Trust - Frontsheet'!X172=\"-\"),0,('Trust - Frontsheet'!X172))","v":0},{"$f":"IF(OR('Trust - Frontsheet'!Y172=\"\",'Trust - Frontsheet'!Y172=\"-\"),0,('Trust - Frontsheet'!Y172))","v":0},{"$f":"IF(OR('Trust - Frontsheet'!Z172=\"\",'Trust - Frontsheet'!Z172=\"-\"),0,('Trust - Frontsheet'!Z172))","v":0},{"$f":"IF(A160=\"\",\"\",(IF(ISBLANK('Trust - Frontsheet'!F9),\"\",'Trust - Frontsheet'!F9)))","v":""}]
[{"$f":"IF('Trust - Frontsheet'!D173=0,\"\",IF('Trust - Frontsheet'!D173=\"\",\"\",'Trust - Frontsheet'!D173))","v":""},{"$f":"IF(ISBLANK('Trust - Frontsheet'!E173),\"\",'Trust - Frontsheet'!E173)","v":""},{"$f":"IF(ISBLANK('Trust - Frontsheet'!F173),\"\",\"'\" & 'Trust - Frontsheet'!F173 & \"'\")","v":""},{"$f":"IF(ISBLANK('Trust - Frontsheet'!G173),\"\",'Trust - Frontsheet'!G173)","v":""},{"$f":"IF(ISBLANK('Trust - Frontsheet'!H173),\"\",'Trust - Frontsheet'!H173)","v":""},{"$f":"'Trust - Frontsheet'!I173","v":0},{"$f":"'Trust - Frontsheet'!J173","v":0},{"$f":"'Trust - Frontsheet'!K173","v":0},{"$f":"'Trust - Frontsheet'!L173","v":0},{"$f":"'Trust - Frontsheet'!M173","v":0},{"$f":"'Trust - Frontsheet'!N173","v":0},{"$f":"'Trust - Frontsheet'!O173","v":0},{"$f":"'Trust - Frontsheet'!P173","v":0},{"$f":"'Trust - Frontsheet'!Q173","v":0},{"$f":"'Trust - Frontsheet'!R173","v":0},{"$f":"'Trust - Frontsheet'!S173","v":0},{"$f":"'Trust - Frontsheet'!T173","v":0},{"$f":"IF(OR('Trust - Frontsheet'!AA173=\"\",'Trust - Frontsheet'!AA173=\"-\"),0,('Trust - Frontsheet'!AA173))","v":0},{"$f":"IF(OR('Trust - Frontsheet'!AB173=\"\",'Trust - Frontsheet'!AB173=\"-\"),0,('Trust - Frontsheet'!AB173))","v":0},{"$f":"IF(OR('Trust - Frontsheet'!AC173=\"\",'Trust - Frontsheet'!AC173=\"-\"),0,('Trust - Frontsheet'!AC173))","v":0},{"$f":"IF(OR('Trust - Frontsheet'!AD173=\"\",'Trust - Frontsheet'!AD173=\"-\"),0,('Trust - Frontsheet'!AD173))","v":0},{"$f":"IF(OR('Trust - Frontsheet'!AE173=\"\",'Trust - Frontsheet'!AE173=\"-\"),0,('Trust - Frontsheet'!AE173))","v":0},{"$f":"IF(OR('Trust - Frontsheet'!AF173=\"\",'Trust - Frontsheet'!AF173=\"-\"),0,('Trust - Frontsheet'!AF173))","v":0},{"$f":"'Trust - Frontsheet'!U173","v":0},{"$f":"IF(OR('Trust - Frontsheet'!V173=\"\",'Trust - Frontsheet'!V173=\"-\"),0,('Trust - Frontsheet'!V173))","v":0},{"$f":"IF(OR('Trust - Frontsheet'!W173=\"\",'Trust - Frontsheet'!W173=\"-\"),0,('Trust - Frontsheet'!W173))","v":0},{"$f":"IF(OR('Trust - Frontsheet'!X173=\"\",'Trust - Frontsheet'!X173=\"-\"),0,('Trust - Frontsheet'!X173))","v":0},{"$f":"IF(OR('Trust - Frontsheet'!Y173=\"\",'Trust - Frontsheet'!Y173=\"-\"),0,('Trust - Frontsheet'!Y173))","v":0},{"$f":"IF(OR('Trust - Frontsheet'!Z173=\"\",'Trust - Frontsheet'!Z173=\"-\"),0,('Trust - Frontsheet'!Z173))","v":0},{"$f":"IF(A161=\"\",\"\",(IF(ISBLANK('Trust - Frontsheet'!F9),\"\",'Trust - Frontsheet'!F9)))","v":""}]
[{"$f":"IF('Trust - Frontsheet'!D174=0,\"\",IF('Trust - Frontsheet'!D174=\"\",\"\",'Trust - Frontsheet'!D174))","v":""},{"$f":"IF(ISBLANK('Trust - Frontsheet'!E174),\"\",'Trust - Frontsheet'!E174)","v":""},{"$f":"IF(ISBLANK('Trust - Frontsheet'!F174),\"\",\"'\" & 'Trust - Frontsheet'!F174 & \"'\")","v":""},{"$f":"IF(ISBLANK('Trust - Frontsheet'!G174),\"\",'Trust - Frontsheet'!G174)","v":""},{"$f":"IF(ISBLANK('Trust - Frontsheet'!H174),\"\",'Trust - Frontsheet'!H174)","v":""},{"$f":"'Trust - Frontsheet'!I174","v":0},{"$f":"'Trust - Frontsheet'!J174","v":0},{"$f":"'Trust - Frontsheet'!K174","v":0},{"$f":"'Trust - Frontsheet'!L174","v":0},{"$f":"'Trust - Frontsheet'!M174","v":0},{"$f":"'Trust - Frontsheet'!N174","v":0},{"$f":"'Trust - Frontsheet'!O174","v":0},{"$f":"'Trust - Frontsheet'!P174","v":0},{"$f":"'Trust - Frontsheet'!Q174","v":0},{"$f":"'Trust - Frontsheet'!R174","v":0},{"$f":"'Trust - Frontsheet'!S174","v":0},{"$f":"'Trust - Frontsheet'!T174","v":0},{"$f":"IF(OR('Trust - Frontsheet'!AA174=\"\",'Trust - Frontsheet'!AA174=\"-\"),0,('Trust - Frontsheet'!AA174))","v":0},{"$f":"IF(OR('Trust - Frontsheet'!AB174=\"\",'Trust - Frontsheet'!AB174=\"-\"),0,('Trust - Frontsheet'!AB174))","v":0},{"$f":"IF(OR('Trust - Frontsheet'!AC174=\"\",'Trust - Frontsheet'!AC174=\"-\"),0,('Trust - Frontsheet'!AC174))","v":0},{"$f":"IF(OR('Trust - Frontsheet'!AD174=\"\",'Trust - Frontsheet'!AD174=\"-\"),0,('Trust - Frontsheet'!AD174))","v":0},{"$f":"IF(OR('Trust - Frontsheet'!AE174=\"\",'Trust - Frontsheet'!AE174=\"-\"),0,('Trust - Frontsheet'!AE174))","v":0},{"$f":"IF(OR('Trust - Frontsheet'!AF174=\"\",'Trust - Frontsheet'!AF174=\"-\"),0,('Trust - Frontsheet'!AF174))","v":0},{"$f":"'Trust - Frontsheet'!U174","v":0},{"$f":"IF(OR('Trust - Frontsheet'!V174=\"\",'Trust - Frontsheet'!V174=\"-\"),0,('Trust - Frontsheet'!V174))","v":0},{"$f":"IF(OR('Trust - Frontsheet'!W174=\"\",'Trust - Frontsheet'!W174=\"-\"),0,('Trust - Frontsheet'!W174))","v":0},{"$f":"IF(OR('Trust - Frontsheet'!X174=\"\",'Trust - Frontsheet'!X174=\"-\"),0,('Trust - Frontsheet'!X174))","v":0},{"$f":"IF(OR('Trust - Frontsheet'!Y174=\"\",'Trust - Frontsheet'!Y174=\"-\"),0,('Trust - Frontsheet'!Y174))","v":0},{"$f":"IF(OR('Trust - Frontsheet'!Z174=\"\",'Trust - Frontsheet'!Z174=\"-\"),0,('Trust - Frontsheet'!Z174))","v":0},{"$f":"IF(A162=\"\",\"\",(IF(ISBLANK('Trust - Frontsheet'!F9),\"\",'Trust - Frontsheet'!F9)))","v":""}]
[{"$f":"IF('Trust - Frontsheet'!D175=0,\"\",IF('Trust - Frontsheet'!D175=\"\",\"\",'Trust - Frontsheet'!D175))","v":""},{"$f":"IF(ISBLANK('Trust - Frontsheet'!E175),\"\",'Trust - Frontsheet'!E175)","v":""},{"$f":"IF(ISBLANK('Trust - Frontsheet'!F175),\"\",\"'\" & 'Trust - Frontsheet'!F175 & \"'\")","v":""},{"$f":"IF(ISBLANK('Trust - Frontsheet'!G175),\"\",'Trust - Frontsheet'!G175)","v":""},{"$f":"IF(ISBLANK('Trust - Frontsheet'!H175),\"\",'Trust - Frontsheet'!H175)","v":""},{"$f":"'Trust - Frontsheet'!I175","v":0},{"$f":"'Trust - Frontsheet'!J175","v":0},{"$f":"'Trust - Frontsheet'!K175","v":0},{"$f":"'Trust - Frontsheet'!L175","v":0},{"$f":"'Trust - Frontsheet'!M175","v":0},{"$f":"'Trust - Frontsheet'!N175","v":0},{"$f":"'Trust - Frontsheet'!O175","v":0},{"$f":"'Trust - Frontsheet'!P175","v":0},{"$f":"'Trust - Frontsheet'!Q175","v":0},{"$f":"'Trust - Frontsheet'!R175","v":0},{"$f":"'Trust - Frontsheet'!S175","v":0},{"$f":"'Trust - Frontsheet'!T175","v":0},{"$f":"IF(OR('Trust - Frontsheet'!AA175=\"\",'Trust - Frontsheet'!AA175=\"-\"),0,('Trust - Frontsheet'!AA175))","v":0},{"$f":"IF(OR('Trust - Frontsheet'!AB175=\"\",'Trust - Frontsheet'!AB175=\"-\"),0,('Trust - Frontsheet'!AB175))","v":0},{"$f":"IF(OR('Trust - Frontsheet'!AC175=\"\",'Trust - Frontsheet'!AC175=\"-\"),0,('Trust - Frontsheet'!AC175))","v":0},{"$f":"IF(OR('Trust - Frontsheet'!AD175=\"\",'Trust - Frontsheet'!AD175=\"-\"),0,('Trust - Frontsheet'!AD175))","v":0},{"$f":"IF(OR('Trust - Frontsheet'!AE175=\"\",'Trust - Frontsheet'!AE175=\"-\"),0,('Trust - Frontsheet'!AE175))","v":0},{"$f":"IF(OR('Trust - Frontsheet'!AF175=\"\",'Trust - Frontsheet'!AF175=\"-\"),0,('Trust - Frontsheet'!AF175))","v":0},{"$f":"'Trust - Frontsheet'!U175","v":0},{"$f":"IF(OR('Trust - Frontsheet'!V175=\"\",'Trust - Frontsheet'!V175=\"-\"),0,('Trust - Frontsheet'!V175))","v":0},{"$f":"IF(OR('Trust - Frontsheet'!W175=\"\",'Trust - Frontsheet'!W175=\"-\"),0,('Trust - Frontsheet'!W175))","v":0},{"$f":"IF(OR('Trust - Frontsheet'!X175=\"\",'Trust - Frontsheet'!X175=\"-\"),0,('Trust - Frontsheet'!X175))","v":0},{"$f":"IF(OR('Trust - Frontsheet'!Y175=\"\",'Trust - Frontsheet'!Y175=\"-\"),0,('Trust - Frontsheet'!Y175))","v":0},{"$f":"IF(OR('Trust - Frontsheet'!Z175=\"\",'Trust - Frontsheet'!Z175=\"-\"),0,('Trust - Frontsheet'!Z175))","v":0},{"$f":"IF(A163=\"\",\"\",(IF(ISBLANK('Trust - Frontsheet'!F9),\"\",'Trust - Frontsheet'!F9)))","v":""}]
[{"$f":"IF('Trust - Frontsheet'!D176=0,\"\",IF('Trust - Frontsheet'!D176=\"\",\"\",'Trust - Frontsheet'!D176))","v":""},{"$f":"IF(ISBLANK('Trust - Frontsheet'!E176),\"\",'Trust - Frontsheet'!E176)","v":""},{"$f":"IF(ISBLANK('Trust - Frontsheet'!F176),\"\",\"'\" & 'Trust - Frontsheet'!F176 & \"'\")","v":""},{"$f":"IF(ISBLANK('Trust - Frontsheet'!G176),\"\",'Trust - Frontsheet'!G176)","v":""},{"$f":"IF(ISBLANK('Trust - Frontsheet'!H176),\"\",'Trust - Frontsheet'!H176)","v":""},{"$f":"'Trust - Frontsheet'!I176","v":0},{"$f":"'Trust - Frontsheet'!J176","v":0},{"$f":"'Trust - Frontsheet'!K176","v":0},{"$f":"'Trust - Frontsheet'!L176","v":0},{"$f":"'Trust - Frontsheet'!M176","v":0},{"$f":"'Trust - Frontsheet'!N176","v":0},{"$f":"'Trust - Frontsheet'!O176","v":0},{"$f":"'Trust - Frontsheet'!P176","v":0},{"$f":"'Trust - Frontsheet'!Q176","v":0},{"$f":"'Trust - Frontsheet'!R176","v":0},{"$f":"'Trust - Frontsheet'!S176","v":0},{"$f":"'Trust - Frontsheet'!T176","v":0},{"$f":"IF(OR('Trust - Frontsheet'!AA176=\"\",'Trust - Frontsheet'!AA176=\"-\"),0,('Trust - Frontsheet'!AA176))","v":0},{"$f":"IF(OR('Trust - Frontsheet'!AB176=\"\",'Trust - Frontsheet'!AB176=\"-\"),0,('Trust - Frontsheet'!AB176))","v":0},{"$f":"IF(OR('Trust - Frontsheet'!AC176=\"\",'Trust - Frontsheet'!AC176=\"-\"),0,('Trust - Frontsheet'!AC176))","v":0},{"$f":"IF(OR('Trust - Frontsheet'!AD176=\"\",'Trust - Frontsheet'!AD176=\"-\"),0,('Trust - Frontsheet'!AD176))","v":0},{"$f":"IF(OR('Trust - Frontsheet'!AE176=\"\",'Trust - Frontsheet'!AE176=\"-\"),0,('Trust - Frontsheet'!AE176))","v":0},{"$f":"IF(OR('Trust - Frontsheet'!AF176=\"\",'Trust - Frontsheet'!AF176=\"-\"),0,('Trust - Frontsheet'!AF176))","v":0},{"$f":"'Trust - Frontsheet'!U176","v":0},{"$f":"IF(OR('Trust - Frontsheet'!V176=\"\",'Trust - Frontsheet'!V176=\"-\"),0,('Trust - Frontsheet'!V176))","v":0},{"$f":"IF(OR('Trust - Frontsheet'!W176=\"\",'Trust - Frontsheet'!W176=\"-\"),0,('Trust - Frontsheet'!W176))","v":0},{"$f":"IF(OR('Trust - Frontsheet'!X176=\"\",'Trust - Frontsheet'!X176=\"-\"),0,('Trust - Frontsheet'!X176))","v":0},{"$f":"IF(OR('Trust - Frontsheet'!Y176=\"\",'Trust - Frontsheet'!Y176=\"-\"),0,('Trust - Frontsheet'!Y176))","v":0},{"$f":"IF(OR('Trust - Frontsheet'!Z176=\"\",'Trust - Frontsheet'!Z176=\"-\"),0,('Trust - Frontsheet'!Z176))","v":0},{"$f":"IF(A164=\"\",\"\",(IF(ISBLANK('Trust - Frontsheet'!F9),\"\",'Trust - Frontsheet'!F9)))","v":""}]
[{"$f":"IF('Trust - Frontsheet'!D177=0,\"\",IF('Trust - Frontsheet'!D177=\"\",\"\",'Trust - Frontsheet'!D177))","v":""},{"$f":"IF(ISBLANK('Trust - Frontsheet'!E177),\"\",'Trust - Frontsheet'!E177)","v":""},{"$f":"IF(ISBLANK('Trust - Frontsheet'!F177),\"\",\"'\" & 'Trust - Frontsheet'!F177 & \"'\")","v":""},{"$f":"IF(ISBLANK('Trust - Frontsheet'!G177),\"\",'Trust - Frontsheet'!G177)","v":""},{"$f":"IF(ISBLANK('Trust - Frontsheet'!H177),\"\",'Trust - Frontsheet'!H177)","v":""},{"$f":"'Trust - Frontsheet'!I177","v":0},{"$f":"'Trust - Frontsheet'!J177","v":0},{"$f":"'Trust - Frontsheet'!K177","v":0},{"$f":"'Trust - Frontsheet'!L177","v":0},{"$f":"'Trust - Frontsheet'!M177","v":0},{"$f":"'Trust - Frontsheet'!N177","v":0},{"$f":"'Trust - Frontsheet'!O177","v":0},{"$f":"'Trust - Frontsheet'!P177","v":0},{"$f":"'Trust - Frontsheet'!Q177","v":0},{"$f":"'Trust - Frontsheet'!R177","v":0},{"$f":"'Trust - Frontsheet'!S177","v":0},{"$f":"'Trust - Frontsheet'!T177","v":0},{"$f":"IF(OR('Trust - Frontsheet'!AA177=\"\",'Trust - Frontsheet'!AA177=\"-\"),0,('Trust - Frontsheet'!AA177))","v":0},{"$f":"IF(OR('Trust - Frontsheet'!AB177=\"\",'Trust - Frontsheet'!AB177=\"-\"),0,('Trust - Frontsheet'!AB177))","v":0},{"$f":"IF(OR('Trust - Frontsheet'!AC177=\"\",'Trust - Frontsheet'!AC177=\"-\"),0,('Trust - Frontsheet'!AC177))","v":0},{"$f":"IF(OR('Trust - Frontsheet'!AD177=\"\",'Trust - Frontsheet'!AD177=\"-\"),0,('Trust - Frontsheet'!AD177))","v":0},{"$f":"IF(OR('Trust - Frontsheet'!AE177=\"\",'Trust - Frontsheet'!AE177=\"-\"),0,('Trust - Frontsheet'!AE177))","v":0},{"$f":"IF(OR('Trust - Frontsheet'!AF177=\"\",'Trust - Frontsheet'!AF177=\"-\"),0,('Trust - Frontsheet'!AF177))","v":0},{"$f":"'Trust - Frontsheet'!U177","v":0},{"$f":"IF(OR('Trust - Frontsheet'!V177=\"\",'Trust - Frontsheet'!V177=\"-\"),0,('Trust - Frontsheet'!V177))","v":0},{"$f":"IF(OR('Trust - Frontsheet'!W177=\"\",'Trust - Frontsheet'!W177=\"-\"),0,('Trust - Frontsheet'!W177))","v":0},{"$f":"IF(OR('Trust - Frontsheet'!X177=\"\",'Trust - Frontsheet'!X177=\"-\"),0,('Trust - Frontsheet'!X177))","v":0},{"$f":"IF(OR('Trust - Frontsheet'!Y177=\"\",'Trust - Frontsheet'!Y177=\"-\"),0,('Trust - Frontsheet'!Y177))","v":0},{"$f":"IF(OR('Trust - Frontsheet'!Z177=\"\",'Trust - Frontsheet'!Z177=\"-\"),0,('Trust - Frontsheet'!Z177))","v":0},{"$f":"IF(A165=\"\",\"\",(IF(ISBLANK('Trust - Frontsheet'!F9),\"\",'Trust - Frontsheet'!F9)))","v":""}]
[{"$f":"IF('Trust - Frontsheet'!D178=0,\"\",IF('Trust - Frontsheet'!D178=\"\",\"\",'Trust - Frontsheet'!D178))","v":""},{"$f":"IF(ISBLANK('Trust - Frontsheet'!E178),\"\",'Trust - Frontsheet'!E178)","v":""},{"$f":"IF(ISBLANK('Trust - Frontsheet'!F178),\"\",\"'\" & 'Trust - Frontsheet'!F178 & \"'\")","v":""},{"$f":"IF(ISBLANK('Trust - Frontsheet'!G178),\"\",'Trust - Frontsheet'!G178)","v":""},{"$f":"IF(ISBLANK('Trust - Frontsheet'!H178),\"\",'Trust - Frontsheet'!H178)","v":""},{"$f":"'Trust - Frontsheet'!I178","v":0},{"$f":"'Trust - Frontsheet'!J178","v":0},{"$f":"'Trust - Frontsheet'!K178","v":0},{"$f":"'Trust - Frontsheet'!L178","v":0},{"$f":"'Trust - Frontsheet'!M178","v":0},{"$f":"'Trust - Frontsheet'!N178","v":0},{"$f":"'Trust - Frontsheet'!O178","v":0},{"$f":"'Trust - Frontsheet'!P178","v":0},{"$f":"'Trust - Frontsheet'!Q178","v":0},{"$f":"'Trust - Frontsheet'!R178","v":0},{"$f":"'Trust - Frontsheet'!S178","v":0},{"$f":"'Trust - Frontsheet'!T178","v":0},{"$f":"IF(OR('Trust - Frontsheet'!AA178=\"\",'Trust - Frontsheet'!AA178=\"-\"),0,('Trust - Frontsheet'!AA178))","v":0},{"$f":"IF(OR('Trust - Frontsheet'!AB178=\"\",'Trust - Frontsheet'!AB178=\"-\"),0,('Trust - Frontsheet'!AB178))","v":0},{"$f":"IF(OR('Trust - Frontsheet'!AC178=\"\",'Trust - Frontsheet'!AC178=\"-\"),0,('Trust - Frontsheet'!AC178))","v":0},{"$f":"IF(OR('Trust - Frontsheet'!AD178=\"\",'Trust - Frontsheet'!AD178=\"-\"),0,('Trust - Frontsheet'!AD178))","v":0},{"$f":"IF(OR('Trust - Frontsheet'!AE178=\"\",'Trust - Frontsheet'!AE178=\"-\"),0,('Trust - Frontsheet'!AE178))","v":0},{"$f":"IF(OR('Trust - Frontsheet'!AF178=\"\",'Trust - Frontsheet'!AF178=\"-\"),0,('Trust - Frontsheet'!AF178))","v":0},{"$f":"'Trust - Frontsheet'!U178","v":0},{"$f":"IF(OR('Trust - Frontsheet'!V178=\"\",'Trust - Frontsheet'!V178=\"-\"),0,('Trust - Frontsheet'!V178))","v":0},{"$f":"IF(OR('Trust - Frontsheet'!W178=\"\",'Trust - Frontsheet'!W178=\"-\"),0,('Trust - Frontsheet'!W178))","v":0},{"$f":"IF(OR('Trust - Frontsheet'!X178=\"\",'Trust - Frontsheet'!X178=\"-\"),0,('Trust - Frontsheet'!X178))","v":0},{"$f":"IF(OR('Trust - Frontsheet'!Y178=\"\",'Trust - Frontsheet'!Y178=\"-\"),0,('Trust - Frontsheet'!Y178))","v":0},{"$f":"IF(OR('Trust - Frontsheet'!Z178=\"\",'Trust - Frontsheet'!Z178=\"-\"),0,('Trust - Frontsheet'!Z178))","v":0},{"$f":"IF(A166=\"\",\"\",(IF(ISBLANK('Trust - Frontsheet'!F9),\"\",'Trust - Frontsheet'!F9)))","v":""}]
[{"$f":"IF('Trust - Frontsheet'!D179=0,\"\",IF('Trust - Frontsheet'!D179=\"\",\"\",'Trust - Frontsheet'!D179))","v":""},{"$f":"IF(ISBLANK('Trust - Frontsheet'!E179),\"\",'Trust - Frontsheet'!E179)","v":""},{"$f":"IF(ISBLANK('Trust - Frontsheet'!F179),\"\",\"'\" & 'Trust - Frontsheet'!F179 & \"'\")","v":""},{"$f":"IF(ISBLANK('Trust - Frontsheet'!G179),\"\",'Trust - Frontsheet'!G179)","v":""},{"$f":"IF(ISBLANK('Trust - Frontsheet'!H179),\"\",'Trust - Frontsheet'!H179)","v":""},{"$f":"'Trust - Frontsheet'!I179","v":0},{"$f":"'Trust - Frontsheet'!J179","v":0},{"$f":"'Trust - Frontsheet'!K179","v":0},{"$f":"'Trust - Frontsheet'!L179","v":0},{"$f":"'Trust - Frontsheet'!M179","v":0},{"$f":"'Trust - Frontsheet'!N179","v":0},{"$f":"'Trust - Frontsheet'!O179","v":0},{"$f":"'Trust - Frontsheet'!P179","v":0},{"$f":"'Trust - Frontsheet'!Q179","v":0},{"$f":"'Trust - Frontsheet'!R179","v":0},{"$f":"'Trust - Frontsheet'!S179","v":0},{"$f":"'Trust - Frontsheet'!T179","v":0},{"$f":"IF(OR('Trust - Frontsheet'!AA179=\"\",'Trust - Frontsheet'!AA179=\"-\"),0,('Trust - Frontsheet'!AA179))","v":0},{"$f":"IF(OR('Trust - Frontsheet'!AB179=\"\",'Trust - Frontsheet'!AB179=\"-\"),0,('Trust - Frontsheet'!AB179))","v":0},{"$f":"IF(OR('Trust - Frontsheet'!AC179=\"\",'Trust - Frontsheet'!AC179=\"-\"),0,('Trust - Frontsheet'!AC179))","v":0},{"$f":"IF(OR('Trust - Frontsheet'!AD179=\"\",'Trust - Frontsheet'!AD179=\"-\"),0,('Trust - Frontsheet'!AD179))","v":0},{"$f":"IF(OR('Trust - Frontsheet'!AE179=\"\",'Trust - Frontsheet'!AE179=\"-\"),0,('Trust - Frontsheet'!AE179))","v":0},{"$f":"IF(OR('Trust - Frontsheet'!AF179=\"\",'Trust - Frontsheet'!AF179=\"-\"),0,('Trust - Frontsheet'!AF179))","v":0},{"$f":"'Trust - Frontsheet'!U179","v":0},{"$f":"IF(OR('Trust - Frontsheet'!V179=\"\",'Trust - Frontsheet'!V179=\"-\"),0,('Trust - Frontsheet'!V179))","v":0},{"$f":"IF(OR('Trust - Frontsheet'!W179=\"\",'Trust - Frontsheet'!W179=\"-\"),0,('Trust - Frontsheet'!W179))","v":0},{"$f":"IF(OR('Trust - Frontsheet'!X179=\"\",'Trust - Frontsheet'!X179=\"-\"),0,('Trust - Frontsheet'!X179))","v":0},{"$f":"IF(OR('Trust - Frontsheet'!Y179=\"\",'Trust - Frontsheet'!Y179=\"-\"),0,('Trust - Frontsheet'!Y179))","v":0},{"$f":"IF(OR('Trust - Frontsheet'!Z179=\"\",'Trust - Frontsheet'!Z179=\"-\"),0,('Trust - Frontsheet'!Z179))","v":0},{"$f":"IF(A167=\"\",\"\",(IF(ISBLANK('Trust - Frontsheet'!F9),\"\",'Trust - Frontsheet'!F9)))","v":""}]
[{"$f":"IF('Trust - Frontsheet'!D180=0,\"\",IF('Trust - Frontsheet'!D180=\"\",\"\",'Trust - Frontsheet'!D180))","v":""},{"$f":"IF(ISBLANK('Trust - Frontsheet'!E180),\"\",'Trust - Frontsheet'!E180)","v":""},{"$f":"IF(ISBLANK('Trust - Frontsheet'!F180),\"\",\"'\" & 'Trust - Frontsheet'!F180 & \"'\")","v":""},{"$f":"IF(ISBLANK('Trust - Frontsheet'!G180),\"\",'Trust - Frontsheet'!G180)","v":""},{"$f":"IF(ISBLANK('Trust - Frontsheet'!H180),\"\",'Trust - Frontsheet'!H180)","v":""},{"$f":"'Trust - Frontsheet'!I180","v":0},{"$f":"'Trust - Frontsheet'!J180","v":0},{"$f":"'Trust - Frontsheet'!K180","v":0},{"$f":"'Trust - Frontsheet'!L180","v":0},{"$f":"'Trust - Frontsheet'!M180","v":0},{"$f":"'Trust - Frontsheet'!N180","v":0},{"$f":"'Trust - Frontsheet'!O180","v":0},{"$f":"'Trust - Frontsheet'!P180","v":0},{"$f":"'Trust - Frontsheet'!Q180","v":0},{"$f":"'Trust - Frontsheet'!R180","v":0},{"$f":"'Trust - Frontsheet'!S180","v":0},{"$f":"'Trust - Frontsheet'!T180","v":0},{"$f":"IF(OR('Trust - Frontsheet'!AA180=\"\",'Trust - Frontsheet'!AA180=\"-\"),0,('Trust - Frontsheet'!AA180))","v":0},{"$f":"IF(OR('Trust - Frontsheet'!AB180=\"\",'Trust - Frontsheet'!AB180=\"-\"),0,('Trust - Frontsheet'!AB180))","v":0},{"$f":"IF(OR('Trust - Frontsheet'!AC180=\"\",'Trust - Frontsheet'!AC180=\"-\"),0,('Trust - Frontsheet'!AC180))","v":0},{"$f":"IF(OR('Trust - Frontsheet'!AD180=\"\",'Trust - Frontsheet'!AD180=\"-\"),0,('Trust - Frontsheet'!AD180))","v":0},{"$f":"IF(OR('Trust - Frontsheet'!AE180=\"\",'Trust - Frontsheet'!AE180=\"-\"),0,('Trust - Frontsheet'!AE180))","v":0},{"$f":"IF(OR('Trust - Frontsheet'!AF180=\"\",'Trust - Frontsheet'!AF180=\"-\"),0,('Trust - Frontsheet'!AF180))","v":0},{"$f":"'Trust - Frontsheet'!U180","v":0},{"$f":"IF(OR('Trust - Frontsheet'!V180=\"\",'Trust - Frontsheet'!V180=\"-\"),0,('Trust - Frontsheet'!V180))","v":0},{"$f":"IF(OR('Trust - Frontsheet'!W180=\"\",'Trust - Frontsheet'!W180=\"-\"),0,('Trust - Frontsheet'!W180))","v":0},{"$f":"IF(OR('Trust - Frontsheet'!X180=\"\",'Trust - Frontsheet'!X180=\"-\"),0,('Trust - Frontsheet'!X180))","v":0},{"$f":"IF(OR('Trust - Frontsheet'!Y180=\"\",'Trust - Frontsheet'!Y180=\"-\"),0,('Trust - Frontsheet'!Y180))","v":0},{"$f":"IF(OR('Trust - Frontsheet'!Z180=\"\",'Trust - Frontsheet'!Z180=\"-\"),0,('Trust - Frontsheet'!Z180))","v":0},{"$f":"IF(A168=\"\",\"\",(IF(ISBLANK('Trust - Frontsheet'!F9),\"\",'Trust - Frontsheet'!F9)))","v":""}]
[{"$f":"IF('Trust - Frontsheet'!D181=0,\"\",IF('Trust - Frontsheet'!D181=\"\",\"\",'Trust - Frontsheet'!D181))","v":""},{"$f":"IF(ISBLANK('Trust - Frontsheet'!E181),\"\",'Trust - Frontsheet'!E181)","v":""},{"$f":"IF(ISBLANK('Trust - Frontsheet'!F181),\"\",\"'\" & 'Trust - Frontsheet'!F181 & \"'\")","v":""},{"$f":"IF(ISBLANK('Trust - Frontsheet'!G181),\"\",'Trust - Frontsheet'!G181)","v":""},{"$f":"IF(ISBLANK('Trust - Frontsheet'!H181),\"\",'Trust - Frontsheet'!H181)","v":""},{"$f":"'Trust - Frontsheet'!I181","v":0},{"$f":"'Trust - Frontsheet'!J181","v":0},{"$f":"'Trust - Frontsheet'!K181","v":0},{"$f":"'Trust - Frontsheet'!L181","v":0},{"$f":"'Trust - Frontsheet'!M181","v":0},{"$f":"'Trust - Frontsheet'!N181","v":0},{"$f":"'Trust - Frontsheet'!O181","v":0},{"$f":"'Trust - Frontsheet'!P181","v":0},{"$f":"'Trust - Frontsheet'!Q181","v":0},{"$f":"'Trust - Frontsheet'!R181","v":0},{"$f":"'Trust - Frontsheet'!S181","v":0},{"$f":"'Trust - Frontsheet'!T181","v":0},{"$f":"IF(OR('Trust - Frontsheet'!AA181=\"\",'Trust - Frontsheet'!AA181=\"-\"),0,('Trust - Frontsheet'!AA181))","v":0},{"$f":"IF(OR('Trust - Frontsheet'!AB181=\"\",'Trust - Frontsheet'!AB181=\"-\"),0,('Trust - Frontsheet'!AB181))","v":0},{"$f":"IF(OR('Trust - Frontsheet'!AC181=\"\",'Trust - Frontsheet'!AC181=\"-\"),0,('Trust - Frontsheet'!AC181))","v":0},{"$f":"IF(OR('Trust - Frontsheet'!AD181=\"\",'Trust - Frontsheet'!AD181=\"-\"),0,('Trust - Frontsheet'!AD181))","v":0},{"$f":"IF(OR('Trust - Frontsheet'!AE181=\"\",'Trust - Frontsheet'!AE181=\"-\"),0,('Trust - Frontsheet'!AE181))","v":0},{"$f":"IF(OR('Trust - Frontsheet'!AF181=\"\",'Trust - Frontsheet'!AF181=\"-\"),0,('Trust - Frontsheet'!AF181))","v":0},{"$f":"'Trust - Frontsheet'!U181","v":0},{"$f":"IF(OR('Trust - Frontsheet'!V181=\"\",'Trust - Frontsheet'!V181=\"-\"),0,('Trust - Frontsheet'!V181))","v":0},{"$f":"IF(OR('Trust - Frontsheet'!W181=\"\",'Trust - Frontsheet'!W181=\"-\"),0,('Trust - Frontsheet'!W181))","v":0},{"$f":"IF(OR('Trust - Frontsheet'!X181=\"\",'Trust - Frontsheet'!X181=\"-\"),0,('Trust - Frontsheet'!X181))","v":0},{"$f":"IF(OR('Trust - Frontsheet'!Y181=\"\",'Trust - Frontsheet'!Y181=\"-\"),0,('Trust - Frontsheet'!Y181))","v":0},{"$f":"IF(OR('Trust - Frontsheet'!Z181=\"\",'Trust - Frontsheet'!Z181=\"-\"),0,('Trust - Frontsheet'!Z181))","v":0},{"$f":"IF(A169=\"\",\"\",(IF(ISBLANK('Trust - Frontsheet'!F9),\"\",'Trust - Frontsheet'!F9)))","v":""}]
[{"$f":"IF('Trust - Frontsheet'!D182=0,\"\",IF('Trust - Frontsheet'!D182=\"\",\"\",'Trust - Frontsheet'!D182))","v":""},{"$f":"IF(ISBLANK('Trust - Frontsheet'!E182),\"\",'Trust - Frontsheet'!E182)","v":""},{"$f":"IF(ISBLANK('Trust - Frontsheet'!F182),\"\",\"'\" & 'Trust - Frontsheet'!F182 & \"'\")","v":""},{"$f":"IF(ISBLANK('Trust - Frontsheet'!G182),\"\",'Trust - Frontsheet'!G182)","v":""},{"$f":"IF(ISBLANK('Trust - Frontsheet'!H182),\"\",'Trust - Frontsheet'!H182)","v":""},{"$f":"'Trust - Frontsheet'!I182","v":0},{"$f":"'Trust - Frontsheet'!J182","v":0},{"$f":"'Trust - Frontsheet'!K182","v":0},{"$f":"'Trust - Frontsheet'!L182","v":0},{"$f":"'Trust - Frontsheet'!M182","v":0},{"$f":"'Trust - Frontsheet'!N182","v":0},{"$f":"'Trust - Frontsheet'!O182","v":0},{"$f":"'Trust - Frontsheet'!P182","v":0},{"$f":"'Trust - Frontsheet'!Q182","v":0},{"$f":"'Trust - Frontsheet'!R182","v":0},{"$f":"'Trust - Frontsheet'!S182","v":0},{"$f":"'Trust - Frontsheet'!T182","v":0},{"$f":"IF(OR('Trust - Frontsheet'!AA182=\"\",'Trust - Frontsheet'!AA182=\"-\"),0,('Trust - Frontsheet'!AA182))","v":0},{"$f":"IF(OR('Trust - Frontsheet'!AB182=\"\",'Trust - Frontsheet'!AB182=\"-\"),0,('Trust - Frontsheet'!AB182))","v":0},{"$f":"IF(OR('Trust - Frontsheet'!AC182=\"\",'Trust - Frontsheet'!AC182=\"-\"),0,('Trust - Frontsheet'!AC182))","v":0},{"$f":"IF(OR('Trust - Frontsheet'!AD182=\"\",'Trust - Frontsheet'!AD182=\"-\"),0,('Trust - Frontsheet'!AD182))","v":0},{"$f":"IF(OR('Trust - Frontsheet'!AE182=\"\",'Trust - Frontsheet'!AE182=\"-\"),0,('Trust - Frontsheet'!AE182))","v":0},{"$f":"IF(OR('Trust - Frontsheet'!AF182=\"\",'Trust - Frontsheet'!AF182=\"-\"),0,('Trust - Frontsheet'!AF182))","v":0},{"$f":"'Trust - Frontsheet'!U182","v":0},{"$f":"IF(OR('Trust - Frontsheet'!V182=\"\",'Trust - Frontsheet'!V182=\"-\"),0,('Trust - Frontsheet'!V182))","v":0},{"$f":"IF(OR('Trust - Frontsheet'!W182=\"\",'Trust - Frontsheet'!W182=\"-\"),0,('Trust - Frontsheet'!W182))","v":0},{"$f":"IF(OR('Trust - Frontsheet'!X182=\"\",'Trust - Frontsheet'!X182=\"-\"),0,('Trust - Frontsheet'!X182))","v":0},{"$f":"IF(OR('Trust - Frontsheet'!Y182=\"\",'Trust - Frontsheet'!Y182=\"-\"),0,('Trust - Frontsheet'!Y182))","v":0},{"$f":"IF(OR('Trust - Frontsheet'!Z182=\"\",'Trust - Frontsheet'!Z182=\"-\"),0,('Trust - Frontsheet'!Z182))","v":0},{"$f":"IF(A170=\"\",\"\",(IF(ISBLANK('Trust - Frontsheet'!F9),\"\",'Trust - Frontsheet'!F9)))","v":""}]
[{"$f":"IF('Trust - Frontsheet'!D183=0,\"\",IF('Trust - Frontsheet'!D183=\"\",\"\",'Trust - Frontsheet'!D183))","v":""},{"$f":"IF(ISBLANK('Trust - Frontsheet'!E183),\"\",'Trust - Frontsheet'!E183)","v":""},{"$f":"IF(ISBLANK('Trust - Frontsheet'!F183),\"\",\"'\" & 'Trust - Frontsheet'!F183 & \"'\")","v":""},{"$f":"IF(ISBLANK('Trust - Frontsheet'!G183),\"\",'Trust - Frontsheet'!G183)","v":""},{"$f":"IF(ISBLANK('Trust - Frontsheet'!H183),\"\",'Trust - Frontsheet'!H183)","v":""},{"$f":"'Trust - Frontsheet'!I183","v":0},{"$f":"'Trust - Frontsheet'!J183","v":0},{"$f":"'Trust - Frontsheet'!K183","v":0},{"$f":"'Trust - Frontsheet'!L183","v":0},{"$f":"'Trust - Frontsheet'!M183","v":0},{"$f":"'Trust - Frontsheet'!N183","v":0},{"$f":"'Trust - Frontsheet'!O183","v":0},{"$f":"'Trust - Frontsheet'!P183","v":0},{"$f":"'Trust - Frontsheet'!Q183","v":0},{"$f":"'Trust - Frontsheet'!R183","v":0},{"$f":"'Trust - Frontsheet'!S183","v":0},{"$f":"'Trust - Frontsheet'!T183","v":0},{"$f":"IF(OR('Trust - Frontsheet'!AA183=\"\",'Trust - Frontsheet'!AA183=\"-\"),0,('Trust - Frontsheet'!AA183))","v":0},{"$f":"IF(OR('Trust - Frontsheet'!AB183=\"\",'Trust - Frontsheet'!AB183=\"-\"),0,('Trust - Frontsheet'!AB183))","v":0},{"$f":"IF(OR('Trust - Frontsheet'!AC183=\"\",'Trust - Frontsheet'!AC183=\"-\"),0,('Trust - Frontsheet'!AC183))","v":0},{"$f":"IF(OR('Trust - Frontsheet'!AD183=\"\",'Trust - Frontsheet'!AD183=\"-\"),0,('Trust - Frontsheet'!AD183))","v":0},{"$f":"IF(OR('Trust - Frontsheet'!AE183=\"\",'Trust - Frontsheet'!AE183=\"-\"),0,('Trust - Frontsheet'!AE183))","v":0},{"$f":"IF(OR('Trust - Frontsheet'!AF183=\"\",'Trust - Frontsheet'!AF183=\"-\"),0,('Trust - Frontsheet'!AF183))","v":0},{"$f":"'Trust - Frontsheet'!U183","v":0},{"$f":"IF(OR('Trust - Frontsheet'!V183=\"\",'Trust - Frontsheet'!V183=\"-\"),0,('Trust - Frontsheet'!V183))","v":0},{"$f":"IF(OR('Trust - Frontsheet'!W183=\"\",'Trust - Frontsheet'!W183=\"-\"),0,('Trust - Frontsheet'!W183))","v":0},{"$f":"IF(OR('Trust - Frontsheet'!X183=\"\",'Trust - Frontsheet'!X183=\"-\"),0,('Trust - Frontsheet'!X183))","v":0},{"$f":"IF(OR('Trust - Frontsheet'!Y183=\"\",'Trust - Frontsheet'!Y183=\"-\"),0,('Trust - Frontsheet'!Y183))","v":0},{"$f":"IF(OR('Trust - Frontsheet'!Z183=\"\",'Trust - Frontsheet'!Z183=\"-\"),0,('Trust - Frontsheet'!Z183))","v":0},{"$f":"IF(A171=\"\",\"\",(IF(ISBLANK('Trust - Frontsheet'!F9),\"\",'Trust - Frontsheet'!F9)))","v":""}]
[{"$f":"IF('Trust - Frontsheet'!D184=0,\"\",IF('Trust - Frontsheet'!D184=\"\",\"\",'Trust - Frontsheet'!D184))","v":""},{"$f":"IF(ISBLANK('Trust - Frontsheet'!E184),\"\",'Trust - Frontsheet'!E184)","v":""},{"$f":"IF(ISBLANK('Trust - Frontsheet'!F184),\"\",\"'\" & 'Trust - Frontsheet'!F184 & \"'\")","v":""},{"$f":"IF(ISBLANK('Trust - Frontsheet'!G184),\"\",'Trust - Frontsheet'!G184)","v":""},{"$f":"IF(ISBLANK('Trust - Frontsheet'!H184),\"\",'Trust - Frontsheet'!H184)","v":""},{"$f":"'Trust - Frontsheet'!I184","v":0},{"$f":"'Trust - Frontsheet'!J184","v":0},{"$f":"'Trust - Frontsheet'!K184","v":0},{"$f":"'Trust - Frontsheet'!L184","v":0},{"$f":"'Trust - Frontsheet'!M184","v":0},{"$f":"'Trust - Frontsheet'!N184","v":0},{"$f":"'Trust - Frontsheet'!O184","v":0},{"$f":"'Trust - Frontsheet'!P184","v":0},{"$f":"'Trust - Frontsheet'!Q184","v":0},{"$f":"'Trust - Frontsheet'!R184","v":0},{"$f":"'Trust - Frontsheet'!S184","v":0},{"$f":"'Trust - Frontsheet'!T184","v":0},{"$f":"IF(OR('Trust - Frontsheet'!AA184=\"\",'Trust - Frontsheet'!AA184=\"-\"),0,('Trust - Frontsheet'!AA184))","v":0},{"$f":"IF(OR('Trust - Frontsheet'!AB184=\"\",'Trust - Frontsheet'!AB184=\"-\"),0,('Trust - Frontsheet'!AB184))","v":0},{"$f":"IF(OR('Trust - Frontsheet'!AC184=\"\",'Trust - Frontsheet'!AC184=\"-\"),0,('Trust - Frontsheet'!AC184))","v":0},{"$f":"IF(OR('Trust - Frontsheet'!AD184=\"\",'Trust - Frontsheet'!AD184=\"-\"),0,('Trust - Frontsheet'!AD184))","v":0},{"$f":"IF(OR('Trust - Frontsheet'!AE184=\"\",'Trust - Frontsheet'!AE184=\"-\"),0,('Trust - Frontsheet'!AE184))","v":0},{"$f":"IF(OR('Trust - Frontsheet'!AF184=\"\",'Trust - Frontsheet'!AF184=\"-\"),0,('Trust - Frontsheet'!AF184))","v":0},{"$f":"'Trust - Frontsheet'!U184","v":0},{"$f":"IF(OR('Trust - Frontsheet'!V184=\"\",'Trust - Frontsheet'!V184=\"-\"),0,('Trust - Frontsheet'!V184))","v":0},{"$f":"IF(OR('Trust - Frontsheet'!W184=\"\",'Trust - Frontsheet'!W184=\"-\"),0,('Trust - Frontsheet'!W184))","v":0},{"$f":"IF(OR('Trust - Frontsheet'!X184=\"\",'Trust - Frontsheet'!X184=\"-\"),0,('Trust - Frontsheet'!X184))","v":0},{"$f":"IF(OR('Trust - Frontsheet'!Y184=\"\",'Trust - Frontsheet'!Y184=\"-\"),0,('Trust - Frontsheet'!Y184))","v":0},{"$f":"IF(OR('Trust - Frontsheet'!Z184=\"\",'Trust - Frontsheet'!Z184=\"-\"),0,('Trust - Frontsheet'!Z184))","v":0},{"$f":"IF(A172=\"\",\"\",(IF(ISBLANK('Trust - Frontsheet'!F9),\"\",'Trust - Frontsheet'!F9)))","v":""}]
[{"$f":"IF('Trust - Frontsheet'!D185=0,\"\",IF('Trust - Frontsheet'!D185=\"\",\"\",'Trust - Frontsheet'!D185))","v":""},{"$f":"IF(ISBLANK('Trust - Frontsheet'!E185),\"\",'Trust - Frontsheet'!E185)","v":""},{"$f":"IF(ISBLANK('Trust - Frontsheet'!F185),\"\",\"'\" & 'Trust - Frontsheet'!F185 & \"'\")","v":""},{"$f":"IF(ISBLANK('Trust - Frontsheet'!G185),\"\",'Trust - Frontsheet'!G185)","v":""},{"$f":"IF(ISBLANK('Trust - Frontsheet'!H185),\"\",'Trust - Frontsheet'!H185)","v":""},{"$f":"'Trust - Frontsheet'!I185","v":0},{"$f":"'Trust - Frontsheet'!J185","v":0},{"$f":"'Trust - Frontsheet'!K185","v":0},{"$f":"'Trust - Frontsheet'!L185","v":0},{"$f":"'Trust - Frontsheet'!M185","v":0},{"$f":"'Trust - Frontsheet'!N185","v":0},{"$f":"'Trust - Frontsheet'!O185","v":0},{"$f":"'Trust - Frontsheet'!P185","v":0},{"$f":"'Trust - Frontsheet'!Q185","v":0},{"$f":"'Trust - Frontsheet'!R185","v":0},{"$f":"'Trust - Frontsheet'!S185","v":0},{"$f":"'Trust - Frontsheet'!T185","v":0},{"$f":"IF(OR('Trust - Frontsheet'!AA185=\"\",'Trust - Frontsheet'!AA185=\"-\"),0,('Trust - Frontsheet'!AA185))","v":0},{"$f":"IF(OR('Trust - Frontsheet'!AB185=\"\",'Trust - Frontsheet'!AB185=\"-\"),0,('Trust - Frontsheet'!AB185))","v":0},{"$f":"IF(OR('Trust - Frontsheet'!AC185=\"\",'Trust - Frontsheet'!AC185=\"-\"),0,('Trust - Frontsheet'!AC185))","v":0},{"$f":"IF(OR('Trust - Frontsheet'!AD185=\"\",'Trust - Frontsheet'!AD185=\"-\"),0,('Trust - Frontsheet'!AD185))","v":0},{"$f":"IF(OR('Trust - Frontsheet'!AE185=\"\",'Trust - Frontsheet'!AE185=\"-\"),0,('Trust - Frontsheet'!AE185))","v":0},{"$f":"IF(OR('Trust - Frontsheet'!AF185=\"\",'Trust - Frontsheet'!AF185=\"-\"),0,('Trust - Frontsheet'!AF185))","v":0},{"$f":"'Trust - Frontsheet'!U185","v":0},{"$f":"IF(OR('Trust - Frontsheet'!V185=\"\",'Trust - Frontsheet'!V185=\"-\"),0,('Trust - Frontsheet'!V185))","v":0},{"$f":"IF(OR('Trust - Frontsheet'!W185=\"\",'Trust - Frontsheet'!W185=\"-\"),0,('Trust - Frontsheet'!W185))","v":0},{"$f":"IF(OR('Trust - Frontsheet'!X185=\"\",'Trust - Frontsheet'!X185=\"-\"),0,('Trust - Frontsheet'!X185))","v":0},{"$f":"IF(OR('Trust - Frontsheet'!Y185=\"\",'Trust - Frontsheet'!Y185=\"-\"),0,('Trust - Frontsheet'!Y185))","v":0},{"$f":"IF(OR('Trust - Frontsheet'!Z185=\"\",'Trust - Frontsheet'!Z185=\"-\"),0,('Trust - Frontsheet'!Z185))","v":0},{"$f":"IF(A173=\"\",\"\",(IF(ISBLANK('Trust - Frontsheet'!F9),\"\",'Trust - Frontsheet'!F9)))","v":""}]
[{"$f":"IF('Trust - Frontsheet'!D186=0,\"\",IF('Trust - Frontsheet'!D186=\"\",\"\",'Trust - Frontsheet'!D186))","v":""},{"$f":"IF(ISBLANK('Trust - Frontsheet'!E186),\"\",'Trust - Frontsheet'!E186)","v":""},{"$f":"IF(ISBLANK('Trust - Frontsheet'!F186),\"\",\"'\" & 'Trust - Frontsheet'!F186 & \"'\")","v":""},{"$f":"IF(ISBLANK('Trust - Frontsheet'!G186),\"\",'Trust - Frontsheet'!G186)","v":""},{"$f":"IF(ISBLANK('Trust - Frontsheet'!H186),\"\",'Trust - Frontsheet'!H186)","v":""},{"$f":"'Trust - Frontsheet'!I186","v":0},{"$f":"'Trust - Frontsheet'!J186","v":0},{"$f":"'Trust - Frontsheet'!K186","v":0},{"$f":"'Trust - Frontsheet'!L186","v":0},{"$f":"'Trust - Frontsheet'!M186","v":0},{"$f":"'Trust - Frontsheet'!N186","v":0},{"$f":"'Trust - Frontsheet'!O186","v":0},{"$f":"'Trust - Frontsheet'!P186","v":0},{"$f":"'Trust - Frontsheet'!Q186","v":0},{"$f":"'Trust - Frontsheet'!R186","v":0},{"$f":"'Trust - Frontsheet'!S186","v":0},{"$f":"'Trust - Frontsheet'!T186","v":0},{"$f":"IF(OR('Trust - Frontsheet'!AA186=\"\",'Trust - Frontsheet'!AA186=\"-\"),0,('Trust - Frontsheet'!AA186))","v":0},{"$f":"IF(OR('Trust - Frontsheet'!AB186=\"\",'Trust - Frontsheet'!AB186=\"-\"),0,('Trust - Frontsheet'!AB186))","v":0},{"$f":"IF(OR('Trust - Frontsheet'!AC186=\"\",'Trust - Frontsheet'!AC186=\"-\"),0,('Trust - Frontsheet'!AC186))","v":0},{"$f":"IF(OR('Trust - Frontsheet'!AD186=\"\",'Trust - Frontsheet'!AD186=\"-\"),0,('Trust - Frontsheet'!AD186))","v":0},{"$f":"IF(OR('Trust - Frontsheet'!AE186=\"\",'Trust - Frontsheet'!AE186=\"-\"),0,('Trust - Frontsheet'!AE186))","v":0},{"$f":"IF(OR('Trust - Frontsheet'!AF186=\"\",'Trust - Frontsheet'!AF186=\"-\"),0,('Trust - Frontsheet'!AF186))","v":0},{"$f":"'Trust - Frontsheet'!U186","v":0},{"$f":"IF(OR('Trust - Frontsheet'!V186=\"\",'Trust - Frontsheet'!V186=\"-\"),0,('Trust - Frontsheet'!V186))","v":0},{"$f":"IF(OR('Trust - Frontsheet'!W186=\"\",'Trust - Frontsheet'!W186=\"-\"),0,('Trust - Frontsheet'!W186))","v":0},{"$f":"IF(OR('Trust - Frontsheet'!X186=\"\",'Trust - Frontsheet'!X186=\"-\"),0,('Trust - Frontsheet'!X186))","v":0},{"$f":"IF(OR('Trust - Frontsheet'!Y186=\"\",'Trust - Frontsheet'!Y186=\"-\"),0,('Trust - Frontsheet'!Y186))","v":0},{"$f":"IF(OR('Trust - Frontsheet'!Z186=\"\",'Trust - Frontsheet'!Z186=\"-\"),0,('Trust - Frontsheet'!Z186))","v":0},{"$f":"IF(A174=\"\",\"\",(IF(ISBLANK('Trust - Frontsheet'!F9),\"\",'Trust - Frontsheet'!F9)))","v":""}]
[{"$f":"IF('Trust - Frontsheet'!D187=0,\"\",IF('Trust - Frontsheet'!D187=\"\",\"\",'Trust - Frontsheet'!D187))","v":""},{"$f":"IF(ISBLANK('Trust - Frontsheet'!E187),\"\",'Trust - Frontsheet'!E187)","v":""},{"$f":"IF(ISBLANK('Trust - Frontsheet'!F187),\"\",\"'\" & 'Trust - Frontsheet'!F187 & \"'\")","v":""},{"$f":"IF(ISBLANK('Trust - Frontsheet'!G187),\"\",'Trust - Frontsheet'!G187)","v":""},{"$f":"IF(ISBLANK('Trust - Frontsheet'!H187),\"\",'Trust - Frontsheet'!H187)","v":""},{"$f":"'Trust - Frontsheet'!I187","v":0},{"$f":"'Trust - Frontsheet'!J187","v":0},{"$f":"'Trust - Frontsheet'!K187","v":0},{"$f":"'Trust - Frontsheet'!L187","v":0},{"$f":"'Trust - Frontsheet'!M187","v":0},{"$f":"'Trust - Frontsheet'!N187","v":0},{"$f":"'Trust - Frontsheet'!O187","v":0},{"$f":"'Trust - Frontsheet'!P187","v":0},{"$f":"'Trust - Frontsheet'!Q187","v":0},{"$f":"'Trust - Frontsheet'!R187","v":0},{"$f":"'Trust - Frontsheet'!S187","v":0},{"$f":"'Trust - Frontsheet'!T187","v":0},{"$f":"IF(OR('Trust - Frontsheet'!AA187=\"\",'Trust - Frontsheet'!AA187=\"-\"),0,('Trust - Frontsheet'!AA187))","v":0},{"$f":"IF(OR('Trust - Frontsheet'!AB187=\"\",'Trust - Frontsheet'!AB187=\"-\"),0,('Trust - Frontsheet'!AB187))","v":0},{"$f":"IF(OR('Trust - Frontsheet'!AC187=\"\",'Trust - Frontsheet'!AC187=\"-\"),0,('Trust - Frontsheet'!AC187))","v":0},{"$f":"IF(OR('Trust - Frontsheet'!AD187=\"\",'Trust - Frontsheet'!AD187=\"-\"),0,('Trust - Frontsheet'!AD187))","v":0},{"$f":"IF(OR('Trust - Frontsheet'!AE187=\"\",'Trust - Frontsheet'!AE187=\"-\"),0,('Trust - Frontsheet'!AE187))","v":0},{"$f":"IF(OR('Trust - Frontsheet'!AF187=\"\",'Trust - Frontsheet'!AF187=\"-\"),0,('Trust - Frontsheet'!AF187))","v":0},{"$f":"'Trust - Frontsheet'!U187","v":0},{"$f":"IF(OR('Trust - Frontsheet'!V187=\"\",'Trust - Frontsheet'!V187=\"-\"),0,('Trust - Frontsheet'!V187))","v":0},{"$f":"IF(OR('Trust - Frontsheet'!W187=\"\",'Trust - Frontsheet'!W187=\"-\"),0,('Trust - Frontsheet'!W187))","v":0},{"$f":"IF(OR('Trust - Frontsheet'!X187=\"\",'Trust - Frontsheet'!X187=\"-\"),0,('Trust - Frontsheet'!X187))","v":0},{"$f":"IF(OR('Trust - Frontsheet'!Y187=\"\",'Trust - Frontsheet'!Y187=\"-\"),0,('Trust - Frontsheet'!Y187))","v":0},{"$f":"IF(OR('Trust - Frontsheet'!Z187=\"\",'Trust - Frontsheet'!Z187=\"-\"),0,('Trust - Frontsheet'!Z187))","v":0},{"$f":"IF(A175=\"\",\"\",(IF(ISBLANK('Trust - Frontsheet'!F9),\"\",'Trust - Frontsheet'!F9)))","v":""}]
[{"$f":"IF('Trust - Frontsheet'!D188=0,\"\",IF('Trust - Frontsheet'!D188=\"\",\"\",'Trust - Frontsheet'!D188))","v":""},{"$f":"IF(ISBLANK('Trust - Frontsheet'!E188),\"\",'Trust - Frontsheet'!E188)","v":""},{"$f":"IF(ISBLANK('Trust - Frontsheet'!F188),\"\",\"'\" & 'Trust - Frontsheet'!F188 & \"'\")","v":""},{"$f":"IF(ISBLANK('Trust - Frontsheet'!G188),\"\",'Trust - Frontsheet'!G188)","v":""},{"$f":"IF(ISBLANK('Trust - Frontsheet'!H188),\"\",'Trust - Frontsheet'!H188)","v":""},{"$f":"'Trust - Frontsheet'!I188","v":0},{"$f":"'Trust - Frontsheet'!J188","v":0},{"$f":"'Trust - Frontsheet'!K188","v":0},{"$f":"'Trust - Frontsheet'!L188","v":0},{"$f":"'Trust - Frontsheet'!M188","v":0},{"$f":"'Trust - Frontsheet'!N188","v":0},{"$f":"'Trust - Frontsheet'!O188","v":0},{"$f":"'Trust - Frontsheet'!P188","v":0},{"$f":"'Trust - Frontsheet'!Q188","v":0},{"$f":"'Trust - Frontsheet'!R188","v":0},{"$f":"'Trust - Frontsheet'!S188","v":0},{"$f":"'Trust - Frontsheet'!T188","v":0},{"$f":"IF(OR('Trust - Frontsheet'!AA188=\"\",'Trust - Frontsheet'!AA188=\"-\"),0,('Trust - Frontsheet'!AA188))","v":0},{"$f":"IF(OR('Trust - Frontsheet'!AB188=\"\",'Trust - Frontsheet'!AB188=\"-\"),0,('Trust - Frontsheet'!AB188))","v":0},{"$f":"IF(OR('Trust - Frontsheet'!AC188=\"\",'Trust - Frontsheet'!AC188=\"-\"),0,('Trust - Frontsheet'!AC188))","v":0},{"$f":"IF(OR('Trust - Frontsheet'!AD188=\"\",'Trust - Frontsheet'!AD188=\"-\"),0,('Trust - Frontsheet'!AD188))","v":0},{"$f":"IF(OR('Trust - Frontsheet'!AE188=\"\",'Trust - Frontsheet'!AE188=\"-\"),0,('Trust - Frontsheet'!AE188))","v":0},{"$f":"IF(OR('Trust - Frontsheet'!AF188=\"\",'Trust - Frontsheet'!AF188=\"-\"),0,('Trust - Frontsheet'!AF188))","v":0},{"$f":"'Trust - Frontsheet'!U188","v":0},{"$f":"IF(OR('Trust - Frontsheet'!V188=\"\",'Trust - Frontsheet'!V188=\"-\"),0,('Trust - Frontsheet'!V188))","v":0},{"$f":"IF(OR('Trust - Frontsheet'!W188=\"\",'Trust - Frontsheet'!W188=\"-\"),0,('Trust - Frontsheet'!W188))","v":0},{"$f":"IF(OR('Trust - Frontsheet'!X188=\"\",'Trust - Frontsheet'!X188=\"-\"),0,('Trust - Frontsheet'!X188))","v":0},{"$f":"IF(OR('Trust - Frontsheet'!Y188=\"\",'Trust - Frontsheet'!Y188=\"-\"),0,('Trust - Frontsheet'!Y188))","v":0},{"$f":"IF(OR('Trust - Frontsheet'!Z188=\"\",'Trust - Frontsheet'!Z188=\"-\"),0,('Trust - Frontsheet'!Z188))","v":0},{"$f":"IF(A176=\"\",\"\",(IF(ISBLANK('Trust - Frontsheet'!F9),\"\",'Trust - Frontsheet'!F9)))","v":""}]
[{"$f":"IF('Trust - Frontsheet'!D189=0,\"\",IF('Trust - Frontsheet'!D189=\"\",\"\",'Trust - Frontsheet'!D189))","v":""},{"$f":"IF(ISBLANK('Trust - Frontsheet'!E189),\"\",'Trust - Frontsheet'!E189)","v":""},{"$f":"IF(ISBLANK('Trust - Frontsheet'!F189),\"\",\"'\" & 'Trust - Frontsheet'!F189 & \"'\")","v":""},{"$f":"IF(ISBLANK('Trust - Frontsheet'!G189),\"\",'Trust - Frontsheet'!G189)","v":""},{"$f":"IF(ISBLANK('Trust - Frontsheet'!H189),\"\",'Trust - Frontsheet'!H189)","v":""},{"$f":"'Trust - Frontsheet'!I189","v":0},{"$f":"'Trust - Frontsheet'!J189","v":0},{"$f":"'Trust - Frontsheet'!K189","v":0},{"$f":"'Trust - Frontsheet'!L189","v":0},{"$f":"'Trust - Frontsheet'!M189","v":0},{"$f":"'Trust - Frontsheet'!N189","v":0},{"$f":"'Trust - Frontsheet'!O189","v":0},{"$f":"'Trust - Frontsheet'!P189","v":0},{"$f":"'Trust - Frontsheet'!Q189","v":0},{"$f":"'Trust - Frontsheet'!R189","v":0},{"$f":"'Trust - Frontsheet'!S189","v":0},{"$f":"'Trust - Frontsheet'!T189","v":0},{"$f":"IF(OR('Trust - Frontsheet'!AA189=\"\",'Trust - Frontsheet'!AA189=\"-\"),0,('Trust - Frontsheet'!AA189))","v":0},{"$f":"IF(OR('Trust - Frontsheet'!AB189=\"\",'Trust - Frontsheet'!AB189=\"-\"),0,('Trust - Frontsheet'!AB189))","v":0},{"$f":"IF(OR('Trust - Frontsheet'!AC189=\"\",'Trust - Frontsheet'!AC189=\"-\"),0,('Trust - Frontsheet'!AC189))","v":0},{"$f":"IF(OR('Trust - Frontsheet'!AD189=\"\",'Trust - Frontsheet'!AD189=\"-\"),0,('Trust - Frontsheet'!AD189))","v":0},{"$f":"IF(OR('Trust - Frontsheet'!AE189=\"\",'Trust - Frontsheet'!AE189=\"-\"),0,('Trust - Frontsheet'!AE189))","v":0},{"$f":"IF(OR('Trust - Frontsheet'!AF189=\"\",'Trust - Frontsheet'!AF189=\"-\"),0,('Trust - Frontsheet'!AF189))","v":0},{"$f":"'Trust - Frontsheet'!U189","v":0},{"$f":"IF(OR('Trust - Frontsheet'!V189=\"\",'Trust - Frontsheet'!V189=\"-\"),0,('Trust - Frontsheet'!V189))","v":0},{"$f":"IF(OR('Trust - Frontsheet'!W189=\"\",'Trust - Frontsheet'!W189=\"-\"),0,('Trust - Frontsheet'!W189))","v":0},{"$f":"IF(OR('Trust - Frontsheet'!X189=\"\",'Trust - Frontsheet'!X189=\"-\"),0,('Trust - Frontsheet'!X189))","v":0},{"$f":"IF(OR('Trust - Frontsheet'!Y189=\"\",'Trust - Frontsheet'!Y189=\"-\"),0,('Trust - Frontsheet'!Y189))","v":0},{"$f":"IF(OR('Trust - Frontsheet'!Z189=\"\",'Trust - Frontsheet'!Z189=\"-\"),0,('Trust - Frontsheet'!Z189))","v":0},{"$f":"IF(A177=\"\",\"\",(IF(ISBLANK('Trust - Frontsheet'!F9),\"\",'Trust - Frontsheet'!F9)))","v":""}]
[{"$f":"IF('Trust - Frontsheet'!D190=0,\"\",IF('Trust - Frontsheet'!D190=\"\",\"\",'Trust - Frontsheet'!D190))","v":""},{"$f":"IF(ISBLANK('Trust - Frontsheet'!E190),\"\",'Trust - Frontsheet'!E190)","v":""},{"$f":"IF(ISBLANK('Trust - Frontsheet'!F190),\"\",\"'\" & 'Trust - Frontsheet'!F190 & \"'\")","v":""},{"$f":"IF(ISBLANK('Trust - Frontsheet'!G190),\"\",'Trust - Frontsheet'!G190)","v":""},{"$f":"IF(ISBLANK('Trust - Frontsheet'!H190),\"\",'Trust - Frontsheet'!H190)","v":""},{"$f":"'Trust - Frontsheet'!I190","v":0},{"$f":"'Trust - Frontsheet'!J190","v":0},{"$f":"'Trust - Frontsheet'!K190","v":0},{"$f":"'Trust - Frontsheet'!L190","v":0},{"$f":"'Trust - Frontsheet'!M190","v":0},{"$f":"'Trust - Frontsheet'!N190","v":0},{"$f":"'Trust - Frontsheet'!O190","v":0},{"$f":"'Trust - Frontsheet'!P190","v":0},{"$f":"'Trust - Frontsheet'!Q190","v":0},{"$f":"'Trust - Frontsheet'!R190","v":0},{"$f":"'Trust - Frontsheet'!S190","v":0},{"$f":"'Trust - Frontsheet'!T190","v":0},{"$f":"IF(OR('Trust - Frontsheet'!AA190=\"\",'Trust - Frontsheet'!AA190=\"-\"),0,('Trust - Frontsheet'!AA190))","v":0},{"$f":"IF(OR('Trust - Frontsheet'!AB190=\"\",'Trust - Frontsheet'!AB190=\"-\"),0,('Trust - Frontsheet'!AB190))","v":0},{"$f":"IF(OR('Trust - Frontsheet'!AC190=\"\",'Trust - Frontsheet'!AC190=\"-\"),0,('Trust - Frontsheet'!AC190))","v":0},{"$f":"IF(OR('Trust - Frontsheet'!AD190=\"\",'Trust - Frontsheet'!AD190=\"-\"),0,('Trust - Frontsheet'!AD190))","v":0},{"$f":"IF(OR('Trust - Frontsheet'!AE190=\"\",'Trust - Frontsheet'!AE190=\"-\"),0,('Trust - Frontsheet'!AE190))","v":0},{"$f":"IF(OR('Trust - Frontsheet'!AF190=\"\",'Trust - Frontsheet'!AF190=\"-\"),0,('Trust - Frontsheet'!AF190))","v":0},{"$f":"'Trust - Frontsheet'!U190","v":0},{"$f":"IF(OR('Trust - Frontsheet'!V190=\"\",'Trust - Frontsheet'!V190=\"-\"),0,('Trust - Frontsheet'!V190))","v":0},{"$f":"IF(OR('Trust - Frontsheet'!W190=\"\",'Trust - Frontsheet'!W190=\"-\"),0,('Trust - Frontsheet'!W190))","v":0},{"$f":"IF(OR('Trust - Frontsheet'!X190=\"\",'Trust - Frontsheet'!X190=\"-\"),0,('Trust - Frontsheet'!X190))","v":0},{"$f":"IF(OR('Trust - Frontsheet'!Y190=\"\",'Trust - Frontsheet'!Y190=\"-\"),0,('Trust - Frontsheet'!Y190))","v":0},{"$f":"IF(OR('Trust - Frontsheet'!Z190=\"\",'Trust - Frontsheet'!Z190=\"-\"),0,('Trust - Frontsheet'!Z190))","v":0},{"$f":"IF(A178=\"\",\"\",(IF(ISBLANK('Trust - Frontsheet'!F9),\"\",'Trust - Frontsheet'!F9)))","v":""}]
[{"$f":"IF('Trust - Frontsheet'!D191=0,\"\",IF('Trust - Frontsheet'!D191=\"\",\"\",'Trust - Frontsheet'!D191))","v":""},{"$f":"IF(ISBLANK('Trust - Frontsheet'!E191),\"\",'Trust - Frontsheet'!E191)","v":""},{"$f":"IF(ISBLANK('Trust - Frontsheet'!F191),\"\",\"'\" & 'Trust - Frontsheet'!F191 & \"'\")","v":""},{"$f":"IF(ISBLANK('Trust - Frontsheet'!G191),\"\",'Trust - Frontsheet'!G191)","v":""},{"$f":"IF(ISBLANK('Trust - Frontsheet'!H191),\"\",'Trust - Frontsheet'!H191)","v":""},{"$f":"'Trust - Frontsheet'!I191","v":0},{"$f":"'Trust - Frontsheet'!J191","v":0},{"$f":"'Trust - Frontsheet'!K191","v":0},{"$f":"'Trust - Frontsheet'!L191","v":0},{"$f":"'Trust - Frontsheet'!M191","v":0},{"$f":"'Trust - Frontsheet'!N191","v":0},{"$f":"'Trust - Frontsheet'!O191","v":0},{"$f":"'Trust - Frontsheet'!P191","v":0},{"$f":"'Trust - Frontsheet'!Q191","v":0},{"$f":"'Trust - Frontsheet'!R191","v":0},{"$f":"'Trust - Frontsheet'!S191","v":0},{"$f":"'Trust - Frontsheet'!T191","v":0},{"$f":"IF(OR('Trust - Frontsheet'!AA191=\"\",'Trust - Frontsheet'!AA191=\"-\"),0,('Trust - Frontsheet'!AA191))","v":0},{"$f":"IF(OR('Trust - Frontsheet'!AB191=\"\",'Trust - Frontsheet'!AB191=\"-\"),0,('Trust - Frontsheet'!AB191))","v":0},{"$f":"IF(OR('Trust - Frontsheet'!AC191=\"\",'Trust - Frontsheet'!AC191=\"-\"),0,('Trust - Frontsheet'!AC191))","v":0},{"$f":"IF(OR('Trust - Frontsheet'!AD191=\"\",'Trust - Frontsheet'!AD191=\"-\"),0,('Trust - Frontsheet'!AD191))","v":0},{"$f":"IF(OR('Trust - Frontsheet'!AE191=\"\",'Trust - Frontsheet'!AE191=\"-\"),0,('Trust - Frontsheet'!AE191))","v":0},{"$f":"IF(OR('Trust - Frontsheet'!AF191=\"\",'Trust - Frontsheet'!AF191=\"-\"),0,('Trust - Frontsheet'!AF191))","v":0},{"$f":"'Trust - Frontsheet'!U191","v":0},{"$f":"IF(OR('Trust - Frontsheet'!V191=\"\",'Trust - Frontsheet'!V191=\"-\"),0,('Trust - Frontsheet'!V191))","v":0},{"$f":"IF(OR('Trust - Frontsheet'!W191=\"\",'Trust - Frontsheet'!W191=\"-\"),0,('Trust - Frontsheet'!W191))","v":0},{"$f":"IF(OR('Trust - Frontsheet'!X191=\"\",'Trust - Frontsheet'!X191=\"-\"),0,('Trust - Frontsheet'!X191))","v":0},{"$f":"IF(OR('Trust - Frontsheet'!Y191=\"\",'Trust - Frontsheet'!Y191=\"-\"),0,('Trust - Frontsheet'!Y191))","v":0},{"$f":"IF(OR('Trust - Frontsheet'!Z191=\"\",'Trust - Frontsheet'!Z191=\"-\"),0,('Trust - Frontsheet'!Z191))","v":0},{"$f":"IF(A179=\"\",\"\",(IF(ISBLANK('Trust - Frontsheet'!F9),\"\",'Trust - Frontsheet'!F9)))","v":""}]
[{"$f":"IF('Trust - Frontsheet'!D192=0,\"\",IF('Trust - Frontsheet'!D192=\"\",\"\",'Trust - Frontsheet'!D192))","v":""},{"$f":"IF(ISBLANK('Trust - Frontsheet'!E192),\"\",'Trust - Frontsheet'!E192)","v":""},{"$f":"IF(ISBLANK('Trust - Frontsheet'!F192),\"\",\"'\" & 'Trust - Frontsheet'!F192 & \"'\")","v":""},{"$f":"IF(ISBLANK('Trust - Frontsheet'!G192),\"\",'Trust - Frontsheet'!G192)","v":""},{"$f":"IF(ISBLANK('Trust - Frontsheet'!H192),\"\",'Trust - Frontsheet'!H192)","v":""},{"$f":"'Trust - Frontsheet'!I192","v":0},{"$f":"'Trust - Frontsheet'!J192","v":0},{"$f":"'Trust - Frontsheet'!K192","v":0},{"$f":"'Trust - Frontsheet'!L192","v":0},{"$f":"'Trust - Frontsheet'!M192","v":0},{"$f":"'Trust - Frontsheet'!N192","v":0},{"$f":"'Trust - Frontsheet'!O192","v":0},{"$f":"'Trust - Frontsheet'!P192","v":0},{"$f":"'Trust - Frontsheet'!Q192","v":0},{"$f":"'Trust - Frontsheet'!R192","v":0},{"$f":"'Trust - Frontsheet'!S192","v":0},{"$f":"'Trust - Frontsheet'!T192","v":0},{"$f":"IF(OR('Trust - Frontsheet'!AA192=\"\",'Trust - Frontsheet'!AA192=\"-\"),0,('Trust - Frontsheet'!AA192))","v":0},{"$f":"IF(OR('Trust - Frontsheet'!AB192=\"\",'Trust - Frontsheet'!AB192=\"-\"),0,('Trust - Frontsheet'!AB192))","v":0},{"$f":"IF(OR('Trust - Frontsheet'!AC192=\"\",'Trust - Frontsheet'!AC192=\"-\"),0,('Trust - Frontsheet'!AC192))","v":0},{"$f":"IF(OR('Trust - Frontsheet'!AD192=\"\",'Trust - Frontsheet'!AD192=\"-\"),0,('Trust - Frontsheet'!AD192))","v":0},{"$f":"IF(OR('Trust - Frontsheet'!AE192=\"\",'Trust - Frontsheet'!AE192=\"-\"),0,('Trust - Frontsheet'!AE192))","v":0},{"$f":"IF(OR('Trust - Frontsheet'!AF192=\"\",'Trust - Frontsheet'!AF192=\"-\"),0,('Trust - Frontsheet'!AF192))","v":0},{"$f":"'Trust - Frontsheet'!U192","v":0},{"$f":"IF(OR('Trust - Frontsheet'!V192=\"\",'Trust - Frontsheet'!V192=\"-\"),0,('Trust - Frontsheet'!V192))","v":0},{"$f":"IF(OR('Trust - Frontsheet'!W192=\"\",'Trust - Frontsheet'!W192=\"-\"),0,('Trust - Frontsheet'!W192))","v":0},{"$f":"IF(OR('Trust - Frontsheet'!X192=\"\",'Trust - Frontsheet'!X192=\"-\"),0,('Trust - Frontsheet'!X192))","v":0},{"$f":"IF(OR('Trust - Frontsheet'!Y192=\"\",'Trust - Frontsheet'!Y192=\"-\"),0,('Trust - Frontsheet'!Y192))","v":0},{"$f":"IF(OR('Trust - Frontsheet'!Z192=\"\",'Trust - Frontsheet'!Z192=\"-\"),0,('Trust - Frontsheet'!Z192))","v":0},{"$f":"IF(A180=\"\",\"\",(IF(ISBLANK('Trust - Frontsheet'!F9),\"\",'Trust - Frontsheet'!F9)))","v":""}]
[{"$f":"IF('Trust - Frontsheet'!D193=0,\"\",IF('Trust - Frontsheet'!D193=\"\",\"\",'Trust - Frontsheet'!D193))","v":""},{"$f":"IF(ISBLANK('Trust - Frontsheet'!E193),\"\",'Trust - Frontsheet'!E193)","v":""},{"$f":"IF(ISBLANK('Trust - Frontsheet'!F193),\"\",\"'\" & 'Trust - Frontsheet'!F193 & \"'\")","v":""},{"$f":"IF(ISBLANK('Trust - Frontsheet'!G193),\"\",'Trust - Frontsheet'!G193)","v":""},{"$f":"IF(ISBLANK('Trust - Frontsheet'!H193),\"\",'Trust - Frontsheet'!H193)","v":""},{"$f":"'Trust - Frontsheet'!I193","v":0},{"$f":"'Trust - Frontsheet'!J193","v":0},{"$f":"'Trust - Frontsheet'!K193","v":0},{"$f":"'Trust - Frontsheet'!L193","v":0},{"$f":"'Trust - Frontsheet'!M193","v":0},{"$f":"'Trust - Frontsheet'!N193","v":0},{"$f":"'Trust - Frontsheet'!O193","v":0},{"$f":"'Trust - Frontsheet'!P193","v":0},{"$f":"'Trust - Frontsheet'!Q193","v":0},{"$f":"'Trust - Frontsheet'!R193","v":0},{"$f":"'Trust - Frontsheet'!S193","v":0},{"$f":"'Trust - Frontsheet'!T193","v":0},{"$f":"IF(OR('Trust - Frontsheet'!AA193=\"\",'Trust - Frontsheet'!AA193=\"-\"),0,('Trust - Frontsheet'!AA193))","v":0},{"$f":"IF(OR('Trust - Frontsheet'!AB193=\"\",'Trust - Frontsheet'!AB193=\"-\"),0,('Trust - Frontsheet'!AB193))","v":0},{"$f":"IF(OR('Trust - Frontsheet'!AC193=\"\",'Trust - Frontsheet'!AC193=\"-\"),0,('Trust - Frontsheet'!AC193))","v":0},{"$f":"IF(OR('Trust - Frontsheet'!AD193=\"\",'Trust - Frontsheet'!AD193=\"-\"),0,('Trust - Frontsheet'!AD193))","v":0},{"$f":"IF(OR('Trust - Frontsheet'!AE193=\"\",'Trust - Frontsheet'!AE193=\"-\"),0,('Trust - Frontsheet'!AE193))","v":0},{"$f":"IF(OR('Trust - Frontsheet'!AF193=\"\",'Trust - Frontsheet'!AF193=\"-\"),0,('Trust - Frontsheet'!AF193))","v":0},{"$f":"'Trust - Frontsheet'!U193","v":0},{"$f":"IF(OR('Trust - Frontsheet'!V193=\"\",'Trust - Frontsheet'!V193=\"-\"),0,('Trust - Frontsheet'!V193))","v":0},{"$f":"IF(OR('Trust - Frontsheet'!W193=\"\",'Trust - Frontsheet'!W193=\"-\"),0,('Trust - Frontsheet'!W193))","v":0},{"$f":"IF(OR('Trust - Frontsheet'!X193=\"\",'Trust - Frontsheet'!X193=\"-\"),0,('Trust - Frontsheet'!X193))","v":0},{"$f":"IF(OR('Trust - Frontsheet'!Y193=\"\",'Trust - Frontsheet'!Y193=\"-\"),0,('Trust - Frontsheet'!Y193))","v":0},{"$f":"IF(OR('Trust - Frontsheet'!Z193=\"\",'Trust - Frontsheet'!Z193=\"-\"),0,('Trust - Frontsheet'!Z193))","v":0},{"$f":"IF(A181=\"\",\"\",(IF(ISBLANK('Trust - Frontsheet'!F9),\"\",'Trust - Frontsheet'!F9)))","v":""}]
[{"$f":"IF('Trust - Frontsheet'!D194=0,\"\",IF('Trust - Frontsheet'!D194=\"\",\"\",'Trust - Frontsheet'!D194))","v":""},{"$f":"IF(ISBLANK('Trust - Frontsheet'!E194),\"\",'Trust - Frontsheet'!E194)","v":""},{"$f":"IF(ISBLANK('Trust - Frontsheet'!F194),\"\",\"'\" & 'Trust - Frontsheet'!F194 & \"'\")","v":""},{"$f":"IF(ISBLANK('Trust - Frontsheet'!G194),\"\",'Trust - Frontsheet'!G194)","v":""},{"$f":"IF(ISBLANK('Trust - Frontsheet'!H194),\"\",'Trust - Frontsheet'!H194)","v":""},{"$f":"'Trust - Frontsheet'!I194","v":0},{"$f":"'Trust - Frontsheet'!J194","v":0},{"$f":"'Trust - Frontsheet'!K194","v":0},{"$f":"'Trust - Frontsheet'!L194","v":0},{"$f":"'Trust - Frontsheet'!M194","v":0},{"$f":"'Trust - Frontsheet'!N194","v":0},{"$f":"'Trust - Frontsheet'!O194","v":0},{"$f":"'Trust - Frontsheet'!P194","v":0},{"$f":"'Trust - Frontsheet'!Q194","v":0},{"$f":"'Trust - Frontsheet'!R194","v":0},{"$f":"'Trust - Frontsheet'!S194","v":0},{"$f":"'Trust - Frontsheet'!T194","v":0},{"$f":"IF(OR('Trust - Frontsheet'!AA194=\"\",'Trust - Frontsheet'!AA194=\"-\"),0,('Trust - Frontsheet'!AA194))","v":0},{"$f":"IF(OR('Trust - Frontsheet'!AB194=\"\",'Trust - Frontsheet'!AB194=\"-\"),0,('Trust - Frontsheet'!AB194))","v":0},{"$f":"IF(OR('Trust - Frontsheet'!AC194=\"\",'Trust - Frontsheet'!AC194=\"-\"),0,('Trust - Frontsheet'!AC194))","v":0},{"$f":"IF(OR('Trust - Frontsheet'!AD194=\"\",'Trust - Frontsheet'!AD194=\"-\"),0,('Trust - Frontsheet'!AD194))","v":0},{"$f":"IF(OR('Trust - Frontsheet'!AE194=\"\",'Trust - Frontsheet'!AE194=\"-\"),0,('Trust - Frontsheet'!AE194))","v":0},{"$f":"IF(OR('Trust - Frontsheet'!AF194=\"\",'Trust - Frontsheet'!AF194=\"-\"),0,('Trust - Frontsheet'!AF194))","v":0},{"$f":"'Trust - Frontsheet'!U194","v":0},{"$f":"IF(OR('Trust - Frontsheet'!V194=\"\",'Trust - Frontsheet'!V194=\"-\"),0,('Trust - Frontsheet'!V194))","v":0},{"$f":"IF(OR('Trust - Frontsheet'!W194=\"\",'Trust - Frontsheet'!W194=\"-\"),0,('Trust - Frontsheet'!W194))","v":0},{"$f":"IF(OR('Trust - Frontsheet'!X194=\"\",'Trust - Frontsheet'!X194=\"-\"),0,('Trust - Frontsheet'!X194))","v":0},{"$f":"IF(OR('Trust - Frontsheet'!Y194=\"\",'Trust - Frontsheet'!Y194=\"-\"),0,('Trust - Frontsheet'!Y194))","v":0},{"$f":"IF(OR('Trust - Frontsheet'!Z194=\"\",'Trust - Frontsheet'!Z194=\"-\"),0,('Trust - Frontsheet'!Z194))","v":0},{"$f":"IF(A182=\"\",\"\",(IF(ISBLANK('Trust - Frontsheet'!F9),\"\",'Trust - Frontsheet'!F9)))","v":""}]
[{"$f":"IF('Trust - Frontsheet'!D195=0,\"\",IF('Trust - Frontsheet'!D195=\"\",\"\",'Trust - Frontsheet'!D195))","v":""},{"$f":"IF(ISBLANK('Trust - Frontsheet'!E195),\"\",'Trust - Frontsheet'!E195)","v":""},{"$f":"IF(ISBLANK('Trust - Frontsheet'!F195),\"\",\"'\" & 'Trust - Frontsheet'!F195 & \"'\")","v":""},{"$f":"IF(ISBLANK('Trust - Frontsheet'!G195),\"\",'Trust - Frontsheet'!G195)","v":""},{"$f":"IF(ISBLANK('Trust - Frontsheet'!H195),\"\",'Trust - Frontsheet'!H195)","v":""},{"$f":"'Trust - Frontsheet'!I195","v":0},{"$f":"'Trust - Frontsheet'!J195","v":0},{"$f":"'Trust - Frontsheet'!K195","v":0},{"$f":"'Trust - Frontsheet'!L195","v":0},{"$f":"'Trust - Frontsheet'!M195","v":0},{"$f":"'Trust - Frontsheet'!N195","v":0},{"$f":"'Trust - Frontsheet'!O195","v":0},{"$f":"'Trust - Frontsheet'!P195","v":0},{"$f":"'Trust - Frontsheet'!Q195","v":0},{"$f":"'Trust - Frontsheet'!R195","v":0},{"$f":"'Trust - Frontsheet'!S195","v":0},{"$f":"'Trust - Frontsheet'!T195","v":0},{"$f":"IF(OR('Trust - Frontsheet'!AA195=\"\",'Trust - Frontsheet'!AA195=\"-\"),0,('Trust - Frontsheet'!AA195))","v":0},{"$f":"IF(OR('Trust - Frontsheet'!AB195=\"\",'Trust - Frontsheet'!AB195=\"-\"),0,('Trust - Frontsheet'!AB195))","v":0},{"$f":"IF(OR('Trust - Frontsheet'!AC195=\"\",'Trust - Frontsheet'!AC195=\"-\"),0,('Trust - Frontsheet'!AC195))","v":0},{"$f":"IF(OR('Trust - Frontsheet'!AD195=\"\",'Trust - Frontsheet'!AD195=\"-\"),0,('Trust - Frontsheet'!AD195))","v":0},{"$f":"IF(OR('Trust - Frontsheet'!AE195=\"\",'Trust - Frontsheet'!AE195=\"-\"),0,('Trust - Frontsheet'!AE195))","v":0},{"$f":"IF(OR('Trust - Frontsheet'!AF195=\"\",'Trust - Frontsheet'!AF195=\"-\"),0,('Trust - Frontsheet'!AF195))","v":0},{"$f":"'Trust - Frontsheet'!U195","v":0},{"$f":"IF(OR('Trust - Frontsheet'!V195=\"\",'Trust - Frontsheet'!V195=\"-\"),0,('Trust - Frontsheet'!V195))","v":0},{"$f":"IF(OR('Trust - Frontsheet'!W195=\"\",'Trust - Frontsheet'!W195=\"-\"),0,('Trust - Frontsheet'!W195))","v":0},{"$f":"IF(OR('Trust - Frontsheet'!X195=\"\",'Trust - Frontsheet'!X195=\"-\"),0,('Trust - Frontsheet'!X195))","v":0},{"$f":"IF(OR('Trust - Frontsheet'!Y195=\"\",'Trust - Frontsheet'!Y195=\"-\"),0,('Trust - Frontsheet'!Y195))","v":0},{"$f":"IF(OR('Trust - Frontsheet'!Z195=\"\",'Trust - Frontsheet'!Z195=\"-\"),0,('Trust - Frontsheet'!Z195))","v":0},{"$f":"IF(A183=\"\",\"\",(IF(ISBLANK('Trust - Frontsheet'!F9),\"\",'Trust - Frontsheet'!F9)))","v":""}]
[{"$f":"IF('Trust - Frontsheet'!D196=0,\"\",IF('Trust - Frontsheet'!D196=\"\",\"\",'Trust - Frontsheet'!D196))","v":""},{"$f":"IF(ISBLANK('Trust - Frontsheet'!E196),\"\",'Trust - Frontsheet'!E196)","v":""},{"$f":"IF(ISBLANK('Trust - Frontsheet'!F196),\"\",\"'\" & 'Trust - Frontsheet'!F196 & \"'\")","v":""},{"$f":"IF(ISBLANK('Trust - Frontsheet'!G196),\"\",'Trust - Frontsheet'!G196)","v":""},{"$f":"IF(ISBLANK('Trust - Frontsheet'!H196),\"\",'Trust - Frontsheet'!H196)","v":""},{"$f":"'Trust - Frontsheet'!I196","v":0},{"$f":"'Trust - Frontsheet'!J196","v":0},{"$f":"'Trust - Frontsheet'!K196","v":0},{"$f":"'Trust - Frontsheet'!L196","v":0},{"$f":"'Trust - Frontsheet'!M196","v":0},{"$f":"'Trust - Frontsheet'!N196","v":0},{"$f":"'Trust - Frontsheet'!O196","v":0},{"$f":"'Trust - Frontsheet'!P196","v":0},{"$f":"'Trust - Frontsheet'!Q196","v":0},{"$f":"'Trust - Frontsheet'!R196","v":0},{"$f":"'Trust - Frontsheet'!S196","v":0},{"$f":"'Trust - Frontsheet'!T196","v":0},{"$f":"IF(OR('Trust - Frontsheet'!AA196=\"\",'Trust - Frontsheet'!AA196=\"-\"),0,('Trust - Frontsheet'!AA196))","v":0},{"$f":"IF(OR('Trust - Frontsheet'!AB196=\"\",'Trust - Frontsheet'!AB196=\"-\"),0,('Trust - Frontsheet'!AB196))","v":0},{"$f":"IF(OR('Trust - Frontsheet'!AC196=\"\",'Trust - Frontsheet'!AC196=\"-\"),0,('Trust - Frontsheet'!AC196))","v":0},{"$f":"IF(OR('Trust - Frontsheet'!AD196=\"\",'Trust - Frontsheet'!AD196=\"-\"),0,('Trust - Frontsheet'!AD196))","v":0},{"$f":"IF(OR('Trust - Frontsheet'!AE196=\"\",'Trust - Frontsheet'!AE196=\"-\"),0,('Trust - Frontsheet'!AE196))","v":0},{"$f":"IF(OR('Trust - Frontsheet'!AF196=\"\",'Trust - Frontsheet'!AF196=\"-\"),0,('Trust - Frontsheet'!AF196))","v":0},{"$f":"'Trust - Frontsheet'!U196","v":0},{"$f":"IF(OR('Trust - Frontsheet'!V196=\"\",'Trust - Frontsheet'!V196=\"-\"),0,('Trust - Frontsheet'!V196))","v":0},{"$f":"IF(OR('Trust - Frontsheet'!W196=\"\",'Trust - Frontsheet'!W196=\"-\"),0,('Trust - Frontsheet'!W196))","v":0},{"$f":"IF(OR('Trust - Frontsheet'!X196=\"\",'Trust - Frontsheet'!X196=\"-\"),0,('Trust - Frontsheet'!X196))","v":0},{"$f":"IF(OR('Trust - Frontsheet'!Y196=\"\",'Trust - Frontsheet'!Y196=\"-\"),0,('Trust - Frontsheet'!Y196))","v":0},{"$f":"IF(OR('Trust - Frontsheet'!Z196=\"\",'Trust - Frontsheet'!Z196=\"-\"),0,('Trust - Frontsheet'!Z196))","v":0},{"$f":"IF(A184=\"\",\"\",(IF(ISBLANK('Trust - Frontsheet'!F9),\"\",'Trust - Frontsheet'!F9)))","v":""}]
[{"$f":"IF('Trust - Frontsheet'!D197=0,\"\",IF('Trust - Frontsheet'!D197=\"\",\"\",'Trust - Frontsheet'!D197))","v":""},{"$f":"IF(ISBLANK('Trust - Frontsheet'!E197),\"\",'Trust - Frontsheet'!E197)","v":""},{"$f":"IF(ISBLANK('Trust - Frontsheet'!F197),\"\",\"'\" & 'Trust - Frontsheet'!F197 & \"'\")","v":""},{"$f":"IF(ISBLANK('Trust - Frontsheet'!G197),\"\",'Trust - Frontsheet'!G197)","v":""},{"$f":"IF(ISBLANK('Trust - Frontsheet'!H197),\"\",'Trust - Frontsheet'!H197)","v":""},{"$f":"'Trust - Frontsheet'!I197","v":0},{"$f":"'Trust - Frontsheet'!J197","v":0},{"$f":"'Trust - Frontsheet'!K197","v":0},{"$f":"'Trust - Frontsheet'!L197","v":0},{"$f":"'Trust - Frontsheet'!M197","v":0},{"$f":"'Trust - Frontsheet'!N197","v":0},{"$f":"'Trust - Frontsheet'!O197","v":0},{"$f":"'Trust - Frontsheet'!P197","v":0},{"$f":"'Trust - Frontsheet'!Q197","v":0},{"$f":"'Trust - Frontsheet'!R197","v":0},{"$f":"'Trust - Frontsheet'!S197","v":0},{"$f":"'Trust - Frontsheet'!T197","v":0},{"$f":"IF(OR('Trust - Frontsheet'!AA197=\"\",'Trust - Frontsheet'!AA197=\"-\"),0,('Trust - Frontsheet'!AA197))","v":0},{"$f":"IF(OR('Trust - Frontsheet'!AB197=\"\",'Trust - Frontsheet'!AB197=\"-\"),0,('Trust - Frontsheet'!AB197))","v":0},{"$f":"IF(OR('Trust - Frontsheet'!AC197=\"\",'Trust - Frontsheet'!AC197=\"-\"),0,('Trust - Frontsheet'!AC197))","v":0},{"$f":"IF(OR('Trust - Frontsheet'!AD197=\"\",'Trust - Frontsheet'!AD197=\"-\"),0,('Trust - Frontsheet'!AD197))","v":0},{"$f":"IF(OR('Trust - Frontsheet'!AE197=\"\",'Trust - Frontsheet'!AE197=\"-\"),0,('Trust - Frontsheet'!AE197))","v":0},{"$f":"IF(OR('Trust - Frontsheet'!AF197=\"\",'Trust - Frontsheet'!AF197=\"-\"),0,('Trust - Frontsheet'!AF197))","v":0},{"$f":"'Trust - Frontsheet'!U197","v":0},{"$f":"IF(OR('Trust - Frontsheet'!V197=\"\",'Trust - Frontsheet'!V197=\"-\"),0,('Trust - Frontsheet'!V197))","v":0},{"$f":"IF(OR('Trust - Frontsheet'!W197=\"\",'Trust - Frontsheet'!W197=\"-\"),0,('Trust - Frontsheet'!W197))","v":0},{"$f":"IF(OR('Trust - Frontsheet'!X197=\"\",'Trust - Frontsheet'!X197=\"-\"),0,('Trust - Frontsheet'!X197))","v":0},{"$f":"IF(OR('Trust - Frontsheet'!Y197=\"\",'Trust - Frontsheet'!Y197=\"-\"),0,('Trust - Frontsheet'!Y197))","v":0},{"$f":"IF(OR('Trust - Frontsheet'!Z197=\"\",'Trust - Frontsheet'!Z197=\"-\"),0,('Trust - Frontsheet'!Z197))","v":0},{"$f":"IF(A185=\"\",\"\",(IF(ISBLANK('Trust - Frontsheet'!F9),\"\",'Trust - Frontsheet'!F9)))","v":""}]
[{"$f":"IF('Trust - Frontsheet'!D198=0,\"\",IF('Trust - Frontsheet'!D198=\"\",\"\",'Trust - Frontsheet'!D198))","v":""},{"$f":"IF(ISBLANK('Trust - Frontsheet'!E198),\"\",'Trust - Frontsheet'!E198)","v":""},{"$f":"IF(ISBLANK('Trust - Frontsheet'!F198),\"\",\"'\" & 'Trust - Frontsheet'!F198 & \"'\")","v":""},{"$f":"IF(ISBLANK('Trust - Frontsheet'!G198),\"\",'Trust - Frontsheet'!G198)","v":""},{"$f":"IF(ISBLANK('Trust - Frontsheet'!H198),\"\",'Trust - Frontsheet'!H198)","v":""},{"$f":"'Trust - Frontsheet'!I198","v":0},{"$f":"'Trust - Frontsheet'!J198","v":0},{"$f":"'Trust - Frontsheet'!K198","v":0},{"$f":"'Trust - Frontsheet'!L198","v":0},{"$f":"'Trust - Frontsheet'!M198","v":0},{"$f":"'Trust - Frontsheet'!N198","v":0},{"$f":"'Trust - Frontsheet'!O198","v":0},{"$f":"'Trust - Frontsheet'!P198","v":0},{"$f":"'Trust - Frontsheet'!Q198","v":0},{"$f":"'Trust - Frontsheet'!R198","v":0},{"$f":"'Trust - Frontsheet'!S198","v":0},{"$f":"'Trust - Frontsheet'!T198","v":0},{"$f":"IF(OR('Trust - Frontsheet'!AA198=\"\",'Trust - Frontsheet'!AA198=\"-\"),0,('Trust - Frontsheet'!AA198))","v":0},{"$f":"IF(OR('Trust - Frontsheet'!AB198=\"\",'Trust - Frontsheet'!AB198=\"-\"),0,('Trust - Frontsheet'!AB198))","v":0},{"$f":"IF(OR('Trust - Frontsheet'!AC198=\"\",'Trust - Frontsheet'!AC198=\"-\"),0,('Trust - Frontsheet'!AC198))","v":0},{"$f":"IF(OR('Trust - Frontsheet'!AD198=\"\",'Trust - Frontsheet'!AD198=\"-\"),0,('Trust - Frontsheet'!AD198))","v":0},{"$f":"IF(OR('Trust - Frontsheet'!AE198=\"\",'Trust - Frontsheet'!AE198=\"-\"),0,('Trust - Frontsheet'!AE198))","v":0},{"$f":"IF(OR('Trust - Frontsheet'!AF198=\"\",'Trust - Frontsheet'!AF198=\"-\"),0,('Trust - Frontsheet'!AF198))","v":0},{"$f":"'Trust - Frontsheet'!U198","v":0},{"$f":"IF(OR('Trust - Frontsheet'!V198=\"\",'Trust - Frontsheet'!V198=\"-\"),0,('Trust - Frontsheet'!V198))","v":0},{"$f":"IF(OR('Trust - Frontsheet'!W198=\"\",'Trust - Frontsheet'!W198=\"-\"),0,('Trust - Frontsheet'!W198))","v":0},{"$f":"IF(OR('Trust - Frontsheet'!X198=\"\",'Trust - Frontsheet'!X198=\"-\"),0,('Trust - Frontsheet'!X198))","v":0},{"$f":"IF(OR('Trust - Frontsheet'!Y198=\"\",'Trust - Frontsheet'!Y198=\"-\"),0,('Trust - Frontsheet'!Y198))","v":0},{"$f":"IF(OR('Trust - Frontsheet'!Z198=\"\",'Trust - Frontsheet'!Z198=\"-\"),0,('Trust - Frontsheet'!Z198))","v":0},{"$f":"IF(A186=\"\",\"\",(IF(ISBLANK('Trust - Frontsheet'!F9),\"\",'Trust - Frontsheet'!F9)))","v":""}]
[{"$f":"IF('Trust - Frontsheet'!D199=0,\"\",IF('Trust - Frontsheet'!D199=\"\",\"\",'Trust - Frontsheet'!D199))","v":""},{"$f":"IF(ISBLANK('Trust - Frontsheet'!E199),\"\",'Trust - Frontsheet'!E199)","v":""},{"$f":"IF(ISBLANK('Trust - Frontsheet'!F199),\"\",\"'\" & 'Trust - Frontsheet'!F199 & \"'\")","v":""},{"$f":"IF(ISBLANK('Trust - Frontsheet'!G199),\"\",'Trust - Frontsheet'!G199)","v":""},{"$f":"IF(ISBLANK('Trust - Frontsheet'!H199),\"\",'Trust - Frontsheet'!H199)","v":""},{"$f":"'Trust - Frontsheet'!I199","v":0},{"$f":"'Trust - Frontsheet'!J199","v":0},{"$f":"'Trust - Frontsheet'!K199","v":0},{"$f":"'Trust - Frontsheet'!L199","v":0},{"$f":"'Trust - Frontsheet'!M199","v":0},{"$f":"'Trust - Frontsheet'!N199","v":0},{"$f":"'Trust - Frontsheet'!O199","v":0},{"$f":"'Trust - Frontsheet'!P199","v":0},{"$f":"'Trust - Frontsheet'!Q199","v":0},{"$f":"'Trust - Frontsheet'!R199","v":0},{"$f":"'Trust - Frontsheet'!S199","v":0},{"$f":"'Trust - Frontsheet'!T199","v":0},{"$f":"IF(OR('Trust - Frontsheet'!AA199=\"\",'Trust - Frontsheet'!AA199=\"-\"),0,('Trust - Frontsheet'!AA199))","v":0},{"$f":"IF(OR('Trust - Frontsheet'!AB199=\"\",'Trust - Frontsheet'!AB199=\"-\"),0,('Trust - Frontsheet'!AB199))","v":0},{"$f":"IF(OR('Trust - Frontsheet'!AC199=\"\",'Trust - Frontsheet'!AC199=\"-\"),0,('Trust - Frontsheet'!AC199))","v":0},{"$f":"IF(OR('Trust - Frontsheet'!AD199=\"\",'Trust - Frontsheet'!AD199=\"-\"),0,('Trust - Frontsheet'!AD199))","v":0},{"$f":"IF(OR('Trust - Frontsheet'!AE199=\"\",'Trust - Frontsheet'!AE199=\"-\"),0,('Trust - Frontsheet'!AE199))","v":0},{"$f":"IF(OR('Trust - Frontsheet'!AF199=\"\",'Trust - Frontsheet'!AF199=\"-\"),0,('Trust - Frontsheet'!AF199))","v":0},{"$f":"'Trust - Frontsheet'!U199","v":0},{"$f":"IF(OR('Trust - Frontsheet'!V199=\"\",'Trust - Frontsheet'!V199=\"-\"),0,('Trust - Frontsheet'!V199))","v":0},{"$f":"IF(OR('Trust - Frontsheet'!W199=\"\",'Trust - Frontsheet'!W199=\"-\"),0,('Trust - Frontsheet'!W199))","v":0},{"$f":"IF(OR('Trust - Frontsheet'!X199=\"\",'Trust - Frontsheet'!X199=\"-\"),0,('Trust - Frontsheet'!X199))","v":0},{"$f":"IF(OR('Trust - Frontsheet'!Y199=\"\",'Trust - Frontsheet'!Y199=\"-\"),0,('Trust - Frontsheet'!Y199))","v":0},{"$f":"IF(OR('Trust - Frontsheet'!Z199=\"\",'Trust - Frontsheet'!Z199=\"-\"),0,('Trust - Frontsheet'!Z199))","v":0},{"$f":"IF(A187=\"\",\"\",(IF(ISBLANK('Trust - Frontsheet'!F9),\"\",'Trust - Frontsheet'!F9)))","v":""}]
[{"$f":"IF('Trust - Frontsheet'!D200=0,\"\",IF('Trust - Frontsheet'!D200=\"\",\"\",'Trust - Frontsheet'!D200))","v":""},{"$f":"IF(ISBLANK('Trust - Frontsheet'!E200),\"\",'Trust - Frontsheet'!E200)","v":""},{"$f":"IF(ISBLANK('Trust - Frontsheet'!F200),\"\",\"'\" & 'Trust - Frontsheet'!F200 & \"'\")","v":""},{"$f":"IF(ISBLANK('Trust - Frontsheet'!G200),\"\",'Trust - Frontsheet'!G200)","v":""},{"$f":"IF(ISBLANK('Trust - Frontsheet'!H200),\"\",'Trust - Frontsheet'!H200)","v":""},{"$f":"'Trust - Frontsheet'!I200","v":0},{"$f":"'Trust - Frontsheet'!J200","v":0},{"$f":"'Trust - Frontsheet'!K200","v":0},{"$f":"'Trust - Frontsheet'!L200","v":0},{"$f":"'Trust - Frontsheet'!M200","v":0},{"$f":"'Trust - Frontsheet'!N200","v":0},{"$f":"'Trust - Frontsheet'!O200","v":0},{"$f":"'Trust - Frontsheet'!P200","v":0},{"$f":"'Trust - Frontsheet'!Q200","v":0},{"$f":"'Trust - Frontsheet'!R200","v":0},{"$f":"'Trust - Frontsheet'!S200","v":0},{"$f":"'Trust - Frontsheet'!T200","v":0},{"$f":"IF(OR('Trust - Frontsheet'!AA200=\"\",'Trust - Frontsheet'!AA200=\"-\"),0,('Trust - Frontsheet'!AA200))","v":0},{"$f":"IF(OR('Trust - Frontsheet'!AB200=\"\",'Trust - Frontsheet'!AB200=\"-\"),0,('Trust - Frontsheet'!AB200))","v":0},{"$f":"IF(OR('Trust - Frontsheet'!AC200=\"\",'Trust - Frontsheet'!AC200=\"-\"),0,('Trust - Frontsheet'!AC200))","v":0},{"$f":"IF(OR('Trust - Frontsheet'!AD200=\"\",'Trust - Frontsheet'!AD200=\"-\"),0,('Trust - Frontsheet'!AD200))","v":0},{"$f":"IF(OR('Trust - Frontsheet'!AE200=\"\",'Trust - Frontsheet'!AE200=\"-\"),0,('Trust - Frontsheet'!AE200))","v":0},{"$f":"IF(OR('Trust - Frontsheet'!AF200=\"\",'Trust - Frontsheet'!AF200=\"-\"),0,('Trust - Frontsheet'!AF200))","v":0},{"$f":"'Trust - Frontsheet'!U200","v":0},{"$f":"IF(OR('Trust - Frontsheet'!V200=\"\",'Trust - Frontsheet'!V200=\"-\"),0,('Trust - Frontsheet'!V200))","v":0},{"$f":"IF(OR('Trust - Frontsheet'!W200=\"\",'Trust - Frontsheet'!W200=\"-\"),0,('Trust - Frontsheet'!W200))","v":0},{"$f":"IF(OR('Trust - Frontsheet'!X200=\"\",'Trust - Frontsheet'!X200=\"-\"),0,('Trust - Frontsheet'!X200))","v":0},{"$f":"IF(OR('Trust - Frontsheet'!Y200=\"\",'Trust - Frontsheet'!Y200=\"-\"),0,('Trust - Frontsheet'!Y200))","v":0},{"$f":"IF(OR('Trust - Frontsheet'!Z200=\"\",'Trust - Frontsheet'!Z200=\"-\"),0,('Trust - Frontsheet'!Z200))","v":0},{"$f":"IF(A188=\"\",\"\",(IF(ISBLANK('Trust - Frontsheet'!F9),\"\",'Trust - Frontsheet'!F9)))","v":""}]
[{"$f":"IF('Trust - Frontsheet'!D201=0,\"\",IF('Trust - Frontsheet'!D201=\"\",\"\",'Trust - Frontsheet'!D201))","v":""},{"$f":"IF(ISBLANK('Trust - Frontsheet'!E201),\"\",'Trust - Frontsheet'!E201)","v":""},{"$f":"IF(ISBLANK('Trust - Frontsheet'!F201),\"\",\"'\" & 'Trust - Frontsheet'!F201 & \"'\")","v":""},{"$f":"IF(ISBLANK('Trust - Frontsheet'!G201),\"\",'Trust - Frontsheet'!G201)","v":""},{"$f":"IF(ISBLANK('Trust - Frontsheet'!H201),\"\",'Trust - Frontsheet'!H201)","v":""},{"$f":"'Trust - Frontsheet'!I201","v":0},{"$f":"'Trust - Frontsheet'!J201","v":0},{"$f":"'Trust - Frontsheet'!K201","v":0},{"$f":"'Trust - Frontsheet'!L201","v":0},{"$f":"'Trust - Frontsheet'!M201","v":0},{"$f":"'Trust - Frontsheet'!N201","v":0},{"$f":"'Trust - Frontsheet'!O201","v":0},{"$f":"'Trust - Frontsheet'!P201","v":0},{"$f":"'Trust - Frontsheet'!Q201","v":0},{"$f":"'Trust - Frontsheet'!R201","v":0},{"$f":"'Trust - Frontsheet'!S201","v":0},{"$f":"'Trust - Frontsheet'!T201","v":0},{"$f":"IF(OR('Trust - Frontsheet'!AA201=\"\",'Trust - Frontsheet'!AA201=\"-\"),0,('Trust - Frontsheet'!AA201))","v":0},{"$f":"IF(OR('Trust - Frontsheet'!AB201=\"\",'Trust - Frontsheet'!AB201=\"-\"),0,('Trust - Frontsheet'!AB201))","v":0},{"$f":"IF(OR('Trust - Frontsheet'!AC201=\"\",'Trust - Frontsheet'!AC201=\"-\"),0,('Trust - Frontsheet'!AC201))","v":0},{"$f":"IF(OR('Trust - Frontsheet'!AD201=\"\",'Trust - Frontsheet'!AD201=\"-\"),0,('Trust - Frontsheet'!AD201))","v":0},{"$f":"IF(OR('Trust - Frontsheet'!AE201=\"\",'Trust - Frontsheet'!AE201=\"-\"),0,('Trust - Frontsheet'!AE201))","v":0},{"$f":"IF(OR('Trust - Frontsheet'!AF201=\"\",'Trust - Frontsheet'!AF201=\"-\"),0,('Trust - Frontsheet'!AF201))","v":0},{"$f":"'Trust - Frontsheet'!U201","v":0},{"$f":"IF(OR('Trust - Frontsheet'!V201=\"\",'Trust - Frontsheet'!V201=\"-\"),0,('Trust - Frontsheet'!V201))","v":0},{"$f":"IF(OR('Trust - Frontsheet'!W201=\"\",'Trust - Frontsheet'!W201=\"-\"),0,('Trust - Frontsheet'!W201))","v":0},{"$f":"IF(OR('Trust - Frontsheet'!X201=\"\",'Trust - Frontsheet'!X201=\"-\"),0,('Trust - Frontsheet'!X201))","v":0},{"$f":"IF(OR('Trust - Frontsheet'!Y201=\"\",'Trust - Frontsheet'!Y201=\"-\"),0,('Trust - Frontsheet'!Y201))","v":0},{"$f":"IF(OR('Trust - Frontsheet'!Z201=\"\",'Trust - Frontsheet'!Z201=\"-\"),0,('Trust - Frontsheet'!Z201))","v":0},{"$f":"IF(A189=\"\",\"\",(IF(ISBLANK('Trust - Frontsheet'!F9),\"\",'Trust - Frontsheet'!F9)))","v":""}]
[{"$f":"IF('Trust - Frontsheet'!D202=0,\"\",IF('Trust - Frontsheet'!D202=\"\",\"\",'Trust - Frontsheet'!D202))","v":""},{"$f":"IF(ISBLANK('Trust - Frontsheet'!E202),\"\",'Trust - Frontsheet'!E202)","v":""},{"$f":"IF(ISBLANK('Trust - Frontsheet'!F202),\"\",\"'\" & 'Trust - Frontsheet'!F202 & \"'\")","v":""},{"$f":"IF(ISBLANK('Trust - Frontsheet'!G202),\"\",'Trust - Frontsheet'!G202)","v":""},{"$f":"IF(ISBLANK('Trust - Frontsheet'!H202),\"\",'Trust - Frontsheet'!H202)","v":""},{"$f":"'Trust - Frontsheet'!I202","v":0},{"$f":"'Trust - Frontsheet'!J202","v":0},{"$f":"'Trust - Frontsheet'!K202","v":0},{"$f":"'Trust - Frontsheet'!L202","v":0},{"$f":"'Trust - Frontsheet'!M202","v":0},{"$f":"'Trust - Frontsheet'!N202","v":0},{"$f":"'Trust - Frontsheet'!O202","v":0},{"$f":"'Trust - Frontsheet'!P202","v":0},{"$f":"'Trust - Frontsheet'!Q202","v":0},{"$f":"'Trust - Frontsheet'!R202","v":0},{"$f":"'Trust - Frontsheet'!S202","v":0},{"$f":"'Trust - Frontsheet'!T202","v":0},{"$f":"IF(OR('Trust - Frontsheet'!AA202=\"\",'Trust - Frontsheet'!AA202=\"-\"),0,('Trust - Frontsheet'!AA202))","v":0},{"$f":"IF(OR('Trust - Frontsheet'!AB202=\"\",'Trust - Frontsheet'!AB202=\"-\"),0,('Trust - Frontsheet'!AB202))","v":0},{"$f":"IF(OR('Trust - Frontsheet'!AC202=\"\",'Trust - Frontsheet'!AC202=\"-\"),0,('Trust - Frontsheet'!AC202))","v":0},{"$f":"IF(OR('Trust - Frontsheet'!AD202=\"\",'Trust - Frontsheet'!AD202=\"-\"),0,('Trust - Frontsheet'!AD202))","v":0},{"$f":"IF(OR('Trust - Frontsheet'!AE202=\"\",'Trust - Frontsheet'!AE202=\"-\"),0,('Trust - Frontsheet'!AE202))","v":0},{"$f":"IF(OR('Trust - Frontsheet'!AF202=\"\",'Trust - Frontsheet'!AF202=\"-\"),0,('Trust - Frontsheet'!AF202))","v":0},{"$f":"'Trust - Frontsheet'!U202","v":0},{"$f":"IF(OR('Trust - Frontsheet'!V202=\"\",'Trust - Frontsheet'!V202=\"-\"),0,('Trust - Frontsheet'!V202))","v":0},{"$f":"IF(OR('Trust - Frontsheet'!W202=\"\",'Trust - Frontsheet'!W202=\"-\"),0,('Trust - Frontsheet'!W202))","v":0},{"$f":"IF(OR('Trust - Frontsheet'!X202=\"\",'Trust - Frontsheet'!X202=\"-\"),0,('Trust - Frontsheet'!X202))","v":0},{"$f":"IF(OR('Trust - Frontsheet'!Y202=\"\",'Trust - Frontsheet'!Y202=\"-\"),0,('Trust - Frontsheet'!Y202))","v":0},{"$f":"IF(OR('Trust - Frontsheet'!Z202=\"\",'Trust - Frontsheet'!Z202=\"-\"),0,('Trust - Frontsheet'!Z202))","v":0},{"$f":"IF(A190=\"\",\"\",(IF(ISBLANK('Trust - Frontsheet'!F9),\"\",'Trust - Frontsheet'!F9)))","v":""}]
[{"$f":"IF('Trust - Frontsheet'!D203=0,\"\",IF('Trust - Frontsheet'!D203=\"\",\"\",'Trust - Frontsheet'!D203))","v":""},{"$f":"IF(ISBLANK('Trust - Frontsheet'!E203),\"\",'Trust - Frontsheet'!E203)","v":""},{"$f":"IF(ISBLANK('Trust - Frontsheet'!F203),\"\",\"'\" & 'Trust - Frontsheet'!F203 & \"'\")","v":""},{"$f":"IF(ISBLANK('Trust - Frontsheet'!G203),\"\",'Trust - Frontsheet'!G203)","v":""},{"$f":"IF(ISBLANK('Trust - Frontsheet'!H203),\"\",'Trust - Frontsheet'!H203)","v":""},{"$f":"'Trust - Frontsheet'!I203","v":0},{"$f":"'Trust - Frontsheet'!J203","v":0},{"$f":"'Trust - Frontsheet'!K203","v":0},{"$f":"'Trust - Frontsheet'!L203","v":0},{"$f":"'Trust - Frontsheet'!M203","v":0},{"$f":"'Trust - Frontsheet'!N203","v":0},{"$f":"'Trust - Frontsheet'!O203","v":0},{"$f":"'Trust - Frontsheet'!P203","v":0},{"$f":"'Trust - Frontsheet'!Q203","v":0},{"$f":"'Trust - Frontsheet'!R203","v":0},{"$f":"'Trust - Frontsheet'!S203","v":0},{"$f":"'Trust - Frontsheet'!T203","v":0},{"$f":"IF(OR('Trust - Frontsheet'!AA203=\"\",'Trust - Frontsheet'!AA203=\"-\"),0,('Trust - Frontsheet'!AA203))","v":0},{"$f":"IF(OR('Trust - Frontsheet'!AB203=\"\",'Trust - Frontsheet'!AB203=\"-\"),0,('Trust - Frontsheet'!AB203))","v":0},{"$f":"IF(OR('Trust - Frontsheet'!AC203=\"\",'Trust - Frontsheet'!AC203=\"-\"),0,('Trust - Frontsheet'!AC203))","v":0},{"$f":"IF(OR('Trust - Frontsheet'!AD203=\"\",'Trust - Frontsheet'!AD203=\"-\"),0,('Trust - Frontsheet'!AD203))","v":0},{"$f":"IF(OR('Trust - Frontsheet'!AE203=\"\",'Trust - Frontsheet'!AE203=\"-\"),0,('Trust - Frontsheet'!AE203))","v":0},{"$f":"IF(OR('Trust - Frontsheet'!AF203=\"\",'Trust - Frontsheet'!AF203=\"-\"),0,('Trust - Frontsheet'!AF203))","v":0},{"$f":"'Trust - Frontsheet'!U203","v":0},{"$f":"IF(OR('Trust - Frontsheet'!V203=\"\",'Trust - Frontsheet'!V203=\"-\"),0,('Trust - Frontsheet'!V203))","v":0},{"$f":"IF(OR('Trust - Frontsheet'!W203=\"\",'Trust - Frontsheet'!W203=\"-\"),0,('Trust - Frontsheet'!W203))","v":0},{"$f":"IF(OR('Trust - Frontsheet'!X203=\"\",'Trust - Frontsheet'!X203=\"-\"),0,('Trust - Frontsheet'!X203))","v":0},{"$f":"IF(OR('Trust - Frontsheet'!Y203=\"\",'Trust - Frontsheet'!Y203=\"-\"),0,('Trust - Frontsheet'!Y203))","v":0},{"$f":"IF(OR('Trust - Frontsheet'!Z203=\"\",'Trust - Frontsheet'!Z203=\"-\"),0,('Trust - Frontsheet'!Z203))","v":0},{"$f":"IF(A191=\"\",\"\",(IF(ISBLANK('Trust - Frontsheet'!F9),\"\",'Trust - Frontsheet'!F9)))","v":""}]
[{"$f":"IF('Trust - Frontsheet'!D204=0,\"\",IF('Trust - Frontsheet'!D204=\"\",\"\",'Trust - Frontsheet'!D204))","v":""},{"$f":"IF(ISBLANK('Trust - Frontsheet'!E204),\"\",'Trust - Frontsheet'!E204)","v":""},{"$f":"IF(ISBLANK('Trust - Frontsheet'!F204),\"\",\"'\" & 'Trust - Frontsheet'!F204 & \"'\")","v":""},{"$f":"IF(ISBLANK('Trust - Frontsheet'!G204),\"\",'Trust - Frontsheet'!G204)","v":""},{"$f":"IF(ISBLANK('Trust - Frontsheet'!H204),\"\",'Trust - Frontsheet'!H204)","v":""},{"$f":"'Trust - Frontsheet'!I204","v":0},{"$f":"'Trust - Frontsheet'!J204","v":0},{"$f":"'Trust - Frontsheet'!K204","v":0},{"$f":"'Trust - Frontsheet'!L204","v":0},{"$f":"'Trust - Frontsheet'!M204","v":0},{"$f":"'Trust - Frontsheet'!N204","v":0},{"$f":"'Trust - Frontsheet'!O204","v":0},{"$f":"'Trust - Frontsheet'!P204","v":0},{"$f":"'Trust - Frontsheet'!Q204","v":0},{"$f":"'Trust - Frontsheet'!R204","v":0},{"$f":"'Trust - Frontsheet'!S204","v":0},{"$f":"'Trust - Frontsheet'!T204","v":0},{"$f":"IF(OR('Trust - Frontsheet'!AA204=\"\",'Trust - Frontsheet'!AA204=\"-\"),0,('Trust - Frontsheet'!AA204))","v":0},{"$f":"IF(OR('Trust - Frontsheet'!AB204=\"\",'Trust - Frontsheet'!AB204=\"-\"),0,('Trust - Frontsheet'!AB204))","v":0},{"$f":"IF(OR('Trust - Frontsheet'!AC204=\"\",'Trust - Frontsheet'!AC204=\"-\"),0,('Trust - Frontsheet'!AC204))","v":0},{"$f":"IF(OR('Trust - Frontsheet'!AD204=\"\",'Trust - Frontsheet'!AD204=\"-\"),0,('Trust - Frontsheet'!AD204))","v":0},{"$f":"IF(OR('Trust - Frontsheet'!AE204=\"\",'Trust - Frontsheet'!AE204=\"-\"),0,('Trust - Frontsheet'!AE204))","v":0},{"$f":"IF(OR('Trust - Frontsheet'!AF204=\"\",'Trust - Frontsheet'!AF204=\"-\"),0,('Trust - Frontsheet'!AF204))","v":0},{"$f":"'Trust - Frontsheet'!U204","v":0},{"$f":"IF(OR('Trust - Frontsheet'!V204=\"\",'Trust - Frontsheet'!V204=\"-\"),0,('Trust - Frontsheet'!V204))","v":0},{"$f":"IF(OR('Trust - Frontsheet'!W204=\"\",'Trust - Frontsheet'!W204=\"-\"),0,('Trust - Frontsheet'!W204))","v":0},{"$f":"IF(OR('Trust - Frontsheet'!X204=\"\",'Trust - Frontsheet'!X204=\"-\"),0,('Trust - Frontsheet'!X204))","v":0},{"$f":"IF(OR('Trust - Frontsheet'!Y204=\"\",'Trust - Frontsheet'!Y204=\"-\"),0,('Trust - Frontsheet'!Y204))","v":0},{"$f":"IF(OR('Trust - Frontsheet'!Z204=\"\",'Trust - Frontsheet'!Z204=\"-\"),0,('Trust - Frontsheet'!Z204))","v":0},{"$f":"IF(A192=\"\",\"\",(IF(ISBLANK('Trust - Frontsheet'!F9),\"\",'Trust - Frontsheet'!F9)))","v":""}]
[{"$f":"IF('Trust - Frontsheet'!D205=0,\"\",IF('Trust - Frontsheet'!D205=\"\",\"\",'Trust - Frontsheet'!D205))","v":""},{"$f":"IF(ISBLANK('Trust - Frontsheet'!E205),\"\",'Trust - Frontsheet'!E205)","v":""},{"$f":"IF(ISBLANK('Trust - Frontsheet'!F205),\"\",\"'\" & 'Trust - Frontsheet'!F205 & \"'\")","v":""},{"$f":"IF(ISBLANK('Trust - Frontsheet'!G205),\"\",'Trust - Frontsheet'!G205)","v":""},{"$f":"IF(ISBLANK('Trust - Frontsheet'!H205),\"\",'Trust - Frontsheet'!H205)","v":""},{"$f":"'Trust - Frontsheet'!I205","v":0},{"$f":"'Trust - Frontsheet'!J205","v":0},{"$f":"'Trust - Frontsheet'!K205","v":0},{"$f":"'Trust - Frontsheet'!L205","v":0},{"$f":"'Trust - Frontsheet'!M205","v":0},{"$f":"'Trust - Frontsheet'!N205","v":0},{"$f":"'Trust - Frontsheet'!O205","v":0},{"$f":"'Trust - Frontsheet'!P205","v":0},{"$f":"'Trust - Frontsheet'!Q205","v":0},{"$f":"'Trust - Frontsheet'!R205","v":0},{"$f":"'Trust - Frontsheet'!S205","v":0},{"$f":"'Trust - Frontsheet'!T205","v":0},{"$f":"IF(OR('Trust - Frontsheet'!AA205=\"\",'Trust - Frontsheet'!AA205=\"-\"),0,('Trust - Frontsheet'!AA205))","v":0},{"$f":"IF(OR('Trust - Frontsheet'!AB205=\"\",'Trust - Frontsheet'!AB205=\"-\"),0,('Trust - Frontsheet'!AB205))","v":0},{"$f":"IF(OR('Trust - Frontsheet'!AC205=\"\",'Trust - Frontsheet'!AC205=\"-\"),0,('Trust - Frontsheet'!AC205))","v":0},{"$f":"IF(OR('Trust - Frontsheet'!AD205=\"\",'Trust - Frontsheet'!AD205=\"-\"),0,('Trust - Frontsheet'!AD205))","v":0},{"$f":"IF(OR('Trust - Frontsheet'!AE205=\"\",'Trust - Frontsheet'!AE205=\"-\"),0,('Trust - Frontsheet'!AE205))","v":0},{"$f":"IF(OR('Trust - Frontsheet'!AF205=\"\",'Trust - Frontsheet'!AF205=\"-\"),0,('Trust - Frontsheet'!AF205))","v":0},{"$f":"'Trust - Frontsheet'!U205","v":0},{"$f":"IF(OR('Trust - Frontsheet'!V205=\"\",'Trust - Frontsheet'!V205=\"-\"),0,('Trust - Frontsheet'!V205))","v":0},{"$f":"IF(OR('Trust - Frontsheet'!W205=\"\",'Trust - Frontsheet'!W205=\"-\"),0,('Trust - Frontsheet'!W205))","v":0},{"$f":"IF(OR('Trust - Frontsheet'!X205=\"\",'Trust - Frontsheet'!X205=\"-\"),0,('Trust - Frontsheet'!X205))","v":0},{"$f":"IF(OR('Trust - Frontsheet'!Y205=\"\",'Trust - Frontsheet'!Y205=\"-\"),0,('Trust - Frontsheet'!Y205))","v":0},{"$f":"IF(OR('Trust - Frontsheet'!Z205=\"\",'Trust - Frontsheet'!Z205=\"-\"),0,('Trust - Frontsheet'!Z205))","v":0},{"$f":"IF(A193=\"\",\"\",(IF(ISBLANK('Trust - Frontsheet'!F9),\"\",'Trust - Frontsheet'!F9)))","v":""}]
[{"$f":"IF('Trust - Frontsheet'!D206=0,\"\",IF('Trust - Frontsheet'!D206=\"\",\"\",'Trust - Frontsheet'!D206))","v":""},{"$f":"IF(ISBLANK('Trust - Frontsheet'!E206),\"\",'Trust - Frontsheet'!E206)","v":""},{"$f":"IF(ISBLANK('Trust - Frontsheet'!F206),\"\",\"'\" & 'Trust - Frontsheet'!F206 & \"'\")","v":""},{"$f":"IF(ISBLANK('Trust - Frontsheet'!G206),\"\",'Trust - Frontsheet'!G206)","v":""},{"$f":"IF(ISBLANK('Trust - Frontsheet'!H206),\"\",'Trust - Frontsheet'!H206)","v":""},{"$f":"'Trust - Frontsheet'!I206","v":0},{"$f":"'Trust - Frontsheet'!J206","v":0},{"$f":"'Trust - Frontsheet'!K206","v":0},{"$f":"'Trust - Frontsheet'!L206","v":0},{"$f":"'Trust - Frontsheet'!M206","v":0},{"$f":"'Trust - Frontsheet'!N206","v":0},{"$f":"'Trust - Frontsheet'!O206","v":0},{"$f":"'Trust - Frontsheet'!P206","v":0},{"$f":"'Trust - Frontsheet'!Q206","v":0},{"$f":"'Trust - Frontsheet'!R206","v":0},{"$f":"'Trust - Frontsheet'!S206","v":0},{"$f":"'Trust - Frontsheet'!T206","v":0},{"$f":"IF(OR('Trust - Frontsheet'!AA206=\"\",'Trust - Frontsheet'!AA206=\"-\"),0,('Trust - Frontsheet'!AA206))","v":0},{"$f":"IF(OR('Trust - Frontsheet'!AB206=\"\",'Trust - Frontsheet'!AB206=\"-\"),0,('Trust - Frontsheet'!AB206))","v":0},{"$f":"IF(OR('Trust - Frontsheet'!AC206=\"\",'Trust - Frontsheet'!AC206=\"-\"),0,('Trust - Frontsheet'!AC206))","v":0},{"$f":"IF(OR('Trust - Frontsheet'!AD206=\"\",'Trust - Frontsheet'!AD206=\"-\"),0,('Trust - Frontsheet'!AD206))","v":0},{"$f":"IF(OR('Trust - Frontsheet'!AE206=\"\",'Trust - Frontsheet'!AE206=\"-\"),0,('Trust - Frontsheet'!AE206))","v":0},{"$f":"IF(OR('Trust - Frontsheet'!AF206=\"\",'Trust - Frontsheet'!AF206=\"-\"),0,('Trust - Frontsheet'!AF206))","v":0},{"$f":"'Trust - Frontsheet'!U206","v":0},{"$f":"IF(OR('Trust - Frontsheet'!V206=\"\",'Trust - Frontsheet'!V206=\"-\"),0,('Trust - Frontsheet'!V206))","v":0},{"$f":"IF(OR('Trust - Frontsheet'!W206=\"\",'Trust - Frontsheet'!W206=\"-\"),0,('Trust - Frontsheet'!W206))","v":0},{"$f":"IF(OR('Trust - Frontsheet'!X206=\"\",'Trust - Frontsheet'!X206=\"-\"),0,('Trust - Frontsheet'!X206))","v":0},{"$f":"IF(OR('Trust - Frontsheet'!Y206=\"\",'Trust - Frontsheet'!Y206=\"-\"),0,('Trust - Frontsheet'!Y206))","v":0},{"$f":"IF(OR('Trust - Frontsheet'!Z206=\"\",'Trust - Frontsheet'!Z206=\"-\"),0,('Trust - Frontsheet'!Z206))","v":0},{"$f":"IF(A194=\"\",\"\",(IF(ISBLANK('Trust - Frontsheet'!F9),\"\",'Trust - Frontsheet'!F9)))","v":""}]
[{"$f":"IF('Trust - Frontsheet'!D207=0,\"\",IF('Trust - Frontsheet'!D207=\"\",\"\",'Trust - Frontsheet'!D207))","v":""},{"$f":"IF(ISBLANK('Trust - Frontsheet'!E207),\"\",'Trust - Frontsheet'!E207)","v":""},{"$f":"IF(ISBLANK('Trust - Frontsheet'!F207),\"\",\"'\" & 'Trust - Frontsheet'!F207 & \"'\")","v":""},{"$f":"IF(ISBLANK('Trust - Frontsheet'!G207),\"\",'Trust - Frontsheet'!G207)","v":""},{"$f":"IF(ISBLANK('Trust - Frontsheet'!H207),\"\",'Trust - Frontsheet'!H207)","v":""},{"$f":"'Trust - Frontsheet'!I207","v":0},{"$f":"'Trust - Frontsheet'!J207","v":0},{"$f":"'Trust - Frontsheet'!K207","v":0},{"$f":"'Trust - Frontsheet'!L207","v":0},{"$f":"'Trust - Frontsheet'!M207","v":0},{"$f":"'Trust - Frontsheet'!N207","v":0},{"$f":"'Trust - Frontsheet'!O207","v":0},{"$f":"'Trust - Frontsheet'!P207","v":0},{"$f":"'Trust - Frontsheet'!Q207","v":0},{"$f":"'Trust - Frontsheet'!R207","v":0},{"$f":"'Trust - Frontsheet'!S207","v":0},{"$f":"'Trust - Frontsheet'!T207","v":0},{"$f":"IF(OR('Trust - Frontsheet'!AA207=\"\",'Trust - Frontsheet'!AA207=\"-\"),0,('Trust - Frontsheet'!AA207))","v":0},{"$f":"IF(OR('Trust - Frontsheet'!AB207=\"\",'Trust - Frontsheet'!AB207=\"-\"),0,('Trust - Frontsheet'!AB207))","v":0},{"$f":"IF(OR('Trust - Frontsheet'!AC207=\"\",'Trust - Frontsheet'!AC207=\"-\"),0,('Trust - Frontsheet'!AC207))","v":0},{"$f":"IF(OR('Trust - Frontsheet'!AD207=\"\",'Trust - Frontsheet'!AD207=\"-\"),0,('Trust - Frontsheet'!AD207))","v":0},{"$f":"IF(OR('Trust - Frontsheet'!AE207=\"\",'Trust - Frontsheet'!AE207=\"-\"),0,('Trust - Frontsheet'!AE207))","v":0},{"$f":"IF(OR('Trust - Frontsheet'!AF207=\"\",'Trust - Frontsheet'!AF207=\"-\"),0,('Trust - Frontsheet'!AF207))","v":0},{"$f":"'Trust - Frontsheet'!U207","v":0},{"$f":"IF(OR('Trust - Frontsheet'!V207=\"\",'Trust - Frontsheet'!V207=\"-\"),0,('Trust - Frontsheet'!V207))","v":0},{"$f":"IF(OR('Trust - Frontsheet'!W207=\"\",'Trust - Frontsheet'!W207=\"-\"),0,('Trust - Frontsheet'!W207))","v":0},{"$f":"IF(OR('Trust - Frontsheet'!X207=\"\",'Trust - Frontsheet'!X207=\"-\"),0,('Trust - Frontsheet'!X207))","v":0},{"$f":"IF(OR('Trust - Frontsheet'!Y207=\"\",'Trust - Frontsheet'!Y207=\"-\"),0,('Trust - Frontsheet'!Y207))","v":0},{"$f":"IF(OR('Trust - Frontsheet'!Z207=\"\",'Trust - Frontsheet'!Z207=\"-\"),0,('Trust - Frontsheet'!Z207))","v":0},{"$f":"IF(A195=\"\",\"\",(IF(ISBLANK('Trust - Frontsheet'!F9),\"\",'Trust - Frontsheet'!F9)))","v":""}]
[{"$f":"IF('Trust - Frontsheet'!D208=0,\"\",IF('Trust - Frontsheet'!D208=\"\",\"\",'Trust - Frontsheet'!D208))","v":""},{"$f":"IF(ISBLANK('Trust - Frontsheet'!E208),\"\",'Trust - Frontsheet'!E208)","v":""},{"$f":"IF(ISBLANK('Trust - Frontsheet'!F208),\"\",\"'\" & 'Trust - Frontsheet'!F208 & \"'\")","v":""},{"$f":"IF(ISBLANK('Trust - Frontsheet'!G208),\"\",'Trust - Frontsheet'!G208)","v":""},{"$f":"IF(ISBLANK('Trust - Frontsheet'!H208),\"\",'Trust - Frontsheet'!H208)","v":""},{"$f":"'Trust - Frontsheet'!I208","v":0},{"$f":"'Trust - Frontsheet'!J208","v":0},{"$f":"'Trust - Frontsheet'!K208","v":0},{"$f":"'Trust - Frontsheet'!L208","v":0},{"$f":"'Trust - Frontsheet'!M208","v":0},{"$f":"'Trust - Frontsheet'!N208","v":0},{"$f":"'Trust - Frontsheet'!O208","v":0},{"$f":"'Trust - Frontsheet'!P208","v":0},{"$f":"'Trust - Frontsheet'!Q208","v":0},{"$f":"'Trust - Frontsheet'!R208","v":0},{"$f":"'Trust - Frontsheet'!S208","v":0},{"$f":"'Trust - Frontsheet'!T208","v":0},{"$f":"IF(OR('Trust - Frontsheet'!AA208=\"\",'Trust - Frontsheet'!AA208=\"-\"),0,('Trust - Frontsheet'!AA208))","v":0},{"$f":"IF(OR('Trust - Frontsheet'!AB208=\"\",'Trust - Frontsheet'!AB208=\"-\"),0,('Trust - Frontsheet'!AB208))","v":0},{"$f":"IF(OR('Trust - Frontsheet'!AC208=\"\",'Trust - Frontsheet'!AC208=\"-\"),0,('Trust - Frontsheet'!AC208))","v":0},{"$f":"IF(OR('Trust - Frontsheet'!AD208=\"\",'Trust - Frontsheet'!AD208=\"-\"),0,('Trust - Frontsheet'!AD208))","v":0},{"$f":"IF(OR('Trust - Frontsheet'!AE208=\"\",'Trust - Frontsheet'!AE208=\"-\"),0,('Trust - Frontsheet'!AE208))","v":0},{"$f":"IF(OR('Trust - Frontsheet'!AF208=\"\",'Trust - Frontsheet'!AF208=\"-\"),0,('Trust - Frontsheet'!AF208))","v":0},{"$f":"'Trust - Frontsheet'!U208","v":0},{"$f":"IF(OR('Trust - Frontsheet'!V208=\"\",'Trust - Frontsheet'!V208=\"-\"),0,('Trust - Frontsheet'!V208))","v":0},{"$f":"IF(OR('Trust - Frontsheet'!W208=\"\",'Trust - Frontsheet'!W208=\"-\"),0,('Trust - Frontsheet'!W208))","v":0},{"$f":"IF(OR('Trust - Frontsheet'!X208=\"\",'Trust - Frontsheet'!X208=\"-\"),0,('Trust - Frontsheet'!X208))","v":0},{"$f":"IF(OR('Trust - Frontsheet'!Y208=\"\",'Trust - Frontsheet'!Y208=\"-\"),0,('Trust - Frontsheet'!Y208))","v":0},{"$f":"IF(OR('Trust - Frontsheet'!Z208=\"\",'Trust - Frontsheet'!Z208=\"-\"),0,('Trust - Frontsheet'!Z208))","v":0},{"$f":"IF(A196=\"\",\"\",(IF(ISBLANK('Trust - Frontsheet'!F9),\"\",'Trust - Frontsheet'!F9)))","v":""}]
[{"$f":"IF('Trust - Frontsheet'!D209=0,\"\",IF('Trust - Frontsheet'!D209=\"\",\"\",'Trust - Frontsheet'!D209))","v":""},{"$f":"IF(ISBLANK('Trust - Frontsheet'!E209),\"\",'Trust - Frontsheet'!E209)","v":""},{"$f":"IF(ISBLANK('Trust - Frontsheet'!F209),\"\",\"'\" & 'Trust - Frontsheet'!F209 & \"'\")","v":""},{"$f":"IF(ISBLANK('Trust - Frontsheet'!G209),\"\",'Trust - Frontsheet'!G209)","v":""},{"$f":"IF(ISBLANK('Trust - Frontsheet'!H209),\"\",'Trust - Frontsheet'!H209)","v":""},{"$f":"'Trust - Frontsheet'!I209","v":0},{"$f":"'Trust - Frontsheet'!J209","v":0},{"$f":"'Trust - Frontsheet'!K209","v":0},{"$f":"'Trust - Frontsheet'!L209","v":0},{"$f":"'Trust - Frontsheet'!M209","v":0},{"$f":"'Trust - Frontsheet'!N209","v":0},{"$f":"'Trust - Frontsheet'!O209","v":0},{"$f":"'Trust - Frontsheet'!P209","v":0},{"$f":"'Trust - Frontsheet'!Q209","v":0},{"$f":"'Trust - Frontsheet'!R209","v":0},{"$f":"'Trust - Frontsheet'!S209","v":0},{"$f":"'Trust - Frontsheet'!T209","v":0},{"$f":"IF(OR('Trust - Frontsheet'!AA209=\"\",'Trust - Frontsheet'!AA209=\"-\"),0,('Trust - Frontsheet'!AA209))","v":0},{"$f":"IF(OR('Trust - Frontsheet'!AB209=\"\",'Trust - Frontsheet'!AB209=\"-\"),0,('Trust - Frontsheet'!AB209))","v":0},{"$f":"IF(OR('Trust - Frontsheet'!AC209=\"\",'Trust - Frontsheet'!AC209=\"-\"),0,('Trust - Frontsheet'!AC209))","v":0},{"$f":"IF(OR('Trust - Frontsheet'!AD209=\"\",'Trust - Frontsheet'!AD209=\"-\"),0,('Trust - Frontsheet'!AD209))","v":0},{"$f":"IF(OR('Trust - Frontsheet'!AE209=\"\",'Trust - Frontsheet'!AE209=\"-\"),0,('Trust - Frontsheet'!AE209))","v":0},{"$f":"IF(OR('Trust - Frontsheet'!AF209=\"\",'Trust - Frontsheet'!AF209=\"-\"),0,('Trust - Frontsheet'!AF209))","v":0},{"$f":"'Trust - Frontsheet'!U209","v":0},{"$f":"IF(OR('Trust - Frontsheet'!V209=\"\",'Trust - Frontsheet'!V209=\"-\"),0,('Trust - Frontsheet'!V209))","v":0},{"$f":"IF(OR('Trust - Frontsheet'!W209=\"\",'Trust - Frontsheet'!W209=\"-\"),0,('Trust - Frontsheet'!W209))","v":0},{"$f":"IF(OR('Trust - Frontsheet'!X209=\"\",'Trust - Frontsheet'!X209=\"-\"),0,('Trust - Frontsheet'!X209))","v":0},{"$f":"IF(OR('Trust - Frontsheet'!Y209=\"\",'Trust - Frontsheet'!Y209=\"-\"),0,('Trust - Frontsheet'!Y209))","v":0},{"$f":"IF(OR('Trust - Frontsheet'!Z209=\"\",'Trust - Frontsheet'!Z209=\"-\"),0,('Trust - Frontsheet'!Z209))","v":0},{"$f":"IF(A197=\"\",\"\",(IF(ISBLANK('Trust - Frontsheet'!F9),\"\",'Trust - Frontsheet'!F9)))","v":""}]
[{"$f":"IF('Trust - Frontsheet'!D210=0,\"\",IF('Trust - Frontsheet'!D210=\"\",\"\",'Trust - Frontsheet'!D210))","v":""},{"$f":"IF(ISBLANK('Trust - Frontsheet'!E210),\"\",'Trust - Frontsheet'!E210)","v":""},{"$f":"IF(ISBLANK('Trust - Frontsheet'!F210),\"\",\"'\" & 'Trust - Frontsheet'!F210 & \"'\")","v":""},{"$f":"IF(ISBLANK('Trust - Frontsheet'!G210),\"\",'Trust - Frontsheet'!G210)","v":""},{"$f":"IF(ISBLANK('Trust - Frontsheet'!H210),\"\",'Trust - Frontsheet'!H210)","v":""},{"$f":"'Trust - Frontsheet'!I210","v":0},{"$f":"'Trust - Frontsheet'!J210","v":0},{"$f":"'Trust - Frontsheet'!K210","v":0},{"$f":"'Trust - Frontsheet'!L210","v":0},{"$f":"'Trust - Frontsheet'!M210","v":0},{"$f":"'Trust - Frontsheet'!N210","v":0},{"$f":"'Trust - Frontsheet'!O210","v":0},{"$f":"'Trust - Frontsheet'!P210","v":0},{"$f":"'Trust - Frontsheet'!Q210","v":0},{"$f":"'Trust - Frontsheet'!R210","v":0},{"$f":"'Trust - Frontsheet'!S210","v":0},{"$f":"'Trust - Frontsheet'!T210","v":0},{"$f":"IF(OR('Trust - Frontsheet'!AA210=\"\",'Trust - Frontsheet'!AA210=\"-\"),0,('Trust - Frontsheet'!AA210))","v":0},{"$f":"IF(OR('Trust - Frontsheet'!AB210=\"\",'Trust - Frontsheet'!AB210=\"-\"),0,('Trust - Frontsheet'!AB210))","v":0},{"$f":"IF(OR('Trust - Frontsheet'!AC210=\"\",'Trust - Frontsheet'!AC210=\"-\"),0,('Trust - Frontsheet'!AC210))","v":0},{"$f":"IF(OR('Trust - Frontsheet'!AD210=\"\",'Trust - Frontsheet'!AD210=\"-\"),0,('Trust - Frontsheet'!AD210))","v":0},{"$f":"IF(OR('Trust - Frontsheet'!AE210=\"\",'Trust - Frontsheet'!AE210=\"-\"),0,('Trust - Frontsheet'!AE210))","v":0},{"$f":"IF(OR('Trust - Frontsheet'!AF210=\"\",'Trust - Frontsheet'!AF210=\"-\"),0,('Trust - Frontsheet'!AF210))","v":0},{"$f":"'Trust - Frontsheet'!U210","v":0},{"$f":"IF(OR('Trust - Frontsheet'!V210=\"\",'Trust - Frontsheet'!V210=\"-\"),0,('Trust - Frontsheet'!V210))","v":0},{"$f":"IF(OR('Trust - Frontsheet'!W210=\"\",'Trust - Frontsheet'!W210=\"-\"),0,('Trust - Frontsheet'!W210))","v":0},{"$f":"IF(OR('Trust - Frontsheet'!X210=\"\",'Trust - Frontsheet'!X210=\"-\"),0,('Trust - Frontsheet'!X210))","v":0},{"$f":"IF(OR('Trust - Frontsheet'!Y210=\"\",'Trust - Frontsheet'!Y210=\"-\"),0,('Trust - Frontsheet'!Y210))","v":0},{"$f":"IF(OR('Trust - Frontsheet'!Z210=\"\",'Trust - Frontsheet'!Z210=\"-\"),0,('Trust - Frontsheet'!Z210))","v":0},{"$f":"IF(A198=\"\",\"\",(IF(ISBLANK('Trust - Frontsheet'!F9),\"\",'Trust - Frontsheet'!F9)))","v":""}]
[{"$f":"IF('Trust - Frontsheet'!D211=0,\"\",IF('Trust - Frontsheet'!D211=\"\",\"\",'Trust - Frontsheet'!D211))","v":""},{"$f":"IF(ISBLANK('Trust - Frontsheet'!E211),\"\",'Trust - Frontsheet'!E211)","v":""},{"$f":"IF(ISBLANK('Trust - Frontsheet'!F211),\"\",\"'\" & 'Trust - Frontsheet'!F211 & \"'\")","v":""},{"$f":"IF(ISBLANK('Trust - Frontsheet'!G211),\"\",'Trust - Frontsheet'!G211)","v":""},{"$f":"IF(ISBLANK('Trust - Frontsheet'!H211),\"\",'Trust - Frontsheet'!H211)","v":""},{"$f":"'Trust - Frontsheet'!I211","v":0},{"$f":"'Trust - Frontsheet'!J211","v":0},{"$f":"'Trust - Frontsheet'!K211","v":0},{"$f":"'Trust - Frontsheet'!L211","v":0},{"$f":"'Trust - Frontsheet'!M211","v":0},{"$f":"'Trust - Frontsheet'!N211","v":0},{"$f":"'Trust - Frontsheet'!O211","v":0},{"$f":"'Trust - Frontsheet'!P211","v":0},{"$f":"'Trust - Frontsheet'!Q211","v":0},{"$f":"'Trust - Frontsheet'!R211","v":0},{"$f":"'Trust - Frontsheet'!S211","v":0},{"$f":"'Trust - Frontsheet'!T211","v":0},{"$f":"IF(OR('Trust - Frontsheet'!AA211=\"\",'Trust - Frontsheet'!AA211=\"-\"),0,('Trust - Frontsheet'!AA211))","v":0},{"$f":"IF(OR('Trust - Frontsheet'!AB211=\"\",'Trust - Frontsheet'!AB211=\"-\"),0,('Trust - Frontsheet'!AB211))","v":0},{"$f":"IF(OR('Trust - Frontsheet'!AC211=\"\",'Trust - Frontsheet'!AC211=\"-\"),0,('Trust - Frontsheet'!AC211))","v":0},{"$f":"IF(OR('Trust - Frontsheet'!AD211=\"\",'Trust - Frontsheet'!AD211=\"-\"),0,('Trust - Frontsheet'!AD211))","v":0},{"$f":"IF(OR('Trust - Frontsheet'!AE211=\"\",'Trust - Frontsheet'!AE211=\"-\"),0,('Trust - Frontsheet'!AE211))","v":0},{"$f":"IF(OR('Trust - Frontsheet'!AF211=\"\",'Trust - Frontsheet'!AF211=\"-\"),0,('Trust - Frontsheet'!AF211))","v":0},{"$f":"'Trust - Frontsheet'!U211","v":0},{"$f":"IF(OR('Trust - Frontsheet'!V211=\"\",'Trust - Frontsheet'!V211=\"-\"),0,('Trust - Frontsheet'!V211))","v":0},{"$f":"IF(OR('Trust - Frontsheet'!W211=\"\",'Trust - Frontsheet'!W211=\"-\"),0,('Trust - Frontsheet'!W211))","v":0},{"$f":"IF(OR('Trust - Frontsheet'!X211=\"\",'Trust - Frontsheet'!X211=\"-\"),0,('Trust - Frontsheet'!X211))","v":0},{"$f":"IF(OR('Trust - Frontsheet'!Y211=\"\",'Trust - Frontsheet'!Y211=\"-\"),0,('Trust - Frontsheet'!Y211))","v":0},{"$f":"IF(OR('Trust - Frontsheet'!Z211=\"\",'Trust - Frontsheet'!Z211=\"-\"),0,('Trust - Frontsheet'!Z211))","v":0},{"$f":"IF(A199=\"\",\"\",(IF(ISBLANK('Trust - Frontsheet'!F9),\"\",'Trust - Frontsheet'!F9)))","v":""}]
[{"$f":"IF('Trust - Frontsheet'!D212=0,\"\",IF('Trust - Frontsheet'!D212=\"\",\"\",'Trust - Frontsheet'!D212))","v":""},{"$f":"IF(ISBLANK('Trust - Frontsheet'!E212),\"\",'Trust - Frontsheet'!E212)","v":""},{"$f":"IF(ISBLANK('Trust - Frontsheet'!F212),\"\",\"'\" & 'Trust - Frontsheet'!F212 & \"'\")","v":""},{"$f":"IF(ISBLANK('Trust - Frontsheet'!G212),\"\",'Trust - Frontsheet'!G212)","v":""},{"$f":"IF(ISBLANK('Trust - Frontsheet'!H212),\"\",'Trust - Frontsheet'!H212)","v":""},{"$f":"'Trust - Frontsheet'!I212","v":0},{"$f":"'Trust - Frontsheet'!J212","v":0},{"$f":"'Trust - Frontsheet'!K212","v":0},{"$f":"'Trust - Frontsheet'!L212","v":0},{"$f":"'Trust - Frontsheet'!M212","v":0},{"$f":"'Trust - Frontsheet'!N212","v":0},{"$f":"'Trust - Frontsheet'!O212","v":0},{"$f":"'Trust - Frontsheet'!P212","v":0},{"$f":"'Trust - Frontsheet'!Q212","v":0},{"$f":"'Trust - Frontsheet'!R212","v":0},{"$f":"'Trust - Frontsheet'!S212","v":0},{"$f":"'Trust - Frontsheet'!T212","v":0},{"$f":"IF(OR('Trust - Frontsheet'!AA212=\"\",'Trust - Frontsheet'!AA212=\"-\"),0,('Trust - Frontsheet'!AA212))","v":0},{"$f":"IF(OR('Trust - Frontsheet'!AB212=\"\",'Trust - Frontsheet'!AB212=\"-\"),0,('Trust - Frontsheet'!AB212))","v":0},{"$f":"IF(OR('Trust - Frontsheet'!AC212=\"\",'Trust - Frontsheet'!AC212=\"-\"),0,('Trust - Frontsheet'!AC212))","v":0},{"$f":"IF(OR('Trust - Frontsheet'!AD212=\"\",'Trust - Frontsheet'!AD212=\"-\"),0,('Trust - Frontsheet'!AD212))","v":0},{"$f":"IF(OR('Trust - Frontsheet'!AE212=\"\",'Trust - Frontsheet'!AE212=\"-\"),0,('Trust - Frontsheet'!AE212))","v":0},{"$f":"IF(OR('Trust - Frontsheet'!AF212=\"\",'Trust - Frontsheet'!AF212=\"-\"),0,('Trust - Frontsheet'!AF212))","v":0},{"$f":"'Trust - Frontsheet'!U212","v":0},{"$f":"IF(OR('Trust - Frontsheet'!V212=\"\",'Trust - Frontsheet'!V212=\"-\"),0,('Trust - Frontsheet'!V212))","v":0},{"$f":"IF(OR('Trust - Frontsheet'!W212=\"\",'Trust - Frontsheet'!W212=\"-\"),0,('Trust - Frontsheet'!W212))","v":0},{"$f":"IF(OR('Trust - Frontsheet'!X212=\"\",'Trust - Frontsheet'!X212=\"-\"),0,('Trust - Frontsheet'!X212))","v":0},{"$f":"IF(OR('Trust - Frontsheet'!Y212=\"\",'Trust - Frontsheet'!Y212=\"-\"),0,('Trust - Frontsheet'!Y212))","v":0},{"$f":"IF(OR('Trust - Frontsheet'!Z212=\"\",'Trust - Frontsheet'!Z212=\"-\"),0,('Trust - Frontsheet'!Z212))","v":0},{"$f":"IF(A200=\"\",\"\",(IF(ISBLANK('Trust - Frontsheet'!F9),\"\",'Trust - Frontsheet'!F9)))","v":""}]
[{"$f":"IF('Trust - Frontsheet'!D213=0,\"\",IF('Trust - Frontsheet'!D213=\"\",\"\",'Trust - Frontsheet'!D213))","v":""},{"$f":"IF(ISBLANK('Trust - Frontsheet'!E213),\"\",'Trust - Frontsheet'!E213)","v":""},{"$f":"IF(ISBLANK('Trust - Frontsheet'!F213),\"\",\"'\" & 'Trust - Frontsheet'!F213 & \"'\")","v":""},{"$f":"IF(ISBLANK('Trust - Frontsheet'!G213),\"\",'Trust - Frontsheet'!G213)","v":""},{"$f":"IF(ISBLANK('Trust - Frontsheet'!H213),\"\",'Trust - Frontsheet'!H213)","v":""},{"$f":"'Trust - Frontsheet'!I213","v":0},{"$f":"'Trust - Frontsheet'!J213","v":0},{"$f":"'Trust - Frontsheet'!K213","v":0},{"$f":"'Trust - Frontsheet'!L213","v":0},{"$f":"'Trust - Frontsheet'!M213","v":0},{"$f":"'Trust - Frontsheet'!N213","v":0},{"$f":"'Trust - Frontsheet'!O213","v":0},{"$f":"'Trust - Frontsheet'!P213","v":0},{"$f":"'Trust - Frontsheet'!Q213","v":0},{"$f":"'Trust - Frontsheet'!R213","v":0},{"$f":"'Trust - Frontsheet'!S213","v":0},{"$f":"'Trust - Frontsheet'!T213","v":0},{"$f":"IF(OR('Trust - Frontsheet'!AA213=\"\",'Trust - Frontsheet'!AA213=\"-\"),0,('Trust - Frontsheet'!AA213))","v":0},{"$f":"IF(OR('Trust - Frontsheet'!AB213=\"\",'Trust - Frontsheet'!AB213=\"-\"),0,('Trust - Frontsheet'!AB213))","v":0},{"$f":"IF(OR('Trust - Frontsheet'!AC213=\"\",'Trust - Frontsheet'!AC213=\"-\"),0,('Trust - Frontsheet'!AC213))","v":0},{"$f":"IF(OR('Trust - Frontsheet'!AD213=\"\",'Trust - Frontsheet'!AD213=\"-\"),0,('Trust - Frontsheet'!AD213))","v":0},{"$f":"IF(OR('Trust - Frontsheet'!AE213=\"\",'Trust - Frontsheet'!AE213=\"-\"),0,('Trust - Frontsheet'!AE213))","v":0},{"$f":"IF(OR('Trust - Frontsheet'!AF213=\"\",'Trust - Frontsheet'!AF213=\"-\"),0,('Trust - Frontsheet'!AF213))","v":0},{"$f":"'Trust - Frontsheet'!U213","v":0},{"$f":"IF(OR('Trust - Frontsheet'!V213=\"\",'Trust - Frontsheet'!V213=\"-\"),0,('Trust - Frontsheet'!V213))","v":0},{"$f":"IF(OR('Trust - Frontsheet'!W213=\"\",'Trust - Frontsheet'!W213=\"-\"),0,('Trust - Frontsheet'!W213))","v":0},{"$f":"IF(OR('Trust - Frontsheet'!X213=\"\",'Trust - Frontsheet'!X213=\"-\"),0,('Trust - Frontsheet'!X213))","v":0},{"$f":"IF(OR('Trust - Frontsheet'!Y213=\"\",'Trust - Frontsheet'!Y213=\"-\"),0,('Trust - Frontsheet'!Y213))","v":0},{"$f":"IF(OR('Trust - Frontsheet'!Z213=\"\",'Trust - Frontsheet'!Z213=\"-\"),0,('Trust - Frontsheet'!Z213))","v":0},{"$f":"IF(A201=\"\",\"\",(IF(ISBLANK('Trust - Frontsheet'!F9),\"\",'Trust - Frontsheet'!F9)))","v":""}]